{"text_format":"2","workbook":"xlsx","n_sheets":4,"sheets":["单词表","词义表","Sheet1","Sheet2"],"not_rendered":{"charts":0,"images":0,"macros":0,"external_links":0,"defined_names":3,"comments":0,"pivot_tables":0},"unopened":[],"bounds":{"document_bytes":16777216,"sheet_cells":100000,"run_cost":"one","rows_first":2000,"rows_last":500,"rows_between":2000,"halvings":0,"cell_chars":16384,"cell_head_chars":4096},"cells_cut":0,"cells_raw":0,"read":"whole","date_system":"1900"}

{"sheet":"单词表","index":0,"n_rows":137790,"n_cols":11,"rows_kept":4500,"cut":true,"hidden":false,"merged":[],"bounds":{"rows_first":2000,"rows_last":500,"rows_between":2000,"halvings":0}}
["Id","Name","Serial","Status","Category","Syllable","EntryRate","phon_en","phon_am"]
[743692,"a",1,2,0,"a",1,"ə","eɪ"]
[1127934,"the",2,2,0,"the",1,"ðə","ði"]
[1133655,"to",3,2,0,"to",1,"tə","tu, tə"]
[1289296,"To",3,0,4,"to",1,"NULL","NULL"]
[779120,"be",4,2,0,"be",1,"bi","bi"]
[935651,"in",5,2,0,"in",1,"ɪn","ɪn"]
[1258738,"In",5,0,4,"in",1,"NULL","NULL"]
[1005021,"of",6,2,0,"of",1,"əv","ʌv"]
[760054,"and",7,2,0,"and",1,"ənd","ənd, ən, ænd"]
[1174505,"is",8,5,0,"is","NULL","ɪz","ɪz"]
[949902,"it",9,2,0,"it",1,"ɪt","ɪt"]
[918756,"have",10,2,0,"have",1,"hæv, həv","hæv, həv"]
[1127890,"that",11,2,0,"that",0.871,"ðæt","ðæt, ðət"]
[895370,"for",12,2,0,"for",1,"fɔː(r), fə(r)","fɔːr, fər"]
[1169443,"you",13,2,0,"you",1,"ju","jə"]
[1229655,"You",13,0,2,"you",1,"NULL","NULL"]
[726174,"I",14,2,0,"i",1,"aɪ","aɪ"]
[799918,"can",15,2,0,"can",0.007,"kæn","kæn"]
[1238980,"Can",15,0,4,"can",1,"NULL","NULL"]
[1006632,"on",16,2,0,"on",1,"ɒn","ɑn"]
[1272428,"On",16,0,4,"on",1,"NULL","NULL"]
[857750,"do",17,2,0,"do",1,"du","du"]
[1245720,"Do",17,0,4,"do",1,"NULL","NULL"]
[768937,"at",18,2,0,"at",1,"ət","æt, ət"]
[1166242,"with",19,2,0,"with",1,"wɪð","wɪð"]
[759237,"an",20,0,0,"an",1,"ən","ən, æn"]
[1230879,"An",20,0,4,"an",1,"NULL","NULL"]
[765327,"are",21,0,0,"are",1,"ɑ:(r)","ɑr"]
[1223203,"Are",21,0,2,"are",1,"NULL","NULL"]
[797016,"but",22,1,0,"but",1,"bʌt, bət","bʌt, bət"]
[1163942,"when",23,2,0,"when",1,"wen","wɛn"]
[766994,"as",24,2,0,"as",1,"əz","æz, əz"]
[919646,"he",25,2,0,"he",0.993,"hi, hiː","hi, hiː"]
[1225579,"He",25,0,2,"he",0.993,"NULL","NULL"]
[1255863,"He",25,0,4,"he",0.993,"NULL","NULL"]
[1163677,"what",26,2,0,"what",1,"wɒt","wɑt"]
[1001941,"not",27,2,0,"not",1,"nɒt","nɑt"]
[1007220,"one",28,2,0,"one",1,"wʌn","wʌn"]
[909451,"go",29,2,0,"go",1,"gəʊ","goʊ"]
[1252890,"Go",29,0,4,"go",1,"NULL","NULL"]
[899485,"from",30,2,0,"from",1,"frəm","frʌm"]
[1250806,"From",30,0,4,"from",1,"NULL","NULL"]
[1130044,"they",31,2,0,"they",1,"ðeɪ","ðe"]
[1130658,"this",32,2,0,"this",0.864,"ðɪs","ðɪs"]
[1162100,"we",33,2,0,"we",1,"wi;wiː","wi;wiː"]
[745223,"about",34,2,0,"a·bout",1,"əˈbaʊt","əˈbaʊt"]
[1095419,"so",35,2,0,"so",0.993,"səʊ","soʊ"]
[1284917,"So",35,0,4,"so",0.993,"NULL","NULL"]
[756160,"all",36,2,0,"all",1,"ɔ:l","ɔl"]
[1230473,"All",36,0,4,"all",1,"NULL","NULL"]
[1076764,"say",37,2,0,"say",0.993,"seɪ","seɪ"]
[1281067,"Say",37,0,4,"say",0.993,"NULL","NULL"]
[1129170,"there",38,2,0,"there",0.993,"ðeə(r)","ðer"]
[797494,"by",39,2,0,"by",1,"baɪ","baɪ"]
[973935,"make",40,2,0,"make",1,"meɪk","mek"]
[924498,"his",41,2,0,"his",0.993,"hɪz","hɪz"]
[906572,"get",42,2,0,"get",1,"get","ɡɛt"]
[1163108,"well",43,2,0,"well",1,"wel","wɛl"]
[1293375,"Well",43,0,4,"well",1,"NULL","NULL"]
[1132630,"time",44,2,0,"time",0.986,"taɪm","taɪm"]
[1165036,"will",45,2,0,"will",1,"wɪl","wɪl"]
[1229481,"Will",45,0,2,"will",1,"NULL","NULL"]
[1294235,"Will",45,0,4,"will",1,"NULL","NULL"]
[1121113,"take",46,2,0,"take",1,"teɪk","tek"]
[990217,"more",47,2,0,"more",1,"mɔ:(r)","mɔ:(r)"]
[1269605,"More",47,0,4,"more",1,"NULL","NULL"]
[1164020,"which",48,2,0,"which",1,"wɪtʃ","hwɪtʃ, wɪtʃ"]
[1021628,"people",49,2,0,"peo·ple",1,"ˈpi:pl","ˈpipəl"]
[1151756,"up",50,2,0,"up",0.986,"ʌp","ʌp"]
[1009233,"or",51,2,0,"or",1,"ɔ:(r)","ɔr"]
[933468,"if",52,2,0,"if",1,"ɪf","ɪf"]
[1097378,"some",53,2,0,"some",1,"səm","sʌm"]
[928451,"how",54,2,0,"how",1,"haʊ","haʊ"]
[1258067,"How",54,0,4,"how",1,"NULL","NULL"]
[1011400,"out",55,2,0,"out",1,"aʊt","aʊt"]
[821302,"come",56,2,0,"come",0.971,"kʌm","kʌm"]
[1128775,"their",57,2,0,"their",0.993,"ðeə(r)","ðer"]
[955358,"know",58,2,0,"know",1,"nəʊ","noʊ"]
[1168954,"year",59,2,0,"year",1,"jɪə(r)","jɪr"]
[1081198,"see",60,2,0,"see",0.993,"si:","si"]
[1282546,"See",60,0,4,"see",0.993,"NULL","NULL"]
[964047,"like",61,2,0,"like",1,"laɪk","laɪk"]
[1263610,"Like",61,0,4,"like",1,"NULL","NULL"]
[999127,"no",62,2,0,"no",0.986,"nəʊ","noʊ"]
[1271445,"No",62,0,4,"no",0.986,"NULL","NULL"]
[1167305,"work",63,2,0,"work",1,"wɜ:k","wɜrk"]
[1294606,"Work",63,0,4,"work",1,"NULL","NULL"]
[781703,"because",64,2,0,"be·cause",0.95,"bɪˈkɒz","bɪˈkɔːz"]
[910543,"good",65,2,0,"good",1,"gʊd","ɡʊd"]
[1253218,"Good",65,0,4,"good",1,"NULL","NULL"]
[1156514,"very",66,2,0,"ver·y",0.929,"ˈveri","ˈvɛri"]
[1130304,"think",67,2,0,"think",0.979,"θɪŋk","θɪŋk"]
[993932,"my",68,2,0,"my",0.971,"maɪ","maɪ"]
[842857,"day",69,2,0,"day",0.993,"deɪ","de"]
[1243763,"Day",69,0,4,"day",0.993,"NULL","NULL"]
[1128802,"them",70,2,0,"them",0.986,"ðəm","ðɛm, ðəm"]
[888399,"find",71,2,0,"find",1,"faɪnd","faɪnd"]
[976058,"many",72,2,0,"ma·ny",1,"ˈmeni","ˈmɛni"]
[1265704,"Many",72,0,4,"ma·ny",1,"NULL","NULL"]
[1164567,"who",73,2,0,"who",1,"hu:","hu"]
[1167901,"would",74,2,0,"would",0.986,"wʊd","wʊd"]
[1011285,"other",75,2,0,"oth·er",1,"ˈʌðə(r)","ˈʌðər"]
[752690,"after",76,2,0,"af·ter",0.979,"ˈɑ:ftə(r)","ˈæftə(r)"]
[1160205,"want",77,2,0,"want",0.971,"wɒnt","wɑnt"]
[1292790,"Want",77,0,4,"want",0.971,"NULL","NULL"]
[991596,"much",78,2,0,"much",0.993,"mʌtʃ","mʌtʃ"]
[1269988,"Much",78,0,4,"much",0.993,"NULL","NULL"]
[1007400,"only",79,2,0,"on·ly",0.964,"ˈəʊnli","ˈoʊnli"]
[1169493,"your",80,2,0,"your",0.993,"jɔ:(r)","jʊr"]
[969022,"look",81,2,0,"look",0.971,"lʊk","lʊk"]
[1264075,"Look",81,0,4,"look",0.971,"NULL","NULL"]
[1128819,"then",82,2,0,"then",0.971,"ðen","ðɛn"]
[1288793,"Then",82,0,4,"then",0.971,"NULL","NULL"]
[907614,"give",83,2,0,"give",0.986,"gɪv","ɡɪv"]
[1125210,"tell",84,2,0,"tell",0.914,"tel","tɛl"]
[1288496,"Tell",84,0,4,"tell",0.914,"NULL","NULL"]
[978938,"me",85,2,0,"me",0.971,"mi","mi"]
[1127847,"than",86,2,0,"than",0.993,"ðən","ðən"]
[1288749,"Than",86,0,4,"than",0.993,"NULL","NULL"]
[978873,"may",87,2,0,"may",0.993,"meɪ","me"]
[1227188,"May",87,0,2,"may",0.993,"NULL","NULL"]
[1266535,"May",87,0,4,"may",0.993,"NULL","NULL"]
[990617,"most",88,2,0,"most","NULL","məʊst","moʊst"]
[1269836,"Most",88,0,4,"most","NULL","NULL","NULL"]
[1302082,"Most",88,0,3,"most","NULL","NULL","NULL"]
[1086406,"she",89,2,0,"she",0.957,"ʃi;ʃiː","ʃi;ʃiː"]
[889537,"first",90,2,0,"first",0.986,"fɜ:st","fɜrst"]
[1249761,"First",90,0,4,"first",0.986,"NULL","NULL"]
[966513,"little",91,2,0,"lit·tle",0.436,"ˈlɪtl","ˈlɪtl"]
[1263768,"Little",91,0,4,"lit·tle",0.971,"NULL","NULL"]
[1162030,"way",92,2,0,"way",1,"weɪ","we"]
[1293001,"Way",92,0,4,"way",1,"NULL","NULL"]
[921521,"help",93,2,0,"help",0.993,"help","help"]
[924243,"him",94,2,0,"him",0.857,"hɪm","hɪm"]
[1144898,"two",95,2,0,"two",0.964,"tu:","tu"]
[1152825,"use",96,2,0,"use",0.986,"juːz,juːs","juːz,juːs"]
[922302,"her",97,2,0,"her",0.993,"hə(r)","hɚ, ɚ, hɚr"]
[1256599,"Her",97,0,4,"her",0.993,"NULL","NULL"]
[946395,"into",98,2,0,"in·to",0.971,"ˈɪntə","ˈɪntu"]
[993310,"mum",99,2,0,"mum",0.221,"mʌm","mʌm"]
[767725,"ask",100,2,0,"ask",0.936,"ɑ:sk","æsk"]
[1231688,"Ask",100,0,4,"ask",0.936,"NULL","NULL"]
[1174506,"am",101,5,0,"am",0.643,"əm","æm"]
[952303,"just",102,2,0,"just",0.971,"dʒʌst","dʒʌst"]
[1226249,"Just",102,0,2,"just",0.971,"NULL","NULL"]
[1259767,"Just",102,0,4,"just",0.971,"NULL","NULL"]
[997987,"new",103,2,0,"new",0.021,"nju:","nu"]
[1271081,"New",103,0,4,"new",0.986,"NULL","NULL"]
[1002573,"now",104,2,0,"now",0.957,"naʊ","naʊ"]
[968543,"long",105,2,0,"long",0.971,"lɒŋ","lɔŋ"]
[1264011,"Long",105,0,4,"long",0.971,"NULL","NULL"]
[782139,"before",106,2,0,"be·fore",1,"bɪˈfɔ:(r)","bɪˈfɔr, -ˈfor"]
[966580,"live",107,2,0,"live",0.971,"lɪv","lɪv"]
[1163970,"where",108,2,0,"where",0.979,"weə(r)","wer"]
[975124,"man",109,2,0,"man",0.95,"mæn","mæn"]
[1265450,"Man",109,0,4,"man",0.95,"NULL","NULL"]
[1164725,"why",110,2,0,"why",0.993,"waɪ","hwaɪ, waɪ"]
[1012550,"over",111,2,0,"o·ver",0.979,"ˈəʊvə(r)","ˈoʊvə(r)"]
[1272878,"Over",111,0,4,"o·ver",0.979,"NULL","NULL"]
[963172,"life",112,2,0,"life",0.993,"laɪf","laɪf"]
[1226700,"Life",112,0,2,"life",0.993,"NULL","NULL"]
[1263579,"Life",112,0,4,"life",0.993,"NULL","NULL"]
[958676,"last",113,2,0,"last",0.914,"lɑ:st","læst"]
[1088156,"should",114,2,0,"should",0.964,"ʃʊd","ʃʊd"]
[925803,"home",115,2,0,"home",0.914,"həʊm","hoʊm"]
[1257678,"Home",115,0,4,"home",0.914,"NULL","NULL"]
[978999,"mean",116,2,0,"mean",0.943,"mi:n","min"]
[1011380,"our",117,2,0,"our",0.971,"ˈaʊə(r), ɑː(r)","aʊər, ɑːr"]
[1135010,"too",118,2,0,"too",0.943,"tu:","tu"]
[757164,"also",119,2,0,"al·so",0.936,"ˈɔ:lsəʊ","ˈɔlsoʊ"]
[960857,"leave",120,2,0,"leave",0.936,"li:v","li:v"]
[774276,"back",121,2,0,"back",0.957,"bæk","bæk"]
[1232162,"Back",121,0,4,"back",0.957,"NULL","NULL"]
[1296190,"Back",121,0,3,"back",0.957,"NULL","NULL"]
[1006182,"old",122,2,0,"old",0.929,"əʊld","oʊld"]
[1272295,"Old",122,0,4,"old",0.929,"NULL","NULL"]
[1130291,"thing",123,2,0,"thing",0.936,"θɪŋ","θɪŋ"]
[996117,"need",124,2,0,"need",0.957,"ni:d","nid"]
[1270799,"Need",124,0,4,"need",0.957,"NULL","NULL"]
[763105,"any",125,2,0,"any",0.836,"ˈeni","ˈɛni"]
[952922,"keep",126,2,0,"keep",0.936,"ki:p","kip"]
[1260159,"Keep",126,0,4,"keep",0.936,"NULL","NULL"]
[1077893,"school",127,2,0,"school",0.921,"sku:l","skul"]
[1281923,"School",127,0,4,"school",0.921,"NULL","NULL"]
[781733,"become",128,2,0,"be·come",0.936,"bɪˈkʌm","bɪˈkʌm"]
[1088275,"show",129,2,0,"show",0.971,"ʃəʊ","ʃoʊ"]
[1283703,"Show",129,0,4,"show",0.971,"NULL","NULL"]
[877640,"even",130,2,0,"e·ven",0.971,"ˈi:vn","ˈivən"]
[1248406,"Even",130,0,4,"e·ven",0.971,"NULL","NULL"]
[1152802,"us",131,2,0,"us",0.957,"əs","ʌs"]
[860107,"down",132,2,0,"down",0.879,"daʊn","daʊn"]
[1246250,"Down",132,0,4,"down",0.879,"NULL","NULL"]
[1298086,"Down",132,0,3,"down",0.879,"NULL","NULL"]
[885058,"feel",133,2,0,"feel",0.921,"fi:l","fil"]
[799140,"call",134,2,0,"call",0.914,"kɔ:l","kɔl"]
[1238814,"Call",134,0,4,"call",0.914,"NULL","NULL"]
[1164036,"while",135,2,0,"while",0.921,"waɪl","hwaɪl, waɪl"]
[1049581,"put",136,2,0,"put",0.857,"pʊt","pʊt"]
[783610,"best",137,2,0,"best","NULL","best","bɛst"]
[1234434,"Best",137,0,4,"best","NULL","NULL","NULL"]
[1130026,"these",138,2,0,"these",0.864,"ði:z","ði:z"]
[1167706,"world",139,2,0,"world",0.921,"wɜ:ld","wɜrld"]
[1294613,"World",139,0,4,"world",0.921,"NULL","NULL"]
[899250,"friend",140,2,0,"friend",0.871,"frend","frɛnd"]
[1250718,"Friend",140,0,4,"friend",0.871,"NULL","NULL"]
[1029763,"place",141,2,0,"place",0.921,"pleɪs","ples"]
[1275193,"Place",141,0,4,"place",0.921,"NULL","NULL"]
[810587,"child",142,2,0,"child",0.943,"tʃaɪld","tʃaɪld"]
[1240485,"Child",142,0,4,"child",0.943,"NULL","NULL"]
[912822,"great",143,2,0,"great",0.014,"greɪt","ɡret"]
[1253771,"Great",143,0,4,"great",0.914,"NULL","NULL"]
[969663,"lot",144,2,0,"lot",0.793,"lɒt","lɑt"]
[877823,"every",145,2,0,"eve·ry",0.893,"ˈevri","ˈɛvri"]
[1248442,"Every",145,0,4,"eve·ry",0.893,"NULL","NULL"]
[1143051,"try",146,2,0,"try",0.943,"traɪ","traɪ"]
[1168121,"write",147,2,0,"write",0.836,"raɪt","raɪt"]
[1130973,"three",148,2,0,"three",0.814,"θri:","θri"]
[997951,"never",149,2,0,"nev·er",0.843,"ˈnevə(r)","ˈnɛvɚ"]
[1094323,"small",150,2,0,"small",0.836,"smɔ:l","smɔl"]
[1284722,"Small",150,0,4,"small",0.836,"NULL","NULL"]
[773379,"away",151,2,0,"a·way",0.829,"əˈweɪ","əˈwe"]
[782217,"begin",152,2,0,"beg·in",0.879,"bɪˈgɪn","ˈbeɡɪn"]
[1233636,"Begin",152,0,4,"beg·in",0.879,"NULL","NULL"]
[886333,"few",153,2,0,"few",0.821,"fju:","fju"]
[1249472,"Few",153,0,4,"few",0.821,"NULL","NULL"]
[757749,"always",154,2,0,"al·ways",0.757,"ˈɔ:lweɪz","ˈɔlwez, -wɪz, -wiz"]
[864614,"each",155,2,0,"each",0.871,"i:tʃ","itʃ"]
[784585,"big",156,2,0,"big",0.864,"bɪg","bɪɡ"]
[1234745,"Big",156,0,4,"big",0.864,"NULL","NULL"]
[1097413,"something",157,2,0,"some·thing",0.843,"ˈsʌmθɪŋ","ˈsʌmθɪŋ"]
[1068122,"right",158,2,0,"right",0.8,"raɪt","raɪt"]
[1144147,"turn",159,2,0,"turn",0.95,"tɜ:n","tɜrn"]
[808284,"change",160,2,0,"change",0.979,"tʃeɪndʒ","tʃendʒ"]
[993676,"must",161,2,0,"must",0.8,"məst","mʌst"]
[1105631,"start",162,2,0,"start",0.957,"stɑ:t","stɑrt"]
[1286128,"Start",162,0,4,"start",0.957,"NULL","NULL"]
[766103,"around",163,2,0,"a·round",0.886,"əˈraʊnd","əˈraʊnd"]
[1031466,"play",164,2,0,"play",0.821,"pleɪ","pleɪ"]
[988853,"money",165,2,0,"mon·ey",0.743,"ˈmʌni","ˈmʌni"]
[1269363,"Money",165,0,4,"mon·ey",0.743,"NULL","NULL"]
[1169448,"young",166,2,0,"young",0.679,"jʌŋ","jʌŋ"]
[1306234,"Young",166,0,3,"young",0.679,"NULL","NULL"]
[935235,"important",167,2,0,"im·por·tant",0.114,"ɪmˈpɔ:tnt","ɪmˈpɔrtnt"]
[1108708,"still",168,2,0,"still",0.843,"stɪl","stɪl"]
[1286626,"Still",168,0,4,"still",0.843,"NULL","NULL"]
[917798,"hard",169,2,0,"hard",0.843,"hɑ:d","hɑrd"]
[1255322,"Hard",169,0,4,"hard",0.843,"NULL","NULL"]
[851505,"different",170,2,0,"diffe·rent",0.164,"ˈdɪfrənt","ˈdɪfrənt"]
[1056776,"read",171,2,0,"read",0.829,"riːd, red","riːd, red"]
[1228130,"Read",171,0,2,"read",0.829,"NULL","NULL"]
[1277402,"Read",171,0,4,"read",0.829,"NULL","NULL"]
[1114285,"such",172,2,0,"such",0.857,"sʌtʃ","sʌtʃ"]
[1287351,"Such",172,0,4,"such",0.857,"NULL","NULL"]
[1075129,"same",173,2,0,"same",0.736,"seɪm","sem"]
[1018165,"part",174,2,0,"part",0.864,"pɑ:t","pɑrt"]
[1112184,"student",175,2,0,"stu·dent",0.907,"ˈstju:dnt","ˈstudnt"]
[1287235,"Student",175,0,4,"stu·dent",0.907,"NULL","NULL"]
[980403,"meet",176,2,0,"meet",0.893,"mi:t","mit"]
[1121807,"talk",177,2,0,"talk",0.921,"tɔ:k","tɔk"]
[1167227,"word",178,2,0,"word",0.929,"wɜ:d","wɜrd"]
[1294603,"Word",178,0,4,"word",0.929,"NULL","NULL"]
[761480,"another",179,2,0,"an·other",0.893,"əˈnʌðə(r)","əˈnʌðɚ"]
[928216,"house",180,2,0,"house",0.8,"haʊs","haʊs"]
[1258013,"House",180,0,4,"house",0.8,"NULL","NULL"]
[833751,"country",181,2,0,"coun·try",0.657,"ˈkʌntri","ˈkʌntri"]
[933005,"idea",182,2,0,"idea",0.829,"aɪˈdɪə","aɪˈdiə"]
[1131330,"through",183,2,0,"through",0.857,"θru:","θru"]
[1005152,"off",184,2,0,"off",0.9,"ɒf","ɔf"]
[1272150,"Off",184,0,4,"off",0.9,"NULL","NULL"]
[1109509,"stop",185,2,0,"stop",0.757,"stɒp","stɑp"]
[1112251,"study",186,2,0,"stu·dy",0.871,"ˈstʌdi","ˈstʌdi"]
[1287243,"Study",186,0,4,"stu·dy",0.871,"NULL","NULL"]
[1013934,"own",187,2,0,"own",0.914,"əʊn","oʊn"]
[1019790,"pay",188,2,0,"pay",0.807,"peɪ","pe"]
[1273823,"Pay",188,0,4,"pay",0.807,"NULL","NULL"]
[1109957,"story",189,2,0,"sto·ry",0.721,"ˈstɔ:ri","ˈstɔri, ˈstori"]
[1286903,"Story",189,0,4,"sto·ry",0.721,"NULL","NULL"]
[950023,"its",190,2,0,"its",0.85,"ɪts","ɪts"]
[1159911,"walk",191,2,0,"walk",0.736,"wɔ:k","wɔk"]
[1292635,"Walk",191,0,4,"walk",0.736,"NULL","NULL"]
[883264,"family",192,2,0,"fami·ly",0.907,"ˈfæməli","ˈfæmli"]
[998201,"next",193,2,0,"next",0.836,"nekst","nɛkst"]
[790260,"book",194,2,0,"book",0.864,"bʊk","bʊk"]
[1236011,"Book",194,0,4,"book",0.864,"NULL","NULL"]
[954263,"kind",195,2,0,"kind",0.736,"kaɪnd","kaɪnd"]
[1260669,"Kind",195,0,4,"kind",0.736,"NULL","NULL"]
[1007171,"once",196,2,0,"once",0.764,"wʌns","wʌns"]
[1130821,"those",197,2,0,"those",0.871,"ðəʊz","ðoʊz"]
[928148,"hour",198,2,0,"hour",0.714,"ˈaʊə(r)","aʊr"]
[922367,"here",199,2,0,"here",0.686,"hɪə(r)","hɪr"]
[1162656,"week",200,2,0,"week",0.736,"wi:k","wik"]
[1293108,"Week",200,0,4,"week",0.736,"NULL","NULL"]
[923503,"high",201,2,0,"high",0.829,"haɪ","haɪ"]
[1256994,"High",201,0,4,"high",0.829,"NULL","NULL"]
[752834,"again",202,2,0,"a·gain",0.664,"əˈgen","əˈɡɛn"]
[1043185,"problem",203,2,0,"prob·lem",0.886,"ˈprɒbləm","ˈprɑbləm"]
[1127646,"text",204,2,0,"text",0.521,"tekst","tɛkst"]
[761515,"answer",205,2,0,"an·swer",0.643,"ˈɑ:nsə(r)","ˈænsə(r)"]
[1151488,"until",206,2,0,"un·til",0.679,"ənˈtɪl","ʌnˈtɪl"]
[1090893,"since",207,2,0,"since",0.829,"sɪns","sɪns"]
[1073040,"run",208,2,0,"run",0.793,"rʌn","rʌn"]
[951157,"job",209,2,0,"job",0.807,"dʒɒb","dʒɑb"]
[1226131,"Job",209,0,2,"job",0.807,"NULL","NULL"]
[1259588,"Job",209,0,4,"job",0.807,"NULL","NULL"]
[928471,"however",210,2,0,"how·ever",0.85,"haʊˈevə(r)","haʊˈevɚ"]
[1097665,"soon",211,2,0,"soon",0.671,"su:n","sun"]
[1285172,"Soon",211,0,4,"soon",0.671,"NULL","NULL"]
[961096,"left",212,2,0,"left","NULL","left","lɛft"]
[920089,"hear",213,2,0,"hear",0.75,"hɪə(r)","hɪr"]
[1100434,"spend",214,2,0,"spend",0.757,"spend","spɛnd"]
[1106716,"stay",215,2,0,"stay",0.807,"steɪ","ste"]
[1286208,"Stay",215,0,4,"stay",0.807,"NULL","NULL"]
[958893,"later",216,2,0,"lat·er",0.793,"ˈleɪtə(r)","ˈleɪtər"]
[865069,"easy",217,2,0,"easy",0.75,"ˈi:zi","ˈizi"]
[1160830,"watch",218,2,0,"watch",0.743,"wɒtʃ","wɑtʃ"]
[1166571,"without",219,2,0,"with·out",0.786,"wɪˈðaʊt","wɪðˈaʊt, wɪθ-"]
[1007585,"open",220,2,0,"o·pen",0.743,"ˈəʊpən","ˈoʊpən"]
[916884,"hand",221,2,0,"hand",0.764,"hænd","hænd"]
[801394,"car",222,2,0,"car",0.75,"kɑ:(r)","kɑr"]
[1239212,"Car",222,0,4,"car",0.75,"NULL","NULL"]
[820174,"color",223,2,0,"col·or",0.271,"ˈkʌlə(r)","ˈkʌlɚ"]
[958273,"large",224,2,0,"large",0.643,"lɑ:dʒ","lɑrdʒ"]
[791030,"both",225,2,0,"both",0.657,"bəʊθ","boʊθ"]
[1236315,"Both",225,0,4,"both",0.657,"NULL","NULL"]
[914449,"grow",226,2,0,"grow",0.771,"grəʊ","groʊ"]
[1254222,"Grow",226,0,4,"grow",0.771,"NULL","NULL"]
[991386,"move",227,2,0,"move",0.821,"mu:v","muv"]
[1057137,"really",228,2,0,"real·ly",0.75,"ˈriːəli","ˈriːəli"]
[994560,"name",229,2,0,"name",0.707,"neɪm","neɪm"]
[782378,"believe",230,2,0,"be·lieve",0.736,"bɪˈli:v","bɪˈliv"]
[793885,"bring",231,2,0,"bring",0.743,"brɪŋ","brɪŋ"]
[1237253,"Bring",231,0,4,"bring",0.743,"NULL","NULL"]
[1017774,"parent",232,2,0,"par·ent",0.75,"ˈpeərənt","ˈperənt"]
[1273420,"Parent",232,0,4,"par·ent",0.75,"NULL","NULL"]
[844055,"decide",233,2,0,"de·cide",0.721,"dɪˈsaɪd","dɪˈsaɪd"]
[1031773,"please",234,2,0,"please",0.536,"pli:z","pliz"]
[865110,"eat",235,2,0,"eat",0.664,"i:t","it"]
[753324,"ago",236,2,0,"a·go",0.657,"əˈgəʊ","əˈgoʊ"]
[895069,"food",237,2,0,"food",0.829,"fu:d","fud"]
[1023359,"person",238,2,0,"per·son",0.7,"ˈpɜ:sn","ˈpɜrsn"]
[1274363,"Person",238,0,4,"per·son",0.7,"NULL","NULL"]
[1147880,"understand",239,2,0,"un·der·stand",0.793,"ˌʌndəˈstænd","ˌʌndərˈstænd"]
[1123827,"teacher",240,2,0,"teach·er",0.757,"ˈti:tʃə(r)","ˈtitʃɚ"]
[1165098,"win",241,2,0,"win",0.621,"wɪn","wɪn"]
[1229498,"Win",241,0,2,"win",0.621,"NULL","NULL"]
[1294375,"Win",241,0,4,"win",0.621,"NULL","NULL"]
[1081442,"seem",242,2,0,"seem",0.821,"si:m","sim"]
[1282584,"Seem",242,0,4,"seem",0.821,"NULL","NULL"]
[998513,"night",243,2,0,"night",0.714,"naɪt","naɪt"]
[814044,"city",244,2,0,"city",0.779,"ˈsɪti","ˈsɪti"]
[1005557,"often",245,2,0,"of·ten",0.807,"ˈɒfn","ˈɔfn"]
[872728,"enough",246,2,0,"e·nough",0.7,"ɪˈnʌf","ɪˈnʌf"]
[969782,"love",247,2,0,"love",0.786,"lʌv","lʌv"]
[1264268,"Love",247,0,4,"love",0.786,"NULL","NULL"]
[962005,"let",248,2,0,"let",0.679,"let","lɛt"]
[897460,"four",249,2,0,"four",0.65,"fɔ:(r)","fɔr, for"]
[775149,"bad",250,2,0,"bad",0.721,"bæd","bæd"]
[1166823,"woman",251,2,0,"wom·an",0.857,"ˈwʊmən","ˈwʊmən"]
[1091728,"sit",252,2,0,"sit",0.607,"sɪt","sɪt"]
[1284328,"Sit",252,0,4,"sit",0.607,"NULL","NULL"]
[1083115,"send",253,2,0,"send",0.557,"send","sɛnd"]
[894928,"follow",254,2,0,"fol·low",0.943,"ˈfɒləʊ","ˈfɑloʊ"]
[1099295,"speak",255,2,0,"speak",0.707,"spi:k","spik"]
[1285433,"Speak",255,0,4,"speak",0.707,"NULL","NULL"]
[1009476,"order",256,2,0,"or·der",0.707,"ˈɔ:də(r)","ˈɔrdə(r)"]
[1070604,"room",257,2,0,"room",0.664,"ru:m","rum, rʊm"]
[863739,"during",258,2,0,"dur·ing",0.693,"ˈdjʊərɪŋ","ˈdʊrɪŋ"]
[1246876,"During",258,0,4,"dur·ing",0.693,"NULL","NULL"]
[1134324,"today",259,2,0,"to·day",0.707,"təˈdeɪ","təˈde"]
[733523,"OK",260,2,0,"ok",0.143,"əʊˈkeɪ","əʊˈkeɪ"]
[1084969,"set",261,2,0,"set",0.829,"set","sɛt"]
[1269706,"Morning",261,0,4,"morn·ing",0.614,"NULL","NULL"]
[990284,"morning",262,2,0,"morn·ing",0.614,"ˈmɔ:nɪŋ","ˈmɔrnɪŋ"]
[1236536,"Boy",262,0,4,"boy",0.5,"NULL","NULL"]
[791919,"boy",263,2,0,"boy",0.5,"bɔɪ","bɔɪ"]
[783843,"between",264,2,0,"be·tween",0.886,"bɪˈtwi:n","bɪˈtwin"]
[795487,"build",265,2,0,"build",0.8,"bɪld","bɪld"]
[1002370,"nothing",266,2,0,"noth·ing",0.593,"ˈnʌθɪŋ","ˈnʌθɪŋ"]
[797410,"buy",267,2,0,"buy",0.764,"baɪ","baɪ"]
[1247894,"End",267,0,4,"end",0.864,"NULL","NULL"]
[871361,"end",268,2,0,"end",0.864,"end","ɛnd"]
[989870,"month",269,2,0,"month",0.693,"mʌnθ","mʌnθ"]
[960650,"learn",270,2,0,"learn",0.943,"lɜ:n","lɜrn"]
[990663,"mother",271,2,0,"moth·er",0.679,"ˈmʌðə(r)","ˈmʌðɚ"]
[834016,"course",272,2,0,"course",0.643,"kɔ:s","kɔːrs"]
[1169226,"yes",273,2,0,"yes",0.379,"jes","jɛs"]
[1292541,"Wait",273,0,4,"wait",0.693,"NULL","NULL"]
[1159814,"wait",274,2,0,"wait",0.693,"weɪt","weɪt"]
[1003182,"number",275,2,0,"num·ber",0.729,"ˈnʌmbə(r)","ˈnʌmbɚ"]
[1116897,"sure",276,2,0,"sure",0.686,"ʃʊə(r)","ʃʊr"]
[1080290,"second",277,2,0,"sec·ond",0.607,"ˈsekənd","ˈsekənd"]
[1240972,"Class",277,0,4,"class",0.679,"NULL","NULL"]
[814486,"class",278,2,0,"class",0.679,"klɑ:s","klæs"]
[1239291,"Care",278,0,4,"care",0.743,"NULL","NULL"]
[802460,"care",279,2,0,"care",0.743,"keə(r)","ker"]
[714937,"American",280,2,0,"a·meri·can",0.471,"əˈmerɪkən","əˈmɛrɪkən"]
[1247978,"English",280,0,4,"eng·lish",0.529,"NULL","NULL"]
[722065,"English",281,2,0,"eng·lish",0.529,"ˈɪŋglɪʃ","ˈɪŋɡlɪʃ"]
[1292950,"Water",281,0,4,"wa·ter",0.636,"NULL","NULL"]
[1160918,"water",282,2,0,"wa·ter",0.636,"ˈwɔ:tə(r)","ˈwɔtɚ, ˈwɑtɚ"]
[1130825,"though",283,2,0,"though",0.657,"ðəʊ","ðoʊ"]
[1225712,"Hope",283,0,2,"hope",0.65,"NULL","NULL"]
[1257780,"Hope",283,0,4,"hope",0.65,"NULL","NULL"]
[1299616,"Hope",283,0,3,"hope",0.65,"NULL","NULL"]
[926977,"hope",284,2,0,"hope",0.65,"həʊp","hoʊp"]
[1167832,"worry",285,2,0,"wor·ry",0.614,"ˈwʌri","ˈwɜri"]
[884121,"father",286,2,0,"fa·ther",0.593,"ˈfɑ:ðə(r)","ˈfɑðɚ"]
[1230132,"Age",286,0,4,"age",0.636,"NULL","NULL"]
[752924,"age",287,2,0,"age",0.636,"eɪdʒ","edʒ"]
[1104801,"stand",288,2,0,"stand",0.643,"stænd","stænd"]
[882302,"fact",289,2,0,"fact",0.664,"fækt","fækt"]
[1158246,"visit",290,2,0,"vis·it",0.707,"ˈvɪzɪt","ˈvɪzɪt"]
[890195,"five",291,2,0,"five",0.657,"faɪv","faɪv"]
[792875,"break",292,2,0,"break",0.729,"breɪk","breɪk"]
[1241156,"Close",292,0,4,"close",0.75,"NULL","NULL"]
[816057,"close",293,2,0,"close",0.007,"kləʊz","kloʊz"]
[1248685,"Fall",293,0,4,"fall",0.693,"NULL","NULL"]
[1174563,"hi",294,5,0,"hi",0.114,"haɪ","haɪ"]
[1225532,"Happy",294,0,2,"ha·ppy",0.6,"NULL","NULL"]
[1255285,"Happy",294,0,4,"ha·ppy",0.6,"NULL","NULL"]
[882822,"fall",295,2,0,"fall",0.693,"fɔ:l","fɔl"]
[917718,"happy",296,2,0,"ha·ppy",0.179,"ˈhæpi","ˈhæpi"]
[878136,"example",297,2,0,"ex·am·ple",0.729,"ɪgˈzɑ:mpl","ɪgˈzæmpl"]
[1257449,"Hold",297,0,4,"hold",0.657,"NULL","NULL"]
[1134410,"together",298,2,0,"to·geth·er",0.629,"təˈgeðə(r)","təˈɡɛðɚ"]
[925128,"hold",299,2,0,"hold",0.657,"həʊld","hoʊld"]
[861693,"drive",300,2,0,"drive",0.671,"draɪv","draɪv"]
[881813,"eye",301,2,0,"eye",0.643,"aɪ","aɪ"]
[1247087,"Early",301,0,4,"ear·ly",0.743,"NULL","NULL"]
[763132,"anything",302,2,0,"any·thing",0.557,"ˈeniθɪŋ","ˈɛniˌθɪŋ"]
[883559,"far",303,2,0,"far",0.764,"fɑ:(r)","fɑr"]
[864695,"early",304,2,0,"ear·ly",0.743,"ˈɜ:li","ˈɜrli"]
[985481,"mind",305,2,0,"mind",0.714,"maɪnd","maɪnd"]
[1139816,"travel",306,2,0,"tra·vel",0.107,"ˈtrævl","ˈtrævəl"]
[1294692,"Writer",306,0,4,"writ·er",0.45,"NULL","NULL"]
[1085437,"several",307,2,0,"seve·ral",0.579,"ˈsevrəl","ˈsɛvərəl, ˈsɛvrəl"]
[986264,"minute",308,2,0,"mi·nute",0.593,"ˈmɪnɪt","ˈmɪnɪt"]
[1168170,"writer",309,2,0,"writ·er",0.45,"ˈraɪtə(r)","ˈraɪtɚ"]
[851859,"difficult",310,2,0,"diffi·cult",0.65,"ˈdɪfɪkəlt","ˈdɪfɪˌkʌlt, -kəlt"]
[1239510,"Carry",310,0,4,"car·ry",0.614,"NULL","NULL"]
[1057581,"receive",311,2,0,"re·ceive",0.621,"rɪˈsi:v","rɪˈsiv"]
[877769,"ever",312,2,0,"e·ver",0.657,"ˈevə(r)","ˈɛvɚ"]
[803106,"carry",313,2,0,"car·ry",0.614,"ˈkæri","ˈkæri"]
[1288394,"Teach",313,0,4,"teach",0.693,"NULL","NULL"]
[1052550,"quite",314,2,0,"quite",0.579,"kwaɪt","kwaɪt"]
[1066145,"return",315,2,0,"re·turn",0.7,"rɪˈtɜ:n","rɪˈtɜrn"]
[1123813,"teach",316,2,0,"teach",0.693,"ti:tʃ","titʃ"]
[1229891,"Able",316,0,4,"a·ble",0.671,"NULL","NULL"]
[1152945,"usually",317,2,0,"us·ual·ly",0.536,"ˈju:ʒuəli","ˈjuːʒuəli"]
[1289728,"Train",317,0,4,"train",0.707,"NULL","NULL"]
[805327,"cause",318,2,0,"cause",0.65,"kɔ:z","kɔz"]
[745061,"able",319,2,0,"a·ble",0.671,"ˈeɪbl","ˈebəl"]
[1137798,"train",320,2,0,"train",0.707,"treɪn","tren"]
[1147138,"under",321,2,0,"un·der",0.529,"ˈʌndə(r)","ˈʌndɚ"]
[879766,"expect",322,2,0,"ex·pect",0.643,"ɪkˈspekt","ɪkˈspɛkt"]
[1052071,"question",323,2,0,"ques·tion",0.657,"ˈkwestʃən","ˈkwɛstʃən"]
[1099394,"special",324,2,0,"spe·cial",0.65,"ˈspeʃl","ˈspɛʃəl"]
[1270763,"Near",324,0,4,"near",0.514,"NULL","NULL"]
[849179,"develop",325,2,0,"de·ve·lop",0.729,"dɪˈveləp","dɪˈvɛləp"]
[1076559,"save",326,2,0,"save",0.629,"seɪv","sev"]
[1286155,"State",326,0,4,"state",0.579,"NULL","NULL"]
[995863,"near",327,2,0,"near",0.514,"nɪə(r)","nɪr"]
[1030100,"plan",328,2,0,"plan",0.693,"plæn","plæn"]
[1105861,"state",329,2,0,"state",0.579,"steɪt","stet"]
[940351,"information",330,2,0,"in·for·ma·tion",0.007,"ˌɪnfəˈmeɪʃn","ˌɪnfərˈmeɪʃn"]
[1062658,"remember",331,2,0,"re·mem·ber",0.579,"rɪˈmembə(r)","rɪˈmɛmbɚ"]
[1065433,"result",332,2,0,"re·sult",0.693,"rɪˈzʌlt","rɪˈzʌlt"]
[907560,"girl",333,2,0,"girl",0.514,"gɜ:l","gɜrl"]
[796771,"business",334,2,0,"busi·ness",0.664,"ˈbɪznəs","ˈbɪznɪs"]
[756943,"almost",335,2,0,"al·most",0.586,"ˈɔ:lməʊst","ˈɔlmoʊst"]
[760681,"animal",336,2,0,"ani·mal",0.55,"ˈænɪml","ˈænəməl"]
[1097431,"sometimes",337,2,0,"some·times",0.536,"ˈsʌmtaɪmz","ˈsʌmˌtaɪmz"]
[877871,"everything",338,2,0,"every·thing",0.507,"ˈevriθɪŋ","ˈɛvriˌθɪŋ"]
[1275451,"Point",338,0,4,"point",0.643,"NULL","NULL"]
[1169244,"yet",339,2,0,"yet",0.571,"jet","jɛt"]
[924247,"himself",340,2,0,"him·self",0.414,"hɪmˈself","hɪmˈsɛlf"]
[1273605,"Pass",340,0,4,"pass",0.586,"NULL","NULL"]
[1033271,"point",341,2,0,"point",0.643,"pɔɪnt","pɔɪnt"]
[851064,"die",342,2,0,"die",0.414,"daɪ","daɪ"]
[1018734,"pass",343,2,0,"pass",0.586,"pɑ:s","pæs"]
[1245791,"Doctor",343,0,4,"doc·tor",0.429,"NULL","NULL"]
[1097400,"someone",344,2,0,"some·one",0.621,"ˈsʌmwʌn","ˈsʌmˌwʌn, -wən"]
[1248543,"Face",344,0,4,"face",0.75,"NULL","NULL"]
[1019064,"past",345,2,0,"past",0.507,"pɑ:st","pæst"]
[1300962,"Lead",345,0,3,"lead",0.714,"NULL","NULL"]
[857962,"doctor",346,2,0,"doc·tor",0.429,"ˈdɒktə(r)","ˈdɑktə(r)"]
[1223887,"Chance",346,0,2,"chance",0.643,"NULL","NULL"]
[1240169,"Chance",346,0,4,"chance",0.643,"NULL","NULL"]
[882046,"face",347,2,0,"face",0.75,"feɪs","fes"]
[960024,"lead",348,2,0,"lead",0.714,"li:d","lid"]
[808240,"chance",349,2,0,"chance",0.643,"tʃɑ:ns","tʃæns"]
[804625,"catch",350,2,0,"catch",0.579,"kætʃ","kætʃ, kɛtʃ"]
[1127868,"thank",351,2,0,"thank",0.536,"θæŋk","θæŋk"]
[1251383,"Game",351,0,4,"game",0.457,"NULL","NULL"]
[880030,"explain",352,2,0,"ex·plain",0.664,"ɪkˈspleɪn","ɪkˈsplen"]
[1277401,"Reach",352,0,4,"reach",0.579,"NULL","NULL"]
[963504,"light",353,2,0,"light",0.486,"laɪt","laɪt"]
[1164001,"whether",354,2,0,"whe·ther",0.636,"ˈweðə(r)","wɛðə"]
[902720,"game",355,2,0,"game",0.457,"geɪm","ɡem"]
[1056516,"reach",356,2,0,"reach",0.579,"ri:tʃ","ritʃ"]
[753379,"agree",357,2,0,"a·gree",0.457,"əˈgri:","əˈɡri"]
[1277437,"Reason",357,0,4,"rea·son",0.636,"NULL","NULL"]
[1142457,"trouble",358,2,0,"trou·ble",0.436,"ˈtrʌbl","ˈtrʌbəl"]
[896536,"form",359,2,0,"form",0.593,"fɔ:m","fɔrm"]
[1275667,"Poor",359,0,4,"poor",0.514,"NULL","NULL"]
[1057350,"reason",360,2,0,"rea·son",0.636,"ˈri:zn","ˈrizən"]
[1052235,"quickly",361,2,0,"quick·ly",0.55,"ˈkwɪkli","ˈkwɪklɪ"]
[1035672,"poor",362,2,0,"poor",0.514,"pʊə(r)","pʊr"]
[1289270,"Title",362,0,4,"ti·tle",0.693,"NULL","NULL"]
[1168219,"wrong",363,2,0,"wrong",0.45,"rɒŋ","rɔŋ"]
[1036888,"possible",364,2,0,"pos·si·ble",0.629,"ˈpɒsəbl","ˈpɑsəbl"]
[1133565,"title",365,2,0,"ti·tle",0.693,"ˈtaɪtl","ˈtaɪtl"]
[1005316,"office",366,2,0,"offi·ce",0.593,"ˈɒfɪs","ˈɔfɪs"]
[1128818,"themselves",367,2,0,"them·selves",0.593,"ðəmˈselvz","ðɛmˈsɛlvz, ðəm-"]
[1046554,"provide",368,2,0,"pro·vide",0.707,"prəˈvaɪd","prəˈvaɪd"]
[1266365,"Matter",368,0,4,"ma·tter",0.621,"NULL","NULL"]
[1097848,"sorry",369,2,0,"sor·ry",0.386,"ˈsɒri","ˈsɑri"]
[1246057,"Door",369,0,4,"door",0.507,"NULL","NULL"]
[978456,"matter",370,2,0,"ma·tter",0.621,"ˈmætə(r)","ˈmætɚ"]
[1282744,"Sell",370,0,4,"sell",0.479,"NULL","NULL"]
[858780,"door",371,2,0,"door",0.507,"dɔ:(r)","dɔr, dor"]
[1254215,"Group",371,0,4,"group",0.593,"NULL","NULL"]
[1082365,"sell",372,2,0,"sell",0.479,"sel","sɛl"]
[914230,"group",373,2,0,"group",0.593,"gru:p","ɡrup"]
[824841,"computer",374,2,0,"com·put·er",0.429,"kəmˈpju:tə(r)","kəmˈpjutɚ"]
[757152,"already",375,2,0,"al·rea·dy",0.586,"ɔ:lˈredi","ɔlˈrɛdi"]
[1287035,"Street",375,0,4,"street",0.536,"NULL","NULL"]
[757386,"although",376,2,0,"al·though",0.571,"ɔ:lˈðəu","ɔːlˈðoʊ"]
[1110826,"street",377,2,0,"street",0.536,"stri:t","strit"]
[766263,"arrive",378,2,0,"ar·rive",0.593,"əˈraɪv","əˈraɪv"]
[877865,"everyone",379,2,0,"every·one",0.6,"ˈevriwʌn","ˈɛvriˌwʌn"]
[1255867,"Head",379,0,4,"head",0.657,"NULL","NULL"]
[1063625,"report",380,2,0,"re·port",0.664,"rɪˈpɔ:t","rɪˈpɔrt"]
[919649,"head",381,2,0,"head",0.657,"hed","hɛd"]
[1284370,"Six",381,0,4,"six",0.5,"NULL","NULL"]
[811866,"choose",382,2,0,"choose",0.571,"tʃu:z","tʃuz"]
[1091872,"six",383,2,0,"six",0.5,"sɪks","sɪks"]
[1250545,"Free",383,0,4,"free",0.636,"NULL","NULL"]
[1125696,"ten",384,2,0,"ten",0.436,"ten","tɛn"]
[1265282,"Main",384,0,4,"main",0.557,"NULL","NULL"]
[1301407,"Main",384,0,3,"main",0.557,"NULL","NULL"]
[898119,"free",385,2,0,"free",0.636,"fri:","fri"]
[1248898,"Fast",385,0,4,"fast",0.55,"NULL","NULL"]
[973326,"main",386,2,0,"main",0.557,"meɪn","men"]
[883884,"fast",387,2,0,"fast",0.55,"fɑ:st","fæst"]
[765328,"area",388,2,0,"a·rea",0.671,"ˈeəriə","ˈeriə"]
[757004,"along",389,2,0,"a·long",0.614,"əˈlɒŋ","əˈlɔŋ"]
[753689,"air",390,2,0,"air",0.479,"eə(r)","er"]
[1250941,"Full",390,0,4,"full",0.643,"NULL","NULL"]
[888799,"finish",391,2,0,"fi·nish",0.564,"ˈfɪnɪʃ","ˈfɪnɪʃ"]
[900470,"full",392,2,0,"full",0.643,"fʊl","fʊl"]
[877711,"evening",393,2,0,"eve·ning",0.364,"ˈi:vnɪŋ","ˈivnɪŋ"]
[958801,"late",394,2,0,"late",0.007,"leɪt","leɪt"]
[944224,"interested",395,2,0,"in·teres·ted",0.364,"ˈɪntrəstɪd","ˈɪntrɪstɪd, -tərɪstɪd, -təˌrɛstɪd"]
[928694,"human",396,2,0,"hu·man",0.6,"ˈhju:mən","ˈhjumən"]
[986781,"miss",397,2,0,"miss",0.579,"mɪs","mɪs"]
[1012221,"outside",398,2,0,"out·side",0.436,"ˌaʊtˈsaɪd","aʊtˈsaɪd, ˈaʊtˌsaɪd"]
[1248489,"Eye",398,0,4,"eye",0.643,"NULL","NULL"]
[1149973,"university",399,2,0,"uni·ver·sity",0.607,"ˌju:nɪˈvɜ:səti","ˌjunɪˈvɜrsəti"]
[1263591,"Light",399,0,4,"light",0.486,"NULL","NULL"]
[896419,"forget",400,2,0,"for·get",0.571,"fəˈget","fərˈget"]
[1250246,"Forget",400,0,4,"for·get",0.571,"NULL","NULL"]
[1111690,"strong",401,2,0,"strong",0.107,"strɒŋ","strɔŋ"]
[1287147,"Strong",401,0,4,"strong",0.507,"NULL","NULL"]
[781204,"bear",402,2,0,"bear",0.486,"beə(r)","ber"]
[888262,"finally",403,2,0,"final·ly",0.514,"ˈfaɪnəli","ˈfaɪnəli"]
[916278,"half",404,2,0,"half",0.579,"hɑ:f","hæf"]
[795507,"building",405,2,0,"build·ing",0.579,"ˈbɪldɪŋ","ˈbɪldɪŋ"]
[828563,"continue",406,2,0,"con·ti·nue",0.579,"kənˈtɪnju:","kənˈtɪnju"]
[1078156,"scientist",407,2,0,"sci·en·tist",0.429,"ˈsaɪəntɪst","ˈsaɪəntɪst"]
[944231,"interesting",408,2,0,"in·teres·ting",0.057,"ˈɪntrəstɪŋ","ˈɪntrɪstɪŋ, -tərɪstɪŋ, -təˌrɛstɪŋ"]
[1263513,"Lie",408,0,4,"lie",0.557,"NULL","NULL"]
[963062,"lie",409,2,0,"lie",0.557,"laɪ","lai"]
[1035811,"popular",410,2,0,"po·pu·lar",0.507,"ˈpɒpjələ(r)","ˈpɑpjələ(r)"]
[843451,"dear",411,2,0,"dear",0.386,"dɪə(r)","dɪr"]
[944182,"interest",412,2,0,"in·ter·est",0.593,"ˈɪntrəst","ˈɪntrɪst, -tərɪst, -ˌtrɛst"]
[748583,"across",413,2,0,"a·cross",0.586,"əˈkrɒs","əˈkrɔs"]
[1002403,"notice",414,2,0,"no·tice",0.571,"ˈnəʊtɪs","ˈnoʊtɪs"]
[1277243,"Rather",414,0,4,"ra·ther",0.564,"NULL","NULL"]
[791770,"box",415,2,0,"box",0.314,"bɒks","bɑks"]
[935417,"improve",416,2,0,"im·prove",0.679,"ɪmˈpru:v","ɪmˈpruv"]
[1056017,"rather",417,2,0,"ra·ther",0.564,"ˈrɑ:ðə(r)","ˈræðər"]
[1269306,"Moment",417,0,4,"mo·ment",0.457,"NULL","NULL"]
[1091709,"sister",418,2,0,"sis·ter",0.193,"ˈsɪstə(r)","ˈsɪstɚ"]
[901941,"future",419,2,0,"fu·ture",0.571,"ˈfju:tʃə(r)","ˈfjutʃɚ"]
[1114669,"suggest",420,2,0,"su·ggest",0.729,"səˈdʒest","səɡˈdʒɛst, səˈdʒɛst"]
[988610,"moment",421,2,0,"mo·ment",0.457,"ˈməʊmənt","ˈmoʊmənt"]
[1283674,"Short",421,0,4,"short",0.486,"NULL","NULL"]
[942669,"instead",422,2,0,"in·stead",0.621,"ɪnˈsted","ɪnˈstɛd"]
[781657,"beautiful",423,2,0,"beau·ti·ful",0.421,"ˈbju:tɪfl","ˈbjutəfəl"]
[1239603,"Case",423,0,4,"case",0.557,"NULL","NULL"]
[782293,"behind",424,2,0,"be·hind",0.464,"bɪˈhaɪnd","bɪˈhaɪnd"]
[1087842,"short",425,2,0,"short",0.486,"ʃɔ:t","ʃɔrt"]
[899620,"front",426,2,0,"front",0.386,"frʌnt","frʌnt"]
[1228897,"Summer",426,0,2,"sum·mer",0.414,"NULL","NULL"]
[1287479,"Summer",426,0,4,"sum·mer",0.414,"NULL","NULL"]
[803559,"case",427,2,0,"case",0.557,"keɪs","kes"]
[848107,"describe",428,2,0,"de·scribe",0.6,"dɪˈskraɪb","dɪˈskraɪb"]
[1164904,"wife",429,2,0,"wife",0.471,"waɪf","waɪf"]
[1115230,"summer",430,2,0,"sum·mer",0.414,"ˈsʌmə(r)","ˈsʌmɚ"]
[1284590,"Sleep",430,0,4,"sleep",0.486,"NULL","NULL"]
[966220,"listen",431,2,0,"lis·ten",0.571,"ˈlɪsn","ˈlɪsən"]
[1255888,"Health",431,0,4,"health",0.557,"NULL","NULL"]
[746365,"accept",432,2,0,"ac·cept",0.486,"əkˈsept","ækˈsɛpt"]
[822886,"company",433,2,0,"com·pa·ny",0.714,"ˈkʌmpəni","ˈkʌmpəni"]
[1093081,"sleep",434,2,0,"sleep",0.486,"sli:p","slip"]
[920021,"health",435,2,0,"health",0.557,"helθ","hɛlθ"]
[1274774,"Pick",435,0,4,"pick",0.514,"NULL","NULL"]
[1069248,"road",436,2,0,"road",0.5,"rəʊd","roʊd"]
[1250199,"Foot",436,0,4,"foot",0.443,"NULL","NULL"]
[752668,"afraid",437,2,0,"a·fraid",0.35,"əˈfreɪd","əˈfred"]
[786168,"bird",438,2,0,"bird",0.364,"bɜ:d","bɜrd"]
[1244181,"Deal",438,0,4,"deal",0.45,"NULL","NULL"]
[1297889,"Deal",438,0,3,"deal",0.45,"NULL","NULL"]
[1027264,"pick",439,2,0,"pick",0.514,"pɪk","pɪk"]
[1224690,"Else",439,0,2,"else",0.457,"NULL","NULL"]
[1247772,"Else",439,0,4,"else",0.457,"NULL","NULL"]
[895193,"foot",440,2,0,"foot",0.443,"fʊt","fʊt"]
[1289834,"Tree",440,0,4,"tree",0.414,"NULL","NULL"]
[865032,"easily",441,2,0,"easi·ly",0.4,"ˈi:zəli","ˈizəli"]
[843394,"deal",442,2,0,"deal",0.45,"di:l","dil"]
[1271181,"Nice",442,0,4,"nice",0.307,"NULL","NULL"]
[1302487,"Nice",442,0,3,"nice",0.307,"NULL","NULL"]
[869964,"else",443,2,0,"else",0.457,"els","ɛls"]
[1285129,"Son",443,0,4,"son",0.35,"NULL","NULL"]
[893273,"flower",444,2,0,"flow·er",0.243,"ˈflaʊə(r)","ˈflaʊɚ"]
[1140188,"tree",445,2,0,"tree",0.414,"tri:","tri"]
[1242136,"Cost",445,0,4,"cost",0.521,"NULL","NULL"]
[1164573,"whole",446,2,0,"whole",0.421,"həʊl","hoʊl"]
[998257,"nice",447,2,0,"nice",0.307,"naɪs","naɪs"]
[1097479,"son",448,2,0,"son",0.35,"sʌn","sʌn"]
[763890,"appear",449,2,0,"ap·pear",0.543,"əˈpɪə(r)","əˈpɪr"]
[1289674,"Town",449,0,4,"town",0.5,"NULL","NULL"]
[832757,"cost",450,2,0,"cost",0.521,"kɒst","kɔst"]
[1273354,"Paper",450,0,4,"pa·per",0.45,"NULL","NULL"]
[1084379,"serious",451,2,0,"se·ri·ous",0.507,"ˈsɪəriəs","ˈsɪriəs"]
[1304532,"Side",451,0,3,"side",0.4,"NULL","NULL"]
[861595,"drink",452,2,0,"drink",0.564,"drɪŋk","drɪŋk"]
[1293030,"Wear",452,0,4,"wear",0.529,"NULL","NULL"]
[1305947,"Wear",452,0,3,"wear",0.529,"NULL","NULL"]
[1136682,"town",453,2,0,"town",0.5,"taʊn","taʊn"]
[1016302,"paper",454,2,0,"pa·per",0.45,"ˈpeɪpə(r)","ˈpeɪpər"]
[1088872,"side",455,2,0,"side",0.4,"saɪd","saɪd"]
[1058946,"red",456,2,0,"red",0.407,"red","rɛd"]
[1288964,"Thousand",456,0,4,"thou·sand",0.314,"NULL","NULL"]
[1162246,"wear",457,2,0,"wear",0.529,"weə(r)","wer"]
[1288672,"Test",457,0,4,"test",0.564,"NULL","NULL"]
[819109,"cold",458,2,0,"cold",0.429,"kəʊld","koʊld"]
[1294488,"Wonder",458,0,4,"won·der",0.457,"NULL","NULL"]
[1130579,"third",459,2,0,"third",0.336,"θɜ:d","θɜrd"]
[1130846,"thousand",460,2,0,"thou·sand",0.314,"ˈθaʊznd","ˈθaʊzənd"]
[1126935,"test",461,2,0,"test",0.564,"test","test"]
[1166864,"wonder",462,2,0,"won·der",0.457,"ˈwʌndə(r)","ˈwʌndɚ"]
[1283196,"Share",462,0,4,"share",0.614,"NULL","NULL"]
[998162,"newspaper",463,2,0,"news·paper",0.371,"ˈnju:zpeɪpə(r)","ˈnuzpeɪpə(r)"]
[758622,"among",464,2,0,"a·mong",0.536,"əˈmʌŋ","əˈmʌŋ"]
[1047635,"public",465,2,0,"pub·lic",0.036,"ˈpʌblɪk","ˈpʌblɪk"]
[1086192,"share",466,2,0,"share",0.614,"ʃeə(r)","ʃer"]
[1277417,"Real",466,0,4,"real",0.586,"NULL","NULL"]
[1166191,"wish",467,2,0,"wish",0.386,"wɪʃ","wɪʃ"]
[951342,"join",468,2,0,"join",0.436,"dʒɔɪn","dʒɔɪn"]
[1242310,"Cover",468,0,4,"co·ver",0.421,"NULL","NULL"]
[917699,"happen",469,2,0,"ha·ppen",0.664,"ˈhæpən","ˈhæpən"]
[1130826,"thought",470,2,0,"thought",0.529,"θɔ:t","θɔ:t"]
[1056980,"real",471,2,0,"real",0.586,"ˈri:əl","ˈriəl, ril"]
[834220,"cover",472,2,0,"co·ver",0.421,"ˈkʌvə(r)","ˈkʌvɚ"]
[998104,"news",473,2,0,"news",0.479,"nju:z","nuz"]
[752837,"against",474,2,0,"a·gainst",0.529,"əˈgenst","əˈɡenst"]
[1027526,"picture",475,2,0,"pic·ture",0.4,"ˈpɪktʃə(r)","ˈpɪktʃɚ"]
[1174507,"thanks",476,5,0,"thanks",0.336,"θæŋks","θæŋks"]
[1262624,"Land",476,0,4,"land",0.336,"NULL","NULL"]
[984487,"middle",477,2,0,"mid·dle",0.314,"ˈmɪdl","ˈmidl"]
[1289515,"Top",477,0,4,"top",0.479,"NULL","NULL"]
[814932,"clean",478,2,0,"clean",0.521,"kli:n","klin"]
[1264173,"Lose",478,0,4,"lose",0.786,"NULL","NULL"]
[1085409,"seven",479,2,0,"se·ven",0.221,"ˈsevn","ˈsɛvən"]
[752789,"afternoon",480,2,0,"after·noon",0.571,"ˌɑ:ftəˈnu:n","ˌæftərˈnun"]
[1240048,"Certain",480,0,4,"cer·tain",0.407,"NULL","NULL"]
[957583,"land",481,2,0,"land",0.336,"lænd","lænd"]
[889826,"fish",482,2,0,"fish",0.307,"fɪʃ","fɪʃ"]
[1135208,"top",483,2,0,"top",0.479,"tɒp","tɑp"]
[1174711,"good-bye",484,5,0,"good-bye",0.55,"ˈgʊdˈbaɪ","ɡʊdˈbaɪ"]
[969475,"lose",485,2,0,"lose",0.786,"lu:z","luz"]
[866665,"effect",486,2,0,"eff·ect",0.464,"ɪˈfekt","ɪˈfɛkt"]
[1249663,"Fine",486,0,4,"fine",0.279,"NULL","NULL"]
[807398,"certain",487,2,0,"cer·tain",0.407,"ˈsɜ:tn","ˈsɜrtn"]
[924651,"history",488,2,0,"his·to·ry",0.507,"ˈhɪstri","ˈhɪstəri"]
[957942,"language",489,2,0,"lan·guage",0.529,"ˈlæŋgwɪdʒ","ˈlæŋɡwɪdʒ"]
[848239,"design",490,2,0,"de·sign",0.55,"dɪˈzaɪn","dɪˈzaɪn"]
[866479,"education",491,2,0,"edu·ca·tion",0.55,"ˌedʒuˈkeɪʃn","ˌɛdʒəˈkeʃən"]
[1241600,"Common",491,0,4,"com·mon",0.436,"NULL","NULL"]
[912915,"green",492,2,0,"green",0.386,"gri:n","ɡrin"]
[959370,"laugh",493,2,0,"laugh",0.279,"lɑ:f","læf"]
[888480,"fine",494,2,0,"fine",0.279,"faɪn","faɪn"]
[1264309,"Low",494,0,4,"low",0.529,"NULL","NULL"]
[1027697,"piece",495,2,0,"piece",0.364,"pi:s","pis"]
[962121,"letter",496,2,0,"le·tter",0.293,"ˈletə(r)","ˈlɛtɚ"]
[921471,"hello",497,2,0,"he·llo",0.1,"həˈləʊ","həˈloʊ"]
[1293797,"White",497,0,4,"white",0.4,"NULL","NULL"]
[1306001,"White",497,0,3,"white",0.4,"NULL","NULL"]
[806994,"century",498,2,0,"cen·tu·ry",0.293,"ˈsentʃəri","ˈsɛntʃəri"]
[781770,"bed",499,2,0,"bed",0.264,"bed","bɛd"]
[822264,"common",500,2,0,"com·mon",0.436,"ˈkɒmən","ˈkɑmən"]
[1025143,"phone",501,2,0,"phone",0.636,"fəʊn","foʊn"]
[1169497,"yourself",502,2,0,"your·self",0.464,"jɔ:ˈself","jərˈself"]
[969852,"low",503,2,0,"low",0.529,"ləʊ","loʊ"]
[1282408,"Sea",503,0,4,"sea",0.221,"NULL","NULL"]
[1087748,"shop",504,2,0,"shop",0.743,"ʃɒp","ʃɑp"]
[1116610,"support",505,2,0,"sup·port",0.593,"səˈpɔ:t","səˈpɔrt"]
[1245598,"Dinner",505,0,4,"din·ner",0.35,"NULL","NULL"]
[1164236,"white",506,2,0,"white",0.4,"waɪt","hwaɪt, waɪt"]
[1278028,"Rest",506,0,4,"rest",0.536,"NULL","NULL"]
[980435,"meeting",507,2,0,"meet·ing",0.421,"ˈmi:tɪŋ","ˈmitɪŋ"]
[1238395,"Bus",507,0,4,"bus",0.421,"NULL","NULL"]
[745232,"above",508,2,0,"a·bove",0.336,"əˈbʌv","əˈbʌv"]
[1054739,"rain",509,2,0,"rain",0.229,"reɪn","ren"]
[839715,"cut",510,2,0,"cut",0.407,"kʌt","kʌt"]
[1273445,"Park",510,0,4,"park",0.45,"NULL","NULL"]
[719044,"Chinese",511,2,0,"chin·ese",0.386,"ˌtʃaɪˈni:z","tʃaɪˈniz, -ˈnis"]
[1079554,"sea",512,2,0,"sea",0.221,"si:","si"]
[1097971,"sound",513,2,0,"sound",0.607,"saʊnd","saʊnd"]
[1282949,"Service",513,0,4,"serv·ice",0.514,"NULL","NULL"]
[853131,"dinner",514,2,0,"din·ner",0.35,"ˈdɪnə(r)","ˈdɪnɚ"]
[1065172,"rest",515,2,0,"rest",0.536,"rest","rest"]
[796649,"bus",516,2,0,"bus",0.421,"bʌs","bʌs"]
[1276000,"Present",516,0,4,"pre·sent",0.564,"NULL","NULL"]
[1089428,"sign",517,2,0,"sign",0.493,"saɪn","saɪn"]
[961996,"lesson",518,2,0,"les·son",0.436,"ˈlesn","ˈlɛsən"]
[1092609,"sky",519,2,0,"sky",0.207,"skaɪ","skaɪ"]
[1017955,"park",520,2,0,"park",0.45,"pɑ:k","pɑrk"]
[775281,"bag",521,2,0,"bag",0.179,"bæg","bæɡ"]
[1043582,"produce",522,2,0,"pro·duce",0.486,"prəˈdju:s","prəˈdus"]
[1263611,"Likely",522,0,4,"like·ly",0.593,"NULL","NULL"]
[987774,"modern",523,2,0,"mod·ern",0.393,"ˈmɒdn","ˈmɑdərn"]
[1227960,"Price",523,0,2,"price",0.493,"NULL","NULL"]
[1276069,"Price",523,0,4,"price",0.493,"NULL","NULL"]
[1303489,"Price",523,0,3,"price",0.493,"NULL","NULL"]
[1084631,"service",524,2,0,"serv·ice",0.514,"ˈsɜ:vɪs","ˈsɜrvɪs"]
[995905,"nearly",525,2,0,"near·ly",0.386,"ˈnɪəli","ˈnɪrli"]
[1121897,"tall",526,2,0,"tall",0.15,"tɔ:l","tɔl"]
[1018662,"party",527,2,0,"par·ty",0.5,"ˈpɑ:ti","ˈpɑrti"]
[1248612,"Fail",527,0,4,"fail",0.45,"NULL","NULL"]
[1040376,"present",528,2,0,"pre·sent",0.564,"ˈpreznt","ˈprɛznt"]
[748645,"act",529,2,0,"act",0.457,"ækt","ækt"]
[1062570,"remain",530,2,0,"re·main",0.493,"rɪˈmeɪn","rɪˈmen"]
[1269903,"Mountain",530,0,4,"moun·tain",0.321,"NULL","NULL"]
[954061,"kill",531,2,0,"kill",0.279,"kɪl","kɪl"]
[1235574,"Body",531,0,4,"body",0.429,"NULL","NULL"]
[964670,"line",532,2,0,"line",0.479,"laɪn","laɪn"]
[867219,"either",533,2,0,"ei·ther",0.414,"ˈaɪðə(r)","ˈiːðər"]
[964153,"likely",534,2,0,"like·ly",0.593,"ˈlaɪkli","ˈlaɪkli"]
[1041394,"price",535,2,0,"price",0.493,"praɪs","praɪs"]
[1166871,"wonderful",536,2,0,"won·der·ful",0.329,"ˈwʌndəfl","ˈwʌndərfl"]
[1275890,"Power",536,0,4,"pow·er",0.486,"NULL","NULL"]
[928970,"hundred",537,2,0,"hun·dred",0.371,"ˈhʌndrəd","ˈhʌndrɪd"]
[1258435,"Husband",537,0,4,"hus·band",0.464,"NULL","NULL"]
[1033952,"police",538,2,0,"po·lice",0.264,"pəˈli:s","pəˈlis"]
[757003,"alone",539,2,0,"a·lone",0.421,"əˈləʊn","əˈloʊn"]
[1240504,"China",539,0,4,"chi·na",0.436,"NULL","NULL"]
[1297426,"China",539,0,3,"chi·na",0.436,"NULL","NULL"]
[882595,"fail",540,2,0,"fail",0.45,"feɪl","feɪl"]
[827251,"consider",541,2,0,"con·si·der",0.607,"kənˈsɪdə(r)","kənˈsɪdər"]
[867183,"eight",542,2,0,"eight",0.271,"eɪt","eɪt"]
[991113,"mountain",543,2,0,"moun·tain",0.321,"ˈmaʊntən","ˈmaʊntn"]
[789278,"body",544,2,0,"body",0.429,"ˈbɒdi","ˈbɑdi"]
[1241466,"College",544,0,4,"col·lege",0.543,"NULL","NULL"]
[829355,"control",545,2,0,"con·trol",0.55,"kənˈtrəʊl","kənˈtroʊl"]
[887648,"film",546,2,0,"film",0.407,"fɪlm","fɪlm"]
[1083533,"sentence",547,2,0,"sen·tence",0.321,"ˈsentəns","ˈsɛntəns"]
[1277410,"Ready",547,0,4,"read·y",0.464,"NULL","NULL"]
[1022293,"perhaps",548,2,0,"per·haps",0.393,"pəˈhæps","pərˈhæps"]
[1038172,"power",549,2,0,"pow·er",0.486,"ˈpaʊə(r)","ˈpaʊɚ"]
[970945,"lunch",550,2,0,"lunch",0.343,"lʌntʃ","lʌntʃ"]
[929135,"husband",551,2,0,"hus·band",0.464,"ˈhʌzbənd","ˈhʌzbənd"]
[1298200,"Earth",551,0,3,"earth",0.243,"NULL","NULL"]
[810806,"China",552,2,0,"chi·na",0.436,"ˈtʃaɪnə","ˈtʃaɪnə"]
[1094570,"smile",553,2,0,"smile",0.457,"smaɪl","smaɪl"]
[1249616,"Fill",553,0,4,"fill",0.536,"NULL","NULL"]
[1120380,"table",554,2,0,"ta·ble",0.379,"ˈteɪbl","ˈtebəl"]
[1272155,"Offer",554,0,4,"of·fer",0.821,"NULL","NULL"]
[774156,"baby",555,2,0,"ba·by",0.343,"ˈbeɪbi","ˈbeɪbi"]
[1107762,"step",556,2,0,"step",0.436,"step","stɛp"]
[819835,"college",557,2,0,"col·lege",0.543,"ˈkɒlɪdʒ","ˈkɑːlɪdʒ"]
[1270784,"Necessary",557,0,4,"nece·ssary",0.393,"NULL","NULL"]
[763128,"anyone",558,2,0,"any·one",0.364,"ˈeniwʌn","ˈɛniˌwʌn, -wən"]
[1241793,"Cook",558,0,4,"cook",0.4,"NULL","NULL"]
[1297632,"Cook",558,0,3,"cook",0.4,"NULL","NULL"]
[998736,"nine",559,2,0,"nine",0.179,"naɪn","naɪn"]
[841595,"dad",560,2,0,"dad",0.264,"dæd","dæd"]
[878228,"except",561,2,0,"ex·cept",0.214,"ɪkˈsept","ɪkˈsɛpt"]
[1056920,"ready",562,2,0,"read·y",0.464,"ˈredi","ˈrɛdi"]
[1063609,"reply",563,2,0,"re·ply",0.336,"rɪˈplaɪ","rɪˈplaɪ"]
[1278594,"Rise",563,0,4,"rise",0.407,"NULL","NULL"]
[1167468,"worker",564,2,0,"work·er",0.4,"ˈwɜ:kə(r)","ˈwɜrkə(r)"]
[879896,"expensive",565,2,0,"ex·pen·sive",0.35,"ɪkˈspensɪv","ɪkˈspɛnsɪv"]
[864798,"earth",566,2,0,"earth",0.243,"ɜ:θ","ɜrθ"]
[1150079,"unless",567,2,0,"un·less",0.457,"ənˈles","ʌnˈlɛs"]
[1250061,"Fly",567,0,4,"fly",0.421,"NULL","NULL"]
[1298704,"Fly",567,0,3,"fly",0.421,"NULL","NULL"]
[887491,"fill",568,2,0,"fill",0.536,"fɪl","fɪl"]
[1246438,"Drop",568,0,4,"drop",0.443,"NULL","NULL"]
[1005291,"offer",569,2,0,"of·fer",0.821,"ˈɒfə(r)","ˈɔfə(r)"]
[1054846,"raise",570,2,0,"raise",0.536,"reɪz","reɪz"]
[1228215,"Rich",570,0,2,"rich",0.421,"NULL","NULL"]
[1278226,"Rich",570,0,4,"rich",0.421,"NULL","NULL"]
[1109806,"store",571,2,0,"store",0.429,"stɔ:(r)","stɔr, stor"]
[830450,"cook",572,2,0,"cook",0.4,"kʊk","kʊk"]
[900915,"fun",573,2,0,"fun",0.486,"fʌn","fʌn"]
[1165404,"window",574,2,0,"win·dow",0.321,"ˈwɪndəʊ","ˈwɪndoʊ"]
[878982,"exercise",575,2,0,"exer·cise",0.379,"ˈeksəsaɪz","ˈeksərsaɪz"]
[1292843,"Warm",575,0,4,"warm",0.479,"NULL","NULL"]
[1131431,"throw",576,2,0,"throw",0.379,"θrəʊ","θroʊ"]
[1255909,"Heart",576,0,4,"heart",0.579,"NULL","NULL"]
[1068920,"rise",577,2,0,"rise",0.407,"raɪz","raɪz"]
[1287507,"Sun",577,0,4,"sun",0.243,"NULL","NULL"]
[784742,"bike",578,2,0,"bike",0.164,"baɪk","baɪk"]
[994270,"myself",579,2,0,"my·self",0.457,"maɪˈself","maɪˈsɛlf"]
[1270343,"Music",579,0,4,"mu·sic",0.486,"NULL","NULL"]
[1047990,"pull",580,2,0,"pull",0.307,"pʊl","pʊl"]
[1040130,"prepare",581,2,0,"pre·pare",0.564,"prɪˈpeə(r)","prɪˈper"]
[894104,"fly",582,2,0,"fly",0.421,"flaɪ","flai"]
[1275229,"Plant",582,0,4,"plant",0.35,"NULL","NULL"]
[862016,"drop",583,2,0,"drop",0.443,"drɒp","drɑp"]
[1045929,"protect",584,2,0,"pro·tect",0.436,"prəˈtekt","prəˈtɛkt"]
[1067818,"rich",585,2,0,"rich",0.421,"rɪtʃ","rɪtʃ"]
[942222,"inside",586,2,0,"in·side",0.336,"ˌɪnˈsaɪd","ɪnˈsaɪd, ˈɪnˌsaɪd"]
[816528,"clothes",587,2,0,"clothes",0.407,"kləʊðz","kloʊðz"]
[1114164,"success",588,2,0,"suc·cess",0.55,"səkˈses","səkˈsɛs"]
[842792,"daughter",589,2,0,"daugh·ter",0.343,"ˈdɔ:tə(r)","ˈdɔtɚ"]
[887117,"fight",590,2,0,"fight",0.414,"faɪt","faɪt"]
[1240331,"Check",590,0,4,"check",0.436,"NULL","NULL"]
[788733,"blue",591,2,0,"blue",0.271,"blu:","blu"]
[1228244,"River",591,0,2,"ri·ver",0.264,"NULL","NULL"]
[1278677,"River",591,0,4,"ri·ver",0.264,"NULL","NULL"]
[1160360,"warm",592,2,0,"warm",0.014,"wɔ:m","wɔrm"]
[920127,"heart",593,2,0,"heart",0.579,"hɑ:t","hɑrt"]
[1227092,"Mark",593,0,2,"mark",0.3,"NULL","NULL"]
[1265828,"Mark",593,0,4,"mark",0.3,"NULL","NULL"]
[1115314,"sun",594,2,0,"sun",0.243,"sʌn","sʌn"]
[975254,"manager",595,2,0,"mana·ger",0.329,"ˈmænɪdʒə(r)","ˈmænɪdʒɚ"]
[993582,"music",596,2,0,"mu·sic",0.486,"ˈmju:zɪk","ˈmjuzɪk"]
[1285337,"Space",596,0,4,"space",0.379,"NULL","NULL"]
[842115,"dangerous",597,2,0,"dan·ger·ous",0.007,"ˈdeɪndʒərəs","ˈdendʒərəs"]
[1088220,"shout",598,2,0,"shout",0.264,"ʃaʊt","ʃaʊt"]
[1289826,"Treat",598,0,4,"treat",0.343,"NULL","NULL"]
[1030461,"plant",599,2,0,"plant",0.35,"plɑ:nt","plænt"]
[1084589,"serve",600,2,0,"serve",0.436,"sɜ:v","sɜrv"]
[1235066,"Black",600,0,4,"black",0.264,"NULL","NULL"]
[1113006,"subject",601,2,0,"sub·ject",0.279,"ˈsʌbdʒɪkt, səbˈdʒekt","ˈsʌbdʒɪkt, səbˈdʒekt"]
[1233406,"Bear",601,0,4,"bear",0.486,"NULL","NULL"]
[847249,"depend",602,2,0,"de·pend",0.379,"dɪˈpend","dɪˈpɛnd"]
[1237534,"Brother",602,0,4,"bro·ther",0.321,"NULL","NULL"]
[1169233,"yesterday",603,2,0,"yes·ter·day",0.243,"ˈjestədeɪ","ˈjestərdeɪ"]
[1162352,"weather",604,2,0,"wea·ther",0.421,"ˈweðə(r)","ˈwɛðɚ"]
[1092288,"skill",605,2,0,"skill",0.514,"skɪl","skɪl"]
[809406,"check",606,2,0,"check",0.436,"tʃek","tʃɛk"]
[1069094,"river",607,2,0,"ri·ver",0.264,"ˈrɪvə(r)","ˈrɪvɚ"]
[986923,"mistake",608,2,0,"mis·take",0.386,"mɪˈsteɪk","mɪˈstek"]
[1249528,"Field",608,0,4,"field",0.321,"NULL","NULL"]
[976732,"mark",609,2,0,"mark",0.3,"mɑ:k","mɑrk"]
[1244190,"Dear",609,0,4,"dear",0.386,"NULL","NULL"]
[1067895,"ride",610,2,0,"ride",0.336,"raɪd","raɪd"]
[1046525,"prove",611,2,0,"prove",0.507,"pru:v","pruv"]
[1098569,"space",612,2,0,"space",0.379,"speɪs","spes"]
[1236528,"Box",612,0,4,"box",0.314,"NULL","NULL"]
[858138,"dog",613,2,0,"dog",0.271,"dɒg","dɔg"]
[1285286,"South",613,0,4,"south",0.271,"NULL","NULL"]
[1140113,"treat",614,2,0,"treat",0.343,"tri:t","trit"]
[819631,"collect",615,2,0,"col·lect",0.393,"kəˈlekt","kəˈlɛkt"]
[786777,"black",616,2,0,"black",0.264,"blæk","blæk"]
[794644,"brother",617,2,0,"bro·ther",0.321,"ˈbrʌðə(r)","ˈbrʌðɚ"]
[1078098,"science",618,2,0,"sci·ence",0.464,"ˈsaɪəns","ˈsaɪəns"]
[928094,"hotel",619,2,0,"ho·tel",0.5,"həʊˈtel","hoʊˈtel"]
[1223241,"Art",619,0,2,"art",0.457,"NULL","NULL"]
[1231571,"Art",619,0,4,"art",0.457,"NULL","NULL"]
[927811,"hot",620,2,0,"hot",0.307,"hɒt","hɑt"]
[1241020,"Clear",620,0,4,"clear",0.493,"NULL","NULL"]
[991281,"mouth",621,2,0,"mouth",0.171,"maʊθ","maʊθ"]
[1174508,"less",622,5,0,"less","NULL","les","lɛs"]
[1145114,"type",623,2,0,"type",0.471,"taɪp","taɪp"]
[886717,"field",624,2,0,"field",0.321,"fi:ld","fild"]
[1252747,"Glass",624,0,4,"glass",0.229,"NULL","NULL"]
[1157478,"village",625,2,0,"vil·lage",0.264,"ˈvɪlɪdʒ","ˈvɪlɪdʒ"]
[1275509,"Police",625,0,4,"po·lice",0.264,"NULL","NULL"]
[1094046,"slow",626,2,0,"slow",0.336,"sləʊ","sloʊ"]
[1289636,"Touch",626,0,4,"touch",0.429,"NULL","NULL"]
[955415,"knowledge",627,2,0,"know·le·dge",0.4,"ˈnɒlɪdʒ","ˈnɑlɪdʒ"]
[1098424,"south",628,2,0,"south",0.271,"saʊθ","saʊθ"]
[1279522,"Round",628,0,4,"round",0.229,"NULL","NULL"]
[1038618,"practice",629,2,0,"prac·tice",0.371,"ˈpræktɪs","ˈpræktɪs"]
[1114167,"successful",630,2,0,"suc·cess·ful",0.107,"səkˈsesfl","səkˈsesfl"]
[980976,"member",631,2,0,"mem·ber",0.457,"ˈmembə(r)","ˈmembər"]
[1279841,"Rule",631,0,4,"rule",0.471,"NULL","NULL"]
[851458,"difference",632,2,0,"diffe·rence",0.429,"ˈdɪfrəns","ˈdɪfərəns, ˈdɪfrəns"]
[1228404,"Sad",632,0,2,"sad",0.25,"NULL","NULL"]
[775934,"ball",633,2,0,"ball",0.157,"bɔ:l","bɔl"]
[1234909,"Bird",633,0,4,"bird",0.364,"NULL","NULL"]
[766463,"art",634,2,0,"art",0.457,"ɑ:t","ɑrt"]
[815087,"clear",635,2,0,"clear",0.493,"klɪə(r)","klɪr"]
[883343,"famous",636,2,0,"fa·mous",0.507,"ˈfeɪməs","ˈfeməs"]
[732097,"Mrs.",637,2,0,"Mrs.",0.393,"ˈmɪsɪz","ˈmɪsɪz"]
[908181,"glass",638,2,0,"glass",0.229,"glɑ:s","glæs"]
[1136378,"touch",639,2,0,"touch",0.429,"tʌtʃ","tʌtʃ"]
[1071939,"round",640,2,0,"round",0.229,"raʊnd","raʊnd"]
[1106277,"station",641,2,0,"sta·tion",0.35,"ˈsteɪʃn","ˈsteʃən"]
[924677,"hit",642,2,0,"hit",0.4,"hɪt","hɪt"]
[1278509,"Ring",642,0,4,"ring",0.15,"NULL","NULL"]
[1072905,"rule",643,2,0,"rule",0.471,"ru:l","ruːl"]
[1250217,"Force",643,0,4,"force",0.379,"NULL","NULL"]
[1073915,"sad",644,2,0,"sad",0.25,"sæd","sæd"]
[872626,"enjoy",645,2,0,"en·joy",0.757,"ɪnˈdʒɔɪ","ɛnˈdʒɔɪ"]
[1123899,"team",646,2,0,"team",0.464,"ti:m","tim"]
[1258420,"Hurt",646,0,4,"hurt",0.279,"NULL","NULL"]
[1039494,"prefer",647,2,0,"pre·fer",0.436,"prɪˈfɜ:(r)","prɪˈfɚ"]
[978980,"meal",648,2,0,"meal",0.393,"mi:l","mil"]
[1250005,"Floor",648,0,4,"floor",0.264,"NULL","NULL"]
[918132,"hardly",649,2,0,"hard·ly",0.414,"ˈhɑ:dli","ˈhɑrdli"]
[1285459,"Speed",649,0,4,"speed",0.321,"NULL","NULL"]
[920711,"heavy",650,2,0,"hea·vy",0.293,"ˈhevi","ˈhɛvi"]
[1294610,"Works",650,0,4,"works","NULL","NULL","NULL"]
[1123849,"teaching",651,2,0,"tea·ching",0.557,"ˈti:tʃɪŋ","ˈtitʃɪŋ"]
[1124758,"telephone",652,2,0,"tele·phone",0.2,"ˈtelɪfəʊn","ˈtelɪfoʊn"]
[946734,"introduce",653,2,0,"in·tro·duce",0.507,"ˌɪntrəˈdju:s","ˌɪntrəˈdu:s"]
[871311,"encourage",654,2,0,"en·cou·rage",0.014,"ɪnˈkʌrɪdʒ","ɪnˈkɜrɪdʒ"]
[1068521,"ring",655,2,0,"ring",0.15,"rɪŋ","rɪŋ"]
[1223544,"Bill",655,0,2,"bill",0.264,"NULL","NULL"]
[1234799,"Bill",655,0,4,"bill",0.264,"NULL","NULL"]
[895627,"force",656,2,0,"force",0.379,"fɔ:s","fɔrs"]
[1090556,"simple",657,2,0,"sim·ple",0.507,"ˈsɪmpl","ˈsɪmpəl"]
[1249021,"Fear",657,0,4,"fear",0.336,"NULL","NULL"]
[935231,"importance",658,2,0,"im·por·tance",0.35,"ɪmˈpɔ:tns","ɪmˈpɔrtns"]
[739438,"Sunday",659,2,0,"sun·day",0.364,"ˈsʌndeɪ","ˈsʌnˌdeɪ"]
[929125,"hurt",660,2,0,"hurt",0.279,"hɜ:t","hɜrt"]
[1252032,"General",660,0,4,"gene·ral",0.357,"NULL","NULL"]
[1000304,"none",661,2,0,"none",0.25,"nʌn","nʌn"]
[892801,"floor",662,2,0,"floor",0.264,"flɔ:(r)","flɔr, flor"]
[1100218,"speed",663,2,0,"speed",0.321,"spi:d","spid"]
[814752,"classroom",664,2,0,"class·room",0.414,"ˈklɑ:sru:m","ˈklæsrum"]
[1254213,"Ground",664,0,4,"ground",0.264,"NULL","NULL"]
[1306455,"works",665,2,0,"works",0.493,"wə:ks","wəks"]
[1020974,"pen",666,2,0,"pen",0.114,"pen","pɛn"]
[770157,"attend",667,2,0,"at·tend",0.557,"əˈtend","əˈtɛnd"]
[851861,"difficulty",668,2,0,"diffi·culty",0.414,"ˈdɪfɪkəlti","ˈdɪfɪˌkʌlti, -kəl-"]
[880440,"express",669,2,0,"ex·press",0.379,"ɪkˈspres","ɪkˈsprɛs"]
[988607,"mom",670,2,0,"mom",0.271,"mɒm","mɑm"]
[884460,"fear",671,2,0,"fear",0.336,"fɪə(r)","fɪr"]
[927750,"hospital",672,2,0,"hos·pi·tal",0.371,"ˈhɒspɪtl","ˈhɑspɪtl"]
[1287589,"Surprise",672,0,4,"sur·prise",0.629,"NULL","NULL"]
[738004,"Saturday",673,2,0,"satur·day",0.414,"ˈsætədeɪ","ˈsætərdeɪ"]
[1306456,"lots",674,5,0,"lots",0.221,"lɒts","lɒts"]
[904897,"general",675,2,0,"gene·ral",0.357,"ˈdʒenrəl","ˈdʒɛnərəl"]
[837351,"cry",676,2,0,"cry",0.314,"kraɪ","kraɪ"]
[1249778,"Fish",676,0,4,"fish",0.307,"NULL","NULL"]
[913902,"ground",677,2,0,"ground",0.264,"graʊnd","ɡraʊnd"]
[1157374,"view",678,2,0,"view",0.493,"vju:","vju"]
[1286973,"Strange",678,0,4,"strange",0.586,"NULL","NULL"]
[1041277,"prevent",679,2,0,"pre·vent",0.007,"prɪˈvent","prɪˈvɛnt"]
[1064055,"research",680,2,0,"re·search",0.657,"rɪˈsɜ:tʃ","rɪˈsɜrtʃ"]
[844173,"decision",681,2,0,"de·ci·sion",0.443,"dɪˈsɪʒn","dɪˈsɪʒən"]
[815615,"climb",682,2,0,"climb",0.25,"klaɪm","klaɪm"]
[1036488,"position",683,2,0,"po·si·tion",0.371,"pəˈzɪʃn","pəˈzɪʃən"]
[1087210,"ship",684,2,0,"ship",0.15,"ʃɪp","ʃɪp"]
[1253788,"Green",684,0,4,"green",0.386,"NULL","NULL"]
[1299181,"Green",684,0,3,"green",0.386,"NULL","NULL"]
[895262,"football",685,2,0,"foot·ball",0.143,"ˈfʊtbɔ:l","ˈfʊtˌbɔl"]
[1094125,"slowly",686,2,0,"slow·ly",0.314,"ˈsləʊli","ˈsloʊli"]
[1117420,"surprise",687,2,0,"sur·prise",0.629,"səˈpraɪz","sərˈpraɪz"]
[1251507,"Garden",687,0,4,"gar·den",0.336,"NULL","NULL"]
[861162,"dream",688,2,0,"dream",0.579,"dri:m","drim"]
[1165739,"winter",689,2,0,"win·ter",0.2,"ˈwɪntə(r)","ˈwɪntɚ"]
[961200,"leg",690,2,0,"leg",0.171,"leg","lɛɡ"]
[1246421,"Driver",690,0,4,"dri·ver",0.464,"NULL","NULL"]
[1059363,"reduce",691,2,0,"re·duce",0.55,"rɪˈdju:s","rɪˈdus"]
[1244316,"Deep",691,0,4,"deep",0.393,"NULL","NULL"]
[1110447,"strange",692,2,0,"strange",0.586,"streɪndʒ","streɪndʒ"]
[1141559,"trip",693,2,0,"trip",0.671,"trɪp","trɪp"]
[1233078,"Base",693,0,4,"base",0.443,"NULL","NULL"]
[867026,"effort",694,2,0,"ef·fort",0.486,"ˈefət","ˈefərt"]
[995631,"nature",695,2,0,"na·ture",0.436,"ˈneɪtʃə(r)","ˈnetʃɚ"]
[848388,"desk",696,2,0,"desk",0.171,"desk","dɛsk"]
[895964,"foreign",697,2,0,"for·eign",0.143,"ˈfɒrən","ˈfɔrən"]
[1241135,"Clock",697,0,4,"clock",0.264,"NULL","NULL"]
[843479,"death",698,2,0,"death",0.279,"deθ","deθ"]
[1063945,"require",699,2,0,"re·quire",0.55,"rɪˈkwaɪə(r)","rɪˈkwaɪr"]
[1153728,"value",700,2,0,"va·lue",0.436,"ˈvælju:","ˈvælju"]
[1276932,"Rain",700,0,4,"rain",0.229,"NULL","NULL"]
[962439,"level",701,2,0,"le·vel",0.414,"ˈlevl","ˈlɛvəl"]
[1159875,"wake",702,2,0,"wake",0.293,"weɪk","wek"]
[903184,"garden",703,2,0,"gar·den",0.336,"ˈgɑ:dn","ˈgɑrdn"]
[1083307,"sense",704,2,0,"sense",0.586,"sens","sɛns"]
[1249750,"Fire",704,0,4,"fire",0.264,"NULL","NULL"]
[751558,"advice",705,2,0,"ad·vice",0.421,"ədˈvaɪs","ədˈvaɪs"]
[1240576,"Choice",705,0,4,"choice",0.464,"NULL","NULL"]
[861825,"driver",706,2,0,"dri·ver",0.464,"ˈdraɪvə(r)","ˈdraɪvɚ"]
[844821,"deep",707,2,0,"deep",0.393,"di:p","dip"]
[1090481,"similar",708,2,0,"simi·lar",0.364,"ˈsɪmələ(r)","ˈsɪməlɚ"]
[1248025,"Enter",708,0,4,"en·ter",0.457,"NULL","NULL"]
[777805,"base",709,2,0,"base",0.443,"beɪs","bes"]
[1044861,"promise",710,2,0,"pro·mise",0.45,"ˈprɒmɪs","ˈprɑmɪs"]
[999293,"nobody",711,2,0,"no·body",0.179,"ˈnəʊbədi","ˈnoʊbədi"]
[996600,"neither",712,2,0,"nei·ther",0.293,"ˈnaɪðə(r)","ˈniðɚ, ˈnaɪ-"]
[815894,"clock",713,2,0,"clock",0.264,"klɒk","klɑk"]
[1019465,"patient",714,2,0,"pa·tient",0.079,"ˈpeɪʃnt","ˈpeʃənt"]
[1288124,"Tall",714,0,4,"tall",0.15,"NULL","NULL"]
[1095780,"society",715,2,0,"so·cie·ty",0.329,"səˈsaɪəti","səˈsaɪɪti"]
[1114519,"suffer",716,2,0,"suf·fer",0.4,"ˈsʌfə(r)","ˈsʌfɚ"]
[1254913,"Hair",716,0,4,"hair",0.15,"NULL","NULL"]
[1023368,"personal",717,2,0,"per·son·al",0.407,"ˈpɜ:sənl","ˈpɜrsənl"]
[889107,"fire",718,2,0,"fire",0.264,"ˈfaɪə(r)","faɪr"]
[811603,"choice",719,2,0,"choice",0.464,"tʃɔɪs","tʃɔɪs"]
[1239257,"Card",719,0,4,"card",0.279,"NULL","NULL"]
[1002311,"note",720,2,0,"note",0.429,"nəʊt","noʊt"]
[1152939,"usual",721,2,0,"us·ual",0.171,"ˈju:ʒuəl","ˈjuʒuəl"]
[1249833,"Fix",721,0,4,"fix",0.286,"NULL","NULL"]
[1109370,"stone",722,2,0,"stone",0.271,"stəʊn","stoʊn"]
[1271643,"North",722,0,4,"north",0.193,"NULL","NULL"]
[872915,"enter",723,2,0,"en·ter",0.457,"ˈentə(r)","ˈɛntɚ"]
[1276738,"Race",723,0,4,"race",0.207,"NULL","NULL"]
[796993,"busy",724,2,0,"busy",0.493,"ˈbɪzi","ˈbɪzi"]
[843089,"dead",725,2,0,"dead",0.129,"ded","dɛd"]
[807403,"certainly",726,2,0,"cer·tain·ly",0.236,"ˈsɜ:tnli","ˈsɜrtnli"]
[1125038,"television",727,2,0,"tele·vi·sion",0.293,"ˈtelɪvɪʒn","ˈtɛləˌvɪʒən"]
[1087612,"shoe",728,2,0,"shoe",0.279,"ʃu:","ʃu"]
[854220,"direction",729,2,0,"di·rec·tion",0.364,"dəˈrekʃn","dɪˈrɛkʃən, daɪ-"]
[1152857,"useful",730,2,0,"use·ful",0.007,"ˈju:sfl","ˈjusfəl"]
[916114,"hair",731,2,0,"hair",0.15,"heə(r)","her"]
[1257486,"Holiday",731,0,4,"holi·day",0.5,"NULL","NULL"]
[798554,"cake",732,2,0,"cake",0.193,"keɪk","keɪk"]
[783570,"besides",733,2,0,"be·sides",0.279,"bɪˈsaɪdz","bɪˈsaɪdz"]
[859962,"doubt",734,2,0,"doubt",0.35,"daʊt","daʊt"]
[802159,"card",735,2,0,"card",0.279,"kɑ:d","kɑrd"]
[975177,"manage",736,2,0,"man·age",0.45,"ˈmænɪdʒ","ˈmænɪdʒ"]
[890230,"fix",737,2,0,"fix",0.286,"fɪks","fɪks"]
[1236152,"Born",737,0,4,"born","NULL","NULL","NULL"]
[1001742,"north",738,2,0,"north",0.193,"nɔ:θ","nɔrθ"]
[746621,"accident",739,2,0,"acci·dent",0.286,"ˈæksɪdənt","ˈæksɪdənt, -ˌdɛnt"]
[1225056,"Flower",739,0,2,"flow·er",0.243,"NULL","NULL"]
[1250039,"Flower",739,0,4,"flow·er",0.243,"NULL","NULL"]
[1052776,"race",740,2,0,"race",0.207,"reɪs","res"]
[1232618,"Bank",740,0,4,"bank",0.379,"NULL","NULL"]
[925992,"homework",741,2,0,"home·work",0.236,"ˈhəʊmwɜ:k","ˈhoʊmwɜrk"]
[1095617,"social",742,2,0,"so·cial",0.057,"ˈsəʊʃl","ˈsoʊʃl"]
[1254408,"Guess",742,0,4,"guess",0.236,"NULL","NULL"]
[934180,"imagine",743,2,0,"ima·gine",0.393,"ɪˈmædʒɪn","ɪˈmædʒɪn"]
[947473,"invite",744,2,0,"in·vite",0.464,"ɪnˈvaɪt","ɪnˈvaɪt"]
[1258300,"Huge",744,0,4,"huge",0.364,"NULL","NULL"]
[1151584,"unusual",745,2,0,"un·us·ual",0.271,"ʌnˈju:ʒuəl","ʌnˈjuʒuəl"]
[1287512,"Sunday",745,0,4,"sun·day",0.364,"NULL","NULL"]
[860844,"draw",746,2,0,"draw",0.379,"drɔ:","drɔ"]
[1292648,"Wall",746,0,4,"wall",0.207,"NULL","NULL"]
[1031787,"pleasure",747,2,0,"plea·sure",0.357,"ˈpleʒə(r)","ˈplɛʒɚ"]
[749704,"add",748,2,0,"add",0.386,"æd","æd"]
[1223432,"Beat",748,0,2,"beat",0.221,"NULL","NULL"]
[1233428,"Beat",748,0,4,"beat",0.221,"NULL","NULL"]
[1021031,"pencil",749,2,0,"pen·cil",0.05,"ˈpensl","ˈpɛnsəl"]
[925415,"holiday",750,2,0,"holi·day",0.5,"ˈhɒlədeɪ","ˈhɑlədeɪ"]
[1049339,"purpose",751,2,0,"pur·pose",0.643,"ˈpɜ:pəs","ˈpɜrpəs"]
[1277501,"Red",751,0,4,"red",0.407,"NULL","NULL"]
[1160233,"war",752,2,0,"war",0.271,"wɔ:(r)","wɔr"]
[1280253,"Safe",752,0,4,"safe",0.414,"NULL","NULL"]
[790825,"born",753,2,0,"born",0.314,"bɔ:n","bɔrn"]
[776592,"bank",754,2,0,"bank",0.379,"bæŋk","bæŋk"]
[914781,"guess",755,2,0,"guess",0.236,"ges","ɡɛs"]
[967314,"local",756,2,0,"lo·cal",0.029,"ˈləʊkl","ˈloʊkl"]
[928601,"huge",757,2,0,"huge",0.364,"hju:dʒ","hjudʒ"]
[1265965,"Marry",757,0,4,"ma·rry",0.136,"NULL","NULL"]
[1160014,"wall",758,2,0,"wall",0.207,"wɔ:l","wɔl"]
[971531,"machine",759,2,0,"ma·chine",0.25,"məˈʃi:n","məˈʃin"]
[1169057,"yellow",760,2,0,"yel·low",0.079,"ˈjeləʊ","ˈjeloʊ"]
[781498,"beat",761,2,0,"beat",0.221,"bi:t","bit"]
[978032,"material",762,2,0,"ma·te·rial",0.021,"məˈtɪəriəl","məˈtɪriəl"]
[839632,"customer",763,2,0,"cus·to·mer",0.429,"ˈkʌstəmə(r)","ˈkʌstəmɚ"]
[1229521,"Worth",763,0,2,"worth",0.3,"NULL","NULL"]
[1294636,"Worth",763,0,4,"worth",0.3,"NULL","NULL"]
[1074021,"safe",764,2,0,"safe",0.414,"seɪf","sef"]
[1268346,"Method",764,0,4,"me·thod",0.3,"NULL","NULL"]
[872058,"energy",765,2,0,"ener·gy",0.314,"ˈenədʒi","ˈenərdʒi"]
[1151985,"upon",766,2,0,"up·on",0.293,"əˈpɒn","əˈpɑn"]
[1243378,"Daily",766,0,4,"dai·ly",0.407,"NULL","NULL"]
[784909,"bill",767,2,0,"bill",0.264,"bɪl","bɪl"]
[835203,"create",768,2,0,"cre·ate",0.629,"kriˈeɪt","kriˈet"]
[1124254,"technology",769,2,0,"tech·nolo·gy",0.057,"tekˈnɒlədʒi","tekˈnɑlədʒi"]
[995970,"necessary",770,2,0,"nece·ssary",0.393,"ˈnesəsəri","ˈnesəseri"]
[977103,"marry",771,2,0,"ma·rry",0.136,"ˈmæri","ˈmæri"]
[1166527,"within",772,2,0,"with·in",0.486,"wɪˈðɪn","wɪðˈɪn, wɪθ-"]
[1251180,"Gain",772,0,4,"gain",0.371,"NULL","NULL"]
[1126793,"terrible",773,2,0,"terri·ble",0.3,"ˈterəbl","ˈterəbl"]
[1282471,"Seat",773,0,4,"seat",0.25,"NULL","NULL"]
[856615,"distance",774,2,0,"dis·tance",0.221,"ˈdɪstəns","ˈdɪstəns"]
[972190,"magazine",775,2,0,"maga·zine",0.293,"ˌmægəˈzi:n","ˈmægəzin"]
[953564,"key",776,2,0,"key",0.429,"ki:","ki"]
[1167873,"worth",777,2,0,"worth",0.3,"wɜ:θ","wɜrθ"]
[910640,"goodbye",778,2,0,"good·bye",0.043,"ˌgʊdˈbaɪ","ˌɡʊdˈbaɪ"]
[1246376,"Dress",778,0,4,"dress",0.229,"NULL","NULL"]
[983242,"method",779,2,0,"me·thod",0.3,"ˈmeθəd","ˈmɛθəd"]
[982214,"message",780,2,0,"mes·sage",0.429,"ˈmesɪdʒ","ˈmɛsɪdʒ"]
[841669,"daily",781,2,0,"dai·ly",0.407,"ˈdeɪli","ˈdeli"]
[997105,"nervous",782,2,0,"nerv·ous",0.036,"ˈnɜ:vəs","ˈnɜrvəs"]
[1089317,"sight",783,2,0,"sight",0.3,"saɪt","saɪt"]
[934369,"immediately",784,2,0,"im·medi·ate·ly",0.293,"ɪˈmiːdiətli","ɪˈmiːdiətli"]
[1132009,"ticket",785,2,0,"tic·ket",0.3,"ˈtɪkɪt","ˈtɪkɪt"]
[1250676,"Friday",785,0,4,"fri·day",0.35,"NULL","NULL"]
[902154,"gain",786,2,0,"gain",0.371,"geɪn","ɡen"]
[1080130,"seat",787,2,0,"seat",0.25,"si:t","sit"]
[951733,"journey",788,2,0,"jour·ney",0.357,"ˈdʒɜ:ni","ˈdʒɜrni"]
[1243506,"Danger",788,0,4,"dan·ger",0.314,"NULL","NULL"]
[959605,"law",789,2,0,"law",0.229,"lɔ:","lɔ"]
[861235,"dress",790,2,0,"dress",0.229,"dres","drɛs"]
[1134778,"tomorrow",791,2,0,"to·mo·rrow",0.2,"təˈmɒrəʊ","təˈmɑroʊ"]
[751425,"advantage",792,2,0,"ad·van·tage",0.307,"ədˈvɑ:ntɪdʒ","ədˈvæntɪdʒ"]
[1258682,"Ill",792,0,4,"ill",0.557,"NULL","NULL"]
[1052279,"quiet",793,2,0,"qui·et",0.036,"ˈkwaɪət","ˈkwaɪɪt"]
[758708,"amount",794,2,0,"a·mount",0.421,"əˈmaʊnt","əˈmaʊnt"]
[1102963,"spread",795,2,0,"spread",0.293,"spred","sprɛd"]
[1294164,"Wild",795,0,4,"wild",0.307,"NULL","NULL"]
[782225,"beginning",796,2,0,"be·gin·ning",0.371,"bɪˈgɪnɪŋ","bɪˈɡɪnɪŋ"]
[1265837,"Market",796,0,4,"mar·ket",0.371,"NULL","NULL"]
[723547,"Friday",797,2,0,"fri·day",0.35,"ˈfraɪdeɪ","ˈfraɪˌdeɪ"]
[1065019,"respect",798,2,0,"re·spect",0.407,"rɪˈspekt","rɪˈspɛkt"]
[1069938,"role",799,2,0,"role",0.343,"rəʊl","roʊl"]
[842094,"danger",800,2,0,"dan·ger",0.314,"ˈdeɪndʒə(r)","ˈdendʒɚ"]
[1234475,"Better",800,0,4,"bet·ter","NULL","NULL","NULL"]
[815446,"clever",801,2,0,"cle·ver",0.007,"ˈklevə(r)","ˈklɛvɚ"]
[1243606,"Dark",801,0,4,"dark",0.264,"NULL","NULL"]
[838276,"culture",802,2,0,"cul·ture",0.393,"ˈkʌltʃə(r)","ˈkʌltʃɚ"]
[1049416,"push",803,2,0,"push",0.35,"pʊʃ","pʊʃ"]
[765739,"arm",804,2,0,"arm",0.257,"ɑ:m","ɑrm"]
[951960,"jump",805,2,0,"jump",0.343,"dʒʌmp","dʒʌmp"]
[807944,"chair",806,2,0,"chair",0.171,"tʃeə(r)","tʃer"]
[933683,"ill",807,2,0,"ill",0.557,"ɪl","ɪl"]
[1248812,"Farm",807,0,4,"farm",0.293,"NULL","NULL"]
[1144615,"twelve",808,2,0,"twelve",0.107,"twelv","twɛlv"]
[1282455,"Search",808,0,4,"search",0.45,"NULL","NULL"]
[1022469,"period",809,2,0,"pe·riod",0.321,"ˈpɪəriəd","ˈpɪriəd"]
[1228786,"Sky",809,0,2,"sky",0.207,"NULL","NULL"]
[1284516,"Sky",809,0,4,"sky",0.207,"NULL","NULL"]
[920064,"healthy",810,2,0,"heal·thy",0.007,"ˈhelθi","ˈhɛlθi"]
[1164932,"wild",811,2,0,"wild",0.307,"waɪld","waɪld"]
[976809,"market",812,2,0,"mar·ket",0.371,"ˈmɑ:kɪt","ˈmɑrkɪt"]
[822972,"compare",813,2,0,"com·pare",0.35,"kəmˈpeə(r)","kəmˈper"]
[1091848,"situation",814,2,0,"situ·ation",0.443,"ˌsɪtʃuˈeɪʃn","ˌsɪtʃuˈeʃən"]
[809365,"cheap",815,2,0,"cheap",0.271,"tʃi:p","tʃip"]
[1250238,"Forest",815,0,4,"for·est",0.229,"NULL","NULL"]
[877857,"everybody",816,2,0,"every·body",0.171,"ˈevribɒdi","ˈevribɑdi"]
[1294394,"Wind",816,0,4,"wind",0.329,"NULL","NULL"]
[783811,"better",817,2,0,"bet·ter",0.343,"ˈbetə(r)","ˈbetər"]
[842197,"dark",818,2,0,"dark",0.264,"dɑ:k","dɑrk"]
[1292903,"Wash",818,0,4,"wash",0.164,"NULL","NULL"]
[984832,"mile",819,2,0,"mile",0.3,"maɪl","maɪl"]
[1013955,"owner",820,2,0,"own·er",0.307,"ˈəʊnə(r)","ˈoʊnə(r)"]
[1091921,"size",821,2,0,"size",0.357,"saɪz","saɪz"]
[1293360,"Welcome",821,0,4,"wel·come",0.307,"NULL","NULL"]
[1133419,"tired",822,2,0,"tired",0.014,"ˈtaɪəd","ˈtaɪərd"]
[1252688,"Glad",822,0,4,"glad",0.143,"NULL","NULL"]
[815318,"clearly",823,2,0,"clear·ly",0.3,"ˈklɪəli","ˈklɪrli"]
[1015056,"page",824,2,0,"page",0.164,"peɪdʒ","pedʒ"]
[1303518,"Progress",824,0,3,"prog·ress",0.25,"NULL","NULL"]
[883684,"farm",825,2,0,"farm",0.293,"fɑ:m","fɑrm"]
[1274232,"Perfect",825,0,4,"per·fect",0.243,"NULL","NULL"]
[1079975,"search",826,2,0,"search",0.45,"sɜ:tʃ","sɜrtʃ"]
[1262316,"Lady",826,0,4,"lady",0.15,"NULL","NULL"]
[1060675,"refuse",827,2,0,"re·fuse",0.35,"rɪˈfju:z","rɪˈfjuz"]
[959694,"lay",828,2,0,"lay",0.479,"leɪ","leɪ"]
[753577,"ahead",829,2,0,"a·head",0.307,"əˈhed","əˈhɛd"]
[841810,"damage",830,2,0,"dam·age",0.343,"ˈdæmɪdʒ","ˈdæmɪdʒ"]
[1242752,"Cross",830,0,4,"cross",0.279,"NULL","NULL"]
[896220,"forest",831,2,0,"for·est",0.229,"ˈfɒrɪst","ˈfɔrɪst"]
[1165179,"wind",832,2,0,"wind",0.329,"wɪnd, waɪnd","wɪnd, waɪnd"]
[1283122,"Shall",832,0,4,"shall",0.157,"NULL","NULL"]
[821673,"comfortable",833,2,0,"com·fort·able",0.343,"ˈkʌmftəbl","ˈkʌmfətəbəl, ˈkʌmftəbəl"]
[1258415,"Hurry",833,0,4,"hur·ry",0.25,"NULL","NULL"]
[1160537,"wash",834,2,0,"wash",0.164,"wɒʃ","wɑʃ"]
[1065221,"restaurant",835,2,0,"res·tau·rant",0.529,"ˈrestrɒnt","ˈrestrɑ:nt"]
[1298494,"Europe",835,0,3,"eu·rope",0.3,"NULL","NULL"]
[792135,"brain",836,2,0,"brain",0.321,"breɪn","bren"]
[1164715,"whose",837,2,0,"whose",0.379,"hu:z","huz"]
[1162949,"welcome",838,2,0,"wel·come",0.307,"ˈwelkəm","ˈwɛlkəm"]
[908042,"glad",839,2,0,"glad",0.143,"glæd","ɡlæd"]
[1162664,"weekend",840,2,0,"week·end",0.421,"ˌwi:kˈend","ˈwikend"]
[979420,"meat",841,2,0,"meat",0.1,"mi:t","mit"]
[1022033,"perfect",842,2,0,"per·fect",0.243,"ˈpɜ:fɪkt","ˈpɜrfɪkt"]
[956923,"lady",843,2,0,"lady",0.15,"ˈleɪdi","ˈledi"]
[1250616,"French",843,0,4,"fren·ch",0.15,"NULL","NULL"]
[744975,"ability",844,2,0,"abi·lity",0.471,"əˈbɪləti","əˈbɪləti"]
[1276002,"President",844,0,4,"presi·dent",0.2,"NULL","NULL"]
[816692,"club",845,2,0,"club",0.236,"klʌb","klʌb"]
[1271380,"Nine",845,0,4,"nine",0.179,"NULL","NULL"]
[1126332,"term",846,2,0,"term",0.479,"tɜ:m","tɜrm"]
[836196,"cross",847,2,0,"cross",0.279,"krɒs","krɔs"]
[999465,"noise",848,2,0,"noise",0.214,"nɔɪz","nɔɪz"]
[1253556,"Grade",848,0,4,"grade",0.286,"NULL","NULL"]
[1086003,"shall",849,2,0,"shall",0.157,"ʃəl","ʃæl"]
[1284222,"Single",849,0,4,"sin·gle",0.279,"NULL","NULL"]
[864644,"ear",850,2,0,"ear",0.157,"ɪə(r)","ɪr"]
[929112,"hurry",851,2,0,"hur·ry",0.25,"ˈhʌri","ˈhɜri"]
[937887,"increase",852,2,0,"in·crease",0.607,"ɪnˈkri:s","ɪnˈkri:s"]
[962913,"library",853,2,0,"li·bra·ry",0.436,"ˈlaɪbrəri","ˈlaɪbreri"]
[1233879,"Below",853,0,4,"be·low",0.3,"NULL","NULL"]
[884033,"fat",854,2,0,"fat",0.007,"fæt","fæt"]
[1158266,"visitor",855,2,0,"visit·or",0.336,"ˈvɪzɪtə(r)","ˈvɪzɪtɚ"]
[793107,"breakfast",856,2,0,"break·fast",0.143,"ˈbrekfəst","ˈbrekfəst"]
[1005359,"official",857,2,0,"offi·cial",0.229,"əˈfɪʃl","əˈfɪʃəl"]
[825756,"condition",858,2,0,"con·di·tion",0.357,"kənˈdɪʃn","kənˈdɪʃən"]
[1280943,"Saturday",858,0,4,"satur·day",0.414,"NULL","NULL"]
[915809,"habit",859,2,0,"ha·bit",0.421,"ˈhæbɪt","ˈhæbɪt"]
[1009650,"ordinary",860,2,0,"ordi·nary",0.157,"ˈɔ:dnri","ˈɔrdneri"]
[763965,"apple",861,2,0,"ap·ple",0.071,"ˈæpl","ˈæpəl"]
[1292854,"Warn",861,0,4,"warn",0.3,"NULL","NULL"]
[935263,"impossible",862,2,0,"im·pos·sible",0.186,"ɪmˈpɒsəbl","ɪmˈpɑsəbl"]
[1117424,"surprised",863,2,0,"sur·prised",0.286,"səˈpraɪzd","sərˈpraɪzd"]
[1053664,"radio",864,2,0,"ra·dio",0.286,"ˈreɪdiəʊ","ˈreɪdioʊ"]
[1276617,"Quick",864,0,4,"quick",0.243,"NULL","NULL"]
[723488,"French",865,2,0,"fren·ch",0.15,"frentʃ","frɛntʃ"]
[1262452,"Lake",865,0,4,"lake",0.221,"NULL","NULL"]
[1040549,"president",866,2,0,"presi·dent",0.007,"ˈprezɪdənt","ˈprɛzɪdənt, -ˌdɛnt"]
[867054,"egg",867,2,0,"egg",0.129,"eg","ɛɡ"]
[1273106,"Pain",867,0,4,"pain",0.307,"NULL","NULL"]
[878824,"excuse",868,2,0,"ex·cuse",0.214,"ɪkˈskju:s","ɪkˈskjuz"]
[1279953,"Rush",868,0,4,"rush",0.35,"NULL","NULL"]
[1043610,"product",869,2,0,"pro·duct",0.4,"ˈprɒdʌkt","ˈprɑdʌkt"]
[927575,"horse",870,2,0,"horse",0.1,"hɔ:s","hɔrs"]
[1284800,"Smoke",870,0,4,"smoke",0.25,"NULL","NULL"]
[770182,"attention",871,2,0,"at·ten·tion",0.5,"əˈtenʃn","əˈtɛnʃən"]
[911191,"grade",872,2,0,"grade",0.286,"greɪd","ɡred"]
[1090971,"single",873,2,0,"sin·gle",0.279,"ˈsɪŋgl","ˈsɪŋɡəl"]
[978883,"maybe",874,2,0,"may·be",0.257,"ˈmeɪbi","ˈmebi"]
[897081,"forward",875,2,0,"for·ward",0.357,"ˈfɔ:wəd","ˈfɔrwərd"]
[966182,"list",876,2,0,"list",0.279,"lɪst","lɪst"]
[1302570,"Normal",876,0,3,"nor·mal",0.25,"NULL","NULL"]
[782601,"below",877,2,0,"be·low",0.3,"bɪˈləʊ","bɪˈloʊ"]
[911004,"government",878,2,0,"gov·ern·ment",0.414,"ˈgʌvənmənt","ˈgʌvərnmənt"]
[920238,"heat",879,2,0,"heat",0.179,"hi:t","hit"]
[1287824,"Swim",879,0,4,"swim",0.25,"NULL","NULL"]
[833816,"couple",880,2,0,"cou·ple",0.3,"ˈkʌpl","ˈkʌpəl"]
[766632,"article",881,2,0,"arti·cle",0.243,"ˈɑ:tɪkl","ˈɑrtɪkl"]
[1284216,"Sing",881,0,4,"sing",0.2,"NULL","NULL"]
[855385,"disease",882,2,0,"dis·ease",0.293,"dɪˈzi:z","dɪˈziz"]
[995900,"nearby",883,2,0,"near·by",0.186,"ˌnɪəˈbaɪ","ˌnɪrˈbaɪ"]
[1237568,"Brown",883,0,4,"brown",0.186,"NULL","NULL"]
[922589,"herself",884,2,0,"her·self",0.3,"hɜ:ˈself","hɜrˈself"]
[1160424,"warn",885,2,0,"warn",0.3,"wɔ:n","wɔrn"]
[1063244,"repair",886,2,0,"re·pair",0.4,"rɪˈpeə(r)","rɪˈper"]
[1228842,"Star",886,0,2,"star",0.271,"NULL","NULL"]
[1286084,"Star",886,0,4,"star",0.271,"NULL","NULL"]
[748814,"action",887,2,0,"ac·tion",0.286,"ˈækʃn","ˈækʃən"]
[1052126,"quick",888,2,0,"quick",0.243,"kwɪk","kwɪk"]
[957131,"lake",889,2,0,"lake",0.221,"leɪk","lek"]
[977905,"match",890,2,0,"match",0.257,"mætʃ","mætʃ"]
[1015149,"pain",891,2,0,"pain",0.307,"peɪn","pen"]
[1241319,"Coffee",891,0,4,"cof·fee",0.221,"NULL","NULL"]
[1073519,"rush",892,2,0,"rush",0.35,"rʌʃ","rʌʃ"]
[921549,"helpful",893,2,0,"help·ful",0.007,"ˈhelpfl","ˈhɛlpfəl"]
[1094626,"smoke",894,2,0,"smoke",0.25,"sməʊk","smoʊk"]
[808866,"charge",895,2,0,"charge",0.3,"tʃɑ:dʒ","tʃɑrdʒ"]
[1280382,"Sale",895,0,4,"sale",0.321,"NULL","NULL"]
[1304108,"Sale",895,0,3,"sale",0.321,"NULL","NULL"]
[1135123,"tooth",896,2,0,"tooth",0.071,"tu:θ","tuθ"]
[980188,"medicine",897,2,0,"medi·cine",0.229,"ˈmedsn","ˈmɛdɪsɪn"]
[760457,"angry",898,2,0,"an·gry",0.043,"ˈæŋgri","ˈæŋɡri"]
[1264444,"Lucky",898,0,4,"luck·y",0.193,"NULL","NULL"]
[973251,"mail",899,2,0,"mail",0.207,"meɪl","mel"]
[1001298,"normal",900,2,0,"nor·mal",0.25,"ˈnɔ:ml","ˈnɔrml"]
[953972,"kid",901,2,0,"kid",0.443,"kɪd","kɪd"]
[1061153,"regular",902,2,0,"regu·lar",0.314,"ˈregjələ(r)","ˈrɛɡjəlɚ"]
[786288,"birthday",903,2,0,"birth·day",0.271,"ˈbɜ:θdeɪ","ˈbɜrθdeɪ"]
[1268138,"Memory",903,0,4,"memo·ry",0.393,"NULL","NULL"]
[1118399,"swim",904,2,0,"swim",0.25,"swɪm","swɪm"]
[1238307,"Burn",904,0,4,"burn",0.207,"NULL","NULL"]
[838483,"cup",905,2,0,"cup",0.193,"kʌp","kʌp"]
[1090934,"sing",906,2,0,"sing",0.2,"sɪŋ","sɪŋ"]
[1241802,"Cool",906,0,4,"cool",0.207,"NULL","NULL"]
[1164761,"wide",907,2,0,"wide",0.343,"waɪd","waɪd"]
[794680,"brown",908,2,0,"brown",0.186,"braʊn","braʊn"]
[1097534,"song",909,2,0,"song",0.2,"sɒŋ","sɔŋ"]
[1285712,"Spring",909,0,4,"spring",0.214,"NULL","NULL"]
[914829,"guide",910,2,0,"guide",0.493,"gaɪd","ɡaɪd"]
[890121,"fit",911,2,0,"fit",0.357,"fɪt","fɪt"]
[1282988,"Settle",911,0,4,"set·tle",0.279,"NULL","NULL"]
[1105448,"star",912,2,0,"star",0.271,"stɑ:(r)","stɑr"]
[1283623,"Shoe",912,0,4,"shoe",0.279,"NULL","NULL"]
[855179,"discover",913,2,0,"dis·cover",0.536,"dɪˈskʌvə(r)","dɪˈskʌvɚ"]
[1304700,"Sort",913,0,3,"sort",0.3,"NULL","NULL"]
[1083614,"separate",914,2,0,"sepa·rate",0.214,"ˈseprət","ˈseprət"]
[823699,"completely",915,2,0,"com·plete·ly",0.293,"kəmˈpli:tli","kəmˈpliːtli"]
[951587,"joke",916,2,0,"joke",0.143,"dʒəʊk","dʒoʊk"]
[1238740,"Cake",916,0,4,"cake",0.193,"NULL","NULL"]
[818473,"coffee",917,2,0,"cof·fee",0.221,"ˈkɒfi","ˈkɔfi"]
[802502,"careful",918,2,0,"care·ful",0.271,"ˈkeəfl","ˈkerfl"]
[918618,"hate",919,2,0,"hate",0.229,"heɪt","het"]
[1074529,"sale",920,2,0,"sale",0.321,"seɪl","sel"]
[1097208,"solve",921,2,0,"solve",0.257,"sɒlv","sɑlv"]
[970473,"lucky",922,2,0,"luck·y",0.107,"ˈlʌki","ˈlʌki"]
[1253697,"Grass",922,0,4,"grass",0.114,"NULL","NULL"]
[848592,"destroy",923,2,0,"de·stroy",0.236,"dɪˈstrɔɪ","dɪˈstrɔɪ"]
[1044528,"project",924,2,0,"pro·ject",0.436,"ˈprɒdʒekt","ˈprɒdʒekt"]
[854605,"disappear",925,2,0,"dis·appear",0.036,"ˌdɪsəˈpɪə(r)","ˌdɪsəˈpɪr"]
[1273607,"Passage",925,0,4,"pas·sage",0.607,"NULL","NULL"]
[1160701,"waste",926,2,0,"waste",0.336,"weɪst","weɪst"]
[873514,"environment",927,2,0,"envi·ron·ment",0.436,"ɪnˈvaɪrənmənt","ɛnˈvaɪrənmənt"]
[981104,"memory",928,2,0,"memo·ry",0.393,"ˈmeməri","ˈmɛməri"]
[1239991,"Center",928,0,4,"cen·ter",0.35,"NULL","NULL"]
[796364,"burn",929,2,0,"burn",0.207,"bɜ:n","bɜrn"]
[830518,"cool",930,2,0,"cool",0.207,"ku:l","kul"]
[1243483,"Dance",930,0,4,"dance",0.243,"NULL","NULL"]
[1106851,"steal",931,2,0,"steal",0.114,"sti:l","stil"]
[1103076,"spring",932,2,0,"spring",0.214,"sprɪŋ","sprɪŋ"]
[1250845,"Fruit",932,0,4,"fruit",0.157,"NULL","NULL"]
[1069488,"rock",933,2,0,"rock",0.229,"rɒk","rɑk"]
[1085326,"settle",934,2,0,"set·tle",0.279,"ˈsetl","ˈsɛtl"]
[1031891,"plenty",935,2,0,"plen·ty",0.121,"ˈplenti","ˈplɛnti"]
[1097849,"sort",936,2,0,"sort",0.3,"sɔ:t","sɔrt"]
[749309,"actually",937,2,0,"ac·tual·ly",0.479,"ˈæktʃuəli","ˈæktʃuəli"]
[770287,"attract",938,2,0,"at·tract",0.471,"əˈtrækt","əˈtrækt"]
[802504,"carefully",939,2,0,"care·ful·ly",0.271,"ˈkeəfəlɪ","ˈkɛrfəlɪ"]
[1275222,"Plane",939,0,4,"plane",0.15,"NULL","NULL"]
[823552,"complete",940,2,0,"com·plete",0.007,"kəmˈpli:t","kəmˈplit"]
[877735,"event",941,2,0,"e·vent",0.414,"ɪˈvent","ɪˈvɛnt"]
[887194,"figure",942,2,0,"fi·gure",0.336,"ˈfɪgə(r)","ˈfɪgjər"]
[1276233,"Proud",942,0,4,"proud",0.321,"NULL","NULL"]
[912258,"grass",943,2,0,"grass",0.114,"grɑ:s","græs"]
[1275270,"Player",943,0,4,"play·er",0.236,"NULL","NULL"]
[731875,"Monday",944,2,0,"mon·day",0.236,"ˈmʌndeɪ","ˈmʌndeɪ"]
[1243659,"Date",944,0,4,"date",0.307,"NULL","NULL"]
[749156,"activity",945,2,0,"ac·tivi·ty",0.5,"ækˈtɪvəti","ækˈtɪvɪti"]
[1018813,"passage",946,2,0,"pas·sage",0.607,"ˈpæsɪdʒ","ˈpæsɪdʒ"]
[1252477,"Gift",946,0,4,"gift",0.457,"NULL","NULL"]
[1114483,"suddenly",947,2,0,"sud·den·ly",0.393,"ˈsʌdənli","ˈsʌdnlɪ"]
[1123350,"task",948,2,0,"task",0.407,"tɑ:sk","tæsk"]
[1258947,"Island",948,0,4,"is·land",0.179,"NULL","NULL"]
[1174509,"center",949,5,0,"cen·ter",0.35,"ˈsentə","ˈsɛntɚ"]
[984975,"milk",950,2,0,"milk",0.157,"mɪlk","mɪlk"]
[855369,"discuss",951,2,0,"dis·cuss",0.414,"dɪˈskʌs","dɪˈskʌs"]
[1293580,"West",951,0,4,"west",0.186,"NULL","NULL"]
[842030,"dance",952,2,0,"dance",0.243,"dɑ:ns","dæns"]
[804290,"cat",953,2,0,"cat",0.129,"kæt","kæt"]
[1244363,"Degree",953,0,4,"de·gree",0.214,"NULL","NULL"]
[900024,"fruit",954,2,0,"fruit",0.157,"fru:t","frut"]
[1043131,"probably",955,2,0,"pro·ba·bly",0.879,"ˈprɒbəbli","ˈprɑbəbli"]
[1255202,"Hang",955,0,4,"hang",0.193,"NULL","NULL"]
[1043003,"prize",956,2,0,"prize",0.179,"praɪz","praɪz"]
[1137580,"traffic",957,2,0,"traf·fic",0.243,"ˈtræfɪk","ˈtræfɪk"]
[776339,"banana",958,2,0,"ba·nana",0.021,"bəˈnɑ:nə","bəˈnænə"]
[722406,"Europe",959,2,0,"eu·rope",0.3,"ˈjʊərəp","ˈjʊrəp"]
[1272241,"Ok",959,0,4,"ok",0.143,"NULL","NULL"]
[1133279,"tiny",960,2,0,"tiny",0.15,"ˈtaɪni","ˈtaɪni"]
[789121,"boat",961,2,0,"boat",0.043,"bəʊt","boʊt"]
[959408,"launch",962,2,0,"launch",0.064,"lɔ:ntʃ","lɔntʃ, lɑntʃ"]
[1260491,"Key",962,0,4,"key",0.429,"NULL","NULL"]
[1164672,"whom",963,2,0,"whom",0.293,"hu:m","hum"]
[1030174,"plane",964,2,0,"plane",0.15,"pleɪn","pleɪn"]
[748949,"active",965,2,0,"ac·tive",0.036,"ˈæktɪv","ˈæktɪv"]
[923376,"hide",966,2,0,"hide",0.329,"haɪd","haɪd"]
[1046513,"proud",967,2,0,"proud",0.321,"praʊd","praʊd"]
[1236276,"Boss",967,0,4,"boss",0.243,"NULL","NULL"]
[1031701,"player",968,2,0,"play·er",0.236,"ˈpleɪə(r)","ˈpleɚ"]
[842638,"date",969,2,0,"date",0.307,"deɪt","det"]
[991443,"movie",970,2,0,"mo·vie",0.307,"ˈmu:vi","ˈmuvi"]
[907251,"gift",971,2,0,"gift",0.457,"gɪft","ɡɪft"]
[832131,"correct",972,2,0,"cor·rect",0.071,"kəˈrekt","kəˈrɛkt"]
[948633,"island",973,2,0,"is·land",0.179,"ˈaɪlənd","ˈaɪlənd"]
[1227860,"Per",973,0,2,"per",0.286,"NULL","NULL"]
[1057721,"recent",974,2,0,"re·cent",0.379,"ˈri:snt","ˈrisənt"]
[1235409,"Blue",974,0,4,"blue",0.271,"NULL","NULL"]
[1163348,"west",975,2,0,"west",0.186,"west","wɛst"]
[753661,"aim",976,2,0,"aim",0.257,"eɪm","em"]
[845668,"degree",977,2,0,"de·gree",0.214,"dɪˈgri:","dɪˈɡri"]
[1300522,"Knock",977,0,3,"knock",0.157,"NULL","NULL"]
[1057121,"realize",978,2,0,"real·ize",0.65,"ˈri:əlaɪz","ˈriəˌlaɪz"]
[1248814,"Farmer",978,0,4,"far·mer",0.271,"NULL","NULL"]
[980118,"medical",979,2,0,"medi·cal",0.007,"ˈmedɪkl","ˈmɛdɪkəl"]
[917450,"hang",980,2,0,"hang",0.193,"hæŋ","hæŋ"]
[1246482,"Dry",980,0,4,"dry",0.179,"NULL","NULL"]
[950024,"itself",981,2,0,"it·self",0.271,"ɪtˈself","ɪtˈsɛlf"]
[911374,"graduate",982,2,0,"gradu·ate",0.264,"ˈgrædʒuət","ˈɡrædʒuˌet"]
[1026780,"physical",983,2,0,"physi·cal",0.307,"ˈfɪzɪkl","ˈfɪzɪkəl"]
[826915,"connect",984,2,0,"con·nect",0.286,"kəˈnekt","kəˈnɛkt"]
[995129,"national",985,2,0,"na·tion·al",0.386,"ˈnæʃnəl","ˈnæʃənəl, ˈnæʃnəl"]
[1114676,"suggestion",986,2,0,"sug·ges·tion",0.343,"səˈdʒestʃən","səɡˈdʒɛstʃən, səˈdʒɛs-"]
[1292553,"Wake",986,0,4,"wake",0.293,"NULL","NULL"]
[1305889,"Wake",986,0,3,"wake",0.293,"NULL","NULL"]
[995343,"natural",987,2,0,"natu·ral",0.393,"ˈnætʃrəl","ˈnætʃrəl"]
[985502,"mine",988,2,0,"mine",0.164,"maɪn","maɪn"]
[1241086,"Clever",988,0,4,"cle·ver",0.157,"NULL","NULL"]
[1080732,"secret",989,2,0,"se·cret",0.079,"ˈsi:krət","ˈsi:krət"]
[887101,"fifty",990,2,0,"fif·ty",0.086,"ˈfɪfti","ˈfɪfti"]
[790977,"boss",991,2,0,"boss",0.243,"bɒs","bɔs"]
[790914,"borrow",992,2,0,"bor·row",0.207,"ˈbɒrəʊ","ˈbɑroʊ"]
[745393,"abroad",993,2,0,"a·broad",0.143,"əˈbrɔ:d","əˈbrɔd"]
[752612,"afford",994,2,0,"af·ford",0.007,"əˈfɔ:d","əˈfɔrd"]
[878073,"exactly",995,2,0,"exact·ly",0.25,"ɪgˈzæktli","ɪɡˈzæktli"]
[792821,"bread",996,2,0,"bread",0.129,"bred","brɛd"]
[1033047,"pocket",997,2,0,"poc·ket",0.136,"ˈpɒkɪt","ˈpɑkɪt"]
[955178,"knock",998,2,0,"knock",0.157,"nɒk","nɑk"]
[883739,"farmer",999,2,0,"far·mer",0.271,"ˈfɑ:mə(r)","ˈfɑrmə(r)"]
[882403,"factory",1000,2,0,"fac·tory",0.171,"ˈfæktri","ˈfæktəri"]
[1246961,"Duty",1000,0,4,"du·ty",0.214,"NULL","NULL"]
[862478,"dry",1001,2,0,"dry",0.179,"draɪ","draɪ"]
[963301,"lift",1002,2,0,"lift",0.179,"lɪft","lɪft"]
[1022193,"performance",1003,2,0,"per·form·ance",0.329,"pəˈfɔ:məns","pərˈfɔrməns"]
[1275798,"Post",1003,0,4,"post",0.264,"NULL","NULL"]
[1080056,"season",1004,2,0,"sea·son",0.221,"ˈsi:zn","ˈsizən"]
[954716,"kitchen",1005,2,0,"kitch·en",0.314,"ˈkɪtʃɪn","ˈkɪtʃən"]
[1154626,"variety",1006,2,0,"varie·ty",0.236,"vəˈraɪəti","vəˈraɪəti"]
[1285399,"Spare",1006,0,4,"spare",0.086,"NULL","NULL"]
[1130652,"thirty",1007,2,0,"thir·ty",0.114,"ˈθɜ:ti","ˈθɜrti"]
[1228874,"Stone",1007,0,2,"stone",0.271,"NULL","NULL"]
[1286836,"Stone",1007,0,4,"stone",0.271,"NULL","NULL"]
[1155073,"vegetable",1008,2,0,"vege·table",0.179,"ˈvedʒtəbl","ˈvɛdʒtəbəl, ˈvɛdʒɪtə-"]
[1057728,"recently",1009,2,0,"re·cent·ly",0.35,"ˈri:sntli","ˈrisṇtlɪ"]
[870849,"empty",1010,2,0,"emp·ty",0.271,"ˈempti","ˈɛmpti"]
[1278829,"Rock",1010,0,4,"rock",0.229,"NULL","NULL"]
[1086121,"shape",1011,2,0,"shape",0.343,"ʃeɪp","ʃep"]
[1114152,"succeed",1012,2,0,"suc·ceed",0.2,"səkˈsi:d","səkˈsid"]
[1125410,"temperature",1013,2,0,"tem·pera·ture",0.171,"ˈtemprətʃə(r)","ˈtɛmpərəˌtʃʊr, -tʃɚ, ˈtɛmprə-"]
[863944,"duty",1014,2,0,"du·ty",0.214,"ˈdju:ti","ˈduti"]
[1245887,"Dollar",1014,0,4,"dol·lar",0.264,"NULL","NULL"]
[1298034,"Dollar",1014,0,3,"dol·lar",0.264,"NULL","NULL"]
[960295,"leader",1015,2,0,"lead·er",0.214,"ˈli:də(r)","ˈlidɚ"]
[810442,"chicken",1016,2,0,"chi·cken",0.164,"ˈtʃɪkɪn","ˈtʃɪkən"]
[1036897,"post",1017,2,0,"post",0.264,"pəʊst","poʊst"]
[878128,"examine",1018,2,0,"exa·mine",0.214,"ɪgˈzæmɪn","ɪɡˈzæmɪn"]
[1232461,"Ball",1018,0,4,"ball",0.157,"NULL","NULL"]
[959961,"lazy",1019,2,0,"la·zy",0.014,"ˈleɪzi","ˈlezi"]
[1236696,"Brain",1019,0,4,"brain",0.321,"NULL","NULL"]
[877875,"everywhere",1020,2,0,"every·where",0.164,"ˈevriweə(r)","ˈevriwer"]
[1146712,"uncle",1021,2,0,"un·cle",0.1,"ˈʌŋkl","ˈʌŋkəl"]
[1098964,"spare",1022,2,0,"spare",0.086,"speə(r)","sper"]
[910078,"god",1023,2,0,"god",0.029,"gɒd","gɑd"]
[1144639,"twice",1024,2,0,"twice",0.264,"twaɪs","twaɪs"]
[1001248,"nor",1025,2,0,"nor",0.121,"nɔ:(r)","nɔr"]
[1269050,"Mix",1025,0,4,"mix",0.179,"NULL","NULL"]
[1135457,"topic",1026,2,0,"to·pic",0.271,"ˈtɒpɪk","ˈtɑpɪk"]
[816573,"cloud",1027,2,0,"cloud",0.086,"klaʊd","klaʊd"]
[1258367,"Hunt",1027,0,4,"hunt",0.186,"NULL","NULL"]
[1112372,"stupid",1028,2,0,"stu·pid",0.007,"ˈstju:pɪd","ˈstupɪd"]
[1015165,"paint",1029,2,0,"paint",0.364,"peɪnt","pent"]
[1227031,"March",1029,0,2,"march",0.257,"NULL","NULL"]
[858326,"dollar",1030,2,0,"dol·lar",0.264,"ˈdɒlə(r)","ˈdɑlə(r)"]
[993546,"museum",1031,2,0,"mu·seum",0.336,"mjuˈzi:əm","mjuˈziəm"]
[878647,"exciting",1032,2,0,"ex·cit·ing",0.35,"ɪkˈsaɪtɪŋ","ɪkˈsaɪtɪŋ"]
[939602,"industry",1033,2,0,"in·dus·try",0.286,"ˈɪndəstri","ˈɪndəstri"]
[1237211,"Bright",1033,0,4,"bright",0.236,"NULL","NULL"]
[1296860,"Bright",1033,0,3,"bright",0.236,"NULL","NULL"]
[888105,"final",1034,2,0,"fi·nal",0.2,"ˈfaɪnl","ˈfaɪnəl"]
[1276041,"Pretty",1034,0,4,"pret·ty",0.171,"NULL","NULL"]
[946982,"invent",1035,2,0,"in·vent",0.164,"ɪnˈvent","ɪnˈvɛnt"]
[905374,"generation",1036,2,0,"gene·ra·tion",0.221,"ˌdʒenəˈreɪʃn","ˌdʒɛnəˈreʃən"]
[792749,"brave",1037,2,0,"brave",0.043,"breɪv","brev"]
[1044384,"progress",1038,2,0,"prog·ress",0.25,"ˈprəʊgres","ˈprɑgres"]
[1292224,"Voice",1038,0,4,"voice",0.35,"NULL","NULL"]
[770254,"attitude",1039,2,0,"atti·tude",0.479,"ˈætɪtju:d","ˈætɪtud"]
[987118,"mix",1040,2,0,"mix",0.179,"mɪks","mɪks"]
[885155,"feeling",1041,2,0,"feel·ing",0.286,"ˈfi:lɪŋ","ˈfilɪŋ"]
[740628,"Thursday",1042,2,0,"thurs·day",0.114,"ˈθɜ:zdeɪ","ˈθɜrzdeɪ"]
[929016,"hunt",1043,2,0,"hunt",0.186,"hʌnt","hʌnt"]
[1161687,"wave",1044,2,0,"wave",0.271,"weɪv","wev"]
[976228,"March",1045,2,0,"march",0.257,"mɑ:tʃ","mɑrtʃ"]
[1007440,"onto",1046,2,0,"on·to",0.143,"ˈɒntə","ˈɑnˌtu, -tə, ˈɔn-"]
[1060732,"regard",1047,2,0,"re·gard",0.286,"rɪˈgɑ:d","rɪˈgɑrd"]
[793695,"bright",1048,2,0,"bright",0.021,"braɪt","braɪt"]
[1264426,"Luck",1048,0,4,"luck",0.2,"NULL","NULL"]
[788360,"blood",1049,2,0,"blood",0.25,"blʌd","blʌd"]
[1226431,"King",1049,0,2,"king",0.107,"NULL","NULL"]
[1260689,"King",1049,0,4,"king",0.107,"NULL","NULL"]
[1041233,"pretty",1050,2,0,"pret·ty",0.171,"ˈprɪti","ˈprɪti"]
[883248,"familiar",1051,2,0,"fami·liar",0.264,"fəˈmɪliə(r)","fəˈmɪljɚ"]
[1269120,"Model",1051,0,4,"mo·del",0.25,"NULL","NULL"]
[878216,"excellent",1052,2,0,"ex·cel·lent",0.293,"ˈeksələnt","ˈɛksələnt"]
[918556,"hat",1053,2,0,"hat",0.079,"hæt","hæt"]
[773310,"avoid",1054,2,0,"a·void",0.429,"əˈvɔɪd","əˈvɔɪd"]
[1173224,"voice",1055,2,0,"voice",0.35,"vɔɪs","vɔɪs"]
[1285665,"Sport",1055,0,4,"sport",0.436,"NULL","NULL"]
[989958,"moon",1056,2,0,"moon",0.1,"mu:n","mun"]
[1241999,"Corner",1056,0,4,"cor·ner",0.157,"NULL","NULL"]
[1153155,"vacation",1057,2,0,"va·ca·tion",0.214,"vəˈkeɪʃn","veˈkeʃən, və-"]
[1025606,"photo",1058,2,0,"pho·to",0.279,"ˈfəʊtəʊ","ˈfoʊtoʊ"]
[1225505,"Hall",1058,0,2,"hall",0.25,"NULL","NULL"]
[1255000,"Hall",1058,0,4,"hall",0.25,"NULL","NULL"]
[884692,"feed",1059,2,0,"feed",0.286,"fi:d","fid"]
[1231378,"Argue",1059,0,4,"ar·gue",0.336,"NULL","NULL"]
[1116551,"supply",1060,2,0,"sup·ply",0.3,"səˈplaɪ","səˈplaɪ"]
[1288393,"Tea",1060,0,4,"tea",0.2,"NULL","NULL"]
[770100,"attack",1061,2,0,"at·tack",0.264,"əˈtæk","əˈtæk"]
[1254410,"Guest",1061,0,4,"guest",0.257,"NULL","NULL"]
[754847,"airport",1062,2,0,"air·port",0.243,"ˈeəpɔ:t","ˈerpɔrt"]
[831173,"copy",1063,2,0,"co·py",0.179,"ˈkɒpi","ˈkɑpi"]
[1170603,"zoo",1064,2,0,"zoo",0.071,"zu:","zu"]
[1276203,"Proper",1064,0,4,"pro·per",0.236,"NULL","NULL"]
[970466,"luck",1065,2,0,"luck",0.2,"lʌk","lʌk"]
[1123667,"taxi",1066,2,0,"taxi",0.236,"ˈtæksi","ˈtæksi"]
[1270688,"Nation",1066,0,4,"na·tion",0.164,"NULL","NULL"]
[954449,"king",1067,2,0,"king",0.107,"kɪŋ","kɪŋ"]
[1233096,"Basic",1067,0,4,"ba·sic",0.357,"NULL","NULL"]
[1162102,"weak",1068,2,0,"weak",0.157,"wi:k","wik"]
[987681,"model",1069,2,0,"mo·del",0.014,"ˈmɒdl","ˈmɑdl"]
[1067778,"rice",1070,2,0,"rice",0.043,"raɪs","raɪs"]
[1250636,"Fresh",1070,0,4,"fresh",0.293,"NULL","NULL"]
[834368,"cow",1071,2,0,"cow",0.064,"kaʊ","kaʊ"]
[1035849,"population",1072,2,0,"popu·la·tion",0.286,"ˌpɒpjuˈleɪʃn","ˌpɑpjuˈleɪʃn"]
[937539,"include",1073,2,0,"in·clude",0.643,"ɪnˈklu:d","ɪnˈklud"]
[1136479,"tour",1074,2,0,"tour",0.4,"tʊə(r)","tʊr"]
[755880,"alive",1075,2,0,"a·live",0.186,"əˈlaɪv","əˈlaɪv"]
[1102589,"sport",1076,2,0,"sport",0.436,"spɔ:t","spɔrt"]
[831816,"corner",1077,2,0,"cor·ner",0.157,"ˈkɔ:nə(r)","ˈkɔrnə(r)"]
[751576,"advise",1078,2,0,"ad·vise",0.286,"ədˈvaɪz","ædˈvaɪz"]
[1277494,"Record",1078,0,4,"re·cord",0.429,"NULL","NULL"]
[916537,"hall",1079,2,0,"hall",0.25,"hɔ:l","hɔl"]
[765544,"argue",1080,2,0,"ar·gue",0.336,"ˈɑ:gju:","ˈɑrgju"]
[953890,"kick",1081,2,0,"kick",0.121,"kɪk","kɪk"]
[1123739,"tea",1082,2,0,"tea",0.2,"ti:","ti"]
[1245621,"Director",1082,0,4,"di·rec·tor",0.257,"NULL","NULL"]
[914790,"guest",1083,2,0,"guest",0.257,"gest","ɡɛst"]
[1228810,"Song",1083,0,2,"song",0.2,"NULL","NULL"]
[1285140,"Song",1083,0,4,"song",0.2,"NULL","NULL"]
[848369,"desire",1084,2,0,"de·sire",0.343,"dɪˈzaɪə(r)","dɪˈzaɪr"]
[1227680,"Ocean",1084,0,2,"o·cean",0.2,"NULL","NULL"]
[1045264,"proper",1085,2,0,"pro·per",0.236,"ˈprɒpə(r)","ˈprɑpə(r)"]
[1136085,"total",1086,2,0,"to·tal",0.229,"ˈtəʊtl","ˈtoʊtl"]
[995126,"nation",1087,2,0,"na·tion",0.164,"ˈneɪʃn","ˈneʃən"]
[1258609,"Ice",1087,0,4,"ice",0.171,"NULL","NULL"]
[778039,"basic",1088,2,0,"ba·sic",0.357,"ˈbeɪsɪk","ˈbesɪk"]
[783981,"beyond",1089,2,0,"be·yond",0.371,"bɪˈjɒnd","bɪˈjɑnd"]
[1116701,"suppose",1090,2,0,"sup·pose",0.221,"səˈpəʊz","səˈpoʊz"]
[1289498,"Tool",1090,0,4,"tool",0.264,"NULL","NULL"]
[1008051,"operate",1091,2,0,"ope·rate",0.229,"ˈɒpəreɪt","ˈɑpəreɪt"]
[898981,"fresh",1092,2,0,"fresh",0.293,"freʃ","frɛʃ"]
[901399,"funny",1093,2,0,"fun·ny",0.257,"ˈfʌni","ˈfʌni"]
[1249973,"Flight",1093,0,4,"flight",0.221,"NULL","NULL"]
[926630,"honest",1094,2,0,"hon·est",0.15,"ˈɒnɪst","ˈɑnɪst"]
[1057099,"realise",1095,2,0,"rea·lise",0.029,"ˈrɪəlaɪz","ˈrɪrlaɪz"]
[1238936,"Camp",1095,0,4,"camp",0.336,"NULL","NULL"]
[778370,"basketball",1096,2,0,"bas·ket·ball",0.179,"ˈbɑ:skɪtbɔ:l","ˈbæskɪtbɔl"]
[717372,"British",1097,2,0,"brit·ish",0.264,"ˈbrɪtɪʃ","ˈbrɪtɪʃ"]
[1226215,"Judge",1097,0,2,"judge",0.236,"NULL","NULL"]
[951894,"juice",1098,2,0,"juice",0.1,"dʒu:s","dʒus"]
[876170,"especially",1099,2,0,"es·pe·cial·ly",0.464,"ɪˈspeʃəli","ɛˈspɛʃəli, ɪˈspɛʃ-"]
[1275867,"Pound",1099,0,4,"pound",0.129,"NULL","NULL"]
[1058333,"record",1100,2,0,"re·cord",0.429,"ˈrekɔːd","ˈrekərd"]
[1286004,"Standard",1100,0,4,"stand·ard",0.286,"NULL","NULL"]
[929006,"hungry",1101,2,0,"hun·gry",0.15,"ˈhʌŋgri","ˈhʌŋɡri"]
[1123393,"taste",1102,2,0,"taste",0.314,"teɪst","test"]
[854388,"director",1103,2,0,"di·rec·tor",0.257,"dəˈrektə(r)","dɪˈrɛktɚ, daɪ-"]
[1226203,"Joy",1103,0,2,"joy",0.25,"NULL","NULL"]
[1015248,"pair",1104,2,0,"pair",0.129,"peə(r)","per"]
[1004508,"ocean",1105,2,0,"o·cean",0.2,"ˈəʊʃn","ˈoʊʃn"]
[989052,"monkey",1106,2,0,"mon·key",0.064,"ˈmʌŋki","ˈmʌŋki"]
[1273079,"Page",1106,0,4,"page",0.164,"NULL","NULL"]
[960674,"learning",1107,2,0,"learn·ing",0.164,"ˈlɜ:nɪŋ","ˈlɜrnɪŋ"]
[1294499,"Wood",1107,0,4,"wood",0.164,"NULL","NULL"]
[1036891,"possibly",1108,2,0,"possi·bly",0.093,"ˈpɒsəbli","ˈpɑsəbli"]
[1223977,"Christmas",1108,0,2,"christ·mas",0.143,"NULL","NULL"]
[1240659,"Christmas",1108,0,4,"christ·mas",0.143,"NULL","NULL"]
[932672,"ice",1109,2,0,"ice",0.171,"aɪs","aɪs"]
[1293614,"Western",1109,0,4,"west·ern",0.15,"NULL","NULL"]
[1305979,"Western",1109,0,3,"west·ern",0.15,"NULL","NULL"]
[1094514,"smell",1110,2,0,"smell",0.221,"smel","smɛl"]
[1286956,"Straight",1110,0,4,"straight",0.186,"NULL","NULL"]
[1135023,"tool",1111,2,0,"tool",0.264,"tu:l","tul"]
[854496,"dirty",1112,2,0,"dir·ty",0.157,"ˈdɜ:ti","ˈdɜrti"]
[1144628,"twenty",1113,2,0,"twen·ty",0.236,"ˈtwenti","ˈtwɛnti, ˈtwʌn-"]
[1235396,"Blow",1113,0,4,"blow",0.157,"NULL","NULL"]
[954650,"kiss",1114,2,0,"kiss",0.036,"kɪs","kɪs"]
[892191,"flight",1115,2,0,"flight",0.221,"flaɪt","flaɪt"]
[1295777,"America",1115,0,3,"ame·rica",0.307,"NULL","NULL"]
[819691,"collection",1116,2,0,"col·lec·tion",0.207,"kəˈlekʃn","kəˈlɛkʃən"]
[799797,"camp",1117,2,0,"camp",0.336,"kæmp","kæmp"]
[1042524,"print",1118,2,0,"print",0.15,"prɪnt","prɪnt"]
[1266214,"Master",1118,0,4,"mas·ter",0.186,"NULL","NULL"]
[951799,"judge",1119,2,0,"judge",0.236,"dʒʌdʒ","dʒʌdʒ"]
[1118201,"sweet",1120,2,0,"sweet",0.243,"swi:t","swit"]
[875961,"escape",1121,2,0,"es·cape",0.214,"ɪˈskeɪp","ɪˈskeɪp"]
[1037961,"pound",1122,2,0,"pound",0.129,"paʊnd","paʊnd"]
[1104953,"standard",1123,2,0,"stand·ard",0.286,"ˈstændəd","ˈstændərd"]
[817405,"coat",1124,2,0,"coat",0.071,"kəʊt","koʊt"]
[810619,"childhood",1125,2,0,"child·hood",0.293,"ˈtʃaɪldhʊd","ˈtʃaɪldˌhʊd"]
[833245,"count",1126,2,0,"count",0.157,"kaʊnt","kaʊnt"]
[1253072,"Gold",1126,0,4,"gold",0.121,"NULL","NULL"]
[951751,"joy",1127,2,0,"joy",0.25,"dʒɔɪ","dʒɔɪ"]
[1231590,"Artist",1127,0,4,"art·ist",0.229,"NULL","NULL"]
[965684,"lion",1128,2,0,"lion",0.043,"ˈlaɪən","ˈlaɪən"]
[1293205,"Weight",1128,0,4,"weight",0.214,"NULL","NULL"]
[1163384,"wet",1129,2,0,"wet",0.107,"wet","wɛt"]
[1284905,"Snow",1129,0,4,"snow",0.1,"NULL","NULL"]
[1166894,"wood",1130,2,0,"wood",0.164,"wʊd","wʊd"]
[1272159,"Officer",1130,0,4,"offi·cer",0.164,"NULL","NULL"]
[879912,"experiment",1131,2,0,"ex·peri·ment",0.393,"ɪkˈsperɪmənt","ɪkˈspɛrəmənt"]
[719204,"Christmas",1132,2,0,"christ·mas",0.143,"ˈkrɪsməs","ˈkrɪsməs"]
[1163362,"western",1133,2,0,"west·ern",0.15,"ˈwestən","ˈwestərn"]
[1110077,"straight",1134,2,0,"straight",0.186,"streɪt","stret"]
[891332,"flat",1135,2,0,"flat",0.207,"flæt","flæt"]
[1235465,"Boat",1135,0,4,"boat",0.164,"NULL","NULL"]
[869741,"eleven",1136,2,0,"ele·ven",0.071,"ɪˈlevn","ɪˈlɛvən"]
[1137398,"trade",1137,2,0,"trade",0.2,"treɪd","treid"]
[788570,"blow",1138,2,0,"blow",0.157,"bləʊ","bloʊ"]
[1266270,"Math",1138,0,4,"math",0.129,"NULL","NULL"]
[833187,"could",1139,2,0,"could",0.129,"kəd","kʊd"]
[1225665,"Hill",1139,0,2,"hill",0.129,"NULL","NULL"]
[1257065,"Hill",1139,0,4,"hill",0.129,"NULL","NULL"]
[714934,"America",1140,2,0,"ame·rica",0.307,"əˈmerɪkə","əˈmɛrɪkə"]
[1283852,"Sick",1140,0,4,"sick",0.207,"NULL","NULL"]
[781914,"bedroom",1141,2,0,"bed·room",0.157,"ˈbedru:m","ˈbɛdˌrum, -ˌrʊm"]
[1235455,"Board",1141,0,4,"board",0.193,"NULL","NULL"]
[1074096,"safety",1142,2,0,"safe·ty",0.293,"ˈseɪfti","ˈsefti"]
[1087450,"shirt",1143,2,0,"shirt",0.236,"ʃɜ:t","ʃɜrt"]
[903311,"gas",1144,2,0,"gas",0.107,"gæs","ɡæs"]
[1264208,"Loud",1144,0,4,"loud",0.229,"NULL","NULL"]
[977592,"master",1145,2,0,"mas·ter",0.186,"ˈmɑ:stə(r)","ˈmæstə(r)"]
[1143039,"truth",1146,2,0,"truth",0.221,"tru:θ","truθ"]
[879899,"experience",1147,2,0,"ex·peri·ence",0.871,"ɪkˈspɪəriəns","ɪkˈspɪriəns"]
[1052310,"quietly",1148,2,0,"quiet·ly",0.107,"ˈkwaɪətlɪ","ˈkwaɪətlɪ"]
[1038705,"praise",1149,2,0,"praise",0.236,"preɪz","preɪz"]
[1264282,"Lovely",1149,0,4,"love·ly",0.086,"NULL","NULL"]
[1132148,"tie",1150,2,0,"tie",0.179,"taɪ","taɪ"]
[1018843,"passenger",1151,2,0,"pas·sen·ger",0.186,"ˈpæsɪndʒə(r)","ˈpæsəndʒɚ"]
[1278225,"Rice",1151,0,4,"rice",0.043,"NULL","NULL"]
[917716,"happily",1152,2,0,"hap·pi·ly",0.1,"ˈhæpɪli","ˈhæpɪli"]
[910171,"gold",1153,2,0,"gold",0.121,"gəʊld","goʊld"]
[766915,"artist",1154,2,0,"art·ist",0.229,"ˈɑ:tɪst","ˈɑrtɪst"]
[1162772,"weight",1155,2,0,"weight",0.214,"weɪt","weɪt"]
[1287573,"Surface",1155,0,4,"sur·face",0.25,"NULL","NULL"]
[1095253,"snow",1156,2,0,"snow",0.1,"snəʊ","snoʊ"]
[1287092,"Strike",1156,0,4,"strike",0.214,"NULL","NULL"]
[1005355,"officer",1157,2,0,"offi·cer",0.164,"ˈɒfɪsə(r)","ˈɔfɪsə(r)"]
[852107,"dig",1158,2,0,"dig",0.107,"dɪg","dɪɡ"]
[1247107,"East",1158,0,4,"east",0.129,"NULL","NULL"]
[1008412,"opinion",1159,2,0,"opin·ion",0.493,"əˈpɪnjən","əˈpɪnjən"]
[797763,"bye",1160,2,0,"bye",0.029,"baɪ","baɪ"]
[1100154,"speech",1161,2,0,"speech",0.286,"spi:tʃ","spitʃ"]
[1283113,"Shake",1161,0,4,"shake",0.257,"NULL","NULL"]
[749968,"address",1162,2,0,"add·ress",0.186,"əˈdres","əˈdres"]
[1284734,"Smart",1162,0,4,"smart",0.257,"NULL","NULL"]
[978175,"math",1163,2,0,"math",0.129,"mæθ","mæθ"]
[1286572,"Stick",1163,0,4,"stick",0.357,"NULL","NULL"]
[924206,"hill",1164,2,0,"hill",0.129,"hɪl","hɪl"]
[1088810,"sick",1165,2,0,"sick",0.207,"sɪk","sɪk"]
[1271812,"Nurse",1165,0,4,"nurse",0.171,"NULL","NULL"]
[789033,"board",1166,2,0,"board",0.193,"bɔ:d","bɔrd"]
[1027908,"pig",1167,2,0,"pig",0.036,"pɪg","pɪɡ"]
[969706,"loud",1168,2,0,"loud",0.079,"laʊd","laʊd"]
[897540,"fourth",1169,2,0,"fourth",0.071,"fɔ:θ","fɔrθ"]
[782319,"being",1170,2,0,"be·ing",0.071,"ˈbi:ɪŋ","ˈbiɪŋ"]
[1288831,"Thick",1170,0,4,"thick",0.071,"NULL","NULL"]
[782588,"belong",1171,2,0,"be·long",0.157,"bɪˈlɒŋ","bɪˈlɔŋ"]
[969831,"lovely",1172,2,0,"love·ly",0.086,"ˈlʌvli","ˈlʌvli"]
[1130234,"thin",1173,2,0,"thin",0.136,"θɪn","θɪn"]
[894513,"focus",1174,2,0,"fo·cus",0.436,"ˈfəʊkəs","ˈfoʊkəs"]
[1096651,"soldier",1175,2,0,"sol·dier",0.064,"ˈsəʊldʒə(r)","ˈsoʊldʒə(r)"]
[1116925,"surface",1176,2,0,"sur·face",0.25,"ˈsɜ:fɪs","ˈsɜrfɪs"]
[1111207,"strike",1177,2,0,"strike",0.214,"straɪk","straɪk"]
[865041,"east",1178,2,0,"east",0.129,"i:st","ist"]
[976080,"map",1179,2,0,"map",0.221,"mæp","mæp"]
[1228875,"Storm",1179,0,2,"storm",0.121,"NULL","NULL"]
[1286889,"Storm",1179,0,4,"storm",0.121,"NULL","NULL"]
[1085906,"shake",1180,2,0,"shake",0.257,"ʃeɪk","ʃek"]
[1094452,"smart",1181,2,0,"smart",0.007,"smɑ:t","smɑrt"]
[1263920,"Lock",1181,0,4,"lock",0.164,"NULL","NULL"]
[1108456,"stick",1182,2,0,"stick",0.357,"stɪk","stɪk"]
[1273112,"Pair",1182,0,4,"pair",0.129,"NULL","NULL"]
[1042848,"private",1183,2,0,"pri·vate",0.014,"ˈpraɪvət","ˈpraɪvɪt"]
[1235371,"Blood",1183,0,4,"blood",0.25,"NULL","NULL"]
[1003497,"nurse",1184,2,0,"nurse",0.171,"nɜ:s","nɜrs"]
[1283541,"Shine",1184,0,4,"shine",0.136,"NULL","NULL"]
[782264,"behavior",1185,2,0,"be·hav·ior",0.221,"bɪˈheɪvjə","bɪˈhevjɚ"]
[1021792,"percent",1186,2,0,"per·cent",0.314,"pəˈsent","pɚˈsɛnt"]
[1247279,"Edge",1186,0,4,"edge",0.221,"NULL","NULL"]
[1101626,"spirit",1187,2,0,"spi·rit",0.186,"ˈspɪrɪt","ˈspɪrɪt"]
[1130095,"thick",1188,2,0,"thick",0.071,"θɪk","θɪk"]
[955023,"knife",1189,2,0,"knife",0.043,"naɪf","naɪf"]
[855374,"discussion",1190,2,0,"dis·cus·sion",0.271,"dɪˈskʌʃn","dɪˈskʌʃən"]
[877858,"everyday",1191,2,0,"every·day",0.1,"ˈevrideɪ","ˈɛvriˈde"]
[1061129,"regret",1192,2,0,"re·gret",0.25,"rɪˈgret","rɪˈɡrɛt"]
[1237173,"Bridge",1192,0,4,"bridge",0.143,"NULL","NULL"]
[1111153,"strict",1193,2,0,"strict",0.136,"strɪkt","strɪkt"]
[1109890,"storm",1194,2,0,"storm",0.121,"stɔ:m","stɔrm"]
[967740,"lock",1195,2,0,"lock",0.164,"lɒk","lɑk"]
[1087177,"shine",1196,2,0,"shine",0.136,"ʃaɪn","ʃaɪn"]
[1051626,"quarter",1197,2,0,"quar·ter",0.071,"ˈkwɔ:tə(r)","ˈkwɔrtə(r)"]
[1287766,"Sweet",1197,0,4,"sweet",0.243,"NULL","NULL"]
[866224,"edge",1198,2,0,"edge",0.221,"edʒ","ɛdʒ"]
[1008210,"operation",1199,2,0,"ope·ration",0.207,"ˌɒpəˈreɪʃn","ˌɑpəˈreɪʃn"]
[1227875,"Pet",1199,0,2,"pet",0.186,"NULL","NULL"]
[1096105,"soft",1200,2,0,"soft",0.007,"sɒft","sɔft"]
[846134,"deliver",1201,2,0,"deli·ver",0.25,"dɪˈlɪvə(r)","dɪˈlɪvɚ"]
[760015,"ancient",1202,2,0,"an·cient",0.164,"ˈeɪnʃənt","ˈenʃənt"]
[793519,"bridge",1203,2,0,"bridge",0.143,"brɪdʒ","brɪdʒ"]
[1284272,"Sir",1203,0,4,"sir",0.157,"NULL","NULL"]
[763141,"anywhere",1204,2,0,"any·where",0.164,"ˈeniweə(r)","ˈeniwer"]
[1268732,"Million",1204,0,4,"mil·lion",0.457,"NULL","NULL"]
[850968,"dictionary",1205,2,0,"dic·tion·ary",0.086,"ˈdɪkʃənri","ˈdɪkʃəneri"]
[1097438,"somewhere",1206,2,0,"some·where",0.093,"ˈsʌmweə(r)","ˈsʌmwer"]
[1008508,"opposite",1207,2,0,"oppo·site",0.214,"ˈɒpəzɪt","ˈɑpəzət"]
[1023695,"pet",1208,2,0,"pet",0.186,"pet","pɛt"]
[1142569,"truck",1209,2,0,"truck",0.136,"trʌk","trʌk"]
[784387,"bicycle",1210,2,0,"bi·cycle",0.179,"ˈbaɪsɪkl","ˈbaɪsɪkl"]
[1232663,"Bar",1210,0,4,"Bar",0.114,"NULL","NULL"]
[1296356,"Bar",1210,0,3,"Bar",0.114,"NULL","NULL"]
[895025,"fond",1211,2,0,"fond",0.093,"fɒnd","fɑnd"]
[1241163,"Cloud",1211,0,4,"cloud",0.086,"NULL","NULL"]
[1091663,"sir",1212,2,0,"sir",0.157,"sɜ:(r)","sɚ"]
[985342,"million",1213,2,0,"mil·lion",0.457,"ˈmɪljən","ˈmɪljən"]
[1290130,true,1213,0,4,true,0.521,"NULL","NULL"]
[1136570,"toward",1214,2,0,"to·ward",0.314,"təˈwɔ:d","təˈwɒrd"]
[1102458,"spoon",1215,2,0,"spoon",0.043,"spu:n","spun"]
[853827,"direct",1216,2,0,"di·rect",0.221,"dɪˈrekt","dɪˈrekt"]
[1033978,"policeman",1217,2,0,"po·lice·man",0.093,"pəˈli:smən","pəˈlismən"]
[776832,"bar",1218,2,0,"Bar",0.114,"bɑ:(r)","bɑr"]
[1174510,"others",1219,0,0,"oth·ers",0.157,"ˈʌðəz","ˈʌðərz"]
[1282349,"Score",1219,0,4,"score",0.157,"NULL","NULL"]
[1142648,true,1220,2,0,true,0.521,"tru:","tru"]
[1242278,"Cousin",1220,0,4,"cou·sin",0.071,"NULL","NULL"]
[869575,"elephant",1221,2,0,"ele·phant",0.079,"ˈelɪfənt","ˈɛləfənt"]
[1225244,"German",1221,0,2,"ger·man",0.093,"NULL","NULL"]
[1252190,"German",1221,0,4,"ger·man",0.093,"NULL","NULL"]
[1165721,"winner",1222,2,0,"win·ner",0.121,"ˈwɪnə(r)","ˈwɪnɚ"]
[1269341,"Monday",1222,0,4,"mon·day",0.236,"NULL","NULL"]
[1097393,"somebody",1223,2,0,"some·body",0.171,"ˈsʌmbədi","ˈsʌmˌbɑdi, -ˌbʌdi, -bədi"]
[763139,"anyway",1224,2,0,"any·way",0.071,"ˈeniweɪ","ˈɛniˌwe"]
[878391,"exchange",1225,2,0,"ex·change",0.25,"ɪksˈtʃeɪndʒ","ɪksˈtʃendʒ"]
[768259,"assistant",1226,2,0,"as·sis·tant",0.214,"əˈsɪstənt","əˈsɪstənt"]
[1132256,"tiger",1227,2,0,"ti·ger",0.036,"ˈtaɪgə(r)","ˈtaɪɡɚ"]
[1078526,"score",1228,2,0,"score",0.157,"skɔ:(r)","skɔːr"]
[1233364,"Beach",1228,0,4,"beach",0.136,"NULL","NULL"]
[834141,"cousin",1229,2,0,"cou·sin",0.071,"ˈkʌzn","ˈkʌzn"]
[1001808,"nose",1230,2,0,"nose",0.086,"nəʊz","noʊz"]
[724196,"German",1231,2,0,"ger·man",0.093,"ˈdʒɜ:mən","ˈdʒɜrmən"]
[1223303,"August",1231,0,2,"au·gust",0.1,"NULL","NULL"]
[1231862,"August",1231,0,4,"au·gust",0.1,"NULL","NULL"]
[945460,"international",1232,2,0,"inter·nation·al",0.021,"ˌɪntəˈnæʃnəl","ˌɪntərˈnæʃnəl"]
[995261,"native",1233,2,0,"na·tive",0.186,"ˈneɪtɪv","ˈnetɪv"]
[886179,"festival",1234,2,0,"fes·ti·val",0.157,"ˈfestɪvl","ˈfɛstəvəl"]
[913150,"greet",1235,2,0,"greet",0.221,"gri:t","ɡrit"]
[1164831,"widely",1236,2,0,"wide·ly",0.171,"ˈwaɪdli","ˈwaɪdlɪ"]
[742621,"Wednesday",1237,2,0,"wednes·day",0.15,"ˈwenzdeɪ","ˈwɛnzdi, -ˌde"]
[780818,"beach",1238,2,0,"beach",0.136,"bi:tʃ","bitʃ"]
[1269528,"Moon",1238,0,4,"moon",0.1,"NULL","NULL"]
[849223,"development",1239,2,0,"deve·lop·ment",0.443,"dɪˈveləpmənt","dɪˈvɛləpmənt"]
[1231213,"Apple",1239,0,4,"ap·ple",0.071,"NULL","NULL"]
[898488,"freedom",1240,2,0,"free·dom",0.186,"ˈfri:dəm","ˈfridəm"]
[960994,"lecture",1241,2,0,"lec·ture",0.264,"ˈlektʃə(r)","ˈlɛktʃɚ"]
[972085,"mad",1242,2,0,"mad",0.071,"mæd","mæd"]
[715715,"August",1243,2,0,"au·gust",0.1,"ɔ:ˈgʌst","ɔ:ˈgʌst"]
[727761,"July",1244,2,0,"July",0.079,"dʒuˈlaɪ","dʒʊˈlaɪ"]
[933813,"illness",1245,2,0,"ill·ness",0.214,"ˈɪlnəs","ˈɪlnɪs"]
[1283822,"Shy",1245,0,4,"shy",0.107,"NULL","NULL"]
[1168175,"writing",1246,2,0,"writ·ing",0.086,"ˈraɪtɪŋ","ˈraɪtɪŋ"]
[809670,"cheer",1247,2,0,"cheer",0.186,"tʃɪə(r)","tʃɪr"]
[813198,"cinema",1248,2,0,"cine·ma",0.143,"ˈsɪnəmə","ˈsɪnəmə"]
[1116075,"supermarket",1249,2,0,"super·market",0.186,"ˈsu:pəmɑ:kɪt","ˈsupərmɑrkət"]
[972093,"madam",1250,2,0,"ma·dam",0.064,"ˈmædəm","ˈmædəm"]
[1090228,"silly",1251,2,0,"sil·ly",0.114,"ˈsɪli","ˈsɪli"]
[715290,"April",1252,2,0,"a·pril",0.157,"ˈeɪprəl","ˈeɪprəl"]
[942332,"insist",1253,2,0,"in·sist",0.207,"ɪnˈsɪst","ɪnˈsɪst"]
[1241224,"Coast",1253,0,4,"coast",0.086,"NULL","NULL"]
[763124,"anybody",1254,2,0,"any·body",0.107,"ˈenibɒdi","ˈenibʌdi"]
[1250003,"Flood",1254,0,4,"flood",0.157,"NULL","NULL"]
[814750,"classmate",1255,2,0,"class·mate",0.3,"ˈklɑ:smeɪt","ˈklæsmeɪt"]
[1088746,"shy",1256,2,0,"shy",0.007,"ʃaɪ","ʃaɪ"]
[1003881,"object",1257,2,0,"ob·ject",0.229,"ˈɒbdʒɪkt","ˈɑbdʒekt"]
[897074,"forty",1258,2,0,"for·ty",0.086,"ˈfɔ:ti","ˈfɔrti"]
[1250719,"Friendly",1258,0,4,"friend·ly",0.307,"NULL","NULL"]
[887088,"fifteen",1259,2,0,"fif·teen",0.114,"ˌfɪfˈti:n","fɪfˈtin"]
[1285435,"Speaker",1259,0,4,"speak·er",0.707,"NULL","NULL"]
[874567,"equal",1260,2,0,"e·qual",0.114,"ˈi:kwəl","ˈikwəl"]
[1280600,"Sand",1260,0,4,"sand",0.043,"NULL","NULL"]
[968538,"lonely",1261,2,0,"lone·ly",0.043,"ˈləʊnli","ˈloʊnli"]
[1116458,"supper",1262,2,0,"sup·per",0.064,"ˈsʌpə(r)","ˈsʌpɚ"]
[793231,"breathe",1263,2,0,"breathe",0.157,"bri:ð","brið"]
[817330,"coast",1264,2,0,"coast",0.086,"kəʊst","koʊst"]
[892728,"flood",1265,2,0,"flood",0.157,"flʌd","flʌd"]
[791056,"bottle",1266,2,0,"bot·tle",0.129,"ˈbɒtl","ˈbɑtl"]
[825288,"concert",1267,2,0,"con·cert",0.236,"ˈkɒnsət","ˈkɑnsərt"]
[848715,"detail",1268,2,0,"de·tail",0.236,"ˈdi:teɪl","dɪˈteɪl"]
[899255,"friendly",1269,2,0,"friend·ly",0.043,"ˈfrendli","ˈfrɛndli"]
[1099354,"speaker",1270,2,0,"speak·er",0.707,"ˈspi:kə(r)","ˈspikɚ"]
[1289945,"Trick",1270,0,4,"trick",0.093,"NULL","NULL"]
[1075374,"sand",1271,2,0,"sand",0.043,"sænd","sænd"]
[1086595,"sheep",1272,2,0,"sheep",0.029,"ʃi:p","ʃip"]
[1275662,"Pool",1272,0,4,"pool",0.086,"NULL","NULL"]
[1303354,"Pool",1272,0,3,"pool",0.086,"NULL","NULL"]
[1062097,"relax",1273,2,0,"re·lax",0.393,"rɪˈlæks","rɪˈlæks"]
[1278605,"Risk",1273,0,4,"risk",0.314,"NULL","NULL"]
[981438,"mention",1274,2,0,"men·tion",0.493,"ˈmenʃn","ˈmɛnʃən"]
[1297266,"Centre",1274,0,3,"cen·tre",0.279,"NULL","NULL"]
[998752,"nineteen",1275,2,0,"nine·teen",0.021,"ˌnaɪnˈti:n","naɪnˈtin"]
[1085423,"seventh",1276,2,0,"seven·th",0.029,"ˈsevnθ","ˈsɛvənθ"]
[1290188,"Trust",1276,0,4,"trust",0.343,"NULL","NULL"]
[1114468,"sudden",1277,2,0,"sud·den",0.107,"ˈsʌdn","ˈsʌdn"]
[899278,"frighten",1278,2,0,"fright·en",0.236,"ˈfraɪtn","ˈfraɪtn"]
[1061800,"relation",1279,2,0,"re·la·tion",0.143,"rɪˈleɪʃn","rɪˈleɪʃn"]
[727384,"Japanese",1280,2,0,"Japan·ese",0.057,"ˌdʒæpəˈni:z","ˌdʒæpəˈniz, -ˈnis"]
[1233219,"Battle",1280,0,4,"bat·tle",0.114,"NULL","NULL"]
[1296436,"Battle",1280,0,3,"bat·tle",0.114,"NULL","NULL"]
[773367,"award",1281,2,0,"a·ward",0.171,"əˈwɔ:d","əˈwɔrd"]
[1271540,"Noon",1281,0,4,"noon",0.021,"NULL","NULL"]
[1140881,"trick",1282,2,0,"trick",0.093,"trɪk","trɪk"]
[1294419,"Wine",1282,0,4,"wine",0.093,"NULL","NULL"]
[1169496,"yours",1283,2,0,"yours",0.229,"jɔ:z","jərz"]
[1015908,"panda",1284,2,0,"pan·da",0.014,"ˈpændə","ˈpændə"]
[753401,"agreement",1285,2,0,"agree·ment",0.129,"əˈgri:mənt","əˈɡrimənt"]
[1035634,"pool",1286,2,0,"pool",0.086,"pu:l","pul"]
[1069002,"risk",1287,2,0,"risk",0.314,"rɪsk","rɪsk"]
[1233790,"Bell",1287,0,4,"bell",0.071,"NULL","NULL"]
[806629,"centre",1288,2,0,"cen·tre",0.279,"ˈsentə(r)","ˈsɛntɚ"]
[1088662,"shut",1289,2,0,"shut",0.143,"ʃʌt","ʃʌt"]
[1027211,"piano",1290,2,0,"pia·no",0.1,"piˈænəʊ","piˈænoʊ"]
[1142977,"trust",1291,2,0,"trust",0.343,"trʌst","trʌst"]
[1272512,"Orange",1291,0,4,"or·ange",0.186,"NULL","NULL"]
[1302810,"Orange",1291,0,3,"or·ange",0.186,"NULL","NULL"]
[799656,"camera",1292,2,0,"cam·era",0.343,"ˈkæmərə","ˈkæmərə, ˈkæmrə"]
[830045,"conversation",1293,2,0,"con·ver·sa·tion",0.621,"ˌkɒnvəˈseɪʃn","ˌkɑnvərˈseɪʃn"]
[1041173,"pretend",1294,2,0,"pre·tend",0.229,"prɪˈtend","prɪˈtɛnd"]
[778930,"battle",1295,2,0,"bat·tle",0.114,"ˈbætl","ˈbætl"]
[1236346,"Bottom",1295,0,4,"bot·tom",0.129,"NULL","NULL"]
[1001227,"noon",1296,2,0,"noon",0.021,"nu:n","nun"]
[1165532,"wine",1297,2,0,"wine",0.093,"waɪn","waɪn"]
[1273020,"Pack",1297,0,4,"pack",0.236,"NULL","NULL"]
[783563,"beside",1298,2,0,"be·side",0.143,"bɪˈsaɪd","bɪˈsaɪd"]
[1076307,"satisfy",1299,2,0,"satis·fy",0.393,"ˈsætɪsfaɪ","ˈsætɪsˌfaɪ"]
[1088158,"shoulder",1300,2,0,"shoul·der",0.157,"ˈʃəʊldə(r)","ˈʃoʊldə(r)"]
[781947,"bee",1301,2,0,"bee",0.064,"biː","biː"]
[829878,"convenient",1302,2,0,"con·ven·ient",0.021,"kənˈvi:niənt","kənˈvinjənt"]
[1279567,"Row",1302,0,4,"row",0.143,"NULL","NULL"]
[782388,"bell",1303,2,0,"bell",0.071,"bel","bɛl"]
[860359,"dozen",1304,2,0,"do·zen",0.157,"ˈdʌzn","ˈdʌzən"]
[1244521,"Delay",1304,0,4,"de·lay",0.193,"NULL","NULL"]
[1074364,"sail",1305,2,0,"sail",0.079,"seɪl","sel"]
[946307,"interview",1306,2,0,"inter·view",0.343,"ˈɪntəvju:","ˈɪntərvju"]
[1009306,"orange",1307,2,0,"or·ange",0.186,"ˈɒrɪndʒ","ˈɔrɪndʒ"]
[855522,"dish",1308,2,0,"dish",0.157,"dɪʃ","dɪʃ"]
[1092351,"skin",1309,2,0,"skin",0.1,"skɪn","skɪn"]
[722408,"European",1310,2,0,"euro·pean",0.114,"ˌjʊərəˈpi:ən","ˌjʊrəˈpiən"]
[1289667,"Tower",1310,0,4,"tow·er",0.064,"NULL","NULL"]
[937596,"income",1311,2,0,"in·come",0.171,"ˈɪnkʌm","ˈɪnˌkʌm"]
[791126,"bottom",1312,2,0,"bot·tom",0.129,"ˈbɒtəm","ˈbɑtəm"]
[1253276,"Goods",1312,0,4,"goods","NULL","NULL","NULL"]
[871001,"enable",1313,2,0,"en·able",0.121,"ɪˈneɪbl","ɪˈnebəl"]
[1014708,"pack",1314,2,0,"pack",0.236,"pæk","pæk"]
[1284046,"Silence",1314,0,4,"si·lence",0.143,"NULL","NULL"]
[896336,"forever",1315,2,0,"for·ever",0.143,"fərˈevə(r)","fɔrˈɛvɚ, fə-"]
[1134936,"tonight",1316,2,0,"to·night",0.179,"təˈnaɪt","təˈnaɪt"]
[879180,"exhibition",1317,2,0,"ex·hi·bi·tion",0.2,"ˌeksɪˈbɪʃn","ˌɛksəˈbɪʃən"]
[1072268,"row",1318,2,0,"row",0.143,"rəʊ","roʊ"]
[1248624,"Fair",1318,0,4,"fair",0.164,"NULL","NULL"]
[755026,"alarm",1319,2,0,"a·larm",0.136,"əˈlɑ:m","əˈlɑrm"]
[845870,"delay",1320,2,0,"de·lay",0.193,"dɪˈleɪ","dɪˈle"]
[1048943,"pupil",1321,2,0,"pu·pil",0.05,"ˈpju:pl","ˈpjupəl"]
[800976,"capital",1322,2,0,"capi·tal",0.107,"ˈkæpɪtl","ˈkæpɪtl"]
[1236899,"Brave",1322,0,4,"brave",0.157,"NULL","NULL"]
[749188,"actor",1323,2,0,"ac·tor",0.15,"ˈæktə(r)","ˈæktɚ"]
[1282371,"Screen",1323,0,4,"screen",0.179,"NULL","NULL"]
[982420,"metal",1324,2,0,"me·tal",0.1,"ˈmetl","ˈmɛtl"]
[1066890,"review",1325,2,0,"re·view",0.2,"rɪˈvju:","rɪˈvju"]
[1136596,"tower",1326,2,0,"tow·er",0.064,"ˈtaʊə(r)","ˈtaʊɚ"]
[910652,"goods",1327,2,0,"goods",0.15,"gʊdz","NULL"]
[1042813,"prison",1328,2,0,"pri·son",0.064,"ˈprɪzn","ˈprɪzən"]
[1268686,"Milk",1328,0,4,"milk",0.157,"NULL","NULL"]
[1301855,"Milk",1328,0,3,"milk",0.157,"NULL","NULL"]
[1089885,"silence",1329,2,0,"si·lence",0.143,"ˈsaɪləns","ˈsaɪləns"]
[839594,"custom",1330,2,0,"cus·tom",0.1,"ˈkʌstəm","ˈkʌstəm"]
[1276008,"Press",1330,0,4,"press",0.164,"NULL","NULL"]
[882668,"fair",1331,2,0,"fair",0.164,"feə(r)","fer"]
[1271649,"Northern",1331,0,4,"north·ern",0.107,"NULL","NULL"]
[1162226,"wealth",1332,2,0,"wealth",0.121,"welθ","wɛlθ"]
[1034243,"pollution",1333,2,0,"pollu·tion",0.171,"pəˈlu:ʃn","pəˈluʃən"]
[1248722,"Fan",1333,0,4,"fan",0.207,"NULL","NULL"]
[1028701,"pink",1334,2,0,"pink",0.086,"pɪŋk","pɪŋk"]
[1121777,"tale",1335,2,0,"tale",0.114,"teɪl","teɪl"]
[1078910,"screen",1336,2,0,"screen",0.179,"skri:n","skrin"]
[773399,"awful",1337,2,0,"aw·ful",0.071,"ˈɔ:fl","ˈɔfəl"]
[793224,"breath",1338,2,0,"breath",0.136,"breθ","brɛθ"]
[796953,"businessman",1339,2,0,"busi·ness·man",0.079,"ˈbɪznəsmæn","ˈbɪznɪsˌmæn"]
[1228904,"Sunny",1339,0,2,"sun·ny",0.1,"NULL","NULL"]
[809390,"cheat",1340,2,0,"cheat",0.086,"tʃi:t","tʃit"]
[1249678,"Finger",1340,0,4,"fin·ger",0.15,"NULL","NULL"]
[1040584,"press",1341,2,0,"press",0.164,"pres","prɛs"]
[1001777,"northern",1342,2,0,"north·ern",0.107,"ˈnɔ:ðən","ˈnɔ:ðən"]
[1241078,"Clerk",1342,0,4,"clerk",0.157,"NULL","NULL"]
[911811,"grandma",1343,2,0,"grand·ma",0.093,"ˈgrænmɑ:","ˈɡrændˌmɑ, "]
[883346,"fan",1344,2,0,"fan",0.207,"fæn","fæn"]
[1285765,"Square",1344,0,4,"square",0.121,"NULL","NULL"]
[995984,"neck",1345,2,0,"neck",0.05,"nek","nɛk"]
[919939,"headmaster",1346,2,0,"head·mas·ter",0.064,"ˌhedˈmɑ:stə(r)","ˌhedˈmæstə(r)"]
[928381,"housework",1347,2,0,"house·work",0.093,"ˈhaʊswɜ:k","ˈhaʊswɜrk"]
[733690,"October",1348,2,0,"octo·ber",0.129,"ɒkˈtəʊbə(r)","ɑkˈtoʊbə(r)"]
[760456,"angrily",1349,2,0,"an·gri·ly",0.043,"ˈæŋɡrəlɪ","ˈæŋɡrɪlɪ"]
[1011359,"ought",1350,2,0,"ought",0.064,"ɔ:t","ɔt"]
[1227852,"Pen",1350,0,2,"pen",0.114,"NULL","NULL"]
[1274081,"Pen",1350,0,4,"pen",0.114,"NULL","NULL"]
[1115484,"sunny",1351,2,0,"sun·ny",0.1,"ˈsʌni","ˈsʌni"]
[1289691,"Toy",1351,0,4,"toy",0.164,"NULL","NULL"]
[888699,"finger",1352,2,0,"fin·ger",0.15,"ˈfɪŋgə(r)","ˈfɪŋɡɚ"]
[1168810,"yard",1353,2,0,"yard",0.107,"jɑ:d","jɑrd"]
[815428,"clerk",1354,2,0,"clerk",0.157,"klɑːk","klɜːrk"]
[778343,"basket",1355,2,0,"bas·ket",0.107,"ˈbɑ:skɪt","ˈbæskɪt"]
[1103642,"square",1356,2,0,"square",0.121,"skweə(r)","skwer"]
[1235319,"Blind",1356,0,4,"blind",0.1,"NULL","NULL"]
[1077998,"schoolbag",1357,2,0,"school·bag",0.007,"ˈsku:lbæg","ˈskulˌbæɡ"]
[895181,"foolish",1358,2,0,"foo·lish",0.007,"ˈfu:lɪʃ","ˈfulɪʃ"]
[1134715,"tomato",1359,2,0,"to·ma·to",0.064,"təˈmɑ:təʊ","təˈmeɪtoʊ"]
[1019356,"path",1360,2,0,"path",0.193,"pɑ:θ","pæθ"]
[1063667,"reporter",1361,2,0,"re·por·ter",0.129,"rɪˈpɔ:tə(r)","rɪˈpɔrtə(r)"]
[1136846,"toy",1362,2,0,"toy",0.164,"tɔɪ","tɔɪ"]
[761550,"ant",1363,2,0,"ant",0.014,"ænt","ænt"]
[1242245,"Courage",1363,0,4,"cour·age",0.15,"NULL","NULL"]
[862296,"drug",1364,2,0,"drug",0.1,"drʌg","drʌɡ"]
[1240720,"Church",1364,0,4,"church",0.121,"NULL","NULL"]
[961563,"lend",1365,2,0,"lend",0.143,"lend","lɛnd"]
[1226240,"June",1365,0,2,"june",0.129,"NULL","NULL"]
[1086743,"shelf",1366,2,0,"shelf",0.1,"ʃelf","ʃɛlf"]
[999354,"nod",1367,2,0,"nod",0.093,"nɒd","nɑd"]
[787905,"blind",1368,2,0,"blind",0.021,"blaɪnd","blaɪnd"]
[747546,"achieve",1369,2,0,"a·chieve",0.021,"əˈtʃi:v","əˈtʃiv"]
[1159302,"volunteer",1370,2,0,"volun·teer",0.236,"ˌvɒlənˈtɪə(r)","ˌvɑlənˈtɪr"]
[1117486,"survey",1371,2,0,"sur·vey",0.107,"ˈsɜ:veɪ","ˈsɜrveɪ"]
[1288558,"Tennis",1371,0,4,"ten·nis",0.1,"NULL","NULL"]
[1166174,"wise",1372,2,0,"wise",0.029,"waɪz","waɪz"]
[1131421,"throughout",1373,2,0,"through·out",0.221,"θru:ˈaʊt","θruˈaʊt"]
[1055610,"rapid",1374,2,0,"ra·pid",0.136,"ˈræpɪd","ˈræpɪd"]
[959676,"lawyer",1375,2,0,"law·yer",0.093,"ˈlɔ:jə(r)","ˈlɔjɚ"]
[722060,"England",1376,2,0,"Eng·land",0.2,"ˈɪŋɡlənd","ˈɪŋɡlənd"]
[1159843,"waiter",1377,2,0,"wai·ter",0.05,"ˈweɪtə(r)","ˈwetɚ"]
[834003,"courage",1378,2,0,"cour·age",0.15,"ˈkʌrɪdʒ","ˈkɜrɪdʒ"]
[1262173,"Lab",1378,0,4,"lab",0.186,"NULL","NULL"]
[812926,"church",1379,2,0,"church",0.121,"tʃɜ:tʃ","tʃɜrtʃ"]
[1252080,"Gentleman",1379,0,4,"gen·tle·man",0.036,"NULL","NULL"]
[1094961,"snake",1380,2,0,"snake",0.043,"sneɪk","snek"]
[727771,"June",1381,2,0,"june",0.129,"dʒu:n","dʒun"]
[1004232,"observe",1382,2,0,"ob·serve",0.3,"əbˈzɜ:v","əbˈzɜrv"]
[1246182,"Double",1382,0,4,"dou·ble",0.136,"NULL","NULL"]
[1038535,"powerful",1383,2,0,"power·ful",0.257,"ˈpaʊəfl","ˈpaʊərfl"]
[1253084,"Golden",1383,0,4,"gol·den",0.121,"NULL","NULL"]
[1299066,"Golden",1383,0,3,"gol·den",0.121,"NULL","NULL"]
[826214,"confident",1384,2,0,"con·fi·dent",0.029,"ˈkɒnfɪdənt","ˈkɑnfɪdənt"]
[1052722,"rabbit",1385,1,0,"rab·bit",0.036,"ˈræbɪt","ˈræbɪt"]
[1275250,"Plate",1385,0,4,"plate",0.107,"NULL","NULL"]
[1063339,"repeat",1386,2,0,"re·peat",0.214,"rɪˈpi:t","rɪˈpit"]
[1074091,"safely",1387,2,0,"safe·ly",0.071,"ˈseɪfli","ˈseflɪ"]
[1231468,"Army",1387,0,4,"army",0.071,"NULL","NULL"]
[1125873,"tennis",1388,2,0,"ten·nis",0.1,"ˈtenɪs","ˈtenɪs"]
[1279512,"Rough",1388,0,4,"rough",0.086,"NULL","NULL"]
[972236,"magic",1389,2,0,"ma·gic",0.079,"ˈmædʒɪk","ˈmædʒɪk"]
[1286974,"Stranger",1389,0,4,"stran·ger","NULL","NULL","NULL"]
[802507,"careless",1390,2,0,"care·less",0.014,"ˈkeələs","ˈkerləs"]
[1256133,"Height",1390,0,4,"height",0.136,"NULL","NULL"]
[878616,"excited",1391,2,0,"ex·cit·ed",0.029,"ɪkˈsaɪtɪd","ɪkˈsaɪtɪd"]
[872456,"engineer",1392,2,0,"engi·neer",0.229,"ˌendʒɪˈnɪə(r)","ˌendʒɪˈnɪr"]
[1241370,"Coin",1392,0,4,"coin",0.071,"NULL","NULL"]
[811565,"chocolate",1393,2,0,"choco·late",0.136,"ˈtʃɒklət","ˈtʃɑklət"]
[909998,"goal",1394,2,0,"goal",0.336,"gəʊl","goʊl"]
[973643,"mainly",1395,2,0,"main·ly",0.729,"ˈmeɪnli","ˈmenli"]
[1275675,"Pop",1395,0,4,"pop",0.114,"NULL","NULL"]
[915184,"gun",1396,2,0,"gun",0.05,"gʌn","ɡʌn"]
[956142,"lab",1397,2,0,"lab",0.186,"læb","læb"]
[1240897,"Citizen",1397,0,4,"citi·zen",0.2,"NULL","NULL"]
[905748,"gentleman",1398,2,0,"gen·tle·man",0.036,"ˈdʒentlmən","ˈdʒɛntlmən"]
[1302559,"Noisy",1398,0,3,"noi·sy",0.143,"NULL","NULL"]
[1009944,"organise",1399,2,0,"or·ga·nise",0.029,"ˈɔ:gənaɪz","ˈɔgənaɪz"]
[1065115,"response",1400,2,0,"re·sponse",0.121,"rɪˈspɒns","rɪˈspɑns"]
[1279218,"Root",1400,0,4,"root",0.2,"NULL","NULL"]
[1005604,"oil",1401,2,0,"oil",0.164,"ɔɪl","ɔɪl"]
[859167,"double",1402,2,0,"dou·ble",0.136,"ˈdʌbl","ˈdʌbəl"]
[1233628,"Beg",1402,0,4,"beg",0.093,"NULL","NULL"]
[910309,"golden",1403,2,0,"gol·den",0.121,"ˈgəʊldən","ˈgoʊldən"]
[1243594,"Dare",1403,0,4,"dare",0.1,"NULL","NULL"]
[1031042,"plate",1404,2,0,"plate",0.107,"pleɪt","plet"]
[1124368,"teenager",1405,2,0,"teen·ager",0.186,"ˈti:neɪdʒə(r)","ˈtinˌedʒɚ"]
[1009975,"organize",1406,2,0,"orga·nize",0.014,"ˈɔ:gənaɪz","ˈɔrgənaɪz"]
[766003,"army",1407,2,0,"army",0.071,"ˈɑ:mi","ˈɑrmi"]
[1071742,"rough",1408,2,0,"rough",0.007,"rʌf","rʌf"]
[1110464,"stranger",1409,2,0,"stran·ger",0.136,"ˈstreɪndʒə(r)","ˈstrendʒɚ"]
[1225456,"Guy",1409,0,2,"guy",0.136,"NULL","NULL"]
[921105,"height",1410,2,0,"height",0.136,"haɪt","haɪt"]
[1081777,"select",1411,2,0,"se·lect",0.179,"sɪˈlekt","sɪˈlɛkt"]
[818903,"coin",1412,2,0,"coin",0.071,"kɔɪn","kɔɪn"]
[835129,"crazy",1413,2,0,"cra·zy",0.171,"ˈkreɪzi","ˈkrezi"]
[1163741,"wheel",1414,2,0,"wheel",0.107,"wi:l","wil"]
[1035724,"pop",1415,2,0,"pop",0.114,"pɒp","pɑp"]
[1154678,"various",1416,2,0,"vari·ous",0.3,"ˈveəriəs","ˈveriəs"]
[1240867,"Circle",1416,0,4,"cir·cle",0.157,"NULL","NULL"]
[786572,"bite",1417,2,0,"bite",0.429,"baɪt","baɪt"]
[1272194,"Oh",1417,0,4,"oh",0.314,"NULL","NULL"]
[813980,"citizen",1418,2,0,"citi·zen",0.2,"ˈsɪtɪzn","ˈsɪtɪzən"]
[1289099,"Tiger",1418,0,4,"ti·ger",0.036,"NULL","NULL"]
[999626,"noisy",1419,2,0,"noi·sy",0.143,"ˈnɔɪzi","ˈnɔɪzi"]
[1289825,"Treasure",1419,0,4,"trea·sure",0.114,"NULL","NULL"]
[864968,"earthquake",1420,2,0,"earth·quake",0.079,"ˈɜ:θkweɪk","ˈɜrθkweɪk"]
[1225075,"France",1420,0,2,"france",0.264,"NULL","NULL"]
[1250384,"France",1420,0,4,"france",0.264,"NULL","NULL"]
[1298769,"France",1420,0,3,"france",0.264,"NULL","NULL"]
[1070641,"root",1421,2,0,"root",0.2,"ru:t","rut, rʊt"]
[782182,"beg",1422,2,0,"beg",0.093,"beg","bɛɡ"]
[842186,"dare",1423,2,0,"dare",0.1,"deə(r)","der"]
[1234959,"Birth",1423,0,4,"birth",0.207,"NULL","NULL"]
[887092,"fifth",1424,2,0,"fifth",0.071,"fɪfθ","fɪfθ"]
[1268552,"Might",1424,0,4,"might","NULL","NULL","NULL"]
[885369,"female",1425,2,0,"fe·male",0.093,"ˈfi:meɪl","ˈfiˌmel"]
[1223321,"Autumn",1425,0,2,"au·tumn",0.079,"NULL","NULL"]
[1041602,"primary",1426,2,0,"pri·mary",0.071,"ˈpraɪməri","ˈpraɪmeri"]
[1294512,"Wooden",1426,0,4,"woo·den",0.114,"NULL","NULL"]
[984691,"might",1441,2,0,"might",0.157,"maɪt","maɪt"]
[1027435,"picnic",1503,2,0,"pic·nic",0.086,"ˈpɪknɪk","ˈpɪknɪk"]
[790083,"bone",1538,2,0,"bone",0.1,"bəʊn","boʊn"]
[1165592,"wing",1618,2,0,"wing",0.071,"wɪŋ","wɪŋ"]
[727371,"January",1631,2,0,"janu·ary",0.093,"ˈdʒænjuəri","ˈdʒænjueri"]
[1226242,"Junior",1720,0,2,"ju·nior",0.036,"NULL","NULL"]
[875297,"eraser",1755,2,0,"era·ser",0.007,"ɪˈreɪzə(r)","ɪˈreɪsər"]
[848817,"detective",1820,2,0,"de·tec·tive",0.086,"dɪˈtektɪv","dɪˈtɛktɪv"]
[1069664,"rocket",1885,2,0,"rock·et",0.021,"ˈrɒkɪt","ˈrɑkɪt"]
[1227832,"Pearl",1936,0,2,"pearl",0.021,"NULL","NULL"]
[1109330,"stomachache",1951,2,0,"sto·mach·ache",0.014,"ˈstʌməkeɪk","ˈstʌməkˌek"]
[751274,"advance",2027,2,0,"ad·vance",0.279,"ədˈvɑ:ns","ədˈvæns"]
[718422,"Canada",2075,2,0,"cana·da",0.143,"ˈkænədə","ˈkænədə"]
[1152472,"urban",2144,2,0,"ur·ban",0.086,"ˈɜ:bən","ˈɜrbən"]
[1105588,"stare",2167,2,0,"stare",0.157,"steə(r)","ster"]
[807712,"chain",2266,2,0,"chain",0.1,"tʃeɪn","tʃen"]
[1146440,"unbelievable",2321,2,0,"un·believ·able",0.021,"ˌʌnbɪˈli:vəbl","ˌʌnbɪˈlivəbəl"]
[1242234,"Counter",2332,0,4,"coun·ter",0.043,"NULL","NULL"]
[1074422,"sailor",2402,2,0,"sail·or",0.043,"ˈseɪlə(r)","ˈselɚ"]
[747176,"accuse",2466,2,0,"ac·cuse",0.014,"əˈkju:z","əˈkjuz"]
[1084234,"series",2530,2,0,"se·ries",0.129,"ˈsɪəri:z","ˈsɪriz"]
[869459,"element",2586,2,0,"ele·ment",0.05,"ˈelɪmənt","ˈɛləmənt"]
[1256891,"Hey",2609,0,4,"hey",0.071,"NULL","NULL"]
[1263887,"Loan",2664,0,4,"loan",0.036,"NULL","NULL"]
[823968,"component",2724,2,0,"com·po·nent",0.036,"kəmˈpəʊnənt","kəmˈpoʊnənt"]
[815785,"clip",2812,2,0,"clip",0.014,"klɪp","klɪp"]
[1281887,"Scholar",2866,0,4,"scho·lar",0.064,"NULL","NULL"]
[1023455,"personality",2925,2,0,"per·so·na·li·ty",0.086,"ˌpɜ:səˈnæləti","ˌpɜrsəˈnæləti"]
[1113788,"substance",2960,2,0,"sub·stance",0.014,"ˈsʌbstəns","ˈsʌbstəns"]
[1048622,"pump",3042,2,0,"pump",0.05,"pʌmp","pʌmp"]
[938214,"independence",3055,2,0,"in·de·pend·ence",0.079,"ˌɪndɪˈpendəns","ˌɪndɪˈpɛndəns"]
[1224385,"Dick",3124,0,2,"dick",0.014,"NULL","NULL"]
[1174622,"assault",3179,5,0,"as·sault",0.071,"əˈsɔ:lt","əˈsɔlt"]
[883078,false,3251,2,0,false,0.064,"fɔ:ls","fɔls"]
[1151684,"unwilling",3315,2,0,"un·will·ing",0.15,"ʌnˈwɪlɪŋ","ʌnˈwɪlɪŋ"]
[760234,"angel",3316,2,0,"an·gel",0.071,"ˈeɪndʒl","ˈendʒəl"]
[1150104,"unlikely",3393,2,0,"un·like·ly",0.071,"ʌnˈlaɪkli","ʌnˈlaɪkli"]
[1043888,"profession",3441,2,0,"pro·fe·ssion",0.064,"prəˈfeʃn","prəˈfɛʃən"]
[1262693,"Lane",3510,0,4,"lane",0.036,"NULL","NULL"]
[1016919,"parallel",3536,2,0,"pa·ra·llel",0.021,"ˈpærəlel","ˈpærəˌlɛl"]
[866968,"efficient",3640,2,0,"e·ffi·cient",0.021,"ɪˈfɪʃnt","ɪˈfɪʃənt"]
[1083921,"sequence",3652,2,0,"se·que·nce",0.007,"ˈsi:kwəns","ˈsikwəns, -ˌkwɛns"]
[912899,"greatly",3709,2,0,"great·ly",0.114,"ˈgreɪtli","ˈɡreɪtli"]
[1174750,"medication",3774,5,0,"me·di·ca·tion",0.007,"ˌmedɪˈkeɪʃn","ˌmɛdɪˈkeʃən"]
[1179364,"anxiously",3846,5,0,"anx·ious·ly",0.057,"ˈæŋkʃəslɪ","ˈæŋkʃəslɪ"]
[946967,"invasion",3909,2,0,"in·va·sion",0.014,"ɪnˈveɪʒn","ɪnˈveʒən"]
[1255151,"Hammer",3971,0,4,"ha·mmer","NULL","NULL","NULL"]
[1240698,"Chuck",3983,0,4,"chuck","NULL","NULL","NULL"]
[1241099,"Cliff",4032,0,4,"cliff",0.007,"NULL","NULL"]
[1174824,"sodium",4100,5,0,"so·dium",0.007,"ˈsəʊdiəm","ˈsoʊdiəm"]
[1174640,"african-american",4149,5,0,"african-american",0.193,"ˈæfrɪkənəˈmerɪkən","ˈæfrɪkənəˈmɛrɪkən"]
[1175493,"psychiatrist",4221,5,0,"psy·chi·a·trist","NULL","saɪˈkaɪətrɪst","saɪˈkaɪətrɪst"]
[1299865,"Israel",4283,0,3,"Is·ra·el","NULL","NULL","NULL"]
[1175974,"broadly",4337,5,0,"broad·ly",0.007,"ˈbrɔ:dli","ˈbrɔdlɪ"]
[1223941,"Cherry",4358,0,2,"cher·ry",0.021,"NULL","NULL"]
[1158485,"vitamin",4415,2,0,"vi·ta·min",0.043,"ˈvɪtəmɪn","ˈvaɪtəmɪn"]
[1174887,"overwhelming",4480,5,0,"o·ver·whelm·ing","NULL","ˌəʊvəˈwelmɪŋ","ˌoʊvərˈwelmɪŋ"]
[984341,"microwave",4549,2,0,"mi·cro·wave",0.029,"ˈmaɪkrəweɪv","ˈmaɪkrəˌwev"]
[1174905,"nafta",4604,5,0,"naf·ta","NULL","NULL","NULL"]
[1286274,"Steer",4679,0,4,"steer","NULL","NULL","NULL"]
[1174920,"counterpart",4689,5,0,"coun·ter·part",0.036,"ˈkaʊntəpɑ:t","ˈkaʊntərpɑrt"]
[1035750,"popcorn",4793,2,0,"pop·corn",0.014,"ˈpɒpkɔ:n","ˈpɑpkɔrn"]
[1117713,"suspicion",4825,2,0,"sus·pi·cion",0.007,"səˈspɪʃn","səˈspɪʃən"]
[1154145,"vanish",4890,2,0,"van·ish",0.021,"ˈvænɪʃ","ˈvænɪʃ"]
[1174964,"sleeping",4940,5,0,"sleep·ing",0.021,"ˈsli:pɪŋ","ˈslipɪŋ"]
[1257554,"Hollow",5023,0,4,"hol·low","NULL","NULL","NULL"]
[848050,"descend",5076,2,0,"de·scend",0.114,"dɪˈsend","dɪˈsɛnd"]
[1152615,"urgent",5084,2,0,"ur·gent",0.021,"ˈɜ:dʒənt","ˈɜrdʒənt"]
[1184407,"sensing",5164,5,0,"sens·ing",0.014,"sensɪŋ","sensɪŋ"]
[1108396,"stewardess",5217,2,0,"stew·ard·ess",0.007,"ˌstju:əˈdes","ˈstuərdəs"]
[1175066,"perceived",5285,5,0,"perceived","NULL","pəˈsiːvd","pərˈsiːvd"]
[1119728,"syndrome",5339,2,0,"syn·dro·me",0.007,"ˈsɪndrəʊm","ˈsɪndroʊm"]
[1174740,"prime-time",5411,5,0,"prime-time",0.021,"ˈpraimˈtaim","ˈpraimˈtaim"]
[1175136,"sensitivity",5429,5,0,"sen·si·tiv·i·ty",0.014,"ˌsensəˈtɪvəti","ˌsɛnsɪˈtɪvɪti"]
[759122,"amuse",5476,2,0,"a·muse",0.043,"əˈmju:z","əˈmjuz"]
[1115496,"sunset",5543,2,0,"sun·set",0.029,"ˈsʌnset","ˈsʌnˌsɛt"]
[1175196,"autonomy",5593,5,0,"au·ton·o·my",0.007,"ɔ:ˈtɒnəmi","ɔˈtɑnəmi"]
[860611,"dragon",5673,2,0,"drag·on",0.007,"ˈdrægən","ˈdræɡən"]
[1102242,"spoken",5729,2,0,"spo·ken",0.029,"ˈspəʊkən","ˈspoʊkən"]
[1175271,"sovereignty",5744,5,0,"sov·er·eign·ty",0.007,"ˈsɒvrənti","ˈsɑvrənti"]
[1265966,"Mars",5818,0,4,"Mars",0.007,"NULL","NULL"]
[1175347,"importantly",5879,5,0,"im·por·tant·ly",0.114,"ɪmˈpɔːtntli","NULL"]
[1175389,"spice",5947,5,0,"spice",0.007,"spaɪs","spaɪs"]
[1296124,"Aurora",6015,0,3,"au·ro·ra","NULL","NULL","NULL"]
[1175458,"ensemble",6053,5,0,"en·sem·ble",0.007,"ɒnˈsɒmbl","ɑnˈsɑmbl"]
[854760,"discard",6084,2,0,"dis·card",0.007,"dɪsˈkɑ:d","dɪsˈkɑrd"]
[1064297,"reside",6150,2,0,"re·side","NULL","rɪˈzaɪd","rɪˈzaɪd"]
[1175538,"devoted",6191,5,0,"de·vot·ed","NULL","dɪˈvəʊtɪd","dɪˈvoʊtɪd"]
[1175585,"invoke",6272,5,0,"in·voke","NULL","ɪnˈvəʊk","ɪnˈvoʊk"]
[1175631,"burger",6344,5,0,"bur·ger","NULL","ˈbɜ:gə(r)","ˈbɜrgə(r)"]
[1239060,"Cannon",6389,0,4,"can·non","NULL","NULL","NULL"]
[1095097,"snatch",6415,2,0,"snatch","NULL","snætʃ","snætʃ"]
[804911,"cathedral",6496,2,0,"ca·the·dral","NULL","kəˈθi:drəl","kəˈθidrəl"]
[787660,"blaze",6540,2,0,"blaze","NULL","bleɪz","blez"]
[1175841,"sprint",6612,5,0,"sprint",0.007,"sprɪnt","sprɪnt"]
[1175867,"cellular",6643,5,0,"cel·lu·lar","NULL","ˈseljələ(r)","ˈsɛljəlɚ"]
[1175943,"iris",6742,5,0,"i·ris","NULL","ˈaɪrɪs","ˈaɪrɪs"]
[1175996,"activate",6803,5,0,"ac·ti·vate",0.007,"ˈæktɪveɪt","ˈæktəˌvet"]
[1176038,"Chad",6856,5,0,"chad",0.01,"tʃæd","NULL"]
[1262900,"Laurel",6893,0,4,"lau·rel","NULL","NULL","NULL"]
[1176115,"syrup",6956,5,0,"syr·up","NULL","ˈsɪrəp","ˈsɪrəp, ˈsɚ-"]
[1176160,"insane",7013,5,0,"in·sane",0.007,"ɪnˈseɪn","ɪnˈsen"]
[1095597,"sober",7105,2,0,"so·ber","NULL","ˈsəʊbə(r)","ˈsoʊbə(r)"]
[1277319,"Raven",7157,0,4,"rav·en","NULL","NULL","NULL"]
[1292454,"Wade",7220,0,4,"wade","NULL","NULL","NULL"]
[1176337,"sleek",7234,5,0,"sleek","NULL","sli:k","slik"]
[1176402,"entitlement",7305,5,0,"en·ti·tle·ment","NULL","ɪnˈtaɪtlmənt","ɛnˈtaɪtlmənt"]
[1176452,"beta",7364,5,0,"be·ta",0.007,"ˈbi:tə","ˈbeɪtə"]
[1176506,"skepticism",7429,5,0,"skep·ti·cism","NULL","ˈskeptɪsɪzəm","ˈskɛptɪˌsɪzəm"]
[1176545,"compatible",7473,5,0,"com·pat·i·ble","NULL","kəmˈpætəbl","kəmˈpætəbəl"]
[1176624,"analytical",7560,5,0,"an·a·lyt·i·cal","NULL","ˌænəˈlɪtɪkl","ˌænəˈlɪtɪkl"]
[1176637,"salsa",7575,5,0,"a·las","NULL","ˈsælsə","ˈsɑlsə"]
[1176680,"dell",7624,5,0,"dell","NULL","del","dɛl"]
[1176756,"urine",7714,5,0,"u·rine",0.007,"ˈjʊərɪn","ˈjʊrən"]
[1176819,"charcoal",7790,5,0,"char·coal","NULL","ˈtʃɑ:kəʊl","ˈtʃɑrkoʊl"]
[1176874,"pecan",7844,5,0,"pe·can","NULL","ˈpi:kən","pɪˈkɑn"]
[1176948,"polling",7928,5,0,"poll·ing","NULL","ˈpəʊlɪŋ","ˈpoʊlɪŋ"]
[1176961,"tortilla",7943,5,0,"tor·til·la","NULL","tɔ:ˈti:ə","tɔrˈtiə"]
[1254458,"Guild",8025,0,4,"guild","NULL","NULL","NULL"]
[1177079,"gland",8074,5,0,"gland","NULL","glænd","ɡlænd"]
[1158709,"vocational",8151,2,0,"vo·ca·tion·al","NULL","vəʊˈkeɪʃənl","voʊˈkeɪʃənl"]
[1177175,"aspire",8188,5,0,"as·pire","NULL","əˈspaɪə(r)","əˈspaɪr"]
[908658,"glitter",8285,2,0,"glit·ter","NULL","ˈglɪtə(r)","ˈɡlɪtɚ"]
[1278835,"Rocker",8325,0,4,"rock·er","NULL","NULL","NULL"]
[1177325,"stature",8357,5,0,"stat·ure",0.007,"ˈstætʃə(r)","ˈstætʃɚ"]
[1230317,"Alas",8428,0,4,"a·las","NULL","NULL","NULL"]
[1177460,"narrowly",8502,5,0,"nar·row·ly","NULL","ˈnærəʊli","ˈnæroʊli"]
[1177512,"jockey",8561,5,0,"jock·ey","NULL","ˈdʒɒki","ˈdʒɑki"]
[1177529,"bailout",8578,5,0,"bail·out","NULL","ˈbeɪlaʊt","ˈbelˌaʊt"]
[1177601,"impending",8658,5,0,"im·pend·ing","NULL","ɪmˈpendɪŋ","NULL"]
[914219,"groundwater",8711,2,0,"ground·wa·ter",0.014,"ˈgraʊndwɔ:tə(r)","ˈɡraʊndˌwɔtɚ, -ˌwɑtɚ"]
[1177699,"anguish",8772,5,0,"an·guish","NULL","ˈæŋgwɪʃ","ˈæŋɡwɪʃ"]
[911168,"gracious",8865,2,0,"gra·cious","NULL","ˈgreɪʃəs","ˈɡreʃəs"]
[1177830,"stakeholder",8912,5,0,"stake·hold·er","NULL","ˈsteɪkhəʊldə(r)","ˈsteɪkhoʊldə(r)"]
[1177892,"wrongdoing",8975,5,0,"wrong·do·ing",0.014,"ˈrɒŋdu:ɪŋ","ˈrɔŋduɪŋ"]
[1177938,"pigment",9021,5,0,"pig·ment",0.007,"ˈpɪgmənt","ˈpɪɡmənt"]
[1177976,"barracks",9065,5,0,"bar·racks","NULL","ˈbærəks","NULL"]
[1178036,"richness",9125,5,0,"rich·ness",0.014,"ˈrɪtʃnəs","ˈrɪtʃnəs"]
[1178083,"holler",9177,5,0,"hol·ler","NULL","ˈhɒlə(r)","ˈhɑlə(r)"]
[1178157,"long-range",9253,5,0,"long-range","NULL","lɒŋreɪndʒ","ˈlɔŋˈrendʒ, ˈlɑŋ-"]
[870898,"emulate",9283,2,0,"em·u·late","NULL","ˈemjuleɪt","ˈɛmjəˌlet"]
[1178242,"world-class",9345,5,0,"world-class","NULL","ˈwɜ:ldˈklæs","ˈwəldˈklæs"]
[1178303,"subgroup",9407,5,0,"sub·group","NULL","ˈsʌbgru:p","ˈsʌbˌɡrup"]
[1178388,"terrified",9497,5,0,"ter·ri·fied","NULL","ˈterɪfaɪd","ˈterɪfaɪd"]
[1108634,"stiffen",9540,2,0,"stiff·en","NULL","ˈstɪfn","ˈstɪfən"]
[1178495,"receptor",9613,5,0,"re·cep·tor","NULL","rɪˈseptə(r)","rɪˈseptər"]
[1178533,"oust",9651,5,0,"oust","NULL","aʊst","aʊst"]
[1178625,"mecca",9748,5,0,"Mec·ca","NULL","ˈmekə","ˈmɛkə"]
[1178641,"protector",9764,5,0,"pro·tect·or","NULL","prəˈtektə(r)","prəˈtɛktɚ"]
[1178738,"luncheon",9867,5,0,"lunch·eon","NULL","ˈlʌntʃən","ˈlʌntʃən"]
[1178768,"gush",9902,5,0,"gush","NULL","gʌʃ","ɡʌʃ"]
[1178836,"graveyard",9977,5,0,"grave·yard","NULL","ˈgreɪvjɑ:d","ˈgreɪvjɑrd"]
[1178904,"polymer",10053,5,0,"pol·y·mer",0.007,"ˈpɒlɪmə(r)","ˈpɑlɪmə(r)"]
[1178956,"homage",10111,5,0,"hom·age","NULL","ˈhɒmɪdʒ","ˈhɑmɪdʒ"]
[1250983,"Funk",10133,0,4,"funk","NULL","NULL","NULL"]
[1179027,"teacher-librarian",10185,5,0,"teacher-librarian","NULL","NULL","NULL"]
[1179099,"folded",10262,5,0,"folded","NULL","ˈfəʊldɪd","ˈfoʊldɪd"]
[1179187,"husky",10356,5,0,"husk·y","NULL","ˈhʌski","ˈhʌski"]
[1179236,"tiptoe",10404,5,0,"tip·toe",0.007,"ˈtɪptəʊ","ˈtɪptoʊ"]
[1179306,"principally",10475,5,0,"prin·ci·pal·ly","NULL","ˈprɪnsəpli","ˈprɪnsəpli"]
[1179312,"upbringing",10481,5,0,"up·bring·ing","NULL","ˈʌpbrɪŋɪŋ","ˈʌpˌbrɪŋɪŋ"]
[1228891,"Sultan",10550,0,2,"sul·tan","NULL","NULL","NULL"]
[1179451,"envelop",10620,5,0,"en·vel·op",0.007,"ɪnˈveləp","ɪnˈvɛləp"]
[1179519,"legalize",10693,5,0,"le·gal·ize","NULL","ˈli:gəlaɪz","ˈliɡəˌlaɪz"]
[1179587,"ascribe",10762,5,0,"as·cribe","NULL","əˈskraɪb","əˈskraɪb"]
[1179643,"resurrect",10821,5,0,"res·ur·rect","NULL","ˌrezəˈrekt","ˌrɛzəˈrɛkt"]
[1179674,"accelerated",10852,5,0,"ac·cel·er·at·ed","NULL","ækˈseləreɪtɪd","ækˈseləˌreɪtɪd"]
[1179733,"rendering",10915,5,0,"ren·der·ing","NULL","ˈrendərɪŋ","ˈrɛndərɪŋ"]
[1179795,"appalling",10976,5,0,"ap·pall·ing","NULL","əˈpɔ:lɪŋ","NULL"]
[1179887,"frigid",11071,5,0,"fri·gid","NULL","ˈfrɪdʒɪd","ˈfrɪdʒɪd"]
[1179941,"flatly",11125,5,0,"flat·ly","NULL","ˈflætli","ˈflætɪ"]
[1179994,"microorganism",11179,5,0,"mi·cro·or·gan·ism","NULL","ˌmaɪkrəʊˈɔ:gənɪzəm","ˌmaɪkroˈɔrɡəˌnɪzəm"]
[1283102,"Shah",11194,0,4,"shah","NULL","NULL","NULL"]
[1180062,"termite",11252,5,0,"ter·mite","NULL","ˈtɜ:maɪt","ˈtɜrmaɪt"]
[1180137,"turbo",11331,5,0,"tur·bo","NULL","ˈtɜ:bəʊ","ˈtɜboʊ"]
[1180210,"sinking",11405,5,0,"sink·ing","NULL","ˈsɪŋkɪŋ","ˈsɪŋkɪŋ"]
[1180269,"tremor",11465,5,0,"tre·mor","NULL","ˈtremə(r)","ˈtrɛmɚ"]
[1180352,"weeping",11547,5,0,"weep·ing","NULL","ˈwi:pɪŋ","ˈwipɪŋ"]
[1180360,"jock",11554,5,0,"jock","NULL","dʒɒk","dʒɑk"]
[1180423,"deteriorating",11619,5,0,"de·te·ri·o·rat·ing","NULL","NULL","NULL"]
[1180509,"aristocratic",11708,5,0,"a·ris·to·crat·ic","NULL","ˌærɪstəˈkrætɪk","əˌrɪstəˈkrætɪk"]
[1278686,"Rivet",11757,0,4,"riv·et","NULL","NULL","NULL"]
[1180626,"biomedical",11830,5,0,"bi·o·med·i·cal","NULL","ˌbaɪəʊˈmedɪkl","ˌbaɪoʊˈmedɪkl"]
[1180655,"momentary",11860,5,0,"mo·men·ta·ry","NULL","ˈməʊməntri","ˈmoʊmənteri"]
[1180757,"proctor",11963,5,0,"proc·tor","NULL","ˈprɒktə(r)","ˈprɑktə(r)"]
[1283166,"Shank",11973,0,4,"shank","NULL","NULL","NULL"]
[1180831,"ply",12036,5,0,"ply","NULL","plaɪ","plaɪ"]
[1270733,"Nay",12111,0,4,"nay","NULL","NULL","NULL"]
[1180981,"dosage",12186,5,0,"dos·age","NULL","ˈdəʊsɪdʒ","ˈdoʊsɪdʒ"]
[1265514,"Mane",12252,0,4,"mane","NULL","NULL","NULL"]
[1275067,"Piper",12327,0,4,"pip·er","NULL","NULL","NULL"]
[1181134,"waxed",12344,5,0,"waxed","NULL","NULL","NULL"]
[1181183,"respectfully",12397,5,0,"re·spect·ful·ly","NULL","rɪˈspektfəlɪ","rɪˈspɛktfəlɪ"]
[1181261,"stucco",12477,5,0,"stuc·co","NULL","ˈstʌkəʊ","ˈstʌkoʊ"]
[1181316,"adhesive",12532,5,0,"ad·he·sive","NULL","ədˈhi:sɪv","ædˈhisɪv, -zɪv"]
[1181399,"purposely",12615,5,0,"pur·pose·ly",0.007,"ˈpɜ:pəsli","ˈpɜrpəsli"]
[1181467,"tumultuous",12686,5,0,"tu·mul·tu·ous","NULL","tju:ˈmʌltʃuəs","tuˈmʌltʃuəs"]
[1181529,"eyelash",12746,5,0,"eye·lash","NULL","ˈaɪlæʃ","ˈaɪˌlæʃ"]
[1181546,"domestically",12764,5,0,"do·mes·ti·cal·ly","NULL","dəˈmestɪklɪ","dəˈmestɪklɪ"]
[1236733,"Bran",12824,0,4,"bran","NULL","NULL","NULL"]
[1181682,"appalled",12904,5,0,"ap·palled","NULL","əˈpɔ:ld","NULL"]
[1181759,"shad",12982,5,0,"shad","NULL","ʃæd","ʃæd"]
[1181801,"financier",13025,5,0,"fi·nan·ci·er","NULL","faɪˈnænsiə(r)","ˌfɪnənˈsɪr"]
[1287097,"Stringer",13119,0,4,"string·er","NULL","NULL","NULL"]
[1226776,"Lope",13135,0,2,"lope",0.007,"NULL","NULL"]
[1182016,"grueling",13244,5,0,"gru·el·ing","NULL","ˈgrʊəlɪŋ","ˈɡruəlɪŋ, ˈɡrulɪŋ"]
[1182047,"nerd",13274,5,0,"nerd","NULL","nɜ:d","nɜrd"]
[1266578,"Mayoral",13335,0,4,"may·or·al","NULL","NULL","NULL"]
[1182170,"crevice",13402,5,0,"crev·ice","NULL","ˈkrevɪs","ˈkrɛvɪs"]
[1182258,"armrest",13491,5,0,"arm·rest","NULL","ˈɑ:mrest","ˈɑrmrest"]
[1241380,"Cola",13552,0,4,"co·la","NULL","NULL","NULL"]
[1182329,"excise",13562,5,0,"ex·cise","NULL","ˈeksaɪz","ˈeksaɪz"]
[1182405,"hotly",13639,5,0,"hot·ly","NULL","ˈhɒtli","ˈhɑtli"]
[1182465,"trapper",13701,5,0,"trap·per","NULL","ˈtræpə(r)","ˈtræpɚ"]
[1182538,"indigo",13778,5,0,"in·di·go","NULL","ˈɪndɪgəʊ","ˈɪndɪgoʊ"]
[1182599,"tenement",13841,5,0,"ten·e·ment","NULL","ˈtenəmənt","ˈtɛnəmənt"]
[1182648,"quark",13890,5,0,"quark","NULL","kwɑ:k","kwɑrk"]
[1182685,"rickety",13928,5,0,"rick·et·y","NULL","ˈrɪkəti","ˈrɪkɪti"]
[1182746,"buttress",13991,5,0,"but·tress","NULL","ˈbʌtrəs","ˈbʌtrɪs"]
[1182804,"microcosm",14052,5,0,"mi·cro·cosm","NULL","ˈmaɪkrəʊkɒzəm","ˈmaɪkroʊkɑzəm"]
[1182884,"voodoo",14131,5,0,"voo·doo","NULL","ˈvu:du:","ˈvudu"]
[1237248,"Brine",14208,0,4,"brine","NULL","NULL","NULL"]
[1183022,"seethe",14273,5,0,"seethe","NULL","si:ð","sið"]
[1183034,"prologue",14285,5,0,"pro·logue","NULL","ˈprəʊlɒg","ˈproʊlɔg"]
[1183111,"scamper",14363,5,0,"scam·per","NULL","ˈskæmpə(r)","ˈskæmpɚ"]
[1183184,"aquaculture",14435,5,0,"aq·ua·cul·ture","NULL","ˈækwəkʌltʃə(r)","ˈækwəˌkʌltʃɚ, ˈɑkwə-"]
[1235972,"Bonnet",14506,0,4,"bon·net","NULL","NULL","NULL"]
[1183333,"granulate",14586,5,0,"gran·u·late","NULL","ˈgrænjʊleɪt","ˈgrænjəˌleɪt"]
[1183375,"rockfish",14630,5,0,"rock·fish","NULL","ˈrɒkˌfɪʃ","ˈrɒkˌfɪʃ"]
[1183412,"hairstyle",14665,5,0,"hair·style",0.007,"ˈheəstaɪl","ˈherstaɪl"]
[1183522,"cylindrical",14779,5,0,"cy·lin·dri·cal","NULL","səˈlɪndrɪkl","səˈlɪndrɪkəl"]
[1183547,"inferno",14806,5,0,"in·fer·no","NULL","ɪnˈfɜ:nəʊ","ɪnˈfɜrnoʊ"]
[1183620,"offbeat",14881,5,0,"off·beat","NULL","ˌɒfˈbi:t","ˌɔfˈbit"]
[1183677,"chewing",14938,5,0,"chew·ing","NULL","tˈʃu:ɪŋ","tˈʃuɪŋ"]
[1284596,"Sleigh",15016,0,4,"sleigh","NULL","NULL","NULL"]
[1183769,"syntax",15031,5,0,"syn·tax","NULL","ˈsɪntæks","ˈsɪnˌtæks"]
[1183865,"anguished",15126,5,0,"an·guished","NULL","ˈæŋɡwɪʃd","ˈæŋɡwɪʃd"]
[1183912,"predictability",15174,5,0,"pre·dict·a·bil·i·ty","NULL","prɪˌdɪktəˈbɪlətɪ","prɪˌdɪktəˈbɪlətɪ"]
[1183993,"functionality",15257,5,0,"functionality","NULL","ˌfʌŋkʃəˈnæləti","ˌfʌŋkʃəˈnælɪti"]
[1184029,"epidemiologist",15294,5,0,"ep·i·de·mi·ol·o·gist","NULL","ˌepɪˌdi:mɪˈɒlədʒɪst","ˌepɪˌdimɪˈɒlədʒɪst"]
[1231563,"Arroyo",15394,0,4,"ar·roy·o","NULL","NULL","NULL"]
[1184191,"synchronize",15457,5,0,"syn·chro·nize","NULL","ˈsɪŋkrənaɪz","ˈsɪŋkrəˌnaɪz, ˈsɪn-"]
[1184248,"precocious",15514,5,0,"pre·co·cious","NULL","prɪˈkəʊʃəs","prɪˈkoʊʃəs"]
[1184282,"unsustainable",15550,5,0,"un·sus·tain·a·ble","NULL","ˌʌnsəˈsteɪnəbl","NULL"]
[1184342,"neuroscience",15612,5,0,"neuroscience",0.007,"ˈnjʊərəʊsaɪəns","ˈnʊroʊsaɪəns"]
[1184401,"communicating",15672,5,0,"com·mu·ni·cat·ing","NULL","NULL","NULL"]
[1184497,"five-minute",15769,5,0,"five-minute","NULL","NULL","NULL"]
[1184520,"chum",15792,5,0,"chum","NULL","tʃʌm","tʃʌm"]
[1184578,"piecemeal",15849,5,0,"piece·meal","NULL","ˈpi:smi:l","ˈpisˌmil"]
[1184638,"uprooted",15909,5,0,"uprooted","NULL","NULL","NULL"]
[1184746,"annal",16019,5,0,"an·nal","NULL","ˈænl","ˈænəl"]
[1184794,"callous",16068,5,0,"cal·lous","NULL","ˈkæləs","ˈkæləs"]
[1184860,"aesthetically",16132,5,0,"aes·thet·i·cal·ly","NULL","esˈθetɪklɪ","esˈθetɪklɪ"]
[1184904,"cystic",16178,5,0,"cyst·ic","NULL","ˈsɪstɪk","ˈsɪstɪk"]
[1184993,"fibrous",16268,5,0,"fi·brous","NULL","ˈfaɪbrəs","ˈfaɪbrəs"]
[1185009,"raindrop",16284,5,0,"rain·drop","NULL","ˈreɪndrɒp","ˈreɪndrɑp"]
[1185064,"mandated",16339,5,0,"man·dat·ed","NULL","ˈmændeɪtɪd","NULL"]
[1185143,"resale",16420,5,0,"re·sale","NULL","ˈri:seɪl","ˈriˌsel, riˈsel"]
[1185222,"capitalization",16498,5,0,"cap·i·tal·i·za·tion","NULL","ˌkæpɪtəlaɪˈzeɪʃn","ˌkæpɪtəlaɪˈzeɪʃn"]
[1185279,"expound",16557,5,0,"ex·pound","NULL","ɪkˈspaʊnd","ɪkˈspaʊnd"]
[1185299,"petitioner",16578,5,0,"pe·ti·tion·er","NULL","pəˈtɪʃənə(r)","pəˈtɪʃənɚ"]
[1239385,"Carmine",16674,0,4,"car·mine","NULL","NULL","NULL"]
[1227051,"Marguerite",16716,0,2,"mar·gue·rite","NULL","NULL","NULL"]
[1185515,"consul",16794,5,0,"con·sul","NULL","ˈkɒnsl","ˈkɑnsl"]
[1185557,"dishonesty",16836,5,0,"dis·hon·es·ty",0.014,"dɪsˈɒnɪsti:","dɪsˈɑnɪsti"]
[1185658,"criminally",16937,5,0,"crim·i·nal·ly",0.007,"ˈkrɪmɪnəli","ˈkrɪmɪnəli"]
[1185674,"interweave",16954,5,0,"in·ter·weave","NULL","ˌɪntəˈwi:v","ˌɪntərˈwiv"]
[1229028,"Tempest",17065,0,2,"tem·pest","NULL","NULL","NULL"]
[1185814,"reusable",17097,5,0,"re·us·a·ble",0.021,"ˌri:ˈju:zəbl","riˈjuzəbl"]
[1185893,"enmity",17177,5,0,"en·mi·ty","NULL","ˈenməti","ˈɛnmɪti"]
[1185974,"henceforth",17259,5,0,"hence·forth","NULL","ˌhensˈfɔ:θ","ˌhensˈfɔrθ"]
[1186035,"vandal",17321,5,0,"van·dal","NULL","ˈvændl","ˈvændl"]
[1186050,"boldness",17336,5,0,"bold·ness",0.007,"ˈbəʊldnɪs","ˈboʊldnɪs"]
[1186135,"derogatory",17424,5,0,"de·rog·a·to·ry","NULL","dɪˈrɒgətri","dɪˈrɑgətɔri"]
[1186187,"five-star",17476,5,0,"five-star","NULL","faɪvstɑ:","faɪvstɑr"]
[1186251,"age-related",17541,5,0,"age-related","NULL","NULL","NULL"]
[1186299,"resuscitate",17589,5,0,"re·sus·ci·tate","NULL","rɪˈsʌsɪteɪt","rɪˈsʌsɪteɪt"]
[1186408,"potty",17699,5,0,"pot·ty",0.007,"ˈpɒti","ˈpɑti"]
[1186478,"receptacle",17769,5,0,"re·cep·ta·cle","NULL","rɪˈseptəkl","rɪˈsɛptəkəl"]
[1186488,"myocardial",17779,5,0,"my·o·car·di·al","NULL","ˌmaɪəˈkɑ:dɪəl","ˌmaɪəˈkɑdɪrl"]
[1186567,"cloister",17859,5,0,"clois·ter",0.007,"ˈklɔɪstə(r)","ˈklɔɪstɚ"]
[1186642,"sportsmanship",17933,5,0,"sports·man·ship",0.007,"ˈspɔ:tsmənʃɪp","ˈspɔrtsmənʃɪp"]
[1186706,"renewables",18000,5,0,"re·new·a·bles","NULL","NULL","NULL"]
[1186773,"gratify",18067,5,0,"grat·i·fy","NULL","ˈgrætɪfaɪ","ˈɡrætəˌfaɪ"]
[1186806,"third-generation",18101,5,0,"third-generation","NULL","NULL","NULL"]
[1186865,"superconducting",18162,5,0,"superconducting","NULL","sju:pəkənˈdʌktɪŋ","ˈsjupəkənˌdʌktɪŋ"]
[1186931,"postdoctoral",18229,5,0,"post·doc·tor·al","NULL","ˌpəʊstˈdɒktərəl","ˌpoʊstˈdɑktərəl"]
[1187031,"powwow",18330,5,0,"pow·wow","NULL","ˈpaʊwaʊ","ˈpaʊˌwaʊ"]
[1187074,"cellophane",18372,5,0,"cel·lo·phane",0.007,"ˈseləfeɪn","ˈsɛləˌfen"]
[1187149,"tenfold",18450,5,0,"ten·fold","NULL","ˈtenfəʊld","ˈtenfoʊld"]
[1187189,"muffler",18491,5,0,"muf·fler","NULL","ˈmʌflə(r)","ˈmʌflɚ"]
[1187288,"counterintuitive",18590,5,0,"counterintuitive","NULL","kaʊntərɪnˈtju:ɪtɪv","ˌkaʊntərɪnˈtjuɪtɪv"]
[1187304,"rematch",18606,5,0,"re·match","NULL","ˈri:mætʃ","riˈmætʃ, ˈriˌmætʃ"]
[1187377,"persimmon",18681,5,0,"per·sim·mon","NULL","pəˈsɪmən","pərˈsɪmən"]
[1266461,"Maul",18746,0,4,"maul","NULL","NULL","NULL"]
[1187526,"regalia",18832,5,0,"re·ga·li·a","NULL","rɪˈgeɪliə","rɪˈɡeljə, -ˈɡeliə"]
[1187583,"menial",18889,5,0,"men·ial","NULL","ˈmi:niəl","ˈminiəl, ˈminjəl"]
[1187663,"caloric",18971,5,0,"ca·lor·ic","NULL","kəˈlɒrɪk","kəˈlɔrɪk, -ˈlɑr-"]
[1187693,"subsection",19001,5,0,"sub·sec·tion","NULL","ˈsʌbsekʃn","ˈsʌbsekʃn"]
[1187746,"oscillate",19054,5,0,"os·cil·late","NULL","ˈɒsɪleɪt","ˈɑsɪleɪt"]
[1258199,"Huck",19133,0,4,"huck","NULL","NULL","NULL"]
[1187860,"crucially",19170,5,0,"cru·cial·ly","NULL","ˈkru:ʃɪəlɪ","ˈkruʃəlɪ"]
[1187969,"exerciser",19277,5,0,"ex·er·cis·er","NULL","ˈeksəsaɪzə","ˈeksəˌsaɪzə"]
[1187984,"resound",19292,5,0,"re·sound","NULL","rɪˈzaʊnd","rɪˈzaʊnd"]
[1188055,"demarcation",19362,5,0,"de·mar·ca·tion","NULL","ˌdi:mɑ:ˈkeɪʃn","ˌdimɑrˈkeɪʃn"]
[1188125,"weedy",19432,5,0,"weed·y","NULL","ˈwi:di","ˈwidɪ"]
[1188200,"prostrate",19508,5,0,"pros·trate","NULL","ˈprɒstreɪt","ˈprɑstreɪt"]
[1188280,"musicianship",19589,5,0,"mu·si·cian·ship","NULL","mjuˈzɪʃnʃɪp","mjuˈzɪʃnʃɪp"]
[1188348,"armadillo",19658,5,0,"ar·ma·dil·lo","NULL","ˌɑ:məˈdɪləʊ","ˌɑrməˈdɪloʊ"]
[1188404,"squalid",19714,5,0,"squal·id","NULL","ˈskwɒlɪd","ˈskwɑlɪd"]
[1188429,"court-martial",19740,5,0,"court-mar-tial","NULL","ˈkɔ:tˈmɑ:ʃəl","ˈkortˈmɑrʃəl"]
[1188506,"hypothesized",19818,5,0,"hy·poth·e·sized","NULL","NULL","NULL"]
[1188567,"disjointed",19878,5,0,"dis·joint·ed","NULL","dɪsˈdʒɔɪntɪd","dɪsˈdʒɔɪntɪd"]
[1188647,"chortle",19959,5,0,"chor·tle","NULL","ˈtʃɔ:tl","ˈtʃɔrtl"]
[1188724,"grubby",20037,5,0,"grub·by","NULL","ˈgrʌbi","ˈɡrʌbi"]
[1188782,"bylaw",20096,5,0,"by·law","NULL","ˈbaɪˌlɔ:","ˈbaɪˌlɔ"]
[1188798,"propellant",20112,5,0,"pro·pel·lant","NULL","prəˈpelənt","prəˈpɛlənt"]
[1188862,"portly",20177,5,0,"port·ly","NULL","ˈpɔ:tli","ˈpɔrtli"]
[1188949,"cowgirl",20265,5,0,"cow·girl","NULL","ˈkaʊgɜ:l","ˈkaʊgɜrl"]
[1189022,"ardor",20338,5,0,"ar·dor","NULL","ˈɑ:də","ˈɑrdɚ"]
[1263913,"Loch",20405,0,4,"loch","NULL","NULL","NULL"]
[1281036,"Savoy",20428,0,4,"Sa·voy","NULL","NULL","NULL"]
[1189183,"leaden",20499,5,0,"lead·en","NULL","ˈledn","ˈlɛdn"]
[1189295,"backboard",20611,5,0,"back·board","NULL","ˈbækbɔ:d","ˈbækbɔrd"]
[1189324,"fireside",20640,5,0,"fire·side","NULL","ˈfaɪəsaɪd","ˈfaɪərsaɪd"]
[1189386,"swampy",20703,5,0,"swamp·y","NULL","ˈswɒmpɪ","ˈswɑmpɪ"]
[1189455,"persuasively",20771,5,0,"per·sua·sive·ly","NULL","pəˈsweɪsɪvlɪ","pəˈsweɪsɪvlɪ"]
[1189542,"impressionable",20858,5,0,"im·pres·sion·a·ble","NULL","ɪmˈpreʃənəbl","ɪmˈprɛʃənəbəl"]
[1189610,"neolithic",20926,5,0,"ne·o·lith·ic","NULL","ˌni:əˈlɪθɪk","ˌniəˈlɪθɪk"]
[1189624,"attentiveness",20940,5,0,"at·ten·tive·ness","NULL","NULL","NULL"]
[1189694,"battery-powered",21008,5,0,"battery-powered","NULL","ˈbætəri:pˈaʊəd","ˈbætəripˈaʊəd"]
[1189771,"helluva",21086,5,0,"hell·uv·a","NULL","ˈheləvə","ˈhɛləvə"]
[1189852,"ugandan",21167,5,0,"ugandan","NULL","ju:ˈɡændən","juˈɡændən"]
[1189913,"branded",21229,5,0,"branded","NULL","ˈbrændɪd","NULL"]
[1189993,"remand",21309,5,0,"re·mand","NULL","rɪˈmɑ:nd","rɪˈmænd"]
[1190017,"fashioned",21333,5,0,"fash·ioned","NULL","ˈfæʃənd","ˈfæʃənd"]
[928548,"hubby",21389,2,0,"hub·by","NULL","ˈhʌbi","ˈhʌbi"]
[1190153,"trite",21469,5,0,"trite","NULL","traɪt","traɪt"]
[1190213,"trashy",21531,5,0,"trash·y","NULL","ˈtræʃi","ˈtræʃi"]
[1190296,"quiche",21614,5,0,"quiche","NULL","ki:ʃ","kiʃ"]
[1190368,"sparkly",21685,5,0,"sparkly","NULL","ˈspɑ:klɪ","ˈspɑrkli"]
[1190441,"dishonor",21759,5,0,"dis·hon·or","NULL","dɪsˈɒnə","dɪsˈɒnə"]
[1190456,"woodsman",21774,5,0,"woods·man","NULL","ˈwʊdzmən","ˈwʊdzmən"]
[1190562,"masterwork",21880,5,0,"mas·ter·work",0.014,"ˈmɑ:stəwɜ:k","ˈmæstərwɜrk"]
[1190598,"magnificence",21917,5,0,"mag·nif·i·cence","NULL","mæɡˈnɪfɪsns","mæɡˈnɪfɪsəns"]
[1190679,"maquiladora",21998,5,0,"maquiladora","NULL","mækwɪləˈdɔ:rə","mækwɪləˈdɔrə"]
[1190726,"ineffable",22046,5,0,"in·ef·fa·ble","NULL","ɪnˈefəbl","ɪnˈɛfəbəl"]
[1190757,"equalizer",22078,5,0,"e·qual·iz·er","NULL","ˈi:kwəlaɪzər","ˈikwəˌlaɪzɚ"]
[1190837,"detachable",22158,5,0,"de·tach·a·ble","NULL","dɪˈtætʃəbl","dɪˈtætʃəbl"]
[1190891,"schmooze",22212,5,0,"schmooze","NULL","ʃmu:z","ʃmuz"]
[1190984,"annul",22305,5,0,"an·nul",0.007,"əˈnʌl","əˈnʌl"]
[1191048,"stimulator",22370,5,0,"stim·u·la·tor","NULL","ˈstɪmjʊleɪtə","ˈstɪmjʊleɪtə"]
[1191122,"epistemic",22444,5,0,"ep·i·ste·mic","NULL","ˌepɪˈsti:mɪk","ˌɛpɪˈstimɪk"]
[1191146,"bondholder",22467,5,0,"bond·hold·er","NULL","ˈbɒndˌhəʊldə","ˈbɒndˌhoʊldə"]
[1191247,"endangerment",22568,5,0,"en·dan·ger·ment","NULL","ɪnˈdeɪndʒəmənt","ɪnˈdeɪndʒəmənt"]
[1191292,"segmented",22613,5,0,"seg·ment·ed","NULL","ˈsegməntɪd","ˈsɛɡˌmɛntɪd, sɛɡˈmɛn-"]
[1191373,"bloodbath",22694,5,0,"bloodbath","NULL","ˈblʌdbɑ:θ","ˈblʌdbæθ"]
[1191412,"infirm",22734,5,0,"in·firm","NULL","ɪnˈfɜ:m","ɪnˈfɜrm"]
[1268563,"Mignon",22838,0,4,"mi·gnon","NULL","NULL","NULL"]
[1191583,"disconnected",22905,5,0,"dis·con·nect·ed","NULL","ˌdɪskəˈnektɪd","ˌdɪskəˈnɛktɪd"]
[1191646,"four-stroke",22968,5,0,"four-stroke","NULL","fɔ:strəuk","fɔrstrok"]
[1191683,"pied",23005,5,0,"pied","NULL","paɪd","paɪd"]
[1191750,"neglectful",23072,5,0,"neg·lect·ful","NULL","nɪˈglektfl","nɪˈɡlɛktfəl"]
[1191815,"formalized",23137,5,0,"for·mal·ized","NULL","NULL","NULL"]
[1191896,"braise",23219,5,0,"braise","NULL","breɪz","brez"]
[1191977,"gray-green",23300,5,0,"gray-green","NULL","NULL","NULL"]
[1192049,"pullback",23372,5,0,"pullback","NULL","ˈpʊlbæk","ˈpʊlˌbæk"]
[1192060,"wedded",23383,5,0,"wed·ded","NULL","ˈwedɪd","ˈwɛdɪd"]
[1192142,"reforestation",23465,5,0,"reforestation","NULL","ˌri:fɒrɪˈsteɪʃn","ˌrifɔrɪˈsteɪʃn"]
[1192219,"patristic",23542,5,0,"pa·tris·tic","NULL","pəˈtrɪstɪk","pəˈtrɪstɪk"]
[1192286,"gummy",23610,5,0,"gum·my","NULL","ˈgʌmi","ˈɡʌmi"]
[1192339,"flatland",23663,5,0,"flatland","NULL","fˈlætlænd","fˈlætlænd"]
[1192431,"cantankerous",23754,5,0,"can·tan·ker·ous","NULL","kænˈtæŋkərəs","kænˈtæŋkərəs"]
[1192447,"longshoreman",23770,5,0,"long·shore·man","NULL","ˈlɒŋʃɔ:mən","ˈlɔŋʃɔrmən"]
[1192506,"translated",23829,5,0,"translated","NULL","NULL","NULL"]
[1192589,"isolating",23912,5,0,"i·so·lat·ing","NULL","ˈaɪsəleɪtɪŋ","NULL"]
[1192671,"logjam",23993,5,0,"log·jam","NULL","ˈlɒgdʒæm","ˈlɔgdʒæm"]
[1192702,"depression-era",24024,5,0,"depression-era","NULL","NULL","NULL"]
[1192813,"nitric",24135,5,0,"ni·tric","NULL","ˈnaɪtrɪk","ˈnaɪtrɪk"]
[1287477,"Summa",24151,0,4,"sum·ma","NULL","NULL","NULL"]
[1272299,"Olden",24249,0,4,"old·en","NULL","NULL","NULL"]
[1192972,"subfield",24294,5,0,"sub·field","NULL","ˈsʌbfi:ld","ˈsʌbˌfild"]
[1193051,"quorum",24373,5,0,"quo·rum","NULL","ˈkwɔ:rəm","ˈkwɔrəm, ˈkwor-"]
[1193094,"popping",24416,5,0,"pop·ping","NULL","ˈpɒpɪŋ","ˈpɒpɪŋ"]
[1193200,"doormat",24522,5,0,"door·mat","NULL","ˈdɔ:mæt","ˈdɔrmæt"]
[1193217,"jackhammer",24539,5,0,"jack·ham·mer","NULL","ˈdʒækhæmə(r)","ˈdʒækˌhæmɚ"]
[1193280,"brimstone",24602,5,0,"brim·stone","NULL","ˈbrɪmstəʊn","ˈbrɪmstoʊn"]
[1193362,"waterworks",24684,5,0,"wa·ter·works","NULL","ˈwɔ:təwɜ:ks","ˈwɔtərwɜrks"]
[1193448,"unleaded",24772,5,0,"un·lead·ed","NULL","ˌʌnˈledɪd","ʌnˈlɛdɪd"]
[1232836,"Barman",24829,0,4,"bar·man","NULL","NULL","NULL"]
[1193588,"apocryphal",24912,5,0,"a·poc·ry·phal","NULL","əˈpɒkrɪfl","əˈpɑkrɪfl"]
[1193616,"pantheism",24940,5,0,"pan·the·ism","NULL","ˈpænθiɪzəm","ˈpænθiˌɪzəm"]
[1193668,"provocatively",24992,5,0,"pro·voc·a·tive·ly","NULL","NULL","NULL"]
[1193733,"insulator",25057,5,0,"in·su·la·tor","NULL","ˈɪnsjuleɪtə(r)","ˈɪnsəleɪtə(r)"]
[1193781,"pitiless",25105,5,0,"pit·i·less","NULL","ˈpɪtiləs","ˈpɪtɪlɪs"]
[1193893,"conferee",25217,5,0,"con·fer·ee","NULL","ˌkɒnfəˈri:","ˌkɒnfəˈri"]
[1193962,"impish",25285,5,0,"imp·ish","NULL","ˈɪmpɪʃ","ˈɪmpɪʃ"]
[1194016,"pec",25338,5,0,"pec","NULL","pek","pɛk"]
[1194044,"inimitable",25366,5,0,"in·im·i·ta·ble","NULL","ɪˈnɪmɪtəbl","ɪˈnɪmɪtəbəl"]
[1194126,"flustered",25448,5,0,"flus·tered","NULL","NULL","NULL"]
[1194186,"alphabetically",25508,5,0,"al·pha·bet·i·cal·ly",0.01,"ˌælfəˈbetɪklɪ","ˌælfəˈbetɪklɪ"]
[1194274,"periodontal",25597,5,0,"per·i·o·don·tal","NULL","ˌperiəˈdɒntl","ˌperiəˈdɑntl"]
[1194309,"draught",25632,5,0,"draught","NULL","drɑ:ft","drɑft"]
[1194373,"frizz",25696,5,0,"frizz","NULL","frɪz","frɪz"]
[1194439,"playtime",25762,5,0,"play·time","NULL","ˈpleɪtaɪm","ˈpleɪtaɪm"]
[1238441,"Busing",25868,0,4,"bus·ing","NULL","NULL","NULL"]
[1194583,"filo",25907,5,0,"filo","NULL","ˈfi:ləʊ","ˈfaɪloʊ"]
[1194665,"undignified",25989,5,0,"un·dig·ni·fied","NULL","ʌnˈdɪgnɪfaɪd","ʌnˈdɪɡnəˌfaɪd"]
[1194709,"subnational",26033,5,0,"subnational","NULL","NULL","NULL"]
[1194811,"sculpting",26135,5,0,"sculpt·ing","NULL","NULL","NULL"]
[1194826,"alluvial",26150,5,0,"al·lu·vi·al","NULL","əˈlu:viəl","əˈluviəl"]
[1194945,"center-right",26268,5,0,"center-right","NULL","ˈsentərait","ˈsɛntɚraɪt"]
[1194976,"litigious",26299,5,0,"li·ti·gious","NULL","lɪˈtɪdʒəs","lɪˈtɪdʒəs"]
[1195054,"credulity",26378,5,0,"cre·du·li·ty","NULL","krɪˈdju:ləti","krɪˈduləti"]
[1195141,"lye",26465,5,0,"lye","NULL","laɪ","laɪ"]
[1195200,"hardback",26524,5,0,"hard·back","NULL","ˈhɑ:dbæk","ˈhɑrdbæk"]
[1195231,"co-manager",26555,5,0,"co-manager","NULL","ˈkəʊmˈænɪdʒər","ˈkoʊmˈænɪdʒər"]
[1195282,"feedlot",26606,5,0,"feed·lot","NULL","ˈfi:dˌlɒt","ˈfidˌlɒt"]
[1195365,"cakewalk",26689,5,0,"cake·walk","NULL","ˈkeɪkwɔ:k","ˈkeɪkwɔk"]
[1195435,"lawbreaker",26759,5,0,"law·break·er","NULL","ˈlɔ:breɪkə(r)","ˈlɔˌbrekɚ"]
[1195513,"vacuous",26837,5,0,"vac·u·ous","NULL","ˈvækjuəs","ˈvækjuəs"]
[1195594,"derived",26918,5,0,"de·rived","NULL","dɪˈraɪvd","dɪˈraɪvd"]
[1195605,"joyously",26929,5,0,"joy·ous·ly",0.03,"ˈdʒɔɪəslɪ","ˈdʒɔɪəslɪ"]
[1297862,"Dauphin",26997,0,3,"dau·phi·n","NULL","NULL","NULL"]
[1195750,"goodly",27074,5,0,"good·ly","NULL","ˈgʊdli","ˈɡʊdli"]
[1195829,"maximization",27153,5,0,"max·i·mi·za·tion",0.01,"ˌmæksɪmaɪˈzeɪʃn","ˌmæksɪmaɪˈzeɪʃn"]
[1195896,"roofer",27220,5,0,"roof·er","NULL","ˈru:fə(r)","ˈrufɚ, ˈrʊfɚ"]
[1195963,"zookeeper",27287,5,0,"zookeeper","NULL","ˈzu:ki:pə(r)","ˈzukipər"]
[1195999,"personalization",27323,5,0,"per·son·al·i·za·tion","NULL","ˈpɜ:sənəlaɪzeɪʃn","ˈpɜsənəlaɪzeɪʃn"]
[1196061,"postural",27385,5,0,"pos·tur·al","NULL","ˈpɒstʃərəl","ˈpɑstʃərəl"]
[1196121,"myelin",27445,5,0,"my·e·lin","NULL","ˈmaɪəlɪn","ˈmaɪəlɪn"]
[1196207,"well-fed",27531,5,0,"well-fed","NULL","ˈwelˈfed","ˈwɛlˈfɛd"]
[1196272,"untried",27596,5,0,"un·tried","NULL","ˌʌnˈtraɪd","ʌnˈtraɪd"]
[1196351,"fecund",27676,5,0,"fe·cund","NULL","ˈfi:kənd","ˈfikənd, ˈfɛkənd"]
[1196430,"logistically",27755,5,0,"lo·gis·ti·cal·ly","NULL","NULL","NULL"]
[1291812,"Vert",27755,0,4,"vert","NULL","NULL","NULL"]
[1251140,"Gaff",27841,0,4,"gaff","NULL","NULL","NULL"]
[1196589,"clingy",27913,5,0,"cling·y","NULL","ˈklɪŋɪ","ˈklɪŋɪ"]
[1196656,"discernable",27980,5,0,"dis·cern·a·ble","NULL","dɪˈsɜ:nəbl","dɪˈsɜnəbl"]
[1196749,"weight-bearing",28073,5,0,"weight-bearing","NULL","ˈweɪtbˈeərɪŋ","ˈweɪtbˈeərɪŋ"]
[1196804,"pharma",28128,5,0,"pharma","NULL","NULL","NULL"]
[1196819,"trilateral",28143,5,0,"tri·lat·er·al","NULL","ˌtraɪˈlætərəl","traɪˈlætərəl"]
[1196919,"menstruate",28243,5,0,"men·stru·ate","NULL","ˈmenstrueɪt","ˈmɛnstruˌeɪt"]
[1196964,"copse",28288,5,0,"copse","NULL","kɒps","kɑps"]
[1197045,"divestiture",28369,5,0,"di·vest·i·ture","NULL","daɪˈvestɪtʃə","dɪˈvɛstɪtʃɚ, -ˌtʃʊr, daɪ-"]
[1197085,"alliteration",28409,5,0,"al·lit·er·a·tion","NULL","əˌlɪtəˈreɪʃn","əˌlɪtəˈreʃən"]
[1197191,"rheumatic",28517,5,0,"rheu·mat·ic","NULL","rʊˈmætɪk","ruˈmætɪk"]
[1197206,"work-family",28532,5,0,"work-family","NULL","NULL","NULL"]
[1197274,"worked",28600,5,0,"worked","NULL","wɜ:kt","wɜkt"]
[1197354,"b-movie",28680,5,0,"b-movie","NULL","NULL","NULL"]
[1197440,"freewheel",28767,5,0,"free·wheel","NULL","ˌfri:ˈwi:l","ˈfriˈhwil, -ˈwil"]
[1197501,"curvaceous",28829,5,0,"cur·va·ceous","NULL","kɜ:ˈveɪʃəs","kɜrˈveɪʃəs"]
[1197583,"honking",28911,5,0,"honk·ing","NULL","NULL","NULL"]
[1197640,"hemorrhaging",28968,5,0,"hem·or·rhag·ing","NULL","NULL","NULL"]
[1197663,"suppressant",28991,5,0,"suppressant","NULL","səˈpresnt","səˈpresnt"]
[1197745,"copperhead",29073,5,0,"cop·per·head","NULL","ˈkɒpəhed","ˈkɑpərhed"]
[1197808,"gabled",29136,5,0,"ga·bled","NULL","ˈgeɪbld","NULL"]
[1197888,"particularism",29217,5,0,"par·tic·u·lar·ism","NULL","pəˈtɪkjʊlərɪzəm","pəˈtɪkjələrɪzəm"]
[1197970,"sassafras",29299,5,0,"sas·sa·fras","NULL","ˈsæsəfræs","ˈsæsəfræs"]
[1198036,"seven-time",29365,5,0,"seven-time","NULL","NULL","NULL"]
[1198050,"within-group",29379,5,0,"within-group","NULL","NULL","NULL"]
[1198159,"mexicana",29488,5,0,"mexicana","NULL","NULL","NULL"]
[1198196,"burnet",29525,5,0,"bur·net","NULL","ˈbɜ:nɪt","ˈbɜnɪt"]
[1198278,"carouse",29607,5,0,"ca·rouse","NULL","kəˈraʊz","kəˈraʊz"]
[1198329,"volumetric",29658,5,0,"vol·u·met·ric","NULL","ˌvɒljʊˈmetrɪk","ˌvɒljəˈmetrɪk"]
[1198427,"curly-haired",29756,5,0,"curly-haired","NULL","NULL","NULL"]
[1198443,"highball",29772,5,0,"high·ball","NULL","ˈhaɪbɔ:l","ˈhaɪbɔl"]
[1198499,"diatom",29828,5,0,"di·a·tom","NULL","ˈdaɪətəm","ˈdaɪətəm"]
[1198589,"floor-length",29919,5,0,"floor-length","NULL","ˈflɔ:leŋθ","ˈfloʊrˌleŋθ"]
[1198656,"most-watched",29986,5,0,"most-watched","NULL","NULL","NULL"]
[1198735,"methylmercury",30065,5,0,"methylmercury","NULL","ˈmeθɪlˈmɜ:kjʊrɪ","ˌmeθəlˈmɜkjərɪ"]
[1198822,"medevac",30152,5,0,"medevac","NULL","ˈmedɪvæk","ˈmedɪvæk"]
[1198890,"inquiry-based",30221,5,0,"inquiry-based","NULL","NULL","NULL"]
[1198906,"pre-adolescent",30237,5,0,"pre-adolescent","NULL","NULL","NULL"]
[1198970,"nonrespondent",30301,5,0,"nonrespondent","NULL","NULL","NULL"]
[1199053,"streptococcus",30384,5,0,"strep·to·coc·cus","NULL","ˌstreptəˈkɒkəs","ˌstreptəˈkɑkəs"]
[1199141,"vaquero",30472,5,0,"va·que·ro","NULL","vɑ:ˈkerəʊ","vɑˈkerə"]
[1199202,"red-rimmed",30533,5,0,"red-rimmed","NULL","NULL","NULL"]
[1199264,"passim",30596,5,0,"pas·sim","NULL","ˈpæsɪm","ˈpæsɪm"]
[1199299,"attainder",30631,5,0,"at·tain·der","NULL","əˈteɪndə","əˈteɪndə"]
[1199367,"time-saver",30700,5,0,"time-saver","NULL","ˈtaɪmsˈeɪvər","ˈtaɪmsˈeɪvər"]
[1199434,"open-mindedness",30767,5,0,"open-mindedness","NULL","NULL","NULL"]
[1199514,"pompano",30847,5,0,"pom·pa·no","NULL","ˈpɒmpənəʊ","ˈpɒmpəˌnoʊ"]
[1199596,"mol",30929,5,0,"mol","NULL","məʊl","moʊl"]
[1199670,"karmic",31003,5,0,"kar·mic","NULL","kɑmɪk","kɑmɪk"]
[1199679,"off-color",31012,5,0,"off-col-or","NULL","ˈɔ:fˈkʌlə","ˈɔfˈkʌlə"]
[1199763,"hyoid",31096,5,0,"hy·oid","NULL","ˈhaɪɔɪd","ˈhaɪɔɪd"]
[1199875,"post-saddam",31208,5,0,"post-saddam","NULL","NULL","NULL"]
[1199911,"arboreal",31244,5,0,"ar·bor·e·al","NULL","ɑ:ˈbɔ:riəl","ɑrˈbɔriəl"]
[1199993,"spanish-style",31326,5,0,"spanish-style","NULL","NULL","NULL"]
[1200044,"major-label",31377,5,0,"major-label","NULL","NULL","NULL"]
[1200073,"untangled",31407,5,0,"untangled","NULL","NULL","NULL"]
[1200200,"entrenchment",31534,5,0,"en·trench·ment","NULL","ɪnˈtrentʃmənt","ɪnˈtrentʃmənt"]
[1200222,"over-the-air",31556,5,0,"over-the-air","NULL","NULL","NULL"]
[1200304,"interrogative",31638,5,0,"in·ter·rog·a·tive","NULL","ˌɪntəˈrɒgətɪv","ˌɪntəˈrɑgətɪv"]
[1200337,"redbud",31671,5,0,"red·bud","NULL","ˈredˌbʌd","ˈredˌbʌd"]
[1200455,"aerator",31789,5,0,"aer·a·tor","NULL","ˈeɪəreɪtə","ˈeɪəˌreɪtə"]
[1200471,"covenantal",31805,5,0,"cov·e·nan·tal","NULL","NULL","NULL"]
[1200569,"democratic-controlled",31904,5,0,"democratic-controlled","NULL","NULL","NULL"]
[1200610,"ne'er-do-well",31945,5,0,"ne'er-do-well","NULL","ˈneədu:wel","ˈnɛrduˌwɛl"]
[1200690,"frontiersman",32026,5,0,"fron·tiers·man","NULL","ˈfrʌntɪərzmən","frʌnˈtɪrzmən"]
[1200731,"short-handed",32067,5,0,"short-hand-ed","NULL","ˈʃɔ:tˈhændɪd","ˈʃɔrtˈhændɪd"]
[1200835,"sot",32171,5,0,"sot","NULL","sɒt","sɒt"]
[1200903,"kibble",32239,5,0,"kib·ble","NULL","ˈkɪbəl","ˈkɪbəl"]
[1200967,"velodrome",32303,5,0,"ve·lo·drome","NULL","ˈvelədrəʊm","ˈvelədroʊm"]
[1201000,"handedness",32336,5,0,"hand·ed·ness","NULL","ˈhændɪdnɪs","ˈhændɪdnɪs"]
[1201066,"caped",32403,5,0,"caped","NULL","keɪpt","keɪpt"]
[1290449,"Tweedy",32472,0,4,"tweed·y","NULL","NULL","NULL"]
[1201217,"off-field",32553,5,0,"off-field","NULL","NULL","NULL"]
[1201263,"wipeout",32599,5,0,"wipeout","NULL","ˈwaɪpaʊt","ˈwaɪpˌaʊt"]
[1201316,"msec",32653,5,0,"msec","NULL","mˈzek","mˈzek"]
[1201383,"croupier",32720,5,0,"crou·pi·er","NULL","ˈkru:pieɪ","ˈkrupiɚ, -piˌe"]
[1201500,"dyeing",32837,5,0,"dye·ing","NULL","ˈdaɪɪŋ","ˈdaɪɪŋ"]
[1201546,"obstructionism",32883,5,0,"ob·struc·tion·ism","NULL","əbˈstrʌkʃənɪzəm","NULL"]
[1201611,"certiorari",32948,5,0,"cer·ti·o·ra·ri","NULL","ˌsɜ:ʃɪəˈrerɪ","ˌsɜʃɪrˈrerɪ"]
[1201667,"refectory",33004,5,0,"re·fec·to·ry","NULL","rɪˈfektri","rɪˈfɛktəri"]
[1201760,"meadowlark",33097,5,0,"mead·ow·lark","NULL","ˈmedəʊlɑ:k","ˈmedoʊlɑrk"]
[1201777,"pissed-off",33114,5,0,"pissed-off","NULL","NULL","NULL"]
[1201840,"centripetal",33177,5,0,"cen·trip·e·tal","NULL","senˈtrɪpɪtl","sɛnˈtrɪpɪtl"]
[1201922,"turbofan",33260,5,0,"tur·bo·fan","NULL","ˈtɜ:bəʊfæn","ˈtɜboʊˌfæn"]
[1202002,"salesclerk",33340,5,0,"sales·clerk",0.007,"ˈseɪlzklɑ:k","ˈselzˌklək"]
[1202037,"broken-hearted",33375,5,0,"bro-ken-heart-ed","NULL","ˈbrəʊkənˈhɑ:tɪd","ˈbroʊkənˈhɑtɪd"]
[1202151,"buckboard",33490,5,0,"buck·board","NULL","ˈbʌkˌbɔ:d","ˈbʌkˌboʊrd"]
[1202192,"jingoistic",33531,5,0,"jin·go·is·tic","NULL","ˌdʒɪŋɡəʊˈɪstɪk","ˌdʒɪŋɡoʊˈɪstɪk"]
[1202233,"sunless",33572,5,0,"sun·less","NULL","ˈsʌnləs","ˈsʌnlɪs"]
[1202316,"luau",33655,5,0,"lu·au","NULL","lu:ˈaʊ","ˈluaʊ"]
[1202364,"tobacco-related",33703,5,0,"tobacco-related","NULL","NULL","NULL"]
[1202464,"submariner",33803,5,0,"sub·ma·rin·er","NULL","sʌbˈmærɪnə(r)","sʌbməˈrinɚ, ˌsʌbˈmærənɚ"]
[1202481,"vocab",33820,5,0,"vo·cab","NULL","ˈvəʊkæb","ˈvoʊkæb"]
[1202567,"reflexology",33906,5,0,"reflexology","NULL","ˌri:fleksˈɒlədʒi","ˌrifleksˈɑlədʒi"]
[1202631,"confectionery",33970,5,0,"con·fec·tion·er·y","NULL","kənˈfekʃənəri","kənˈfekʃəneri"]
[1202714,"tented",34053,5,0,"tent·ed","NULL","ˈtentɪd","ˈtɛntɪd"]
[1202800,"monitored",34140,5,0,"mon·i·tored","NULL","ˈmɒnɪtəd","ˈmɒnɪtəd"]
[1202858,"attestation",34198,5,0,"at·tes·ta·tion","NULL","ˌæteˈsteɪʃən","ˌæteˈsteɪʃən"]
[1202875,"cruciform",34215,5,0,"cru·ci·form","NULL","ˈkru:sɪfɔ:m","ˈkrusɪfɔrm"]
[1202971,"whiskered",34311,5,0,"whisk·ered","NULL","ˈwɪskəd","ˈwɪskərd"]
[1203024,"homosocial",34364,5,0,"homosocial","NULL","NULL","NULL"]
[1203091,"transportable",34432,5,0,"trans·port·a·ble","NULL","trænˈspɔ:təbl","trænˈspɔrtəbl"]
[1203144,"falling-out",34485,5,0,"falling-out","NULL","ˌfɔ:liŋˈaut","ˌfɔlɪŋˈaʊt"]
[1203257,"f-series",34598,5,0,"f-series","NULL","NULL","NULL"]
[1203270,"improvisatory",34611,5,0,"im·pro·vi·sa·to·ry","NULL","ɪmprəvaɪˈzeɪtərɪ","ɪmprəvaɪˈzeɪtərɪ"]
[1203341,"warm-hearted",34682,5,0,"warm-heart-ed","NULL","wɔ:mˈhɑ:tɪd","ˈwɔrmˈhɑrtɪd"]
[1203409,"latchkey",34750,5,0,"latch·key","NULL","ˈlætʃki:","ˈlætʃˌki"]
[1203508,"chevre",34849,5,0,"chevre","NULL","NULL","NULL"]
[1203575,"pertinence",34916,5,0,"per·ti·nence","NULL","ˈpɜ:tɪnəns","ˈpɜtɪnəns"]
[1203643,"certifiably",34984,5,0,"cer·ti·fi·a·bly","NULL","NULL","NULL"]
[1203682,"higher-than-average",35023,5,0,"higher-than-average","NULL","NULL","NULL"]
[1203741,"self-regard",35082,5,0,"self-re-gard","NULL","ˈselfriˈɡɑ:d","ˌsɛlfrɪˈɡɑrd"]
[1203809,"emerging-market",35150,5,0,"emerging-market","NULL","NULL","NULL"]
[1203921,"antitoxin",35262,5,0,"an·ti·tox·in","NULL","ˌæntɪˈtɒksɪn","ˌæntɪˈtɒksɪn"]
[1203960,"fine-boned",35301,5,0,"fine-boned","NULL","NULL","NULL"]
[1204042,"spittoon",35383,5,0,"spit·toon","NULL","spɪˈtu:n","spɪˈtun"]
[1204093,"fill-in-the-blank",35433,5,0,"fill-in-the-blank","NULL","NULL","NULL"]
[1204195,"vanadium",35535,5,0,"va·na·di·um","NULL","vəˈneɪdiəm","vəˈnediəm"]
[1204221,"color-coordinated",35561,5,0,"color-coordinated","NULL","NULL","NULL"]
[1204296,"pocked",35636,5,0,"pocked","NULL","NULL","NULL"]
[1204363,"bended",35703,5,0,"bend·ed","NULL","bendɪd","bendɪd"]
[1204457,"quarter-inch",35797,5,0,"quarter-inch","NULL","NULL","NULL"]
[1204509,"arcadian",35849,5,0,"ar·ca·di·an","NULL","ɑ:ˈkeɪdiən","ɑrˈkeɪdiən"]
[1204590,"item-total",35930,5,0,"item-total","NULL","NULL","NULL"]
[1204627,"raffish",35967,5,0,"raff·ish","NULL","ˈræfɪʃ","ˈræfɪʃ"]
[1204675,"anoxic",36015,5,0,"an·ox·ic","NULL","æˈnɒksɪk","æˈnɒksɪk"]
[1204757,"modulated",36097,5,0,"mod·u·lat·ed","NULL","ˈmɒdjʊleɪtɪd","ˈmɒdjʊleɪtɪd"]
[1204830,"bringer",36170,5,0,"bring·er","NULL","NULL","NULL"]
[1204904,"nebular",36244,5,0,"neb·u·lar","NULL","ˈnebjʊlə","ˈnebjələ"]
[1204985,"vaunt",36325,5,0,"vaunt","NULL","vɔ:nt","vɔnt, vɑnt"]
[1204999,"alphabetize",36339,5,0,"al·pha·bet·ize","NULL","ˈælfəbətaɪz","ˈælfəbətaɪz"]
[1205069,"lawgiver",36409,5,0,"law·giv·er","NULL","ˈlɔ:ˌgɪvə","ˈlɔˌgɪvə"]
[1205152,"unchained",36492,5,0,"un·chained","NULL","ʌnˈtʃeɪnd","ʌnˈtʃeɪnd"]
[1205235,"millinery",36575,5,0,"mil·li·ner·y","NULL","ˈmɪlɪnəri","ˈmɪlɪneri"]
[1205299,"underreporting",36639,5,0,"underreporting","NULL","NULL","NULL"]
[1205361,"head-high",36701,5,0,"head-high","NULL","NULL","NULL"]
[1205383,"mitosis",36723,5,0,"mi·to·sis","NULL","maɪˈtəʊsɪs","maɪˈtoʊsɪs"]
[1205465,"biodynamic",36805,5,0,"bi·o·dy·nam·ic","NULL","baɪədaɪˈnæmɪk","baɪədaɪˈnæmɪk"]
[1205530,"inclusionary",36870,5,0,"inclusionary","NULL","NULL","NULL"]
[1205614,"three-factor",36954,5,0,"three-factor","NULL","NULL","NULL"]
[1205681,"fastidiousness",37021,5,0,"fas·tid·i·ous·ness","NULL","fæˈstɪdɪəsnəs","fæˈstɪdɪrsnəs"]
[1205770,"unmixed",37110,5,0,"un·mixed","NULL","ˈʌnˈmɪkst","ʌnˈmikst"]
[1205782,"apnoea",37122,5,0,"ap·noe·a","NULL","æpˈni:ə","NULL"]
[1205851,"impracticality",37191,5,0,"im·prac·ti·cal·i·ty",0.02,"ɪmˌpræktɪˈkælətɪ","ɪmˌpræktɪˈkælətɪ"]
[1205945,"wheatfield",37285,5,0,"wheatfield","NULL","NULL","NULL"]
[1206016,"harvestable",37356,5,0,"harvestable","NULL","NULL","NULL"]
[1206084,"shipbuilder",37424,5,0,"ship·build·er","NULL","ˈʃɪpbɪldə(r)","ˈʃɪpbɪldər"]
[1206116,"tin-roofed",37456,5,0,"tin-roofed","NULL","NULL","NULL"]
[1206233,"life-course",37573,5,0,"life-course","NULL","NULL","NULL"]
[1206307,"superbug",37647,5,0,"superbug","NULL","ˈsu:pəbʌg","ˈsupərbʌg"]
[1206333,"whale-watching",37673,5,0,"whale-watching","NULL","NULL","NULL"]
[1206400,"fourth-down",37740,5,0,"fourth-down","NULL","NULL","NULL"]
[1206480,"sisyphean",37820,5,0,"sis·y·phe·an","NULL","ˌsɪsɪˈfi:ən","ˌsɪsəˈfiən"]
[1206566,"full-throttle",37906,5,0,"full-throttle","NULL","NULL","NULL"]
[1206634,"quartzite",37974,5,0,"quartz·ite","NULL","ˈkwɔ:tsaɪt","ˈkwɔtsˌaɪt"]
[1206653,"subpart",37993,5,0,"sub·part","NULL","sʌbˈpɑ:t","sʌbˈpɑt"]
[1206716,"chirpy",38056,5,0,"chirp·y","NULL","ˈtʃɜ:pi","ˈtʃɜrpi"]
[1206796,"maze-like",38137,5,0,"maze-like","NULL","NULL","NULL"]
[1206883,"animatronic",38226,5,0,"animatronic","NULL","ˌænɪməˈtrɒnɪks","ˌænɪməˈtrɒnɪks"]
[1206943,"east-northeast",38286,5,0,"east-northeast","NULL","ˈi:stnɒθˈi:st","ˈistˌnɔθˈist"]
[1207027,"perineum",38370,5,0,"per·i·ne·um","NULL","ˌperɪˈni:əm","ˌpɛrəˈniəm"]
[1207086,"three-button",38429,5,0,"three-button","NULL","NULL","NULL"]
[1207108,"well-nigh",38451,5,0,"well-nigh","NULL","welnaɪ","wɛlnaɪ"]
[1207191,"hook-and-loop",38534,5,0,"hook-and-loop","NULL","NULL","NULL"]
[1207260,"rubber-soled",38603,5,0,"rubber-soled","NULL","NULL","NULL"]
[1207341,"faintness",38684,5,0,"faint·ness","NULL","ˈfeɪntnəs","ˈfeɪntnəs"]
[1207419,"penciled",38762,5,0,"pen·ciled","NULL","ˈpensld","ˈpensəld"]
[1207493,"aetiology",38836,5,0,"ae·ti·ol·o·gy","NULL","ˌi:tiˈɒlədʒi","ˌitiˈɑlədʒi"]
[1207510,"beaten-down",38853,5,0,"beaten-down","NULL","NULL","NULL"]
[1302346,"Neath",38965,0,3,"neath","NULL","NULL","NULL"]
[1207656,"pushpin",38999,5,0,"push·pin","NULL","ˈpʊʃpɪn","ˈpʊʃˌpɪn"]
[1207740,"cataloging",39083,5,0,"cat·a·log·ing","NULL","ˈkætəlɒɡɪŋ","ˈkætəlɒɡɪŋ"]
[1207794,"half-formed",39137,5,0,"half-formed","NULL","NULL","NULL"]
[1207892,"three-decade",39234,5,0,"three-decade","NULL","NULL","NULL"]
[1207908,"west-facing",39250,5,0,"west-facing","NULL","NULL","NULL"]
[1207968,"disseminator",39310,5,0,"dis·sem·i·na·tor","NULL","dɪˈsemɪneɪtər","dɪˈsemɪneɪtər"]
[1208059,"paymaster",39401,5,0,"pay·mas·ter","NULL","ˈpeɪmɑ:stə(r)","ˈpeɪmæstə(r)"]
[1208127,"viticulture",39469,5,0,"vit·i·cul·ture","NULL","ˈvɪtɪkʌltʃə(r)","ˈvɪtɪˌkʌltʃɚ, ˈvaɪtɪ-"]
[1208208,"grandbaby",39550,5,0,"grandbaby","NULL","ˈgrændbeɪbɪ","ˈgrændˌbeɪbi"]
[1208227,"immolation",39569,5,0,"im·mo·la·tion","NULL","ˌɪməˈleɪʃn","ˌɪməˈleɪʃn"]
[1208336,"wheatgrass",39678,5,0,"wheat·grass","NULL","ˈhwɪtgræs","ˈhwɪtgræs"]
[1208380,"collusive",39722,5,0,"col·lu·sive","NULL","kəˈlu:sɪv","kəˈlusɪv, -zɪv"]
[1208447,"inarguable",39789,5,0,"in·ar·gu·a·ble","NULL","ɪnˈɑ:gjʊəbəl","ɪnˈɑgjʊrbəl"]
[1208508,"ranchette",39850,5,0,"ranchette","NULL","ˌrænˈtʃet","ˌrænˈtʃet"]
[1241245,"Cobia",39953,0,4,"co·bi·a","NULL","NULL","NULL"]
[1208680,"kenosis",40022,5,0,"ke·no·sis","NULL","kɪˈnəʊsɪs","kɪˈnoʊsɪs"]
[1208748,"slitted",40090,5,0,"slitted","NULL","NULL","NULL"]
[1208780,"underdressed",40122,5,0,"un·der·dressed","NULL","NULL","NULL"]
[1208847,"disinter",40189,5,0,"dis·in·ter","NULL","ˌdɪsɪnˈtɜ:(r)","ˌdɪsɪnˈtə"]
[1208920,"mid-1960",40262,5,0,"mid-1960","NULL","NULL","NULL"]
[1208997,"thirty-eight-year-old",40339,5,0,"thirty-eight-year-old","NULL","NULL","NULL"]
[1209082,"electrocautery",40424,5,0,"e·lec·tro·cau·ter·y","NULL","ɪˌlektrəʊˈkɔ:tərɪ","ɪˌlektroʊˈkɔtərɪ"]
[1209091,"facilitating",40433,5,0,"fa·cil·i·tat·ing","NULL","NULL","NULL"]
[1209160,"non-defense",40502,5,0,"non-defense","NULL","NULL","NULL"]
[1209279,"bated",40621,5,0,"bat·ed","NULL","ˈbeɪtɪd","NULL"]
[1209309,"damascene",40651,5,0,"dam·a·scene","NULL","ˈdæməsi:n","ˈdæməsin"]
[1209392,"nymphomaniac",40734,5,0,"nym·pho·ma·ni·ac","NULL","ˌnɪmfəˈmeɪniæk","ˌnɪmfəˈmeɪniæk"]
[1209451,"sloshing",40793,5,0,"slosh·ing","NULL","slɒʃɪŋ","slɒʃɪŋ"]
[1209541,"clintonian",40883,5,0,"clintonian","NULL","NULL","NULL"]
[1209558,"dartboard",40900,5,0,"dart·board","NULL","ˈdɑ:tbɔ:d","ˈdɑrtbɔrd"]
[1209620,"kayaking",40962,5,0,"kay·ak·ing","NULL","NULL","NULL"]
[1209705,"sailplane",41047,5,0,"sail·plane","NULL","ˈseɪlpkeɪn","ˈseɪlpkeɪn"]
[1209787,"bobbed",41130,5,0,"bobbed","NULL","bɒbd","bɑbd"]
[1209822,"dust-free",41165,5,0,"dust-free","NULL","ˈdʌstfrˈi:","ˈdʌstfrˈi"]
[1209936,"power-generating",41279,5,0,"power-generating","NULL","NULL","NULL"]
[1209953,"rockslide",41296,5,0,"rockslide","NULL","ˈrɒkslaɪd","ˈrɒkˌslaɪd"]
[1210063,"effacement",41406,5,0,"ef·face·ment","NULL","ɪˈfeɪsmənt","ɪˈfeɪsmənt"]
[1210105,"inquisitorial",41448,5,0,"in·quis·i·to·ri·al","NULL","ɪnˌkwɪzəˈtɔ:rɪəl","ɪnˌkwɪzɪˈtɔriəl, -ˈtor-"]
[1210190,"regulating",41533,5,0,"reg·u·lat·ing","NULL","ˈregjʊleɪtɪŋ","ˈregjʊleɪtɪŋ"]
[1210238,"time-of-day",41581,5,0,"time-of-day","NULL","ˈtaɪmˈəvdˈeɪ","ˈtaɪmˈəvdˈeɪ"]
[1210342,"embryologist",41685,5,0,"em·bry·ol·o·gist","NULL","ˌembrɪˈɒlədʒɪst","ˌembrɪˈɒlədʒɪst"]
[1253834,"Greenstone",41707,0,4,"green·stone","NULL","NULL","NULL"]
[1210426,"mirthful",41769,5,0,"mirth·ful","NULL","ˈmɜ:θfəl","ˈmɜθfəl"]
[1210510,"tilth",41853,5,0,"tilth","NULL","tɪlθ","tɪlθ"]
[1210605,"convenience-store",41948,5,0,"convenience-store","NULL","NULL","NULL"]
[1210662,"formidably",42005,5,0,"for·mi·da·bly","NULL","fəˈmɪdəblɪ","fəˈmɪdəblɪ"]
[1210728,"middle-of-the-night",42071,5,0,"middle-of-the-night","NULL","NULL","NULL"]
[1210778,"purpose-driven",42121,5,0,"purpose-driven","NULL","NULL","NULL"]
[1210829,"two-hitter",42172,5,0,"two-hitter","NULL","NULL","NULL"]
[1210897,"carpetbag",42240,5,0,"car·pet·bag","NULL","ˈkɑ:pɪtbæɡ","ˈkɑpɪtbæɡ"]
[1210952,"fifty-foot",42295,5,0,"fifty-foot","NULL","NULL","NULL"]
[1279568,"Rowan",42404,0,4,"row·an","NULL","NULL","NULL"]
[1211129,"unheroic",42472,5,0,"un·he·ro·ic","NULL","ˌʌnhɪˈrəʊɪk","ˌʌnhɪˈroʊɪk"]
[1211186,"civil-society",42529,5,0,"civil-society","NULL","NULL","NULL"]
[1211209,"double-entry",42552,5,0,"double-entry","NULL","ˈdʌblˈentrɪ","ˈdʌblˈentrɪ"]
[1211311,"okinawan",42654,5,0,"okinawan","NULL","NULL","NULL"]
[1211376,"scooped-out",42719,5,0,"scooped-out","NULL","NULL","NULL"]
[1211445,"allosaurus",42788,5,0,"allosaurus","NULL","ˌæləˈsɔ:rəs","NULL"]
[1211485,"colonnaded",42828,5,0,"col·on·nad·ed","NULL","ˌkɒləˈneɪdɪd","ˌkɒləˈneɪdɪd"]
[1211595,"mineralogical",42938,5,0,"min·er·al·og·ic·al","NULL","ˌmɪnərəˈlɒdʒɪkl","ˌmɪnərəˈlɒdʒɪkl"]
[1211612,"one-parent",42955,5,0,"one-parent","NULL","NULL","NULL"]
[1211725,"violence-prone",43068,5,0,"violence-prone","NULL","NULL","NULL"]
[1211763,"bugbear",43106,5,0,"bug·bear","NULL","ˈbʌgbeə(r)","ˈbʌgber"]
[1211848,"grandniece",43191,5,0,"grand·niece","NULL","ˈgrænˌni:s","ˈgrænˌnis"]
[1211900,"meridional",43243,5,0,"me·rid·i·o·nal","NULL","məˈrɪdɪənl","məˈrɪdɪrnəl"]
[1211999,"smartass",43342,5,0,"smartass","NULL","NULL","NULL"]
[1212016,"subdivided",43359,5,0,"sub·di·vid·ed","NULL","NULL","NULL"]
[1212106,"crofter",43449,5,0,"croft·er","NULL","ˈkrɒftə(r)","ˈkrɔftə(r)"]
[1212166,"giantess",43509,5,0,"gi·ant·ess","NULL","ˌdʒaɪənˈtes","ˈdʒaɪəntɪs"]
[1212249,"nicad",43592,5,0,"nicad","NULL","NULL","NULL"]
[1212279,"pianissimo",43622,5,0,"pi·a·nis·si·mo","NULL","ˌpiəˈnɪsɪməʊ","ˌpiəˈnɪsɪmoʊ"]
[1212401,"autoimmunity",43743,5,0,"autoimmunity","NULL","ɔ:təˈʊɪmju:nɪtɪ","ɔtəˈʊɪmjunɪtɪ"]
[1212440,"collateralized",43782,5,0,"collateralized","NULL","NULL","NULL"]
[1212486,"family-values",43828,5,0,"family-values","NULL","NULL","NULL"]
[1212571,"melanocyte",43913,5,0,"mel·a·no·cyte","NULL","ˈmelənəsaɪt","ˈmelənəˌsaɪt"]
[1212648,"protuberant",43990,5,0,"pro·tu·ber·ant","NULL","prəˈtju:bərənt","proʊˈtubərənt"]
[1212722,"twenty-five-year",44064,5,0,"twenty-five-year","NULL","NULL","NULL"]
[1212804,"cru",44146,5,0,"cru","NULL","kru:","kru"]
[1212820,"disinterestedly",44162,5,0,"dis·in·ter·est·ed·ly","NULL","NULL","NULL"]
[1212889,"impiety",44231,5,0,"im·pi·e·ty","NULL","ɪmˈpaɪətɪ","ɪmˈpaɪətɪ"]
[1212958,"no-growth",44300,5,0,"no-growth","NULL","NULL","NULL"]
[1213062,"thirtyish",44404,5,0,"thirtyish","NULL","ˈθɜ:tɪʃ","ˈθɜtɪʃ"]
[1213125,"barque",44467,5,0,"barque","NULL","bɑ:k","bɑrk"]
[1213194,"elate",44536,5,0,"e·late","NULL","ɪˈleɪt","ɪˈleɪt"]
[1213237,"gilding",44579,5,0,"gild·ing","NULL","ˈgɪldɪŋ","ˈɡɪldɪŋ"]
[1213294,"monomaniacal",44636,5,0,"mon·oma·ni·a·cal","NULL","mɒnəməˈnaɪəkl","mɒnəməˈnaɪəkl"]
[1213364,"revolutionist",44706,5,0,"rev·o·lu·tion·ist","NULL","ˌrevəˈlu:ʃənɪst","ˌrevəˈluʃənɪst"]
[1213446,"university-wide",44788,5,0,"university-wide","NULL","NULL","NULL"]
[1213514,"child-protection",44856,5,0,"child-protection","NULL","NULL","NULL"]
[1213605,"green-tinted",44947,5,0,"green-tinted","NULL","NULL","NULL"]
[1213683,"neodymium",45025,5,0,"ne·o·dym·i·um","NULL","ˌni:əʊˈdɪmiəm","ˌnioʊˈdɪmiəm"]
[1213752,"rose-tinted",45094,5,0,"rose-tinted","NULL","NULL","NULL"]
[1213781,"squelching",45123,5,0,"squelch·ing","NULL","NULL","NULL"]
[1213853,"witchery",45194,5,0,"witch·er·y","NULL","ˈwɪtʃərɪ","ˈwɪtʃərɪ"]
[1213921,"countrified",45262,5,0,"coun·tri·fied","NULL","ˈkʌntrifaɪd","ˈkʌntrɪˌfaɪd"]
[1213955,"expense-account",45296,5,0,"expense-account","NULL","NULL","NULL"]
[1214072,"oafish",45413,5,0,"oaf·ish","NULL","ˈəʊfɪʃ","ˈofɪʃ"]
[1214089,"parboil",45430,5,0,"par·boil","NULL","ˈpɑ:bɔɪl","ˈpɑrbɔɪl"]
[1214197,"thirty-three-year-old",45538,5,0,"thirty-three-year-old","NULL","NULL","NULL"]
[1214242,"artfulness",45583,5,0,"art·ful·ness","NULL","ˈɑ:tfəlnəs","ˈɑtfəlnəs"]
[1214326,"exhibiting",45667,5,0,"ex·hib·it·ing","NULL","NULL","NULL"]
[1214405,"language-based",45746,5,0,"language-based","NULL","ˈlæŋɡwidʒbeɪst","ˈlæŋɡwɪdʒbest"]
[1214479,"phased-in",45820,5,0,"phased-in","NULL","NULL","NULL"]
[1214500,"raki",45841,5,0,"ra·ki","NULL","ˈrɑ:ki","ˈræki, ˈrɑki, ˈrɑkə"]
[1214563,"tanka",45904,5,0,"tan·ka","NULL","ˈtɑ:ŋkə","ˈtɑŋkə"]
[1214646,"arduously",45987,5,0,"ar·du·ous·ly","NULL","ˈɑ:dʒʊəslɪ","ˈɑdʒʊrslɪ"]
[1214738,"easiness",46079,5,0,"eas·i·ness","NULL","ˈi:zɪnəs","ˈizɪnəs"]
[1214796,"gnomon",46137,5,0,"gno·mon","NULL","ˈnəʊmɒn","ˈnoʊmɒn"]
[1214881,"non-kosher",46221,5,0,"non-kosher","NULL","NULL","NULL"]
[1214946,"reversing",46286,5,0,"re·vers·ing","NULL","rɪˈvɜ:sɪŋ","rɪˈvɜsɪŋ"]
[1214966,"sensitized",46306,5,0,"sen·si·tized","NULL","ˈsensɪtaɪzd","ˈsensɪtaɪzd"]
[1215051,"wingspread",46391,5,0,"wing·spread","NULL","ˈwɪŋspred","ˈwɪŋˌspred"]
[1215122,"cryopreservation",46462,5,0,"cryopreservation","NULL","kraɪəprezəˈveɪʃən","kraɪəprezəˈveɪʃən"]
[1215203,"indecorous",46543,5,0,"in·de·co·rous","NULL","ɪnˈdekərəs","ɪnˈdɛkərəs"]
[1215272,"organised",46612,5,0,"or·gan·ised",0.029,"ˈɔ:ɡənaɪzd","ˈɔɡənaɪzd"]
[1215364,"soon-to-be-released",46704,5,0,"soon-to-be-released","NULL","NULL","NULL"]
[1215372,"stare-down",46712,5,0,"stare-down","NULL","NULL","NULL"]
[1215491,"check-writing",46831,5,0,"check-writing","NULL","tʃekˈraitiŋ","tʃɛkˈraɪtɪŋ"]
[1215525,"desultorily",46865,5,0,"des·ul·to·ri·ly","NULL","NULL","NULL"]
[1215608,"horse-trading",46948,5,0,"horse-trading","NULL","ˈhɔ:sˌtreɪdɪŋ","ˈhɔrsˌtredɪŋ"]
[1215664,"medkit",47004,5,0,"medkit","NULL","NULL","NULL"]
[1215760,"rhodopsin",47100,5,0,"rho·dop·sin","NULL","rəʊˈdɒpsɪn","roʊˈdɒpsɪn"]
[1215829,"tended",47169,5,0,"tended","NULL","NULL","NULL"]
[1215840,"topsail",47180,5,0,"top·sail","NULL","ˈtɒpseɪl","ˈtɑpseɪl"]
[1215929,"cage-like",47269,5,0,"cage-like","NULL","NULL","NULL"]
[1215997,"end-product",47337,5,0,"end-product","NULL","ˈendprˈɒdʌkt","ˈendprˈɒdʌkt"]
[1216079,"impassivity",47419,5,0,"im·pas·siv·i·ty","NULL","ɪmpæˈsɪvɪtɪ","ɪmpæˈsɪvɪtɪ"]
[1216164,"nonconsumptive",47504,5,0,"non·con·sump·tive","NULL","nɒnkənˈsʌmptɪv","nɒnkənˈsʌmptɪv"]
[1216232,"ramie",47572,5,0,"ram·ie","NULL","ˈræmɪ","ˈræmɪ"]
[1216254,"rock-throwing",47594,5,0,"rock-throwing","NULL","NULL","NULL"]
[1216317,"tending",47657,5,0,"tend·ing","NULL","ˈtendɪŋ","ˈtendɪŋ"]
[1216402,"baleen",47742,5,0,"ba·leen","NULL","bəˈli:n","bəˈlin"]
[1216496,"dorm-room",47836,5,0,"dorm-room","NULL","NULL","NULL"]
[1216553,"glucocorticoid",47893,5,0,"glucocorticoid","NULL","glu:kəʊˈkɔ:tɪkɔɪd","ˌglukoʊˈkɔtɪˌkɔɪd"]
[1216621,"leveraging",47961,5,0,"leveraging","NULL","NULL","NULL"]
[1216703,"politique",48043,5,0,"politique","NULL","NULL","NULL"]
[1216720,"puckering",48060,5,0,"puck·er·ing","NULL","ˈpʌkərɪŋ","ˈpʌkərɪŋ"]
[1216795,"snobbishness",48135,5,0,"snob·bish·ness","NULL","ˈsnɒbɪʃnəs","ˈsnɒbɪʃnəs"]
[1216872,"wavery",48212,5,0,"wavery","NULL","ˈweɪvərɪ","ˈweɪvərɪ"]
[1216956,"cement-block",48296,5,0,"cement-block","NULL","NULL","NULL"]
[1217037,"five-state",48377,5,0,"five-state","NULL","NULL","NULL"]
[1217041,"folderol",48381,5,0,"fol·de·rol","NULL","ˈfɒldərɒl","ˈfɒldəˌrɒl"]
[1217126,"long-ball",48466,5,0,"long-ball","NULL","NULL","NULL"]
[1217179,"palatability",48519,5,0,"pal·a·ta·bil·i·ty","NULL","ˈpælətəbəlɪtɪ","ˈpælətəbəlɪtɪ"]
[1217277,"snowblower",48617,5,0,"snowblower","NULL","ˈsnəʊbləʊə(r)","ˈsnoʊbloʊər"]
[1217360,"unfathomably",48700,5,0,"unfathomably","NULL","NULL","NULL"]
[1217418,"backtracking",48758,5,0,"back·track·ing","NULL","ˈbæktrækɪŋ","ˈbæktrækɪŋ"]
[1217444,"cagily",48784,5,0,"cag·i·ly","NULL","ˈkeɪdʒɪlɪ","ˈkeɪdʒɪlɪ"]
[1217543,"fore-and-aft",48883,5,0,"fore-and-aft","NULL","ˈfɔ:rəndˈɑ:ft","ˈfoʊrəndˈɑft"]
[1217595,"horatian",48935,5,0,"ho·ra·tian","NULL","NULL","NULL"]
[1217679,"nacreous",49019,5,0,"na·cre·ous","NULL","ˈneɪkrɪəs","ˈneɪkrɪrs"]
[1217717,"oxford-educated",49057,5,0,"oxford-educated","NULL","NULL","NULL"]
[1217830,"straightening",49170,5,0,"straight·en·ing","NULL","ˈstreɪtnɪŋ","ˈstreɪtnɪŋ"]
[1217847,"teenybopper",49187,5,0,"tee·ny·bop·per","NULL","ti:nɪˈbɒpər","tinɪˈbɒpər"]
[1217957,"belittling",49297,5,0,"belittling","NULL","NULL","NULL"]
[1217998,"clevis",49338,5,0,"clev·is","NULL","ˈklevɪs","ˈklevɪs"]
[1218067,"endothelium-dependent",49407,5,0,"endothelium-dependent","NULL","NULL","NULL"]
[1218133,"huggy",49473,5,0,"huggy","NULL","NULL","NULL"]
[1218236,"odontogenic",49576,5,0,"odontogenic","NULL","ɒdɒntədˈʒenɪk","ɒdɒntədˈʒenɪk"]
[1218305,"reddish-purple",49645,5,0,"reddish-purple","NULL","NULL","NULL"]
[1218376,"storable",49716,5,0,"stor·a·ble","NULL","ˈstɔ:rəbl","ˈstɔrəbl"]
[1218406,"three-cd",49746,5,0,"three-cd","NULL","NULL","NULL"]
[1218475,"all-russian",49815,5,0,"all-russian","NULL","NULL","NULL"]
[1218551,"coiling",49891,5,0,"coil·ing","NULL","ˈkɔɪlɪŋ","ˈkɔɪlɪŋ"]
[1218627,"filamentary",49967,5,0,"fil·a·men·ta·ry","NULL","ˈfɪləmentərɪ","ˈfɪləmentərɪ"]
[1218678,"hematopoietic",50018,5,0,"hem·a·to·poi·et·ic","NULL","hemətəʊpɔɪˈi:tɪk","hemətoʊpɔɪˈitɪk"]
[1218727,"lower-density",50067,5,0,"lower-density","NULL","NULL","NULL"]
[1218795,"palmy",50135,5,0,"palm·y","NULL","ˈpɑ:mi","ˈpɑmi"]
[1218853,"rectifier",50193,5,0,"rec·ti·fi·er","NULL","ˈrektɪfaɪə","ˈrektəˌfaɪə"]
[1218948,"tinkly",50288,5,0,"tin·kly","NULL","ˈtɪŋklɪ","ˈtɪŋklɪ"]
[1219033,"altering",50373,5,0,"al·ter·ing","NULL","ˈɔ:ltərɪŋ","ˈɔltərɪŋ"]
[1219096,"chewing-gum",50436,5,0,"chewing-gum","NULL","NULL","NULL"]
[1219186,"euro-style",50526,5,0,"euro-style","NULL","NULL","NULL"]
[1219203,"five-inning",50543,5,0,"five-inning","NULL","NULL","NULL"]
[1219272,"ill-chosen",50612,5,0,"ill-chosen","NULL","NULL","NULL"]
[1219356,"now-extinct",50696,5,0,"now-extinct","NULL","NULL","NULL"]
[1219440,"rich-field",50780,5,0,"rich-field","NULL","NULL","NULL"]
[1219480,"single-vehicle",50820,5,0,"single-vehicle","NULL","NULL","NULL"]
[1219593,"widgeon",50933,5,0,"widg·eon","NULL","ˈwidʒən","ˈwɪdʒən"]
[1219642,"bipod",50982,5,0,"bi·pod","NULL","ˈbaɪpɒd","ˈbaɪpɒd"]
[1219678,"cellularity",51018,5,0,"cel·lu·lar·i·ty","NULL","ˌseljʊˈlærɪtɪ","ˌseljəˈlærətɪ"]
[1219762,"emplotment",51102,5,0,"emplotment","NULL","NULL","NULL"]
[1219817,"gloom-and-doom",51157,5,0,"gloom-and-doom","NULL","NULL","NULL"]
[1219915,"male-authored",51255,5,0,"male-authored","NULL","NULL","NULL"]
[1220000,"persevering",51340,5,0,"per·se·ver·ing","NULL","ˌpɜ:sɪˈvɪərɪŋ","ˌpɜrsəˈvɪrɪŋ"]
[1220026,"pre-holiday",51366,5,0,"pre-holiday","NULL","NULL","NULL"]
[1220085,"shearwater",51425,5,0,"shear·wa·ter","NULL","ˈʃɪəwɔ:tə(r)","ˈʃɪr)"]
[1220170,"tumescent",51510,5,0,"tu·mes·cent","NULL","tju:ˈmesnt","tuˈmesnt"]
[1220269,"brown-paper",51609,5,0,"brown-paper","NULL","NULL","NULL"]
[1220323,"custodianship",51663,5,0,"cus·to·di·an·ship","NULL","ˌkəsˈtəʊdɪənʃɪp","ˌkəsˈtoʊdɪrnʃɪp"]
[1220392,"fire-control",51732,5,0,"fire-control","NULL","ˈfaɪərkəntrˈəʊl","ˈfaɪərkəntrˈoʊl"]
[1220445,"groats",51785,5,0,"groats","NULL","grəʊts","groʊts"]
[1220493,"intercropping",51833,5,0,"in·ter·crop·ping","NULL","ɪntəˈkrɒpɪŋ","ɪntəˈkrɒpɪŋ"]
[1220561,"museum-like",51901,5,0,"museum-like","NULL","NULL","NULL"]
[1220620,"polyrhythmic",51960,5,0,"polyrhythmic","NULL","NULL","NULL"]
[1220730,"state-managed",52070,5,0,"state-managed","NULL","NULL","NULL"]
[1220748,"tar-like",52088,5,0,"tar-like","NULL","NULL","NULL"]
[1220815,"upper-middle-income",52155,5,0,"upper-middle-income","NULL","NULL","NULL"]
[1220884,"book-club",52224,5,0,"book-club","NULL","NULL","NULL"]
[1220991,"face-recognition",52331,5,0,"face-recognition","NULL","NULL","NULL"]
[1221053,"high-percentage",52393,5,0,"high-percentage","NULL","NULL","NULL"]
[1221121,"machine-gunner",52461,5,0,"machine-gunner","NULL","NULL","NULL"]
[1221166,"non-poisonous",52506,5,0,"non-poisonous","NULL","ˈnɒnpˈɔɪzənəs","ˈnɒnpˈɔɪzənəs"]
[1221274,"self-referentiality",52614,5,0,"self-referentiality","NULL","NULL","NULL"]
[1221291,"six-hundred",52631,5,0,"six-hundred","NULL","NULL","NULL"]
[1221409,"archiving",52749,5,0,"archiving","NULL","ˈɑ:kaɪvɪŋ","ˈɑkaɪvɪŋ"]
[1221444,"bluestocking",52784,5,0,"blue·stock·ing","NULL","ˈblu:stɒkɪŋ","ˈblustɑkɪŋ"]
[1221528,"doeskin",52868,5,0,"doe·skin","NULL","ˈdəʊˌskɪn","ˈdoʊˌskɪn"]
[1221584,"gladed",52924,5,0,"gladed","NULL","NULL","NULL"]
[1221681,"meat-free",53021,5,0,"meat-free","NULL","NULL","NULL"]
[1221712,"newshound",53052,5,0,"news·hound","NULL","ˈnju:zhaʊnd","ˈnjuzˌhaʊnd"]
[1221766,"per-unit",53106,5,0,"per-unit","NULL","NULL","NULL"]
[1221851,"sinister-looking",53191,5,0,"sinister-looking","NULL","NULL","NULL"]
[1221953,"waywardness",53293,5,0,"waywardness","NULL","ˈweɪwədnəs","ˈweɪwədnəs"]
[1222002,"bermudian",53342,5,0,"ber·mu·di·an","NULL","NULL","NULL"]
[1222087,"dry-cleaner",53427,5,0,"dry-cleaner","NULL","NULL","NULL"]
[1222129,"gene-splicing",53469,5,0,"gene-splicing","NULL","NULL","NULL"]
[1222172,"inequitably",53512,5,0,"in·eq·ui·ta·bly","NULL","NULL","NULL"]
[1222257,"ostium",53597,5,0,"os·ti·um","NULL","ˈɒstɪəm","ˈɒstɪrm"]
[1222337,"sectionalism",53677,5,0,"sec·tion·al·ism","NULL","ˈsekʃənlɪzəm","ˈsekʃənəlɪzəm"]
[1222409,"tonsure",53749,5,0,"ton·sure","NULL","ˈtɒnʃə(r)","ˈtɑnʃə(r)"]
[1222494,"brown-headed",53834,5,0,"brown-headed","NULL","NULL","NULL"]
[1222513,"co-player",53853,5,0,"co-player","NULL","NULL","NULL"]
[1222579,"innocuous-looking",53919,5,0,"innocuous-looking","NULL","NULL","NULL"]
[1222641,"portugese",53981,5,0,"portugese","NULL","NULL","NULL"]
[1222732,"heir-apparent",54072,5,0,"heir-apparent","NULL","NULL","NULL"]
[1222819,"Adolf","NULL",0,2,"NULL","NULL","NULL","NULL"]
[1222887,"Aingeal","NULL",0,2,"NULL","NULL","NULL","NULL"]
[1222973,"Alicia","NULL",0,2,"NULL","NULL","NULL","NULL"]
[1222991,"Allana","NULL",0,2,"NULL","NULL","NULL","NULL"]
[1223071,"Amy","NULL",0,2,"NULL","NULL","NULL","NULL"]
[1223154,"Anthonia","NULL",0,2,"NULL","NULL","NULL","NULL"]
[1223226,"Armstrong","NULL",0,2,"NULL","NULL","NULL","NULL"]
[1223326,"Aveline","NULL",0,2,"NULL","NULL","NULL","NULL"]
[1223333,"Avis","NULL",0,2,"NULL","NULL","NULL","NULL"]
[1223406,"Bart","NULL",0,2,"NULL","NULL","NULL","NULL"]
[1223517,"Beth","NULL",0,2,"NULL","NULL","NULL","NULL"]
[1223590,"Bona","NULL",0,2,"NULL","NULL","NULL","NULL"]
[1223666,"Broderick","NULL",0,2,"NULL","NULL","NULL","NULL"]
[1223707,"Buxton","NULL",0,2,"NULL","NULL","NULL","NULL"]
[1223833,"Cath","NULL",0,2,"NULL","NULL","NULL","NULL"]
[1223846,"Cayetano","NULL",0,2,"NULL","NULL","NULL","NULL"]
[1223945,"Chevonne","NULL",0,2,"NULL","NULL","NULL","NULL"]
[1224018,"Clarette","NULL",0,2,"NULL","NULL","NULL","NULL"]
[1224112,"Conseja","NULL",0,2,"NULL","NULL","NULL","NULL"]
[1224186,"Curtis","NULL",0,2,"NULL","NULL","NULL","NULL"]
[1224276,"Davis","NULL",0,2,"NULL","NULL","NULL","NULL"]
[1224303,"Delicia","NULL",0,2,"NULL","NULL","NULL","NULL"]
[1224368,"Devorgilla","NULL",0,2,"NULL","NULL","NULL","NULL"]
[1224463,"Doran","NULL",0,2,"NULL","NULL","NULL","NULL"]
[1224571,"Edwin","NULL",0,2,"NULL","NULL","NULL","NULL"]
[1224627,"Elda","NULL",0,2,"NULL","NULL","NULL","NULL"]
[1224715,"émile","NULL",0,2,"NULL","NULL","NULL","NULL"]
[1224785,"Ernesta","NULL",0,2,"NULL","NULL","NULL","NULL"]
[1224802,"Estelle","NULL",0,2,"NULL","NULL","NULL","NULL"]
[1224883,"Fabio","NULL",0,2,"NULL","NULL","NULL","NULL"]
[1224964,"Ferdinand","NULL",0,2,"NULL","NULL","NULL","NULL"]
[1225059,"Fo","NULL",0,2,"NULL","NULL","NULL","NULL"]
[1225113,"Friedrich","NULL",0,2,"NULL","NULL","NULL","NULL"]
[1225229,"Gerard","NULL",0,2,"NULL","NULL","NULL","NULL"]
[1225247,"Gerrard","NULL",0,2,"NULL","NULL","NULL","NULL"]
[1225374,"Gracia","NULL",0,2,"NULL","NULL","NULL","NULL"]
[1225409,"Griogair","NULL",0,2,"NULL","NULL","NULL","NULL"]
[1225497,"Hajime","NULL",0,2,"NULL","NULL","NULL","NULL"]
[1225563,"?asan","NULL",0,2,"NULL","NULL","NULL","NULL"]
[1225664,"Hildegund","NULL",0,2,"NULL","NULL","NULL","NULL"]
[1225743,"Huiliang","NULL",0,2,"NULL","NULL","NULL","NULL"]
[1225758,"?usni","NULL",0,2,"NULL","NULL","NULL","NULL"]
[1225847,"Iola","NULL",0,2,"NULL","NULL","NULL","NULL"]
[1225918,"Ivon","NULL",0,2,"NULL","NULL","NULL","NULL"]
[1226010,"Javier","NULL",0,2,"NULL","NULL","NULL","NULL"]
[1226097,"Jiang","NULL",0,2,"NULL","NULL","NULL","NULL"]
[1226145,"Johan","NULL",0,2,"NULL","NULL","NULL","NULL"]
[1226185,"Josée","NULL",0,2,"NULL","NULL","NULL","NULL"]
[1226261,"Kailey","NULL",0,2,"NULL","NULL","NULL","NULL"]
[1226331,"Katja","NULL",0,2,"NULL","NULL","NULL","NULL"]
[1226434,"Kira","NULL",0,2,"NULL","NULL","NULL","NULL"]
[1226505,"Kylie","NULL",0,2,"NULL","NULL","NULL","NULL"]
[1226584,"Laz","NULL",0,2,"NULL","NULL","NULL","NULL"]
[1226598,"Leannán","NULL",0,2,"NULL","NULL","NULL","NULL"]
[1226684,"Líadan","NULL",0,2,"NULL","NULL","NULL","NULL"]
[1226769,"Lolicia","NULL",0,2,"NULL","NULL","NULL","NULL"]
[1226847,"Ludwig","NULL",0,2,"NULL","NULL","NULL","NULL"]
[1226933,"Maeve","NULL",0,2,"NULL","NULL","NULL","NULL"]
[1226950,"Mahinder","NULL",0,2,"NULL","NULL","NULL","NULL"]
[1227019,"Maolra","NULL",0,2,"NULL","NULL","NULL","NULL"]
[1227158,"Mats","NULL",0,2,"NULL","NULL","NULL","NULL"]
[1227187,"Maxwell","NULL",0,2,"NULL","NULL","NULL","NULL"]
[1227278,"Michal","NULL",0,2,"NULL","NULL","NULL","NULL"]
[1227349,"Mitzi","NULL",0,2,"NULL","NULL","NULL","NULL"]
[1227440,"Mutazz","NULL",0,2,"NULL","NULL","NULL","NULL"]
[1227458,"Nādir","NULL",0,2,"NULL","NULL","NULL","NULL"]
[1227565,"Niaz","NULL",0,2,"NULL","NULL","NULL","NULL"]
[1227615,"Ninette","NULL",0,2,"NULL","NULL","NULL","NULL"]
[1227708,"Olympe","NULL",0,2,"NULL","NULL","NULL","NULL"]
[1227751,"Otis","NULL",0,2,"NULL","NULL","NULL","NULL"]
[1227876,"Peta","NULL",0,2,"NULL","NULL","NULL","NULL"]
[1227896,"Phillip","NULL",0,2,"NULL","NULL","NULL","NULL"]
[1228027,"Rachele","NULL",0,2,"NULL","NULL","NULL","NULL"]
[1228067,"Rajā′","NULL",0,2,"NULL","NULL","NULL","NULL"]
[1228141,"Rees","NULL",0,2,"NULL","NULL","NULL","NULL"]
[1228211,"Riaz","NULL",0,2,"NULL","NULL","NULL","NULL"]
[1228323,"Rosemarie","NULL",0,2,"NULL","NULL","NULL","NULL"]
[1228354,"Ruben","NULL",0,2,"NULL","NULL","NULL","NULL"]
[1228419,"Sal","NULL",0,2,"NULL","NULL","NULL","NULL"]
[1228512,"Seanán","NULL",0,2,"NULL","NULL","NULL","NULL"]
[1228616,"Sharīf","NULL",0,2,"NULL","NULL","NULL","NULL"]
[1228671,"Shireen","NULL",0,2,"NULL","NULL","NULL","NULL"]
[1228742,"Silje","NULL",0,2,"NULL","NULL","NULL","NULL"]
[1228802,"Solange","NULL",0,2,"NULL","NULL","NULL","NULL"]
[1228855,"Stella","NULL",0,2,"NULL","NULL","NULL","NULL"]
[1228931,"Svyatoslav","NULL",0,2,"NULL","NULL","NULL","NULL"]
[1228998,"Tarquin","NULL",0,2,"NULL","NULL","NULL","NULL"]
[1229096,"Tighearnán","NULL",0,2,"NULL","NULL","NULL","NULL"]
[1229188,"Treeza","NULL",0,2,"NULL","NULL","NULL","NULL"]
[1229256,"Ulises","NULL",0,2,"NULL","NULL","NULL","NULL"]
[1229348,"Vicente","NULL",0,2,"NULL","NULL","NULL","NULL"]
[1229393,"Vitale","NULL",0,2,"NULL","NULL","NULL","NULL"]
[1229458,"Wendy","NULL",0,2,"NULL","NULL","NULL","NULL"]
[1229533,"Xaveria","NULL",0,2,"NULL","NULL","NULL","NULL"]
[1229581,"Yai","NULL",0,2,"NULL","NULL","NULL","NULL"]
[1229691,"Za","NULL",0,2,"NULL","NULL","NULL","NULL"]
[1229708,"Zara","NULL",0,2,"NULL","NULL","NULL","NULL"]
[1229831,"Abbate","NULL",0,4,"NULL","NULL","NULL","NULL"]
[1229868,"Abell","NULL",0,4,"NULL","NULL","NULL","NULL"]
[1229956,"Acharya","NULL",0,4,"NULL","NULL","NULL","NULL"]
[1230016,"Adamczyk","NULL",0,4,"NULL","NULL","NULL","NULL"]
[1230113,"Affeldt","NULL",0,4,"NULL","NULL","NULL","NULL"]
[1230134,"Agen","NULL",0,4,"NULL","NULL","NULL","NULL"]
[1230233,"Aigner","NULL",0,4,"NULL","NULL","NULL","NULL"]
[1230290,"Akina","NULL",0,4,"NULL","NULL","NULL","NULL"]
[1230378,"Alcott","NULL",0,4,"NULL","NULL","NULL","NULL"]
[1230416,"Alers","NULL",0,4,"NULL","NULL","NULL","NULL"]
[1230538,"Allmand","NULL",0,4,"NULL","NULL","NULL","NULL"]
[1230621,"Alphonse","NULL",0,4,"NULL","NULL","NULL","NULL"]
[1230629,"Alsbury","NULL",0,4,"NULL","NULL","NULL","NULL"]
[1230716,"Alvillar","NULL",0,4,"NULL","NULL","NULL","NULL"]
[1230805,"Amesbury","NULL",0,4,"NULL","NULL","NULL","NULL"]
[1230877,"Amyot","NULL",0,4,"NULL","NULL","NULL","NULL"]
[1230963,"Andreski","NULL",0,4,"NULL","NULL","NULL","NULL"]
[1230984,"Andry","NULL",0,4,"NULL","NULL","NULL","NULL"]
[1231053,"Ankeney","NULL",0,4,"NULL","NULL","NULL","NULL"]
[1231123,"Antinori","NULL",0,4,"NULL","NULL","NULL","NULL"]
[1231237,"Apsey","NULL",0,4,"NULL","NULL","NULL","NULL"]
[1231302,"Archey","NULL",0,4,"NULL","NULL","NULL","NULL"]
[1231372,"Argentieri","NULL",0,4,"NULL","NULL","NULL","NULL"]
[1231424,"Armani","NULL",0,4,"NULL","NULL","NULL","NULL"]
[1231532,"Arpino","NULL",0,4,"NULL","NULL","NULL","NULL"]
[1231556,"Arriola","NULL",0,4,"NULL","NULL","NULL","NULL"]
[1231638,"Ascheman","NULL",0,4,"NULL","NULL","NULL","NULL"]
[1231712,"Aspenson","NULL",0,4,"NULL","NULL","NULL","NULL"]
[1231811,"Au Yeung","NULL",0,4,"NULL","NULL","NULL","NULL"]
[1231887,"Ault","NULL",0,4,"NULL","NULL","NULL","NULL"]
[1231957,"Avellino","NULL",0,4,"NULL","NULL","NULL","NULL"]
[1231991,"Avram","NULL",0,4,"NULL","NULL","NULL","NULL"]
[1232048,"Ayscue","NULL",0,4,"NULL","NULL","NULL","NULL"]
[1232138,"Bachar","NULL",0,4,"NULL","NULL","NULL","NULL"]
[1232182,"Badalamenti","NULL",0,4,"NULL","NULL","NULL","NULL"]
[1232298,"Bailes","NULL",0,4,"NULL","NULL","NULL","NULL"]
[1232387,"Balcerak","NULL",0,4,"NULL","NULL","NULL","NULL"]
[1232436,"Balestreri","NULL",0,4,"NULL","NULL","NULL","NULL"]
[1232479,"Balles","NULL",0,4,"NULL","NULL","NULL","NULL"]
[1232566,"Banasiak","NULL",0,4,"NULL","NULL","NULL","NULL"]
[1232666,"Barach","NULL",0,4,"NULL","NULL","NULL","NULL"]
[1232737,"Barcia","NULL",0,4,"NULL","NULL","NULL","NULL"]
[1232766,"Barentine","NULL",0,4,"NULL","NULL","NULL","NULL"]
[1232828,"Barlas","NULL",0,4,"NULL","NULL","NULL","NULL"]
[1232919,"Barrie","NULL",0,4,"NULL","NULL","NULL","NULL"]
[1232987,"Barthelemy","NULL",0,4,"NULL","NULL","NULL","NULL"]
[1233075,"Bascomb","NULL",0,4,"NULL","NULL","NULL","NULL"]
[1233172,"Baten","NULL",0,4,"NULL","NULL","NULL","NULL"]
[1233249,"Baughan","NULL",0,4,"NULL","NULL","NULL","NULL"]
[1233264,"Baumberger","NULL",0,4,"NULL","NULL","NULL","NULL"]
[1233352,"Bazil","NULL",0,4,"NULL","NULL","NULL","NULL"]
[1233440,"Beaubien","NULL",0,4,"NULL","NULL","NULL","NULL"]
[1233519,"Beckley","NULL",0,4,"NULL","NULL","NULL","NULL"]
[1233590,"Beedy","NULL",0,4,"NULL","NULL","NULL","NULL"]
[1233622,"Beetz","NULL",0,4,"NULL","NULL","NULL","NULL"]
[1233696,"Beigel","NULL",0,4,"NULL","NULL","NULL","NULL"]
[1233825,"Bellezza","NULL",0,4,"NULL","NULL","NULL","NULL"]
[1233856,"Belloni","NULL",0,4,"NULL","NULL","NULL","NULL"]
[1233929,"Bence","NULL",0,4,"NULL","NULL","NULL","NULL"]
[1234009,"Benkert","NULL",0,4,"NULL","NULL","NULL","NULL"]
[1234103,"Berardino","NULL",0,4,"NULL","NULL","NULL","NULL"]
[1234174,"Berglund","NULL",0,4,"NULL","NULL","NULL","NULL"]
[1234190,"Bergsten","NULL",0,4,"NULL","NULL","NULL","NULL"]
[1234275,"Bernd","NULL",0,4,"NULL","NULL","NULL","NULL"]
[1234345,"Bertani","NULL",0,4,"NULL","NULL","NULL","NULL"]
[1234436,"Bester","NULL",0,4,"NULL","NULL","NULL","NULL"]
[1234501,"Beu","NULL",0,4,"NULL","NULL","NULL","NULL"]
[1234589,"Bialik","NULL",0,4,"NULL","NULL","NULL","NULL"]
[1234619,"Bichler","NULL",0,4,"NULL","NULL","NULL","NULL"]
[1234679,"Bielat","NULL",0,4,"NULL","NULL","NULL","NULL"]
[1234767,"Biglin","NULL",0,4,"NULL","NULL","NULL","NULL"]
[1234873,"Bini","NULL",0,4,"NULL","NULL","NULL","NULL"]
[1234929,"Birkes","NULL",0,4,"NULL","NULL","NULL","NULL"]
[1235007,"Bithell","NULL",0,4,"NULL","NULL","NULL","NULL"]
[1235087,"Blackman","NULL",0,4,"NULL","NULL","NULL","NULL"]
[1235105,"Blackwelder","NULL",0,4,"NULL","NULL","NULL","NULL"]
[1235190,"Blanshan","NULL",0,4,"NULL","NULL","NULL","NULL"]
[1235266,"Blechman","NULL",0,4,"NULL","NULL","NULL","NULL"]
[1235364,"Blondell","NULL",0,4,"NULL","NULL","NULL","NULL"]
[1235425,"Blumenstein","NULL",0,4,"NULL","NULL","NULL","NULL"]
[1235533,"Boda","NULL",0,4,"NULL","NULL","NULL","NULL"]
[1235551,"Bodensteiner","NULL",0,4,"NULL","NULL","NULL","NULL"]
[1235611,"Boell","NULL",0,4,"NULL","NULL","NULL","NULL"]
[1235707,"Bohle","NULL",0,4,"NULL","NULL","NULL","NULL"]
[1235793,"Bolduc","NULL",0,4,"NULL","NULL","NULL","NULL"]
[1235863,"Boltin","NULL",0,4,"NULL","NULL","NULL","NULL"]
[1235888,"Bonaccorsi","NULL",0,4,"NULL","NULL","NULL","NULL"]
[1236004,"Bonzo","NULL",0,4,"NULL","NULL","NULL","NULL"]
[1236065,"Boram","NULL",0,4,"NULL","NULL","NULL","NULL"]
[1236154,"Borneman","NULL",0,4,"NULL","NULL","NULL","NULL"]
[1236199,"Borrmann","NULL",0,4,"NULL","NULL","NULL","NULL"]
[1236309,"Boswell","NULL",0,4,"NULL","NULL","NULL","NULL"]
[1236327,"Botsch","NULL",0,4,"NULL","NULL","NULL","NULL"]
[1236452,"Boutilier","NULL",0,4,"NULL","NULL","NULL","NULL"]
[1236489,"Bowen","NULL",0,4,"NULL","NULL","NULL","NULL"]
[1236566,"Boyland","NULL",0,4,"NULL","NULL","NULL","NULL"]
[1236640,"Brackley","NULL",0,4,"NULL","NULL","NULL","NULL"]
[1236744,"Brancheau","NULL",0,4,"NULL","NULL","NULL","NULL"]
[1236815,"Bransky","NULL",0,4,"NULL","NULL","NULL","NULL"]
[1236893,"Braunstein","NULL",0,4,"NULL","NULL","NULL","NULL"]
[1236904,"Brawer","NULL",0,4,"NULL","NULL","NULL","NULL"]
[1237034,"Breitner","NULL",0,4,"NULL","NULL","NULL","NULL"]
[1237084,"Breon","NULL",0,4,"NULL","NULL","NULL","NULL"]
[1237157,"Brickett","NULL",0,4,"NULL","NULL","NULL","NULL"]
[1237219,"Brigner","NULL",0,4,"NULL","NULL","NULL","NULL"]
[1237270,"Brinkworth","NULL",0,4,"NULL","NULL","NULL","NULL"]
[1237347,"Broadhurst","NULL",0,4,"NULL","NULL","NULL","NULL"]
[1237411,"Brodin","NULL",0,4,"NULL","NULL","NULL","NULL"]
[1237504,"Brophy","NULL",0,4,"NULL","NULL","NULL","NULL"]
[1237595,"Brozowski","NULL",0,4,"NULL","NULL","NULL","NULL"]
[1237664,"Brumer","NULL",0,4,"NULL","NULL","NULL","NULL"]
[1237754,"Brutus","NULL",0,4,"NULL","NULL","NULL","NULL"]
[1237771,"Brye","NULL",0,4,"NULL","NULL","NULL","NULL"]
[1237881,"Buckman","NULL",0,4,"NULL","NULL","NULL","NULL"]
[1237929,"Bueche","NULL",0,4,"NULL","NULL","NULL","NULL"]
[1238017,"Buitron","NULL",0,4,"NULL","NULL","NULL","NULL"]
[1238066,"Bulthuis","NULL",0,4,"NULL","NULL","NULL","NULL"]
[1238183,"Burdi","NULL",0,4,"NULL","NULL","NULL","NULL"]
[1238242,"Burgy","NULL",0,4,"NULL","NULL","NULL","NULL"]
[1238274,"Burkhead","NULL",0,4,"NULL","NULL","NULL","NULL"]
[1238366,"Burrus","NULL",0,4,"NULL","NULL","NULL","NULL"]
[1238470,"Busta","NULL",0,4,"NULL","NULL","NULL","NULL"]
[1238541,"Butzke","NULL",0,4,"NULL","NULL","NULL","NULL"]
[1238633,"Cabeza","NULL",0,4,"NULL","NULL","NULL","NULL"]
[1238666,"Cadenas","NULL",0,4,"NULL","NULL","NULL","NULL"]
[1238723,"Caine","NULL",0,4,"NULL","NULL","NULL","NULL"]
[1238813,"Calkins","NULL",0,4,"NULL","NULL","NULL","NULL"]
[1238852,"Callison","NULL",0,4,"NULL","NULL","NULL","NULL"]
[1238978,"Camus","NULL",0,4,"NULL","NULL","NULL","NULL"]
[1239057,"Cannistraro","NULL",0,4,"NULL","NULL","NULL","NULL"]
[1239125,"Capel","NULL",0,4,"NULL","NULL","NULL","NULL"]
[1239170,"Capparelli","NULL",0,4,"NULL","NULL","NULL","NULL"]
[1239263,"Cardelli","NULL",0,4,"NULL","NULL","NULL","NULL"]
[1239335,"Carleo","NULL",0,4,"NULL","NULL","NULL","NULL"]
[1239406,"Carnett","NULL",0,4,"NULL","NULL","NULL","NULL"]
[1239449,"Carra","NULL",0,4,"NULL","NULL","NULL","NULL"]
[1239515,"Carson","NULL",0,4,"NULL","NULL","NULL","NULL"]
[1239590,"Casazza","NULL",0,4,"NULL","NULL","NULL","NULL"]
[1239708,"Castellaw","NULL",0,4,"NULL","NULL","NULL","NULL"]
[1239769,"Catanese","NULL",0,4,"NULL","NULL","NULL","NULL"]
[1239843,"Causey","NULL",0,4,"NULL","NULL","NULL","NULL"]
[1239897,"Cawood","NULL",0,4,"NULL","NULL","NULL","NULL"]
[1240004,"Cerami","NULL",0,4,"NULL","NULL","NULL","NULL"]
[1240022,"Cermak","NULL",0,4,"NULL","NULL","NULL","NULL"]
[1240152,"Chamlee","NULL",0,4,"NULL","NULL","NULL","NULL"]
[1240189,"Channing","NULL",0,4,"NULL","NULL","NULL","NULL"]
[1240286,"Chattin","NULL",0,4,"NULL","NULL","NULL","NULL"]
[1240350,"Chelf","NULL",0,4,"NULL","NULL","NULL","NULL"]
[1240448,"Chiang","NULL",0,4,"NULL","NULL","NULL","NULL"]
[1240487,"Childre","NULL",0,4,"NULL","NULL","NULL","NULL"]
[1240543,"Chittick","NULL",0,4,"NULL","NULL","NULL","NULL"]
[1240633,"Christel","NULL",0,4,"NULL","NULL","NULL","NULL"]
[1240751,"Cianflone","NULL",0,4,"NULL","NULL","NULL","NULL"]
[1240795,"Cid","NULL",0,4,"NULL","NULL","NULL","NULL"]
[1240883,"Cisek","NULL",0,4,"NULL","NULL","NULL","NULL"]
[1240896,"Citarella","NULL",0,4,"NULL","NULL","NULL","NULL"]
[1240976,"Claud","NULL",0,4,"NULL","NULL","NULL","NULL"]
[1241067,"Clendening","NULL",0,4,"NULL","NULL","NULL","NULL"]
[1241166,"Clougherty","NULL",0,4,"NULL","NULL","NULL","NULL"]
[1241241,"Coberly","NULL",0,4,"NULL","NULL","NULL","NULL"]
[1241338,"Cogdell","NULL",0,4,"NULL","NULL","NULL","NULL"]
[1241362,"Cohn","NULL",0,4,"NULL","NULL","NULL","NULL"]
[1241427,"Colebank","NULL",0,4,"NULL","NULL","NULL","NULL"]
[1241500,"Collman","NULL",0,4,"NULL","NULL","NULL","NULL"]
[1241594,"Commerford","NULL",0,4,"NULL","NULL","NULL","NULL"]
[1241690,"Conlin","NULL",0,4,"NULL","NULL","NULL","NULL"]
[1241766,"Contento","NULL",0,4,"NULL","NULL","NULL","NULL"]
[1241859,"Coplan","NULL",0,4,"NULL","NULL","NULL","NULL"]
[1241932,"Cordner","NULL",0,4,"NULL","NULL","NULL","NULL"]
[1241962,"Corke","NULL",0,4,"NULL","NULL","NULL","NULL"]
[1242046,"Corrie","NULL",0,4,"NULL","NULL","NULL","NULL"]
[1242115,"Cosgrove","NULL",0,4,"NULL","NULL","NULL","NULL"]
[1242221,"Coulson","NULL",0,4,"NULL","NULL","NULL","NULL"]
[1242308,"Coventry","NULL",0,4,"NULL","NULL","NULL","NULL"]
[1242309,"Coveny","NULL",0,4,"NULL","NULL","NULL","NULL"]
[1242421,"Craigo","NULL",0,4,"NULL","NULL","NULL","NULL"]
[1242477,"Craver","NULL",0,4,"NULL","NULL","NULL","NULL"]
[1242571,"Cresto","NULL",0,4,"NULL","NULL","NULL","NULL"]
[1242616,"Crisan","NULL",0,4,"NULL","NULL","NULL","NULL"]
[1242734,"Croom","NULL",0,4,"NULL","NULL","NULL","NULL"]
[1242755,"Crossen","NULL",0,4,"NULL","NULL","NULL","NULL"]
[1242844,"Crumpton","NULL",0,4,"NULL","NULL","NULL","NULL"]
[1242921,"Cuesta","NULL",0,4,"NULL","NULL","NULL","NULL"]
[1243016,"Cupit","NULL",0,4,"NULL","NULL","NULL","NULL"]
[1243089,"Cusenza","NULL",0,4,"NULL","NULL","NULL","NULL"]
[1243181,"Czelusniak","NULL",0,4,"NULL","NULL","NULL","NULL"]
[1243210,"D’Allesandro","NULL",0,4,"NULL","NULL","NULL","NULL"]
[1243266,"D’Innocenzo","NULL",0,4,"NULL","NULL","NULL","NULL"]
[1243355,"Dahlmann","NULL",0,4,"NULL","NULL","NULL","NULL"]
[1243430,"Dalrymple","NULL",0,4,"NULL","NULL","NULL","NULL"]
[1243524,"Danison","NULL",0,4,"NULL","NULL","NULL","NULL"]
[1243614,"Darnell","NULL",0,4,"NULL","NULL","NULL","NULL"]
[1243697,"Dauphinais","NULL",0,4,"NULL","NULL","NULL","NULL"]
[1243709,"Dauzat","NULL",0,4,"NULL","NULL","NULL","NULL"]
[1243794,"De Bari","NULL",0,4,"NULL","NULL","NULL","NULL"]
[1243864,"De Dios","NULL",0,4,"NULL","NULL","NULL","NULL"]
[1243949,"De Keyser","NULL",0,4,"NULL","NULL","NULL","NULL"]
[1244003,"De Mario","NULL",0,4,"NULL","NULL","NULL","NULL"]
[1244102,"De Santiago","NULL",0,4,"NULL","NULL","NULL","NULL"]
[1244119,"De Sorbo","NULL",0,4,"NULL","NULL","NULL","NULL"]
[1244180,"Deakyne","NULL",0,4,"NULL","NULL","NULL","NULL"]
[1244282,"Decourcey","NULL",0,4,"NULL","NULL","NULL","NULL"]
[1244355,"Degn","NULL",0,4,"NULL","NULL","NULL","NULL"]
[1244438,"Del Giudice","NULL",0,4,"NULL","NULL","NULL","NULL"]
[1244527,"Delee","NULL",0,4,"NULL","NULL","NULL","NULL"]
[1244597,"Delson","NULL",0,4,"NULL","NULL","NULL","NULL"]
[1244618,"Demarce","NULL",0,4,"NULL","NULL","NULL","NULL"]
[1244701,"Demske","NULL",0,4,"NULL","NULL","NULL","NULL"]
[1244772,"Denning","NULL",0,4,"NULL","NULL","NULL","NULL"]
[1244867,"Derleth","NULL",0,4,"NULL","NULL","NULL","NULL"]
[1244931,"Deshazer","NULL",0,4,"NULL","NULL","NULL","NULL"]
[1245001,"Detmers","NULL",0,4,"NULL","NULL","NULL","NULL"]
[1245035,"Deutschman","NULL",0,4,"NULL","NULL","NULL","NULL"]
[1245106,"Dewaters","NULL",0,4,"NULL","NULL","NULL","NULL"]
[1245180,"Di Dio","NULL",0,4,"NULL","NULL","NULL","NULL"]
[1245276,"Di Nuzzo","NULL",0,4,"NULL","NULL","NULL","NULL"]
[1245347,"Dib","NULL",0,4,"NULL","NULL","NULL","NULL"]
[1245430,"Dienhart","NULL",0,4,"NULL","NULL","NULL","NULL"]
[1245437,"Dieringer","NULL",0,4,"NULL","NULL","NULL","NULL"]
[1245526,"Dillner","NULL",0,4,"NULL","NULL","NULL","NULL"]
[1245617,"Dipple","NULL",0,4,"NULL","NULL","NULL","NULL"]
[1245691,"Ditzel","NULL",0,4,"NULL","NULL","NULL","NULL"]
[1245782,"Dockins","NULL",0,4,"NULL","NULL","NULL","NULL"]
[1245839,"Dohn","NULL",0,4,"NULL","NULL","NULL","NULL"]
[1245869,"Dolder","NULL",0,4,"NULL","NULL","NULL","NULL"]
[1246010,"Donisi","NULL",0,4,"NULL","NULL","NULL","NULL"]
[1246032,"Donohew","NULL",0,4,"NULL","NULL","NULL","NULL"]
[1246122,"Dorrian","NULL",0,4,"NULL","NULL","NULL","NULL"]
[1246195,"Douget","NULL",0,4,"NULL","NULL","NULL","NULL"]
[1246289,"Drach","NULL",0,4,"NULL","NULL","NULL","NULL"]
[1246308,"Dragovich","NULL",0,4,"NULL","NULL","NULL","NULL"]
[1246429,"Droke","NULL",0,4,"NULL","NULL","NULL","NULL"]
[1246484,"Dryden","NULL",0,4,"NULL","NULL","NULL","NULL"]
[1246573,"Dudas","NULL",0,4,"NULL","NULL","NULL","NULL"]
[1246628,"Duffie","NULL",0,4,"NULL","NULL","NULL","NULL"]
[1246737,"Duncan","NULL",0,4,"NULL","NULL","NULL","NULL"]
[1246755,"Dungy","NULL",0,4,"NULL","NULL","NULL","NULL"]
[1246880,"Durk","NULL",0,4,"NULL","NULL","NULL","NULL"]
[1246914,"Durst","NULL",0,4,"NULL","NULL","NULL","NULL"]
[1246986,"Dworak","NULL",0,4,"NULL","NULL","NULL","NULL"]
[1247064,"Eaglin","NULL",0,4,"NULL","NULL","NULL","NULL"]
[1247166,"Ebersole","NULL",0,4,"NULL","NULL","NULL","NULL"]
[1247199,"Eck","NULL",0,4,"NULL","NULL","NULL","NULL"]
[1247252,"Eddie","NULL",0,4,"NULL","NULL","NULL","NULL"]
[1247323,"Edmonson","NULL",0,4,"NULL","NULL","NULL","NULL"]
[1247445,"Eichacker","NULL",0,4,"NULL","NULL","NULL","NULL"]
[1247492,"Eifert","NULL",0,4,"NULL","NULL","NULL","NULL"]
[1247561,"Eisiminger","NULL",0,4,"NULL","NULL","NULL","NULL"]
[1247624,"Eldredge","NULL",0,4,"NULL","NULL","NULL","NULL"]
[1247665,"Elizabeth","NULL",0,4,"NULL","NULL","NULL","NULL"]
[1247736,"Ellithorpe","NULL",0,4,"NULL","NULL","NULL","NULL"]
[1247804,"Elzer","NULL",0,4,"NULL","NULL","NULL","NULL"]
[1247892,"Enciso","NULL",0,4,"NULL","NULL","NULL","NULL"]
[1247980,"Engman","NULL",0,4,"NULL","NULL","NULL","NULL"]
[1248054,"Eppard","NULL",0,4,"NULL","NULL","NULL","NULL"]
[1248136,"Erman","NULL",0,4,"NULL","NULL","NULL","NULL"]
[1248182,"Esarey","NULL",0,4,"NULL","NULL","NULL","NULL"]
[1248221,"Eshbach","NULL",0,4,"NULL","NULL","NULL","NULL"]
[1248308,"Esterbrook","NULL",0,4,"NULL","NULL","NULL","NULL"]
[1248360,"Etue","NULL",0,4,"NULL","NULL","NULL","NULL"]
[1248465,"Ewart","NULL",0,4,"NULL","NULL","NULL","NULL"]
[1248556,"Fadden","NULL",0,4,"NULL","NULL","NULL","NULL"]
[1248615,"Failla","NULL",0,4,"NULL","NULL","NULL","NULL"]
[1248646,"Faist","NULL",0,4,"NULL","NULL","NULL","NULL"]
[1248742,"Fannin","NULL",0,4,"NULL","NULL","NULL","NULL"]
[1248844,"Farrell","NULL",0,4,"NULL","NULL","NULL","NULL"]
[1248905,"Fatica","NULL",0,4,"NULL","NULL","NULL","NULL"]
[1248922,"Fauerbach","NULL",0,4,"NULL","NULL","NULL","NULL"]
[1249029,"Feasel","NULL",0,4,"NULL","NULL","NULL","NULL"]
[1249084,"Feemster","NULL",0,4,"NULL","NULL","NULL","NULL"]
[1249169,"Feldmann","NULL",0,4,"NULL","NULL","NULL","NULL"]
[1249213,"Felser","NULL",0,4,"NULL","NULL","NULL","NULL"]
[1249330,"Fernau","NULL",0,4,"NULL","NULL","NULL","NULL"]
[1249345,"Ferraioli","NULL",0,4,"NULL","NULL","NULL","NULL"]
[1249417,"Ferullo","NULL",0,4,"NULL","NULL","NULL","NULL"]
[1249508,"Fico","NULL",0,4,"NULL","NULL","NULL","NULL"]
[1249605,"Filipkowski","NULL",0,4,"NULL","NULL","NULL","NULL"]
[1249679,"Fingerhut","NULL",0,4,"NULL","NULL","NULL","NULL"]
[1249751,"Firebaugh","NULL",0,4,"NULL","NULL","NULL","NULL"]
[1249797,"Fister","NULL",0,4,"NULL","NULL","NULL","NULL"]
[1249863,"Flamm","NULL",0,4,"NULL","NULL","NULL","NULL"]
[1249941,"Flemister","NULL",0,4,"NULL","NULL","NULL","NULL"]
[1250075,"Focke","NULL",0,4,"NULL","NULL","NULL","NULL"]
[1250134,"Folkerts","NULL",0,4,"NULL","NULL","NULL","NULL"]
[1250208,"Foran","NULL",0,4,"NULL","NULL","NULL","NULL"]
[1250271,"Forman","NULL",0,4,"NULL","NULL","NULL","NULL"]
[1250373,"Fraley","NULL",0,4,"NULL","NULL","NULL","NULL"]
[1250404,"Francke","NULL",0,4,"NULL","NULL","NULL","NULL"]
[1250478,"Frase","NULL",0,4,"NULL","NULL","NULL","NULL"]
[1250549,"Freeborn","NULL",0,4,"NULL","NULL","NULL","NULL"]
[1250659,"Freyman","NULL",0,4,"NULL","NULL","NULL","NULL"]
[1250734,"Frigon","NULL",0,4,"NULL","NULL","NULL","NULL"]
[1250808,"Frome","NULL",0,4,"NULL","NULL","NULL","NULL"]
[1250849,"Frush","NULL",0,4,"NULL","NULL","NULL","NULL"]
[1250899,"Fugitt","NULL",0,4,"NULL","NULL","NULL","NULL"]
[1250988,"Funt","NULL",0,4,"NULL","NULL","NULL","NULL"]
[1251038,"Furtick","NULL",0,4,"NULL","NULL","NULL","NULL"]
[1251152,"Gagel","NULL",0,4,"NULL","NULL","NULL","NULL"]
[1251243,"Galewski","NULL",0,4,"NULL","NULL","NULL","NULL"]
[1251259,"Galipeau","NULL",0,4,"NULL","NULL","NULL","NULL"]
[1251334,"Galm","NULL",0,4,"NULL","NULL","NULL","NULL"]
[1251433,"Gangwer","NULL",0,4,"NULL","NULL","NULL","NULL"]
[1251494,"Garbrecht","NULL",0,4,"NULL","NULL","NULL","NULL"]
[1251583,"Garofalo","NULL",0,4,"NULL","NULL","NULL","NULL"]
[1251615,"Garris","NULL",0,4,"NULL","NULL","NULL","NULL"]
[1251739,"Gatti","NULL",0,4,"NULL","NULL","NULL","NULL"]
[1251756,"Gaucher","NULL",0,4,"NULL","NULL","NULL","NULL"]
[1251829,"Gawrych","NULL",0,4,"NULL","NULL","NULL","NULL"]
[1251916,"Gegenheimer","NULL",0,4,"NULL","NULL","NULL","NULL"]
[1252001,"Gelo","NULL",0,4,"NULL","NULL","NULL","NULL"]
[1252085,"Gentz","NULL",0,4,"NULL","NULL","NULL","NULL"]
[1252095,"Geoffroy","NULL",0,4,"NULL","NULL","NULL","NULL"]
[1252165,"Gerhartz","NULL",0,4,"NULL","NULL","NULL","NULL"]
[1252264,"Gesch","NULL",0,4,"NULL","NULL","NULL","NULL"]
[1252338,"Giacalone","NULL",0,4,"NULL","NULL","NULL","NULL"]
[1252407,"Gibbar","NULL",0,4,"NULL","NULL","NULL","NULL"]
[1252443,"Giegerich","NULL",0,4,"NULL","NULL","NULL","NULL"]
[1252510,"Gildea","NULL",0,4,"NULL","NULL","NULL","NULL"]
[1252642,"Gitchel","NULL",0,4,"NULL","NULL","NULL","NULL"]
[1252666,"Giuntoli","NULL",0,4,"NULL","NULL","NULL","NULL"]
[1252740,"Glasner","NULL",0,4,"NULL","NULL","NULL","NULL"]
[1252826,"Glines","NULL",0,4,"NULL","NULL","NULL","NULL"]
[1252917,"Gochnauer","NULL",0,4,"NULL","NULL","NULL","NULL"]
[1252986,"Goelzer","NULL",0,4,"NULL","NULL","NULL","NULL"]
[1253007,"Goethals","NULL",0,4,"NULL","NULL","NULL","NULL"]
[1253090,"Goldfeder","NULL",0,4,"NULL","NULL","NULL","NULL"]
[1253162,"Golphin","NULL",0,4,"NULL","NULL","NULL","NULL"]
[1253259,"Goodmanson","NULL",0,4,"NULL","NULL","NULL","NULL"]
[1253324,"Gordinier","NULL",0,4,"NULL","NULL","NULL","NULL"]
[1253413,"Gotch","NULL",0,4,"NULL","NULL","NULL","NULL"]
[1253446,"Gotwalt","NULL",0,4,"NULL","NULL","NULL","NULL"]
[1253503,"Gowdy","NULL",0,4,"NULL","NULL","NULL","NULL"]
[1253584,"Graffis","NULL",0,4,"NULL","NULL","NULL","NULL"]
[1253666,"Granieri","NULL",0,4,"NULL","NULL","NULL","NULL"]
[1253762,"Grazioli","NULL",0,4,"NULL","NULL","NULL","NULL"]
[1253852,"Greger","NULL",0,4,"NULL","NULL","NULL","NULL"]
[1253926,"Greulich","NULL",0,4,"NULL","NULL","NULL","NULL"]
[1253944,"Grice","NULL",0,4,"NULL","NULL","NULL","NULL"]
[1254037,"Grindell","NULL",0,4,"NULL","NULL","NULL","NULL"]
[1254107,"Groeneweg","NULL",0,4,"NULL","NULL","NULL","NULL"]
[1254195,"Grossmann","NULL",0,4,"NULL","NULL","NULL","NULL"]
[1254258,"Grulke","NULL",0,4,"NULL","NULL","NULL","NULL"]
[1254357,"Guccio","NULL",0,4,"NULL","NULL","NULL","NULL"]
[1254374,"Gue","NULL",0,4,"NULL","NULL","NULL","NULL"]
[1254440,"Guidera","NULL",0,4,"NULL","NULL","NULL","NULL"]
[1254536,"Gulli","NULL",0,4,"NULL","NULL","NULL","NULL"]
[1254608,"Gunther","NULL",0,4,"NULL","NULL","NULL","NULL"]
[1254697,"Gutowski","NULL",0,4,"NULL","NULL","NULL","NULL"]
[1254787,"Haertel","NULL",0,4,"NULL","NULL","NULL","NULL"]
[1254831,"Hagemeister","NULL",0,4,"NULL","NULL","NULL","NULL"]
[1254874,"Hagy","NULL",0,4,"NULL","NULL","NULL","NULL"]
[1254963,"Halbleib","NULL",0,4,"NULL","NULL","NULL","NULL"]
[1255013,"Halle","NULL",0,4,"NULL","NULL","NULL","NULL"]
[1255122,"Hamid","NULL",0,4,"NULL","NULL","NULL","NULL"]
[1255195,"Hamson","NULL",0,4,"NULL","NULL","NULL","NULL"]
[1255266,"Hanten","NULL",0,4,"NULL","NULL","NULL","NULL"]
[1255299,"Harbach","NULL",0,4,"NULL","NULL","NULL","NULL"]
[1255374,"Harewood","NULL",0,4,"NULL","NULL","NULL","NULL"]
[1255455,"Harnick","NULL",0,4,"NULL","NULL","NULL","NULL"]
[1255554,"Hartjes","NULL",0,4,"NULL","NULL","NULL","NULL"]
[1255623,"Harvin","NULL",0,4,"NULL","NULL","NULL","NULL"]
[1255637,"Hasch","NULL",0,4,"NULL","NULL","NULL","NULL"]
[1255709,"Hausen","NULL",0,4,"NULL","NULL","NULL","NULL"]
[1255840,"Hayworth","NULL",0,4,"NULL","NULL","NULL","NULL"]
[1255896,"Heare","NULL",0,4,"NULL","NULL","NULL","NULL"]
[1255972,"Heckenlaible","NULL",0,4,"NULL","NULL","NULL","NULL"]
[1256039,"Heffelfinger","NULL",0,4,"NULL","NULL","NULL","NULL"]
[1256132,"Heiges","NULL",0,4,"NULL","NULL","NULL","NULL"]
[1256150,"Heilman","NULL",0,4,"NULL","NULL","NULL","NULL"]
[1256218,"Heinze","NULL",0,4,"NULL","NULL","NULL","NULL"]
[1256306,"Hellbusch","NULL",0,4,"NULL","NULL","NULL","NULL"]
[1256394,"Hemker","NULL",0,4,"NULL","NULL","NULL","NULL"]
[1256470,"Heneghan","NULL",0,4,"NULL","NULL","NULL","NULL"]
[1256550,"Henriksen","NULL",0,4,"NULL","NULL","NULL","NULL"]
[1256567,"Henslee","NULL",0,4,"NULL","NULL","NULL","NULL"]
[1256685,"Hernadez","NULL",0,4,"NULL","NULL","NULL","NULL"]
[1256729,"Herrling","NULL",0,4,"NULL","NULL","NULL","NULL"]
[1256814,"Hessinger","NULL",0,4,"NULL","NULL","NULL","NULL"]
[1256864,"Heusser","NULL",0,4,"NULL","NULL","NULL","NULL"]
[1256974,"Hiester","NULL",0,4,"NULL","NULL","NULL","NULL"]
[1257035,"Hilden","NULL",0,4,"NULL","NULL","NULL","NULL"]
[1257061,"Hilinski","NULL",0,4,"NULL","NULL","NULL","NULL"]
[1257149,"Himmler","NULL",0,4,"NULL","NULL","NULL","NULL"]
[1257250,"Hlavacek","NULL",0,4,"NULL","NULL","NULL","NULL"]
[1257309,"Hochstetler","NULL",0,4,"NULL","NULL","NULL","NULL"]
[1257397,"Hoem","NULL",0,4,"NULL","NULL","NULL","NULL"]
[1257433,"Holaday","NULL",0,4,"NULL","NULL","NULL","NULL"]
[1257488,"Holifield","NULL",0,4,"NULL","NULL","NULL","NULL"]
[1257560,"Hollyfield","NULL",0,4,"NULL","NULL","NULL","NULL"]
[1257619,"Holthouse","NULL",0,4,"NULL","NULL","NULL","NULL"]
[1257739,"Hoodenpyle","NULL",0,4,"NULL","NULL","NULL","NULL"]
[1257819,"Horak","NULL",0,4,"NULL","NULL","NULL","NULL"]
[1257883,"Horry","NULL",0,4,"NULL","NULL","NULL","NULL"]
[1257924,"Hosfield","NULL",0,4,"NULL","NULL","NULL","NULL"]
[1258017,"Housel","NULL",0,4,"NULL","NULL","NULL","NULL"]
[1258084,"Howerter","NULL",0,4,"NULL","NULL","NULL","NULL"]
[1258154,"Hsia","NULL",0,4,"NULL","NULL","NULL","NULL"]
[1258200,"Huckaba","NULL",0,4,"NULL","NULL","NULL","NULL"]
[1258260,"Huenink","NULL",0,4,"NULL","NULL","NULL","NULL"]
[1258334,"Humphreys","NULL",0,4,"NULL","NULL","NULL","NULL"]
[1258467,"Hussong","NULL",0,4,"NULL","NULL","NULL","NULL"]
[1258504,"Hutzler","NULL",0,4,"NULL","NULL","NULL","NULL"]
[1258589,"Iannetta","NULL",0,4,"NULL","NULL","NULL","NULL"]
[1258648,"Iha","NULL",0,4,"NULL","NULL","NULL","NULL"]
[1258751,"Indovina","NULL",0,4,"NULL","NULL","NULL","NULL"]
[1258769,"Ingemi","NULL",0,4,"NULL","NULL","NULL","NULL"]
[1258901,"Isberg","NULL",0,4,"NULL","NULL","NULL","NULL"]
[1258926,"Ish","NULL",0,4,"NULL","NULL","NULL","NULL"]
[1259016,"Izumi","NULL",0,4,"NULL","NULL","NULL","NULL"]
[1259049,"Jackson","NULL",0,4,"NULL","NULL","NULL","NULL"]
[1259171,"Janczak","NULL",0,4,"NULL","NULL","NULL","NULL"]
[1259212,"Janke","NULL",0,4,"NULL","NULL","NULL","NULL"]
[1259257,"Janusz","NULL",0,4,"NULL","NULL","NULL","NULL"]
[1259344,"Jasso","NULL",0,4,"NULL","NULL","NULL","NULL"]
[1259394,"Jeff","NULL",0,4,"NULL","NULL","NULL","NULL"]
[1259501,"Jervis","NULL",0,4,"NULL","NULL","NULL","NULL"]
[1259591,"Jobin","NULL",0,4,"NULL","NULL","NULL","NULL"]
[1259610,"Joerger","NULL",0,4,"NULL","NULL","NULL","NULL"]
[1259679,"Jons","NULL",0,4,"NULL","NULL","NULL","NULL"]
[1259771,"Justi","NULL",0,4,"NULL","NULL","NULL","NULL"]
[1259863,"Kandt","NULL",0,4,"NULL","NULL","NULL","NULL"]
[1259925,"Kaplowitz","NULL",0,4,"NULL","NULL","NULL","NULL"]
[1259994,"Karim","NULL",0,4,"NULL","NULL","NULL","NULL"]
[1260039,"Karpinski","NULL",0,4,"NULL","NULL","NULL","NULL"]
[1260096,"Kaska","NULL",0,4,"NULL","NULL","NULL","NULL"]
[1260171,"Keeter","NULL",0,4,"NULL","NULL","NULL","NULL"]
[1260252,"Kendall","NULL",0,4,"NULL","NULL","NULL","NULL"]
[1260338,"Kepple","NULL",0,4,"NULL","NULL","NULL","NULL"]
[1260415,"Kesel","NULL",0,4,"NULL","NULL","NULL","NULL"]
[1260494,"Keylor","NULL",0,4,"NULL","NULL","NULL","NULL"]
[1260570,"Kiehn","NULL",0,4,"NULL","NULL","NULL","NULL"]
[1260602,"Kiesel","NULL",0,4,"NULL","NULL","NULL","NULL"]
[1260674,"Kinder","NULL",0,4,"NULL","NULL","NULL","NULL"]
[1260747,"Kinoshita","NULL",0,4,"NULL","NULL","NULL","NULL"]
[1260786,"Kipling","NULL",0,4,"NULL","NULL","NULL","NULL"]
[1260905,"Klauss","NULL",0,4,"NULL","NULL","NULL","NULL"]
[1260990,"Klomp","NULL",0,4,"NULL","NULL","NULL","NULL"]
[1261032,"Kobel","NULL",0,4,"NULL","NULL","NULL","NULL"]
[1261075,"Kocourek","NULL",0,4,"NULL","NULL","NULL","NULL"]
[1261160,"Koh","NULL",0,4,"NULL","NULL","NULL","NULL"]
[1261209,"Kokesh","NULL",0,4,"NULL","NULL","NULL","NULL"]
[1261314,"Konarski","NULL",0,4,"NULL","NULL","NULL","NULL"]
[1261337,"Kopplin","NULL",0,4,"NULL","NULL","NULL","NULL"]
[1261400,"Korpal","NULL",0,4,"NULL","NULL","NULL","NULL"]
[1261485,"Kost","NULL",0,4,"NULL","NULL","NULL","NULL"]
[1261581,"Kovalick","NULL",0,4,"NULL","NULL","NULL","NULL"]
[1261638,"Krenn","NULL",0,4,"NULL","NULL","NULL","NULL"]
[1261724,"Krise","NULL",0,4,"NULL","NULL","NULL","NULL"]
[1261758,"Kroeger","NULL",0,4,"NULL","NULL","NULL","NULL"]
[1261809,"Krontz","NULL",0,4,"NULL","NULL","NULL","NULL"]
[1261894,"Kuempel","NULL",0,4,"NULL","NULL","NULL","NULL"]
[1261969,"Kulikowski","NULL",0,4,"NULL","NULL","NULL","NULL"]
[1262049,"Kutcher","NULL",0,4,"NULL","NULL","NULL","NULL"]
[1262134,"La Civita","NULL",0,4,"NULL","NULL","NULL","NULL"]
[1262214,"Labra","NULL",0,4,"NULL","NULL","NULL","NULL"]
[1262221,"Labreck","NULL",0,4,"NULL","NULL","NULL","NULL"]
[1262351,"Lafoon","NULL",0,4,"NULL","NULL","NULL","NULL"]
[1262384,"Lagle","NULL",0,4,"NULL","NULL","NULL","NULL"]
[1262473,"Lalime","NULL",0,4,"NULL","NULL","NULL","NULL"]
[1262537,"Lamers","NULL",0,4,"NULL","NULL","NULL","NULL"]
[1262637,"Landenberger","NULL",0,4,"NULL","NULL","NULL","NULL"]
[1262656,"Landino","NULL",0,4,"NULL","NULL","NULL","NULL"]
[1262724,"Langerman","NULL",0,4,"NULL","NULL","NULL","NULL"]
[1262815,"Lasiter","NULL",0,4,"NULL","NULL","NULL","NULL"]
[1262885,"Lauman","NULL",0,4,"NULL","NULL","NULL","NULL"]
[1262978,"Leeth","NULL",0,4,"NULL","NULL","NULL","NULL"]
[1263064,"Lehnen","NULL",0,4,"NULL","NULL","NULL","NULL"]
[1263134,"Leinberger","NULL",0,4,"NULL","NULL","NULL","NULL"]
[1263158,"Leishman","NULL",0,4,"NULL","NULL","NULL","NULL"]
[1263236,"Lemly","NULL",0,4,"NULL","NULL","NULL","NULL"]
[1263309,"Lenoir","NULL",0,4,"NULL","NULL","NULL","NULL"]
[1263408,"Leser","NULL",0,4,"NULL","NULL","NULL","NULL"]
[1263465,"Librizzi","NULL",0,4,"NULL","NULL","NULL","NULL"]
[1263539,"Liebsch","NULL",0,4,"NULL","NULL","NULL","NULL"]
[1263569,"Lieske","NULL",0,4,"NULL","NULL","NULL","NULL"]
[1263645,"Limbacher","NULL",0,4,"NULL","NULL","NULL","NULL"]
[1263726,"Lindley","NULL",0,4,"NULL","NULL","NULL","NULL"]
[1263805,"Livengood","NULL",0,4,"NULL","NULL","NULL","NULL"]
[1263892,"Lobaugh","NULL",0,4,"NULL","NULL","NULL","NULL"]
[1263983,"Lomax","NULL",0,4,"NULL","NULL","NULL","NULL"]
[1264057,"Longworth","NULL",0,4,"NULL","NULL","NULL","NULL"]
[1264076,"Lookabaugh","NULL",0,4,"NULL","NULL","NULL","NULL"]
[1264172,"Losco","NULL",0,4,"NULL","NULL","NULL","NULL"]
[1264242,"Louks","NULL",0,4,"NULL","NULL","NULL","NULL"]
[1264337,"Lowrie","NULL",0,4,"NULL","NULL","NULL","NULL"]
[1264398,"Lucca","NULL",0,4,"NULL","NULL","NULL","NULL"]
[1264424,"Lucio","NULL",0,4,"NULL","NULL","NULL","NULL"]
[1264496,"Luedtke","NULL",0,4,"NULL","NULL","NULL","NULL"]
[1264582,"Lummis","NULL",0,4,"NULL","NULL","NULL","NULL"]
[1264668,"Luschen","NULL",0,4,"NULL","NULL","NULL","NULL"]
[1264714,"Luttrell","NULL",0,4,"NULL","NULL","NULL","NULL"]
[1264829,"Mabie","NULL",0,4,"NULL","NULL","NULL","NULL"]
[1264848,"Macario","NULL",0,4,"NULL","NULL","NULL","NULL"]
[1264964,"Mackintosh","NULL",0,4,"NULL","NULL","NULL","NULL"]
[1265003,"Macomber","NULL",0,4,"NULL","NULL","NULL","NULL"]
[1265091,"Maeder","NULL",0,4,"NULL","NULL","NULL","NULL"]
[1265143,"Maggs","NULL",0,4,"NULL","NULL","NULL","NULL"]
[1265245,"Mahone","NULL",0,4,"NULL","NULL","NULL","NULL"]
[1265318,"Maitland","NULL",0,4,"NULL","NULL","NULL","NULL"]
[1265395,"Malmin","NULL",0,4,"NULL","NULL","NULL","NULL"]
[1265423,"Maltais","NULL",0,4,"NULL","NULL","NULL","NULL"]
[1265527,"Manford","NULL",0,4,"NULL","NULL","NULL","NULL"]
[1265586,"Manikowski","NULL",0,4,"NULL","NULL","NULL","NULL"]
[1265676,"Manternach","NULL",0,4,"NULL","NULL","NULL","NULL"]
[1265718,"Maphis","NULL",0,4,"NULL","NULL","NULL","NULL"]
[1265767,"Margeson","NULL",0,4,"NULL","NULL","NULL","NULL"]
[1265842,"Markiewicz","NULL",0,4,"NULL","NULL","NULL","NULL"]
[1265904,"Marney","NULL",0,4,"NULL","NULL","NULL","NULL"]
[1266025,"Martignetti","NULL",0,4,"NULL","NULL","NULL","NULL"]
[1266097,"Marz","NULL",0,4,"NULL","NULL","NULL","NULL"]
[1266167,"Masone","NULL",0,4,"NULL","NULL","NULL","NULL"]
[1266261,"Mateos","NULL",0,4,"NULL","NULL","NULL","NULL"]
[1266281,"Matherne","NULL",0,4,"NULL","NULL","NULL","NULL"]
[1266352,"Matsushita","NULL",0,4,"NULL","NULL","NULL","NULL"]
[1266437,"Matz","NULL",0,4,"NULL","NULL","NULL","NULL"]
[1266526,"Maxie","NULL",0,4,"NULL","NULL","NULL","NULL"]
[1266609,"Mazon","NULL",0,4,"NULL","NULL","NULL","NULL"]
[1266686,"McAteer","NULL",0,4,"NULL","NULL","NULL","NULL"]
[1266737,"McCallon","NULL",0,4,"NULL","NULL","NULL","NULL"]
[1266771,"McCarren","NULL",0,4,"NULL","NULL","NULL","NULL"]
[1266856,"McClimans","NULL",0,4,"NULL","NULL","NULL","NULL"]
[1266913,"McConaughey","NULL",0,4,"NULL","NULL","NULL","NULL"]
[1267009,"McCullagh","NULL",0,4,"NULL","NULL","NULL","NULL"]
[1267094,"McElhaney","NULL",0,4,"NULL","NULL","NULL","NULL"]
[1267156,"McFayden","NULL",0,4,"NULL","NULL","NULL","NULL"]
[1267179,"McGarr","NULL",0,4,"NULL","NULL","NULL","NULL"]
[1267264,"McGonegal","NULL",0,4,"NULL","NULL","NULL","NULL"]
[1267365,"McIvor","NULL",0,4,"NULL","NULL","NULL","NULL"]
[1267417,"McKeown","NULL",0,4,"NULL","NULL","NULL","NULL"]
[1267502,"McLennan","NULL",0,4,"NULL","NULL","NULL","NULL"]
[1267541,"McMasters","NULL",0,4,"NULL","NULL","NULL","NULL"]
[1267587,"McNally","NULL",0,4,"NULL","NULL","NULL","NULL"]
[1267669,"McQuaid","NULL",0,4,"NULL","NULL","NULL","NULL"]
[1267740,"McVittie","NULL",0,4,"NULL","NULL","NULL","NULL"]
[1267834,"Meder","NULL",0,4,"NULL","NULL","NULL","NULL"]
[1267859,"Medsker","NULL",0,4,"NULL","NULL","NULL","NULL"]
[1267926,"Mehlman","NULL",0,4,"NULL","NULL","NULL","NULL"]
[1268011,"Mekelburg","NULL",0,4,"NULL","NULL","NULL","NULL"]
[1268105,"Mells","NULL",0,4,"NULL","NULL","NULL","NULL"]
[1268167,"Mendivil","NULL",0,4,"NULL","NULL","NULL","NULL"]
[1268238,"Mentzel","NULL",0,4,"NULL","NULL","NULL","NULL"]
[1268287,"Merideth","NULL",0,4,"NULL","NULL","NULL","NULL"]
[1268345,"Methner","NULL",0,4,"NULL","NULL","NULL","NULL"]
[1268417,"Mezzacappa","NULL",0,4,"NULL","NULL","NULL","NULL"]
[1268538,"Mierzejewski","NULL",0,4,"NULL","NULL","NULL","NULL"]
[1268573,"Mihalko","NULL",0,4,"NULL","NULL","NULL","NULL"]
[1268659,"Milem","NULL",0,4,"NULL","NULL","NULL","NULL"]
[1268723,"Milligan","NULL",0,4,"NULL","NULL","NULL","NULL"]
[1268827,"Minervini","NULL",0,4,"NULL","NULL","NULL","NULL"]
[1268863,"Minjarez","NULL",0,4,"NULL","NULL","NULL","NULL"]
[1268937,"Mirarchi","NULL",0,4,"NULL","NULL","NULL","NULL"]
[1269009,"Mitchelson","NULL",0,4,"NULL","NULL","NULL","NULL"]
[1269123,"Modena","NULL",0,4,"NULL","NULL","NULL","NULL"]
[1269170,"Moffa","NULL",0,4,"NULL","NULL","NULL","NULL"]
[1269261,"Molini","NULL",0,4,"NULL","NULL","NULL","NULL"]
[1269308,"Mommaerts","NULL",0,4,"NULL","NULL","NULL","NULL"]
[1269351,"Monds","NULL",0,4,"NULL","NULL","NULL","NULL"]
[1269440,"Montanino","NULL",0,4,"NULL","NULL","NULL","NULL"]
[1269491,"Montilla","NULL",0,4,"NULL","NULL","NULL","NULL"]
[1269602,"Mordecai","NULL",0,4,"NULL","NULL","NULL","NULL"]
[1269689,"Morisset","NULL",0,4,"NULL","NULL","NULL","NULL"]
[1269712,"Morones","NULL",0,4,"NULL","NULL","NULL","NULL"]
[1269778,"Mosby","NULL",0,4,"NULL","NULL","NULL","NULL"]
[1269883,"Mouch","NULL",0,4,"NULL","NULL","NULL","NULL"]
[1269947,"Moxon","NULL",0,4,"NULL","NULL","NULL","NULL"]
[1270035,"Muffett","NULL",0,4,"NULL","NULL","NULL","NULL"]
[1270107,"Mullee","NULL",0,4,"NULL","NULL","NULL","NULL"]
[1270194,"Mungo","NULL",0,4,"NULL","NULL","NULL","NULL"]
[1270211,"Muno","NULL",0,4,"NULL","NULL","NULL","NULL"]
[1270287,"Murnane","NULL",0,4,"NULL","NULL","NULL","NULL"]
[1270368,"Mustafa","NULL",0,4,"NULL","NULL","NULL","NULL"]
[1270459,"Nack","NULL",0,4,"NULL","NULL","NULL","NULL"]
[1270540,"Nakajima","NULL",0,4,"NULL","NULL","NULL","NULL"]
[1270614,"Naranjo","NULL",0,4,"NULL","NULL","NULL","NULL"]
[1270615,"Narasimhan","NULL",0,4,"NULL","NULL","NULL","NULL"]
[1270723,"Naves","NULL",0,4,"NULL","NULL","NULL","NULL"]
[1270794,"Nedved","NULL",0,4,"NULL","NULL","NULL","NULL"]
[1270868,"Neild","NULL",0,4,"NULL","NULL","NULL","NULL"]
[1270908,"Nelms","NULL",0,4,"NULL","NULL","NULL","NULL"]
[1271028,"Neuhalfen","NULL",0,4,"NULL","NULL","NULL","NULL"]
[1271043,"Neumeister","NULL",0,4,"NULL","NULL","NULL","NULL"]
[1271132,"Newnam","NULL",0,4,"NULL","NULL","NULL","NULL"]
[1271206,"Nicklaus","NULL",0,4,"NULL","NULL","NULL","NULL"]
[1271295,"Nieland","NULL",0,4,"NULL","NULL","NULL","NULL"]
[1271378,"Nimtz","NULL",0,4,"NULL","NULL","NULL","NULL"]
[1271453,"Nobert","NULL",0,4,"NULL","NULL","NULL","NULL"]
[1271482,"Noelle","NULL",0,4,"NULL","NULL","NULL","NULL"]
[1271542,"Noone","NULL",0,4,"NULL","NULL","NULL","NULL"]
[1271629,"Normoyle","NULL",0,4,"NULL","NULL","NULL","NULL"]
[1271734,"Nowak","NULL",0,4,"NULL","NULL","NULL","NULL"]
[1271790,"Nunemaker","NULL",0,4,"NULL","NULL","NULL","NULL"]
[1271879,"O’Briant","NULL",0,4,"NULL","NULL","NULL","NULL"]
[1271916,"O’Guin","NULL",0,4,"NULL","NULL","NULL","NULL"]
[1271964,"O’Rorke","NULL",0,4,"NULL","NULL","NULL","NULL"]
[1272047,"Obrist","NULL",0,4,"NULL","NULL","NULL","NULL"]
[1272122,"Oei","NULL",0,4,"NULL","NULL","NULL","NULL"]
[1272212,"Ohlsen","NULL",0,4,"NULL","NULL","NULL","NULL"]
[1272303,"Oldfather","NULL",0,4,"NULL","NULL","NULL","NULL"]
[1272372,"Olliff","NULL",0,4,"NULL","NULL","NULL","NULL"]
[1272389,"Olofson","NULL",0,4,"NULL","NULL","NULL","NULL"]
[1272517,"Orban","NULL",0,4,"NULL","NULL","NULL","NULL"]
[1272548,"Orff","NULL",0,4,"NULL","NULL","NULL","NULL"]
[1272634,"Ortel","NULL",0,4,"NULL","NULL","NULL","NULL"]
[1272696,"Osier","NULL",0,4,"NULL","NULL","NULL","NULL"]
[1272787,"Osweiler","NULL",0,4,"NULL","NULL","NULL","NULL"]
[1272804,"Ottaviano","NULL",0,4,"NULL","NULL","NULL","NULL"]
[1272876,"Ovard","NULL",0,4,"NULL","NULL","NULL","NULL"]
[1272967,"Ozga","NULL",0,4,"NULL","NULL","NULL","NULL"]
[1273042,"Padgham","NULL",0,4,"NULL","NULL","NULL","NULL"]
[1273139,"Palas","NULL",0,4,"NULL","NULL","NULL","NULL"]
[1273223,"Palubicki","NULL",0,4,"NULL","NULL","NULL","NULL"]
[1273275,"Panik","NULL",0,4,"NULL","NULL","NULL","NULL"]
[1273316,"Panzera","NULL",0,4,"NULL","NULL","NULL","NULL"]
[1273408,"Pardoe","NULL",0,4,"NULL","NULL","NULL","NULL"]
[1273470,"Parlow","NULL",0,4,"NULL","NULL","NULL","NULL"]
[1273578,"Pasillas","NULL",0,4,"NULL","NULL","NULL","NULL"]
[1273652,"Patak","NULL",0,4,"NULL","NULL","NULL","NULL"]
[1273735,"Paulding","NULL",0,4,"NULL","NULL","NULL","NULL"]
[1273761,"Pauly","NULL",0,4,"NULL","NULL","NULL","NULL"]
[1273835,"Paysinger","NULL",0,4,"NULL","NULL","NULL","NULL"]
[1273927,"Pedigo","NULL",0,4,"NULL","NULL","NULL","NULL"]
[1274006,"Pelayo","NULL",0,4,"NULL","NULL","NULL","NULL"]
[1274095,"Pendergraft","NULL",0,4,"NULL","NULL","NULL","NULL"]
[1274114,"Penington","NULL",0,4,"NULL","NULL","NULL","NULL"]
[1274182,"Peplow","NULL",0,4,"NULL","NULL","NULL","NULL"]
[1274317,"Perretti","NULL",0,4,"NULL","NULL","NULL","NULL"]
[1274357,"Persico","NULL",0,4,"NULL","NULL","NULL","NULL"]
[1274430,"Petit","NULL",0,4,"NULL","NULL","NULL","NULL"]
[1274499,"Petrosky","NULL",0,4,"NULL","NULL","NULL","NULL"]
[1274587,"Pezzino","NULL",0,4,"NULL","NULL","NULL","NULL"]
[1274604,"Pfeifer","NULL",0,4,"NULL","NULL","NULL","NULL"]
[1274678,"Philbrick","NULL",0,4,"NULL","NULL","NULL","NULL"]
[1274764,"Picerno","NULL",0,4,"NULL","NULL","NULL","NULL"]
[1274858,"Pierpoint","NULL",0,4,"NULL","NULL","NULL","NULL"]
[1274904,"Pignone","NULL",0,4,"NULL","NULL","NULL","NULL"]
[1275027,"Pinkus","NULL",0,4,"NULL","NULL","NULL","NULL"]
[1275047,"Pinta","NULL",0,4,"NULL","NULL","NULL","NULL"]
[1275171,"Piwowarski","NULL",0,4,"NULL","NULL","NULL","NULL"]
[1275209,"Plagmann","NULL",0,4,"NULL","NULL","NULL","NULL"]
[1275306,"Pliner","NULL",0,4,"NULL","NULL","NULL","NULL"]
[1275369,"Pluth","NULL",0,4,"NULL","NULL","NULL","NULL"]
[1275474,"Pola","NULL",0,4,"NULL","NULL","NULL","NULL"]
[1275505,"Polhill","NULL",0,4,"NULL","NULL","NULL","NULL"]
[1275569,"Pollom","NULL",0,4,"NULL","NULL","NULL","NULL"]
[1275661,"Poock","NULL",0,4,"NULL","NULL","NULL","NULL"]
[1275778,"Portwood","NULL",0,4,"NULL","NULL","NULL","NULL"]
[1275835,"Potteiger","NULL",0,4,"NULL","NULL","NULL","NULL"]
[1275927,"Prange","NULL",0,4,"NULL","NULL","NULL","NULL"]
[1275970,"Preece","NULL",0,4,"NULL","NULL","NULL","NULL"]
[1276019,"Presswood","NULL",0,4,"NULL","NULL","NULL","NULL"]
[1276095,"Prieto","NULL",0,4,"NULL","NULL","NULL","NULL"]
[1276168,"Probus","NULL",0,4,"NULL","NULL","NULL","NULL"]
[1276289,"Pruski","NULL",0,4,"NULL","NULL","NULL","NULL"]
[1276362,"Puglise","NULL",0,4,"NULL","NULL","NULL","NULL"]
[1276441,"Purdum","NULL",0,4,"NULL","NULL","NULL","NULL"]
[1276535,"Qiu","NULL",0,4,"NULL","NULL","NULL","NULL"]
[1276583,"Quattrocchi","NULL",0,4,"NULL","NULL","NULL","NULL"]
[1276652,"Quinlin","NULL",0,4,"NULL","NULL","NULL","NULL"]
[1276725,"Raboin","NULL",0,4,"NULL","NULL","NULL","NULL"]
[1276779,"Radcliffe","NULL",0,4,"NULL","NULL","NULL","NULL"]
[1276900,"Rahimi","NULL",0,4,"NULL","NULL","NULL","NULL"]
[1276977,"Rak","NULL",0,4,"NULL","NULL","NULL","NULL"]
[1277033,"Ramlow","NULL",0,4,"NULL","NULL","NULL","NULL"]
[1277065,"Ramshaw","NULL",0,4,"NULL","NULL","NULL","NULL"]
[1277157,"Rapoport","NULL",0,4,"NULL","NULL","NULL","NULL"]
[1277222,"Rassier","NULL",0,4,"NULL","NULL","NULL","NULL"]
[1277322,"Ravenell","NULL",0,4,"NULL","NULL","NULL","NULL"]
[1277341,"Rawling","NULL",0,4,"NULL","NULL","NULL","NULL"]
[1277491,"Recla","NULL",0,4,"NULL","NULL","NULL","NULL"]
[1277517,"Redditt","NULL",0,4,"NULL","NULL","NULL","NULL"]
[1277613,"Regas","NULL",0,4,"NULL","NULL","NULL","NULL"]
[1277651,"Rehman","NULL",0,4,"NULL","NULL","NULL","NULL"]
[1277768,"Reinholtz","NULL",0,4,"NULL","NULL","NULL","NULL"]
[1277814,"Reiss","NULL",0,4,"NULL","NULL","NULL","NULL"]
[1277853,"Remedies","NULL",0,4,"NULL","NULL","NULL","NULL"]
[1277940,"Rennie","NULL",0,4,"NULL","NULL","NULL","NULL"]
[1278027,"Ressler","NULL",0,4,"NULL","NULL","NULL","NULL"]
[1278099,"Rex","NULL",0,4,"NULL","NULL","NULL","NULL"]
[1278186,"Rhynard","NULL",0,4,"NULL","NULL","NULL","NULL"]
[1278209,"Ribordy","NULL",0,4,"NULL","NULL","NULL","NULL"]
[1278274,"Rickenbaker","NULL",0,4,"NULL","NULL","NULL","NULL"]
[1278365,"Riegert","NULL",0,4,"NULL","NULL","NULL","NULL"]
[1278465,"Riles","NULL",0,4,"NULL","NULL","NULL","NULL"]
[1278528,"Ringold","NULL",0,4,"NULL","NULL","NULL","NULL"]
[1278604,"Risinger","NULL",0,4,"NULL","NULL","NULL","NULL"]
[1278655,"Ritthaler","NULL",0,4,"NULL","NULL","NULL","NULL"]
[1278708,"Rizzotti","NULL",0,4,"NULL","NULL","NULL","NULL"]
[1278791,"Roblee","NULL",0,4,"NULL","NULL","NULL","NULL"]
[1278870,"Rodeheaver","NULL",0,4,"NULL","NULL","NULL","NULL"]
[1278940,"Roelofs","NULL",0,4,"NULL","NULL","NULL","NULL"]
[1279038,"Rohrbach","NULL",0,4,"NULL","NULL","NULL","NULL"]
[1279112,"Rolston","NULL",0,4,"NULL","NULL","NULL","NULL"]
[1279185,"Roney","NULL",0,4,"NULL","NULL","NULL","NULL"]
[1279226,"Roppolo","NULL",0,4,"NULL","NULL","NULL","NULL"]
[1279293,"Rosenbach","NULL",0,4,"NULL","NULL","NULL","NULL"]
[1279363,"Rosiek","NULL",0,4,"NULL","NULL","NULL","NULL"]
[1279406,"Rossignol","NULL",0,4,"NULL","NULL","NULL","NULL"]
[1279525,"Roundy","NULL",0,4,"NULL","NULL","NULL","NULL"]
[1279620,"Roytman","NULL",0,4,"NULL","NULL","NULL","NULL"]
[1279669,"Rubens","NULL",0,4,"NULL","NULL","NULL","NULL"]
[1279709,"Ruda","NULL",0,4,"NULL","NULL","NULL","NULL"]
[1279804,"Ruffolo","NULL",0,4,"NULL","NULL","NULL","NULL"]
[1279888,"Rundel","NULL",0,4,"NULL","NULL","NULL","NULL"]
[1279964,"Rusin","NULL",0,4,"NULL","NULL","NULL","NULL"]
[1279993,"Russow","NULL",0,4,"NULL","NULL","NULL","NULL"]
[1280120,"Ryther","NULL",0,4,"NULL","NULL","NULL","NULL"]
[1280137,"Saar","NULL",0,4,"NULL","NULL","NULL","NULL"]
[1280243,"Saelens","NULL",0,4,"NULL","NULL","NULL","NULL"]
[1280298,"Sahl","NULL",0,4,"NULL","NULL","NULL","NULL"]
[1280388,"Salem","NULL",0,4,"NULL","NULL","NULL","NULL"]
[1280466,"Salser","NULL",0,4,"NULL","NULL","NULL","NULL"]
[1280480,"Saltonstall","NULL",0,4,"NULL","NULL","NULL","NULL"]
[1280569,"Sampsel","NULL",0,4,"NULL","NULL","NULL","NULL"]
[1280651,"Sandoe","NULL",0,4,"NULL","NULL","NULL","NULL"]
[1280729,"Santander","NULL",0,4,"NULL","NULL","NULL","NULL"]
[1280815,"Saraiva","NULL",0,4,"NULL","NULL","NULL","NULL"]
[1280831,"Sardone","NULL",0,4,"NULL","NULL","NULL","NULL"]
[1280904,"Sassano","NULL",0,4,"NULL","NULL","NULL","NULL"]
[1281040,"Sawatzki","NULL",0,4,"NULL","NULL","NULL","NULL"]
[1281070,"Saye","NULL",0,4,"NULL","NULL","NULL","NULL"]
[1281156,"Scarfone","NULL",0,4,"NULL","NULL","NULL","NULL"]
[1281220,"Schadle","NULL",0,4,"NULL","NULL","NULL","NULL"]
[1281309,"Schauder","NULL",0,4,"NULL","NULL","NULL","NULL"]
[1281378,"Schelin","NULL",0,4,"NULL","NULL","NULL","NULL"]
[1281396,"Schemel","NULL",0,4,"NULL","NULL","NULL","NULL"]
[1281479,"Schieber","NULL",0,4,"NULL","NULL","NULL","NULL"]
[1281548,"Schindele","NULL",0,4,"NULL","NULL","NULL","NULL"]
[1281639,"Schlichting","NULL",0,4,"NULL","NULL","NULL","NULL"]
[1281718,"Schmidlin","NULL",0,4,"NULL","NULL","NULL","NULL"]
[1281788,"Schneller","NULL",0,4,"NULL","NULL","NULL","NULL"]
[1281817,"Schnyder","NULL",0,4,"NULL","NULL","NULL","NULL"]
[1281873,"Schoepke","NULL",0,4,"NULL","NULL","NULL","NULL"]
[1281948,"Schorr","NULL",0,4,"NULL","NULL","NULL","NULL"]
[1282045,"Schrupp","NULL",0,4,"NULL","NULL","NULL","NULL"]
[1282114,"Schultheiss","NULL",0,4,"NULL","NULL","NULL","NULL"]
[1282191,"Schwarck","NULL",0,4,"NULL","NULL","NULL","NULL"]
[1282215,"Schwebke","NULL",0,4,"NULL","NULL","NULL","NULL"]
[1282284,"Schworm","NULL",0,4,"NULL","NULL","NULL","NULL"]
[1282373,"Scriber","NULL",0,4,"NULL","NULL","NULL","NULL"]
[1282451,"Seanor","NULL",0,4,"NULL","NULL","NULL","NULL"]
[1282541,"Sedlock","NULL",0,4,"NULL","NULL","NULL","NULL"]
[1282633,"Sehnert","NULL",0,4,"NULL","NULL","NULL","NULL"]
[1282698,"Seivers","NULL",0,4,"NULL","NULL","NULL","NULL"]
[1282715,"Selberg","NULL",0,4,"NULL","NULL","NULL","NULL"]
[1282781,"Selvage","NULL",0,4,"NULL","NULL","NULL","NULL"]
[1282878,"Sepeda","NULL",0,4,"NULL","NULL","NULL","NULL"]
[1282972,"Setaro","NULL",0,4,"NULL","NULL","NULL","NULL"]
[1283043,"Seymour","NULL",0,4,"NULL","NULL","NULL","NULL"]
[1283144,"Shamoon","NULL",0,4,"NULL","NULL","NULL","NULL"]
[1283152,"Shanahan","NULL",0,4,"NULL","NULL","NULL","NULL"]
[1283235,"Sharum","NULL",0,4,"NULL","NULL","NULL","NULL"]
[1283328,"Shehata","NULL",0,4,"NULL","NULL","NULL","NULL"]
[1283376,"Shemwell","NULL",0,4,"NULL","NULL","NULL","NULL"]
[1283490,"Shifflet","NULL",0,4,"NULL","NULL","NULL","NULL"]
[1283509,"Shillito","NULL",0,4,"NULL","NULL","NULL","NULL"]
[1283641,"Shollenberger","NULL",0,4,"NULL","NULL","NULL","NULL"]
[1283679,"Shortino","NULL",0,4,"NULL","NULL","NULL","NULL"]
[1283770,"Shukla","NULL",0,4,"NULL","NULL","NULL","NULL"]
[1283830,"Siano","NULL",0,4,"NULL","NULL","NULL","NULL"]
[1283929,"Siegel","NULL",0,4,"NULL","NULL","NULL","NULL"]
[1283999,"Siggins","NULL",0,4,"NULL","NULL","NULL","NULL"]
[1284082,"Silverio","NULL",0,4,"NULL","NULL","NULL","NULL"]
[1284106,"Simak","NULL",0,4,"NULL","NULL","NULL","NULL"]
[1284217,"Singel","NULL",0,4,"NULL","NULL","NULL","NULL"]
[1284273,"Siracusa","NULL",0,4,"NULL","NULL","NULL","NULL"]
[1284347,"Sitze","NULL",0,4,"NULL","NULL","NULL","NULL"]
[1284407,"Skarzynski","NULL",0,4,"NULL","NULL","NULL","NULL"]
[1284451,"Skillen","NULL",0,4,"NULL","NULL","NULL","NULL"]
[1284524,"Slacum","NULL",0,4,"NULL","NULL","NULL","NULL"]
[1284598,"Sleiman","NULL",0,4,"NULL","NULL","NULL","NULL"]
[1284713,"Slyman","NULL",0,4,"NULL","NULL","NULL","NULL"]
[1284786,"Smithe","NULL",0,4,"NULL","NULL","NULL","NULL"]
[1284860,"Snedaker","NULL",0,4,"NULL","NULL","NULL","NULL"]
[1284951,"Sobotta","NULL",0,4,"NULL","NULL","NULL","NULL"]
[1284970,"Soder","NULL",0,4,"NULL","NULL","NULL","NULL"]
[1285049,"Soles","NULL",0,4,"NULL","NULL","NULL","NULL"]
[1285130,"Soncrant","NULL",0,4,"NULL","NULL","NULL","NULL"]
[1285218,"Sorn","NULL",0,4,"NULL","NULL","NULL","NULL"]
[1285267,"Souder","NULL",0,4,"NULL","NULL","NULL","NULL"]
[1285386,"Spanjer","NULL",0,4,"NULL","NULL","NULL","NULL"]
[1285452,"Speckmann","NULL",0,4,"NULL","NULL","NULL","NULL"]
[1285486,"Spellmeyer","NULL",0,4,"NULL","NULL","NULL","NULL"]
[1285573,"Spille","NULL",0,4,"NULL","NULL","NULL","NULL"]
[1285642,"Spolar","NULL",0,4,"NULL","NULL","NULL","NULL"]
[1285746,"Spruiell","NULL",0,4,"NULL","NULL","NULL","NULL"]
[1285834,"St. Thomas","NULL",0,4,"NULL","NULL","NULL","NULL"]
[1285869,"Stade","NULL",0,4,"NULL","NULL","NULL","NULL"]
[1285924,"Staines","NULL",0,4,"NULL","NULL","NULL","NULL"]
[1286020,"Stanfill","NULL",0,4,"NULL","NULL","NULL","NULL"]
[1286059,"Stanovich","NULL",0,4,"NULL","NULL","NULL","NULL"]
[1286185,"Stauffacher","NULL",0,4,"NULL","NULL","NULL","NULL"]
[1286279,"Steever","NULL",0,4,"NULL","NULL","NULL","NULL"]
[1286323,"Stegenga","NULL",0,4,"NULL","NULL","NULL","NULL"]
[1286365,"Steinbauer","NULL",0,4,"NULL","NULL","NULL","NULL"]
[1286454,"Stendahl","NULL",0,4,"NULL","NULL","NULL","NULL"]
[1286524,"Sternhagen","NULL",0,4,"NULL","NULL","NULL","NULL"]
[1286613,"Stigen","NULL",0,4,"NULL","NULL","NULL","NULL"]
[1286640,"Stillwell","NULL",0,4,"NULL","NULL","NULL","NULL"]
[1286702,"Stobbs","NULL",0,4,"NULL","NULL","NULL","NULL"]
[1286775,"Stogsdill","NULL",0,4,"NULL","NULL","NULL","NULL"]
[1286899,"Storti","NULL",0,4,"NULL","NULL","NULL","NULL"]
[1286961,"Straley","NULL",0,4,"NULL","NULL","NULL","NULL"]
[1287037,"Streetman","NULL",0,4,"NULL","NULL","NULL","NULL"]
[1287095,"Strine","NULL",0,4,"NULL","NULL","NULL","NULL"]
[1287149,"Stroop","NULL",0,4,"NULL","NULL","NULL","NULL"]
[1287221,"Stuchlik","NULL",0,4,"NULL","NULL","NULL","NULL"]
[1287357,"Suchman","NULL",0,4,"NULL","NULL","NULL","NULL"]
[1287386,"Suell","NULL",0,4,"NULL","NULL","NULL","NULL"]
[1287483,"Summerhays","NULL",0,4,"NULL","NULL","NULL","NULL"]
[1287555,"Suppa","NULL",0,4,"NULL","NULL","NULL","NULL"]
[1287652,"Svendsen","NULL",0,4,"NULL","NULL","NULL","NULL"]
[1287695,"Swanger","NULL",0,4,"NULL","NULL","NULL","NULL"]
[1287745,"Swearengin","NULL",0,4,"NULL","NULL","NULL","NULL"]
[1287838,"Swineford","NULL",0,4,"NULL","NULL","NULL","NULL"]
[1287954,"Szczepkowski","NULL",0,4,"NULL","NULL","NULL","NULL"]
[1287997,"Taake","NULL",0,4,"NULL","NULL","NULL","NULL"]
[1288086,"Takagi","NULL",0,4,"NULL","NULL","NULL","NULL"]
[1288138,"Talman","NULL",0,4,"NULL","NULL","NULL","NULL"]
[1288177,"Tandberg","NULL",0,4,"NULL","NULL","NULL","NULL"]
[1288271,"Tarkowski","NULL",0,4,"NULL","NULL","NULL","NULL"]
[1288361,"Tautges","NULL",0,4,"NULL","NULL","NULL","NULL"]
[1288436,"Tedone","NULL",0,4,"NULL","NULL","NULL","NULL"]
[1288529,"Ten Broeck","NULL",0,4,"NULL","NULL","NULL","NULL"]
[1288556,"Tenney","NULL",0,4,"NULL","NULL","NULL","NULL"]
[1288618,"Terreri","NULL",0,4,"NULL","NULL","NULL","NULL"]
[1288723,"Thackeray","NULL",0,4,"NULL","NULL","NULL","NULL"]
[1288779,"Theil","NULL",0,4,"NULL","NULL","NULL","NULL"]
[1288866,"Thiry","NULL",0,4,"NULL","NULL","NULL","NULL"]
[1288943,"Thornes","NULL",0,4,"NULL","NULL","NULL","NULL"]
[1289031,"Thweatt","NULL",0,4,"NULL","NULL","NULL","NULL"]
[1289049,"Tibbitts","NULL",0,4,"NULL","NULL","NULL","NULL"]
[1289135,"Tilly","NULL",0,4,"NULL","NULL","NULL","NULL"]
[1289216,"Tinsley","NULL",0,4,"NULL","NULL","NULL","NULL"]
[1289292,"Tkachuk","NULL",0,4,"NULL","NULL","NULL","NULL"]
[1289396,"Tolly","NULL",0,4,"NULL","NULL","NULL","NULL"]
[1289466,"Tomsic","NULL",0,4,"NULL","NULL","NULL","NULL"]
[1289546,"Torchia","NULL",0,4,"NULL","NULL","NULL","NULL"]
[1289586,"Torregrossa","NULL",0,4,"NULL","NULL","NULL","NULL"]
[1289651,"Toure","NULL",0,4,"NULL","NULL","NULL","NULL"]
[1289729,"Traina","NULL",0,4,"NULL","NULL","NULL","NULL"]
[1289778,"Traube","NULL",0,4,"NULL","NULL","NULL","NULL"]
[1289893,"Trepp","NULL",0,4,"NULL","NULL","NULL","NULL"]
[1289914,"Trevillian","NULL",0,4,"NULL","NULL","NULL","NULL"]
[1290005,"Triska","NULL",0,4,"NULL","NULL","NULL","NULL"]
[1290079,"Trott","NULL",0,4,"NULL","NULL","NULL","NULL"]
[1290180,"Truran","NULL",0,4,"NULL","NULL","NULL","NULL"]
[1290260,"Tudisco","NULL",0,4,"NULL","NULL","NULL","NULL"]
[1290334,"Tuomala","NULL",0,4,"NULL","NULL","NULL","NULL"]
[1290365,"Turk","NULL",0,4,"NULL","NULL","NULL","NULL"]
[1290421,"Tuter","NULL",0,4,"NULL","NULL","NULL","NULL"]
[1290515,"Tyus","NULL",0,4,"NULL","NULL","NULL","NULL"]
[1290620,"Umbach","NULL",0,4,"NULL","NULL","NULL","NULL"]
[1290671,"Unrau","NULL",0,4,"NULL","NULL","NULL","NULL"]
[1290759,"Urlacher","NULL",0,4,"NULL","NULL","NULL","NULL"]
[1290836,"Vacha","NULL",0,4,"NULL","NULL","NULL","NULL"]
[1290846,"Vadney","NULL",0,4,"NULL","NULL","NULL","NULL"]
[1290933,"Vallette","NULL",0,4,"NULL","NULL","NULL","NULL"]
[1291003,"Van Cleve","NULL",0,4,"NULL","NULL","NULL","NULL"]
[1291088,"Van Hise","NULL",0,4,"NULL","NULL","NULL","NULL"]
[1291178,"Van Patten","NULL",0,4,"NULL","NULL","NULL","NULL"]
[1291241,"Van Vranken","NULL",0,4,"NULL","NULL","NULL","NULL"]
[1291258,"Van Wye","NULL",0,4,"NULL","NULL","NULL","NULL"]
[1291321,"Vanderbilt","NULL",0,4,"NULL","NULL","NULL","NULL"]
[1291412,"Vandygriff","NULL",0,4,"NULL","NULL","NULL","NULL"]
[1291498,"Varvel","NULL",0,4,"NULL","NULL","NULL","NULL"]
[1291568,"Veals","NULL",0,4,"NULL","NULL","NULL","NULL"]
[1291658,"Venezia","NULL",0,4,"NULL","NULL","NULL","NULL"]
[1291729,"Verderosa","NULL",0,4,"NULL","NULL","NULL","NULL"]
[1291751,"Verhagen","NULL",0,4,"NULL","NULL","NULL","NULL"]
[1291835,"Vessels","NULL",0,4,"NULL","NULL","NULL","NULL"]
[1291912,"Viehweg","NULL",0,4,"NULL","NULL","NULL","NULL"]
[1292010,"Villasenor","NULL",0,4,"NULL","NULL","NULL","NULL"]
[1292093,"Visalli","NULL",0,4,"NULL","NULL","NULL","NULL"]
[1292149,"Vivar","NULL",0,4,"NULL","NULL","NULL","NULL"]
[1292181,"Vlietstra","NULL",0,4,"NULL","NULL","NULL","NULL"]
[1292251,"Volk","NULL",0,4,"NULL","NULL","NULL","NULL"]
[1292326,"Vora","NULL",0,4,"NULL","NULL","NULL","NULL"]
[1292422,"Wachal","NULL",0,4,"NULL","NULL","NULL","NULL"]
[1292500,"Wagnon","NULL",0,4,"NULL","NULL","NULL","NULL"]
[1292582,"Walczyk","NULL",0,4,"NULL","NULL","NULL","NULL"]
[1292603,"Waldorf","NULL",0,4,"NULL","NULL","NULL","NULL"]
[1292676,"Wallinger","NULL",0,4,"NULL","NULL","NULL","NULL"]
[1292767,"Wangberg","NULL",0,4,"NULL","NULL","NULL","NULL"]
[1292840,"Warkentin","NULL",0,4,"NULL","NULL","NULL","NULL"]
[1292932,"Wasser","NULL",0,4,"NULL","NULL","NULL","NULL"]
[1292959,"Waterstradt","NULL",0,4,"NULL","NULL","NULL","NULL"]
[1293022,"Weadon","NULL",0,4,"NULL","NULL","NULL","NULL"]
[1293170,"Weichel","NULL",0,4,"NULL","NULL","NULL","NULL"]
[1293189,"Weidinger","NULL",0,4,"NULL","NULL","NULL","NULL"]
[1293275,"Weins","NULL",0,4,"NULL","NULL","NULL","NULL"]
[1293347,"Weitzner","NULL",0,4,"NULL","NULL","NULL","NULL"]
[1293439,"Wendorf","NULL",0,4,"NULL","NULL","NULL","NULL"]
[1293456,"Wenke","NULL",0,4,"NULL","NULL","NULL","NULL"]
[1293534,"Wertenberger","NULL",0,4,"NULL","NULL","NULL","NULL"]
[1293610,"Westerlund","NULL",0,4,"NULL","NULL","NULL","NULL"]
[1293696,"Weyland","NULL",0,4,"NULL","NULL","NULL","NULL"]
[1293752,"Whetham","NULL",0,4,"NULL","NULL","NULL","NULL"]
[1293863,"Whitt","NULL",0,4,"NULL","NULL","NULL","NULL"]
[1293881,"Whittley","NULL",0,4,"NULL","NULL","NULL","NULL"]
[1294006,"Wieckowski","NULL",0,4,"NULL","NULL","NULL","NULL"]
[1294037,"Wiegner","NULL",0,4,"NULL","NULL","NULL","NULL"]
[1294102,"Wiggans","NULL",0,4,"NULL","NULL","NULL","NULL"]
[1294193,"Wiler","NULL",0,4,"NULL","NULL","NULL","NULL"]
[1294279,"Willhoit","NULL",0,4,"NULL","NULL","NULL","NULL"]
[1294316,"Willows","NULL",0,4,"NULL","NULL","NULL","NULL"]
[1294367,"Wimmers","NULL",0,4,"NULL","NULL","NULL","NULL"]
[1294463,"Winjum","NULL",0,4,"NULL","NULL","NULL","NULL"]
[1294582,"Woolsey","NULL",0,4,"NULL","NULL","NULL","NULL"]
[1294637,"Wortham","NULL",0,4,"NULL","NULL","NULL","NULL"]
[1294711,"Wuebben","NULL",0,4,"NULL","NULL","NULL","NULL"]
[1294773,"Wykes","NULL",0,4,"NULL","NULL","NULL","NULL"]
[1294812,"Xanders","NULL",0,4,"NULL","NULL","NULL","NULL"]
[1294885,"Ying","NULL",0,4,"NULL","NULL","NULL","NULL"]
[1294956,"Zeitlin","NULL",0,4,"NULL","NULL","NULL","NULL"]
[1295058,"Zettle","NULL",0,4,"NULL","NULL","NULL","NULL"]
[1295127,"Zieser","NULL",0,4,"NULL","NULL","NULL","NULL"]
[1295202,"Ziomek","NULL",0,4,"NULL","NULL","NULL","NULL"]
[1295284,"Zook","NULL",0,4,"NULL","NULL","NULL","NULL"]
[1295332,"Zuhlke","NULL",0,4,"NULL","NULL","NULL","NULL"]
[1295385,"Zwack","NULL",0,4,"NULL","NULL","NULL","NULL"]
[1295454,"Abong Mbang","NULL",0,3,"NULL","NULL","NULL","NULL"]
[1295511,"ādis Zemen","NULL",0,3,"NULL","NULL","NULL","NULL"]
[1295614,"Al Anbār","NULL",0,3,"NULL","NULL","NULL","NULL"]
[1295699,"Alexandrina","NULL",0,3,"NULL","NULL","NULL","NULL"]
[1295759,"Amadeus, Lake","NULL",0,3,"NULL","NULL","NULL","NULL"]
[1295787,"Amherstburg","NULL",0,3,"NULL","NULL","NULL","NULL"]
[1295875,"Annenkovo","NULL",0,3,"NULL","NULL","NULL","NULL"]
[1295943,"Araguaia","NULL",0,3,"NULL","NULL","NULL","NULL"]
[1296038,"Ashburton","NULL",0,3,"NULL","NULL","NULL","NULL"]
[1296129,"Australian Capital Territory","NULL",0,3,"NULL","NULL","NULL","NULL"]
[1296165,"Azemmour","NULL",0,3,"NULL","NULL","NULL","NULL"]
[1296216,"Bagaladi","NULL",0,3,"NULL","NULL","NULL","NULL"]
[1296331,"Bangor","NULL",0,3,"NULL","NULL","NULL","NULL"]
[1296372,"Barkly West","NULL",0,3,"NULL","NULL","NULL","NULL"]
[1296461,"Bayonne","NULL",0,3,"NULL","NULL","NULL","NULL"]
[1296514,"Belize City","NULL",0,3,"NULL","NULL","NULL","NULL"]
[1296549,"Bennington","NULL",0,3,"NULL","NULL","NULL","NULL"]
[1296635,"Biloxi","NULL",0,3,"NULL","NULL","NULL","NULL"]
[1296728,"Bokèo","NULL",0,3,"NULL","NULL","NULL","NULL"]
[1296793,"Boulogne-Billancourt","NULL",0,3,"NULL","NULL","NULL","NULL"]
[1296886,"Brooks Range","NULL",0,3,"NULL","NULL","NULL","NULL"]
[1296915,"Bujumbura","NULL",0,3,"NULL","NULL","NULL","NULL"]
[1296975,"Bystrzyca","NULL",0,3,"NULL","NULL","NULL","NULL"]
[1297045,"Callao","NULL",0,3,"NULL","NULL","NULL","NULL"]
[1297170,"Carletonville","NULL",0,3,"NULL","NULL","NULL","NULL"]
[1297223,"Castlereagh","NULL",0,3,"NULL","NULL","NULL","NULL"]
[1297300,"Changane","NULL",0,3,"NULL","NULL","NULL","NULL"]
[1297356,"Cheektowaga","NULL",0,3,"NULL","NULL","NULL","NULL"]
[1297404,"Chickasaw","NULL",0,3,"NULL","NULL","NULL","NULL"]
[1297491,"Cicero","NULL",0,3,"NULL","NULL","NULL","NULL"]
[1297562,"Coblenz","NULL",0,3,"NULL","NULL","NULL","NULL"]
[1297636,"Cook's Harbour","NULL",0,3,"NULL","NULL","NULL","NULL"]
[1297746,"Culpeper","NULL",0,3,"NULL","NULL","NULL","NULL"]
[1297812,"Danao","NULL",0,3,"NULL","NULL","NULL","NULL"]
[1297883,"De Aar","NULL",0,3,"NULL","NULL","NULL","NULL"]
[1297928,"Demidov","NULL",0,3,"NULL","NULL","NULL","NULL"]
[1297974,"Dezfūl","NULL",0,3,"NULL","NULL","NULL","NULL"]
[1298061,"Dordrecht","NULL",0,3,"NULL","NULL","NULL","NULL"]
[1298110,"Druskininkai","NULL",0,3,"NULL","NULL","NULL","NULL"]
[1298219,"Eastern Europe","NULL",0,3,"NULL","NULL","NULL","NULL"]
[1298307,"El Misti","NULL",0,3,"NULL","NULL","NULL","NULL"]
[1298359,"Ellenabad","NULL",0,3,"NULL","NULL","NULL","NULL"]
[1298393,"Empangeni","NULL",0,3,"NULL","NULL","NULL","NULL"]
[1298495,"Evans","NULL",0,3,"NULL","NULL","NULL","NULL"]
[1298554,"Faribault","NULL",0,3,"NULL","NULL","NULL","NULL"]
[1298641,"Figueroa","NULL",0,3,"NULL","NULL","NULL","NULL"]
[1298675,"Flagstaff","NULL",0,3,"NULL","NULL","NULL","NULL"]
[1298805,"Fremantle","NULL",0,3,"NULL","NULL","NULL","NULL"]
[1298823,"Frombork","NULL",0,3,"NULL","NULL","NULL","NULL"]
[1298932,"Gardiner","NULL",0,3,"NULL","NULL","NULL","NULL"]
[1298980,"Georgia","NULL",0,3,"NULL","NULL","NULL","NULL"]
[1299067,"Golden Gate","NULL",0,3,"NULL","NULL","NULL","NULL"]
[1299146,"Grand-Mère","NULL",0,3,"NULL","NULL","NULL","NULL"]
[1299226,"Guanajuato","NULL",0,3,"NULL","NULL","NULL","NULL"]
[1299243,"Guigang","NULL",0,3,"NULL","NULL","NULL","NULL"]
[1299327,"Hainan","NULL",0,3,"NULL","NULL","NULL","NULL"]
[1299398,"Harpers Ferry","NULL",0,3,"NULL","NULL","NULL","NULL"]
[1299469,"Heligoland","NULL",0,3,"NULL","NULL","NULL","NULL"]
[1299507,"Hermosa","NULL",0,3,"NULL","NULL","NULL","NULL"]
[1299574,"Hokitika","NULL",0,3,"NULL","NULL","NULL","NULL"]
[1299711,"Hyde Park","NULL",0,3,"NULL","NULL","NULL","NULL"]
[1299733,"Idaho","NULL",0,3,"NULL","NULL","NULL","NULL"]
[1299821,"Irak","NULL",0,3,"NULL","NULL","NULL","NULL"]
[1299895,"Izhevsk","NULL",0,3,"NULL","NULL","NULL","NULL"]
[1299983,"Jiangsu","NULL",0,3,"NULL","NULL","NULL","NULL"]
[1300053,"Juangriego","NULL",0,3,"NULL","NULL","NULL","NULL"]
[1300076,"Justo Daract","NULL",0,3,"NULL","NULL","NULL","NULL"]
[1300154,"Kam'yanets'-Podil's'kyy","NULL",0,3,"NULL","NULL","NULL","NULL"]
[1300223,"Karlstadt","NULL",0,3,"NULL","NULL","NULL","NULL"]
[1300319,"Kenitra","NULL",0,3,"NULL","NULL","NULL","NULL"]
[1300392,"Khyber Pass","NULL",0,3,"NULL","NULL","NULL","NULL"]
[1300461,"Kiritimati","NULL",0,3,"NULL","NULL","NULL","NULL"]
[1300495,"Kitchener","NULL",0,3,"NULL","NULL","NULL","NULL"]
[1300548,"Kolkhozobod","NULL",0,3,"NULL","NULL","NULL","NULL"]
[1300626,"Krāslava","NULL",0,3,"NULL","NULL","NULL","NULL"]
[1300718,"Kurseong","NULL",0,3,"NULL","NULL","NULL","NULL"]
[1300787,"La Pesca","NULL",0,3,"NULL","NULL","NULL","NULL"]
[1300870,"Lancaster","NULL",0,3,"NULL","NULL","NULL","NULL"]
[1300943,"Lausanne","NULL",0,3,"NULL","NULL","NULL","NULL"]
[1300960,"Le Petit-Quevilly","NULL",0,3,"NULL","NULL","NULL","NULL"]
[1301051,"Lhasa Tibet Autonomous Region","NULL",0,3,"NULL","NULL","NULL","NULL"]
[1301119,"Liskeard","NULL",0,3,"NULL","NULL","NULL","NULL"]
[1301206,"Lorestan","NULL",0,3,"NULL","NULL","NULL","NULL"]
[1301232,"Louisiana","NULL",0,3,"NULL","NULL","NULL","NULL"]
[1301359,"Madīnat Sittah Uktūbar","NULL",0,3,"NULL","NULL","NULL","NULL"]
[1301377,"Magellan, Strait of","NULL",0,3,"NULL","NULL","NULL","NULL"]
[1301447,"Mali","NULL",0,3,"NULL","NULL","NULL","NULL"]
[1301538,"Marhanets'","NULL",0,3,"NULL","NULL","NULL","NULL"]
[1301627,"Matagorda","NULL",0,3,"NULL","NULL","NULL","NULL"]
[1301699,"Meath","NULL",0,3,"NULL","NULL","NULL","NULL"]
[1301787,"Merthyr Tydfil","NULL",0,3,"NULL","NULL","NULL","NULL"]
[1301838,"Midway Islands","NULL",0,3,"NULL","NULL","NULL","NULL"]
[1301879,"Minnesota","NULL",0,3,"NULL","NULL","NULL","NULL"]
[1301971,"Monemvasía","NULL",0,3,"NULL","NULL","NULL","NULL"]
[1302022,"Montserrat","NULL",0,3,"NULL","NULL","NULL","NULL"]
[1302126,"Mourne Mountains","NULL",0,3,"NULL","NULL","NULL","NULL"]
[1302213,"Náfplion","NULL",0,3,"NULL","NULL","NULL","NULL"]
[1302270,"Nanga Parbat","NULL",0,3,"NULL","NULL","NULL","NULL"]
[1302299,"Narrabri","NULL",0,3,"NULL","NULL","NULL","NULL"]
[1302372,"Nelson","NULL",0,3,"NULL","NULL","NULL","NULL"]
[1302450,"New Zealand","NULL",0,3,"NULL","NULL","NULL","NULL"]
[1302543,"Niskayuna","NULL",0,3,"NULL","NULL","NULL","NULL"]
[1302616,"Nosy-Be","NULL",0,3,"NULL","NULL","NULL","NULL"]
[1302632,"Nové Zámky","NULL",0,3,"NULL","NULL","NULL","NULL"]
[1302718,"Odawara","NULL",0,3,"NULL","NULL","NULL","NULL"]
[1302831,"Orizaba","NULL",0,3,"NULL","NULL","NULL","NULL"]
[1302874,"Oswego","NULL",0,3,"NULL","NULL","NULL","NULL"]
[1302944,"Padua","NULL",0,3,"NULL","NULL","NULL","NULL"]
[1303009,"Papillion","NULL",0,3,"NULL","NULL","NULL","NULL"]
[1303046,"Pass Christian","NULL",0,3,"NULL","NULL","NULL","NULL"]
[1303118,"Pennsylvania","NULL",0,3,"NULL","NULL","NULL","NULL"]
[1303189,"Phatthalung","NULL",0,3,"NULL","NULL","NULL","NULL"]
[1303275,"Plate, River","NULL",0,3,"NULL","NULL","NULL","NULL"]
[1303362,"Pori","NULL",0,3,"NULL","NULL","NULL","NULL"]
[1303438,"Potchefstroom","NULL",0,3,"NULL","NULL","NULL","NULL"]
[1303519,"Prokuplje","NULL",0,3,"NULL","NULL","NULL","NULL"]
[1303537,"Pudong","NULL",0,3,"NULL","NULL","NULL","NULL"]
[1303619,"Quang Tri","NULL",0,3,"NULL","NULL","NULL","NULL"]
[1303691,"Raleigh","NULL",0,3,"NULL","NULL","NULL","NULL"]
[1303777,"Resistencia","NULL",0,3,"NULL","NULL","NULL","NULL"]
[1303831,"Riom","NULL",0,3,"NULL","NULL","NULL","NULL"]
[1303934,"Ruanda","NULL",0,3,"NULL","NULL","NULL","NULL"]
[1304000,"Sackville","NULL",0,3,"NULL","NULL","NULL","NULL"]
[1304025,"Saint Charles","NULL",0,3,"NULL","NULL","NULL","NULL"]
[1304111,"Salem","NULL",0,3,"NULL","NULL","NULL","NULL"]
[1304212,"Santa Clarita","NULL",0,3,"NULL","NULL","NULL","NULL"]
[1304265,"Sárvíz","NULL",0,3,"NULL","NULL","NULL","NULL"]
[1304355,"Semiozernoye","NULL",0,3,"NULL","NULL","NULL","NULL"]
[1304393,"Severnaya Zemlya","NULL",0,3,"NULL","NULL","NULL","NULL"]
[1304441,"Shanhaiguan","NULL",0,3,"NULL","NULL","NULL","NULL"]
[1304526,"Sibi","NULL",0,3,"NULL","NULL","NULL","NULL"]
[1304575,"Sint Pancras","NULL",0,3,"NULL","NULL","NULL","NULL"]
[1304686,"Songhua Jiang","NULL",0,3,"NULL","NULL","NULL","NULL"]
[1304760,"Srebrenica","NULL",0,3,"NULL","NULL","NULL","NULL"]
[1304825,"Stawell","NULL",0,3,"NULL","NULL","NULL","NULL"]
[1304861,"Straits Settlements","NULL",0,3,"NULL","NULL","NULL","NULL"]
[1304955,"Suzhou","NULL",0,3,"NULL","NULL","NULL","NULL"]
[1305019,"Tabrīz","NULL",0,3,"NULL","NULL","NULL","NULL"]
[1305104,"Tarsus","NULL",0,3,"NULL","NULL","NULL","NULL"]
[1305135,"Tbilisi","NULL",0,3,"NULL","NULL","NULL","NULL"]
[1305260,"Tikhvin","NULL",0,3,"NULL","NULL","NULL","NULL"]
[1305331,"Tonging","NULL",0,3,"NULL","NULL","NULL","NULL"]
[1305382,"Toyama","NULL",0,3,"NULL","NULL","NULL","NULL"]
[1305433,"Trois-Rivières","NULL",0,3,"NULL","NULL","NULL","NULL"]
[1305503,"Turpan","NULL",0,3,"NULL","NULL","NULL","NULL"]
[1305561,"Ulan bator","NULL",0,3,"NULL","NULL","NULL","NULL"]
[1305658,"Vakrushev","NULL",0,3,"NULL","NULL","NULL","NULL"]
[1305676,"Valley of the Kings","NULL",0,3,"NULL","NULL","NULL","NULL"]
[1305807,"Vitry-sur-Seine","NULL",0,3,"NULL","NULL","NULL","NULL"]
[1305830,"Volochayevka Vtoraya","NULL",0,3,"NULL","NULL","NULL","NULL"]
[1305917,"Warner Robins","NULL",0,3,"NULL","NULL","NULL","NULL"]
[1305950,"Weifang","NULL",0,3,"NULL","NULL","NULL","NULL"]
[1305951,"Weihai","NULL",0,3,"NULL","NULL","NULL","NULL"]
[1305952,"Weimar","NULL",0,3,"NULL","NULL","NULL","NULL"]
[1305953,"Weinan","NULL",0,3,"NULL","NULL","NULL","NULL"]
[1305954,"Weissenfels","NULL",0,3,"NULL","NULL","NULL","NULL"]
[1305955,"Weligama","NULL",0,3,"NULL","NULL","NULL","NULL"]
[1305956,"Welkom","NULL",0,3,"NULL","NULL","NULL","NULL"]
[1305957,"Welland","NULL",0,3,"NULL","NULL","NULL","NULL"]
[1305958,"Wellesley","NULL",0,3,"NULL","NULL","NULL","NULL"]
[1305959,"Wellesley Islands","NULL",0,3,"NULL","NULL","NULL","NULL"]
[1305960,"Wellingborough","NULL",0,3,"NULL","NULL","NULL","NULL"]
[1305961,"Wellington","NULL",0,3,"NULL","NULL","NULL","NULL"]
[1305962,"Wells","NULL",0,3,"NULL","NULL","NULL","NULL"]
[1305963,"Welshpool","NULL",0,3,"NULL","NULL","NULL","NULL"]
[1305964,"Welwyn Garden City","NULL",0,3,"NULL","NULL","NULL","NULL"]
[1305965,"Wembley","NULL",0,3,"NULL","NULL","NULL","NULL"]
[1305966,"Wenling","NULL",0,3,"NULL","NULL","NULL","NULL"]
[1305967,"Wentworth","NULL",0,3,"NULL","NULL","NULL","NULL"]
[1305968,"Wenzhou","NULL",0,3,"NULL","NULL","NULL","NULL"]
[1305969,"Wessex","NULL",0,3,"NULL","NULL","NULL","NULL"]
[1305970,"West Bank","NULL",0,3,"NULL","NULL","NULL","NULL"]
[1305971,"West Bengal","NULL",0,3,"NULL","NULL","NULL","NULL"]
[1305972,"West Bromwich","NULL",0,3,"NULL","NULL","NULL","NULL"]
[1305973,"West Glamorgan","NULL",0,3,"NULL","NULL","NULL","NULL"]
[1305974,"West Indies","NULL",0,3,"NULL","NULL","NULL","NULL"]
[1305975,"West Java","NULL",0,3,"NULL","NULL","NULL","NULL"]
[1305976,"West Kilbride","NULL",0,3,"NULL","NULL","NULL","NULL"]
[1305977,"West Lothian","NULL",0,3,"NULL","NULL","NULL","NULL"]
[1305978,"West Virginia","NULL",0,3,"NULL","NULL","NULL","NULL"]
[1305980,"Western Asia","NULL",0,3,"NULL","NULL","NULL","NULL"]
[1305981,"Western Australia","NULL",0,3,"NULL","NULL","NULL","NULL"]
[1305982,"Western Isles","NULL",0,3,"NULL","NULL","NULL","NULL"]
[1305983,"Western Sahara","NULL",0,3,"NULL","NULL","NULL","NULL"]
[1305984,"Western Samoa","NULL",0,3,"NULL","NULL","NULL","NULL"]
[1305985,"Westmeath","NULL",0,3,"NULL","NULL","NULL","NULL"]
[1305986,"Westmorland","NULL",0,3,"NULL","NULL","NULL","NULL"]
[1305987,"Weston-super-Mare","NULL",0,3,"NULL","NULL","NULL","NULL"]
[1305988,"Westphalia","NULL",0,3,"NULL","NULL","NULL","NULL"]
[1305989,"Wetaskiwin","NULL",0,3,"NULL","NULL","NULL","NULL"]
[1305990,"Wethersfield","NULL",0,3,"NULL","NULL","NULL","NULL"]
[1305991,"Wexford","NULL",0,3,"NULL","NULL","NULL","NULL"]
[1305992,"Weymouth","NULL",0,3,"NULL","NULL","NULL","NULL"]
[1305993,"WFTZ","NULL",0,3,"NULL","NULL","NULL","NULL"]
[1305994,"Whakatane","NULL",0,3,"NULL","NULL","NULL","NULL"]
[1305995,"Whangarei","NULL",0,3,"NULL","NULL","NULL","NULL"]
[1305996,"Wheaton","NULL",0,3,"NULL","NULL","NULL","NULL"]
[1305998,"Whidbey","NULL",0,3,"NULL","NULL","NULL","NULL"]
[1305999,"Whitby","NULL",0,3,"NULL","NULL","NULL","NULL"]
[1306000,"Whitchurch","NULL",0,3,"NULL","NULL","NULL","NULL"]
[1306002,"White Plains","NULL",0,3,"NULL","NULL","NULL","NULL"]
[1306003,"Whitehaven","NULL",0,3,"NULL","NULL","NULL","NULL"]
[1306004,"Whitehorse","NULL",0,3,"NULL","NULL","NULL","NULL"]
[1306005,"Whitney","NULL",0,3,"NULL","NULL","NULL","NULL"]
[1306006,"Whitstable","NULL",0,3,"NULL","NULL","NULL","NULL"]
[1306007,"Whitsunday","NULL",0,3,"NULL","NULL","NULL","NULL"]
[1306008,"Whittier","NULL",0,3,"NULL","NULL","NULL","NULL"]
[1306009,"Whyalla","NULL",0,3,"NULL","NULL","NULL","NULL"]
[1306010,"Wichita","NULL",0,3,"NULL","NULL","NULL","NULL"]
[1306012,"Wicklow","NULL",0,3,"NULL","NULL","NULL","NULL"]
[1306013,"Widnes","NULL",0,3,"NULL","NULL","NULL","NULL"]
[1306014,"Wielkopolskie","NULL",0,3,"NULL","NULL","NULL","NULL"]
[1306015,"Wiener Neustadt","NULL",0,3,"NULL","NULL","NULL","NULL"]
[1306016,"Wiesbaden","NULL",0,3,"NULL","NULL","NULL","NULL"]
[1306017,"Wigan","NULL",0,3,"NULL","NULL","NULL","NULL"]
[1306018,"Wight, Isle of","NULL",0,3,"NULL","NULL","NULL","NULL"]
[1306019,"Wigton","NULL",0,3,"NULL","NULL","NULL","NULL"]
[1306020,"Wigtown","NULL",0,3,"NULL","NULL","NULL","NULL"]
[1306021,"Wigtownshire","NULL",0,3,"NULL","NULL","NULL","NULL"]
[1306022,"Wilberforce","NULL",0,3,"NULL","NULL","NULL","NULL"]
[1306023,"Wilhelmshaven","NULL",0,3,"NULL","NULL","NULL","NULL"]
[1306024,"Wilkes Land","NULL",0,3,"NULL","NULL","NULL","NULL"]
[1306025,"Wilkes-Barre","NULL",0,3,"NULL","NULL","NULL","NULL"]
[1306026,"Willemstad","NULL",0,3,"NULL","NULL","NULL","NULL"]
[1306027,"Williamsburg","NULL",0,3,"NULL","NULL","NULL","NULL"]
[1306028,"Williamstown","NULL",0,3,"NULL","NULL","NULL","NULL"]
[1306029,"Willingboro","NULL",0,3,"NULL","NULL","NULL","NULL"]
[1306030,"Wilmington","NULL",0,3,"NULL","NULL","NULL","NULL"]
[1306031,"Wilson","NULL",0,3,"NULL","NULL","NULL","NULL"]
[1306032,"Wiltshire","NULL",0,3,"NULL","NULL","NULL","NULL"]
[1306033,"Wimbledon","NULL",0,3,"NULL","NULL","NULL","NULL"]
[1306034,"Wimborne Minster","NULL",0,3,"NULL","NULL","NULL","NULL"]
[1306035,"Winchester","NULL",0,3,"NULL","NULL","NULL","NULL"]
[1306036,"Windermere","NULL",0,3,"NULL","NULL","NULL","NULL"]
[1306037,"Windhoek","NULL",0,3,"NULL","NULL","NULL","NULL"]
[1306038,"Windisch","NULL",0,3,"NULL","NULL","NULL","NULL"]
[1306039,"Windsor","NULL",0,3,"NULL","NULL","NULL","NULL"]
[1306040,"Windward Islands","NULL",0,3,"NULL","NULL","NULL","NULL"]
[1306041,"Wingate","NULL",0,3,"NULL","NULL","NULL","NULL"]
[1306042,"Winnepesaukee","NULL",0,3,"NULL","NULL","NULL","NULL"]
[1306043,"Winnipeg","NULL",0,3,"NULL","NULL","NULL","NULL"]
[1306044,"Winnipegosis","NULL",0,3,"NULL","NULL","NULL","NULL"]
[1306045,"Winston-Salem","NULL",0,3,"NULL","NULL","NULL","NULL"]
[1306046,"Winterthur","NULL",0,3,"NULL","NULL","NULL","NULL"]
[1306047,"Winthrop","NULL",0,3,"NULL","NULL","NULL","NULL"]
[1306048,"Wisconsin","NULL",0,3,"NULL","NULL","NULL","NULL"]
[1306049,"Wismar","NULL",0,3,"NULL","NULL","NULL","NULL"]
[1306050,"Witwatersrand","NULL",0,3,"NULL","NULL","NULL","NULL"]
[1306051,"Woking","NULL",0,3,"NULL","NULL","NULL","NULL"]
[1306052,"Wolfe Island","NULL",0,3,"NULL","NULL","NULL","NULL"]
[1306053,"Wolfenbüttel","NULL",0,3,"NULL","NULL","NULL","NULL"]
[1306054,"Wolfsburg","NULL",0,3,"NULL","NULL","NULL","NULL"]
[1306055,"Wollaston","NULL",0,3,"NULL","NULL","NULL","NULL"]
[1306056,"Wollongong","NULL",0,3,"NULL","NULL","NULL","NULL"]
[1306057,"Wolseley","NULL",0,3,"NULL","NULL","NULL","NULL"]
[1306058,"Wolverhampton","NULL",0,3,"NULL","NULL","NULL","NULL"]
[1306059,"Woodbridge","NULL",0,3,"NULL","NULL","NULL","NULL"]
[1306060,"Woodstock","NULL",0,3,"NULL","NULL","NULL","NULL"]
[1306061,"Woomera","NULL",0,3,"NULL","NULL","NULL","NULL"]
[1306062,"Woonsocket","NULL",0,3,"NULL","NULL","NULL","NULL"]
[1306063,"Wooster","NULL",0,3,"NULL","NULL","NULL","NULL"]
[1306064,"Wootton Bassett","NULL",0,3,"NULL","NULL","NULL","NULL"]
[1306065,"Worcester","NULL",0,3,"NULL","NULL","NULL","NULL"]
[1306066,"Worcestershire","NULL",0,3,"NULL","NULL","NULL","NULL"]
[1306067,"Workington","NULL",0,3,"NULL","NULL","NULL","NULL"]
[1306068,"Worksop","NULL",0,3,"NULL","NULL","NULL","NULL"]
[1306069,"Worms","NULL",0,3,"NULL","NULL","NULL","NULL"]
[1306070,"Worodougou","NULL",0,3,"NULL","NULL","NULL","NULL"]
[1306071,"Worthing","NULL",0,3,"NULL","NULL","NULL","NULL"]
[1306072,"Wounded Knee","NULL",0,3,"NULL","NULL","NULL","NULL"]
[1306073,"Wrangel Island","NULL",0,3,"NULL","NULL","NULL","NULL"]
[1306075,"Wrexham","NULL",0,3,"NULL","NULL","NULL","NULL"]
[1306076,"Wuhai","NULL",0,3,"NULL","NULL","NULL","NULL"]
[1306077,"Wuhan","NULL",0,3,"NULL","NULL","NULL","NULL"]
[1306078,"Wuhu","NULL",0,3,"NULL","NULL","NULL","NULL"]
[1306079,"Wujiang","NULL",0,3,"NULL","NULL","NULL","NULL"]
[1306080,"Wujiaqu","NULL",0,3,"NULL","NULL","NULL","NULL"]
[1306081,"Wujin","NULL",0,3,"NULL","NULL","NULL","NULL"]
[1306082,"Wulumuqi","NULL",0,3,"NULL","NULL","NULL","NULL"]
[1306083,"Wuppertal","NULL",0,3,"NULL","NULL","NULL","NULL"]
[1306084,"Wutai Shan","NULL",0,3,"NULL","NULL","NULL","NULL"]
[1306085,"Wuwei","NULL",0,3,"NULL","NULL","NULL","NULL"]
[1306086,"Wuxi","NULL",0,3,"NULL","NULL","NULL","NULL"]
[1306087,"Wuzhong","NULL",0,3,"NULL","NULL","NULL","NULL"]
[1306088,"Wuzhou","NULL",0,3,"NULL","NULL","NULL","NULL"]
[1306089,"Wyandotte","NULL",0,3,"NULL","NULL","NULL","NULL"]
[1306090,"Wyndham","NULL",0,3,"NULL","NULL","NULL","NULL"]
[1306091,"Wynyard","NULL",0,3,"NULL","NULL","NULL","NULL"]
[1306092,"Wyoming","NULL",0,3,"NULL","NULL","NULL","NULL"]
[1306093,"Xai-Xai","NULL",0,3,"NULL","NULL","NULL","NULL"]
[1306094,"Xam Nua","NULL",0,3,"NULL","NULL","NULL","NULL"]
[1306095,"Xekong","NULL",0,3,"NULL","NULL","NULL","NULL"]
[1306096,"Xenia","NULL",0,3,"NULL","NULL","NULL","NULL"]
[1306097,"Xī Jiāng","NULL",0,3,"NULL","NULL","NULL","NULL"]
[1306098,"Xiamen","NULL",0,3,"NULL","NULL","NULL","NULL"]
[1306099,"Xiamén","NULL",0,3,"NULL","NULL","NULL","NULL"]
[1306100,"Xi'an","NULL",0,3,"NULL","NULL","NULL","NULL"]
[1306101,"Xiangfan","NULL",0,3,"NULL","NULL","NULL","NULL"]
[1306102,"Xiangkhouang","NULL",0,3,"NULL","NULL","NULL","NULL"]
[1306103,"Xiangtan","NULL",0,3,"NULL","NULL","NULL","NULL"]
[1306104,"Xiangyang","NULL",0,3,"NULL","NULL","NULL","NULL"]
[1306105,"Xiantao","NULL",0,3,"NULL","NULL","NULL","NULL"]
[1306106,"Xianyang","NULL",0,3,"NULL","NULL","NULL","NULL"]
[1306107,"Xiaoshan","NULL",0,3,"NULL","NULL","NULL","NULL"]
[1306108,"Xichang","NULL",0,3,"NULL","NULL","NULL","NULL"]
[1306109,"Xigaze","NULL",0,3,"NULL","NULL","NULL","NULL"]
[1306110,"Xilingol","NULL",0,3,"NULL","NULL","NULL","NULL"]
[1306111,"Xilinhot","NULL",0,3,"NULL","NULL","NULL","NULL"]
[1306112,"Xilitla","NULL",0,3,"NULL","NULL","NULL","NULL"]
[1306113,"Ximalaya","NULL",0,3,"NULL","NULL","NULL","NULL"]
[1306114,"Xincheng","NULL",0,3,"NULL","NULL","NULL","NULL"]
[1306115,"Xingtai","NULL",0,3,"NULL","NULL","NULL","NULL"]
[1306116,"Xingu","NULL",0,3,"NULL","NULL","NULL","NULL"]
[1306117,"Xining","NULL",0,3,"NULL","NULL","NULL","NULL"]
[1306118,"Xinjiang","NULL",0,3,"NULL","NULL","NULL","NULL"]
[1306119,"Xinjiang Uygur","NULL",0,3,"NULL","NULL","NULL","NULL"]
[1306120,"Xinxiang","NULL",0,3,"NULL","NULL","NULL","NULL"]
[1306121,"Xinyang","NULL",0,3,"NULL","NULL","NULL","NULL"]
[1306122,"Xinyu","NULL",0,3,"NULL","NULL","NULL","NULL"]
[1306123,"Xizang","NULL",0,3,"NULL","NULL","NULL","NULL"]
[1306124,"Xizhang","NULL",0,3,"NULL","NULL","NULL","NULL"]
[1306125,"Xochimilco","NULL",0,3,"NULL","NULL","NULL","NULL"]
[1306126,"Xonobod","NULL",0,3,"NULL","NULL","NULL","NULL"]
[1306127,"Xorazm","NULL",0,3,"NULL","NULL","NULL","NULL"]
[1306128,"Xuanhua","NULL",0,3,"NULL","NULL","NULL","NULL"]
[1306129,"Xuchang","NULL",0,3,"NULL","NULL","NULL","NULL"]
[1306130,"Xunantunich","NULL",0,3,"NULL","NULL","NULL","NULL"]
[1306131,"Xuzhou","NULL",0,3,"NULL","NULL","NULL","NULL"]
[1306132,"Xylokastro","NULL",0,3,"NULL","NULL","NULL","NULL"]
[1306133,"Ya'an","NULL",0,3,"NULL","NULL","NULL","NULL"]
[1306134,"Yablanitsa","NULL",0,3,"NULL","NULL","NULL","NULL"]
[1306135,"Yad Mordekhay","NULL",0,3,"NULL","NULL","NULL","NULL"]
[1306136,"Yakima","NULL",0,3,"NULL","NULL","NULL","NULL"]
[1306137,"Yakutiya","NULL",0,3,"NULL","NULL","NULL","NULL"]
[1306138,"Yakutsk","NULL",0,3,"NULL","NULL","NULL","NULL"]
[1306139,"Yalta","NULL",0,3,"NULL","NULL","NULL","NULL"]
[1306140,"Yalu","NULL",0,3,"NULL","NULL","NULL","NULL"]
[1306141,"Yalutorovsk","NULL",0,3,"NULL","NULL","NULL","NULL"]
[1306142,"Yamagata","NULL",0,3,"NULL","NULL","NULL","NULL"]
[1306143,"Yamaguchi","NULL",0,3,"NULL","NULL","NULL","NULL"]
[1306144,"Yamal","NULL",0,3,"NULL","NULL","NULL","NULL"]
[1306145,"Yamanashi","NULL",0,3,"NULL","NULL","NULL","NULL"]
[1306146,"Yamoussoukro","NULL",0,3,"NULL","NULL","NULL","NULL"]
[1306147,"Yan'an","NULL",0,3,"NULL","NULL","NULL","NULL"]
[1306148,"Yanaul","NULL",0,3,"NULL","NULL","NULL","NULL"]
[1306149,"Yanbu' al Sina‘iyah","NULL",0,3,"NULL","NULL","NULL","NULL"]
[1306150,"Yancheng","NULL",0,3,"NULL","NULL","NULL","NULL"]
[1306151,"Yangibazar","NULL",0,3,"NULL","NULL","NULL","NULL"]
[1306152,"Yangiyer","NULL",0,3,"NULL","NULL","NULL","NULL"]
[1306153,"Yangiyul","NULL",0,3,"NULL","NULL","NULL","NULL"]
[1306154,"Yangon","NULL",0,3,"NULL","NULL","NULL","NULL"]
[1306155,"Yangquan","NULL",0,3,"NULL","NULL","NULL","NULL"]
[1306156,"Yangshan Port","NULL",0,3,"NULL","NULL","NULL","NULL"]
[1306157,"Yangtze","NULL",0,3,"NULL","NULL","NULL","NULL"]
[1306158,"Yangzhou","NULL",0,3,"NULL","NULL","NULL","NULL"]
[1306159,"Yanjing","NULL",0,3,"NULL","NULL","NULL","NULL"]
[1306160,"Yankton","NULL",0,3,"NULL","NULL","NULL","NULL"]
[1306161,"Yantai","NULL",0,3,"NULL","NULL","NULL","NULL"]
[1306162,"Yantarnyy","NULL",0,3,"NULL","NULL","NULL","NULL"]
[1306163,"Yao","NULL",0,3,"NULL","NULL","NULL","NULL"]
[1306164,"Yaounde","NULL",0,3,"NULL","NULL","NULL","NULL"]
[1306165,"Yaoundé","NULL",0,3,"NULL","NULL","NULL","NULL"]
[1306166,"Yaqui","NULL",0,3,"NULL","NULL","NULL","NULL"]
[1306167,"Yarkand","NULL",0,3,"NULL","NULL","NULL","NULL"]
[1306168,"Yarmouth","NULL",0,3,"NULL","NULL","NULL","NULL"]
[1306169,"Yaroslavl′","NULL",0,3,"NULL","NULL","NULL","NULL"]
[1306170,"Yarqon","NULL",0,3,"NULL","NULL","NULL","NULL"]
[1306171,"Yarra","NULL",0,3,"NULL","NULL","NULL","NULL"]
[1306172,"Yasinovataya","NULL",0,3,"NULL","NULL","NULL","NULL"]
[1306173,"Yasnaya Polyana","NULL",0,3,"NULL","NULL","NULL","NULL"]
[1306174,"Yasothon","NULL",0,3,"NULL","NULL","NULL","NULL"]
[1306175,"Yatenga","NULL",0,3,"NULL","NULL","NULL","NULL"]
[1306176,"Yatsushiro","NULL",0,3,"NULL","NULL","NULL","NULL"]
[1306177,"Yaunde","NULL",0,3,"NULL","NULL","NULL","NULL"]
[1306178,"Yawata","NULL",0,3,"NULL","NULL","NULL","NULL"]
[1306179,"Yaynanyoung","NULL",0,3,"NULL","NULL","NULL","NULL"]
[1306180,"Yazd","NULL",0,3,"NULL","NULL","NULL","NULL"]
[1306181,"Yazoo City","NULL",0,3,"NULL","NULL","NULL","NULL"]
[1306182,"Ydra","NULL",0,3,"NULL","NULL","NULL","NULL"]
[1306183,"Yegor'yevsk","NULL",0,3,"NULL","NULL","NULL","NULL"]
[1306184,"Yekaterinburg","NULL",0,3,"NULL","NULL","NULL","NULL"]
[1306185,"Yélimané","NULL",0,3,"NULL","NULL","NULL","NULL"]
[1306186,"Yelizovo","NULL",0,3,"NULL","NULL","NULL","NULL"]
[1306187,"Yellow River","NULL",0,3,"NULL","NULL","NULL","NULL"]
[1306188,"Yellow Sea","NULL",0,3,"NULL","NULL","NULL","NULL"]
[1306189,"Yellowknife","NULL",0,3,"NULL","NULL","NULL","NULL"]
[1306190,"Yellowstone","NULL",0,3,"NULL","NULL","NULL","NULL"]
[1306191,"Yel'nya","NULL",0,3,"NULL","NULL","NULL","NULL"]
[1306192,"Yemanzhelinsk","NULL",0,3,"NULL","NULL","NULL","NULL"]
[1306193,"Yemen","NULL",0,3,"NULL","NULL","NULL","NULL"]
[1306194,"Yemva","NULL",0,3,"NULL","NULL","NULL","NULL"]
[1306195,"Yenakiyeve","NULL",0,3,"NULL","NULL","NULL","NULL"]
[1306196,"Yenangyaung","NULL",0,3,"NULL","NULL","NULL","NULL"]
[1306197,"Yenise","NULL",0,3,"NULL","NULL","NULL","NULL"]
[1306198,"Yenisey","NULL",0,3,"NULL","NULL","NULL","NULL"]
[1306199,"Yeovil","NULL",0,3,"NULL","NULL","NULL","NULL"]
[1306200,"Yerevan","NULL",0,3,"NULL","NULL","NULL","NULL"]
[1306201,"Yermo","NULL",0,3,"NULL","NULL","NULL","NULL"]
[1306202,"Yerofey Pavlovich","NULL",0,3,"NULL","NULL","NULL","NULL"]
[1306203,"Yeroham","NULL",0,3,"NULL","NULL","NULL","NULL"]
[1306204,"Yevpatoriya","NULL",0,3,"NULL","NULL","NULL","NULL"]
[1306205,"Yevreyskaya","NULL",0,3,"NULL","NULL","NULL","NULL"]
[1306206,"Yevul","NULL",0,3,"NULL","NULL","NULL","NULL"]
[1306207,"Yibin","NULL",0,3,"NULL","NULL","NULL","NULL"]
[1306208,"Yichang","NULL",0,3,"NULL","NULL","NULL","NULL"]
[1306209,"Yichun","NULL",0,3,"NULL","NULL","NULL","NULL"]
[1306210,"Yíchūn","NULL",0,3,"NULL","NULL","NULL","NULL"]
[1306211,"Yinchuan","NULL",0,3,"NULL","NULL","NULL","NULL"]
[1306212,"Yingkou","NULL",0,3,"NULL","NULL","NULL","NULL"]
[1306213,"Yingtan","NULL",0,3,"NULL","NULL","NULL","NULL"]
[1306214,"Yining","NULL",0,3,"NULL","NULL","NULL","NULL"]
[1306215,"Yiwu","NULL",0,3,"NULL","NULL","NULL","NULL"]
[1306216,"Yixing","NULL",0,3,"NULL","NULL","NULL","NULL"]
[1306217,"Yizheng","NULL",0,3,"NULL","NULL","NULL","NULL"]
[1306218,"Yoder","NULL",0,3,"NULL","NULL","NULL","NULL"]
[1306219,"Yogyakarta","NULL",0,3,"NULL","NULL","NULL","NULL"]
[1306220,"Yokkaichi","NULL",0,3,"NULL","NULL","NULL","NULL"]
[1306221,"Yokohama","NULL",0,3,"NULL","NULL","NULL","NULL"]
[1306222,"Yokosuka","NULL",0,3,"NULL","NULL","NULL","NULL"]
[1306223,"Yola","NULL",0,3,"NULL","NULL","NULL","NULL"]
[1306224,"Yongkang","NULL",0,3,"NULL","NULL","NULL","NULL"]
[1306225,"Yongzhou","NULL",0,3,"NULL","NULL","NULL","NULL"]
[1306226,"Yonkers","NULL",0,3,"NULL","NULL","NULL","NULL"]
[1306227,"York","NULL",0,3,"NULL","NULL","NULL","NULL"]
[1306228,"Yorkshire","NULL",0,3,"NULL","NULL","NULL","NULL"]
[1306229,"Yorkton","NULL",0,3,"NULL","NULL","NULL","NULL"]
[1306230,"Yorktown","NULL",0,3,"NULL","NULL","NULL","NULL"]
[1306231,"Yosemite","NULL",0,3,"NULL","NULL","NULL","NULL"]
[1306232,"Yoshkar-Ola","NULL",0,3,"NULL","NULL","NULL","NULL"]
[1306233,"Youbou","NULL",0,3,"NULL","NULL","NULL","NULL"]
[1306235,"Youngstown","NULL",0,3,"NULL","NULL","NULL","NULL"]
[1306236,"Youngsville","NULL",0,3,"NULL","NULL","NULL","NULL"]
[1306237,"Yountville","NULL",0,3,"NULL","NULL","NULL","NULL"]
[1306238,"Yozgat","NULL",0,3,"NULL","NULL","NULL","NULL"]
[1306239,"Ypacarí","NULL",0,3,"NULL","NULL","NULL","NULL"]
[1306240,"Ypres","NULL",0,3,"NULL","NULL","NULL","NULL"]
[1306241,"Ypsilanti","NULL",0,3,"NULL","NULL","NULL","NULL"]
[1306242,"Yuannan","NULL",0,3,"NULL","NULL","NULL","NULL"]
[1306243,"Yuba City","NULL",0,3,"NULL","NULL","NULL","NULL"]
[1306244,"Yubileynyy","NULL",0,3,"NULL","NULL","NULL","NULL"]
[1306245,"Yucatan","NULL",0,3,"NULL","NULL","NULL","NULL"]
[1306246,"Yucatán","NULL",0,3,"NULL","NULL","NULL","NULL"]
[1306247,"Yudu","NULL",0,3,"NULL","NULL","NULL","NULL"]
[1306248,"Yueyang","NULL",0,3,"NULL","NULL","NULL","NULL"]
[1306249,"Yug","NULL",0,3,"NULL","NULL","NULL","NULL"]
[1306250,"Yugorsk","NULL",0,3,"NULL","NULL","NULL","NULL"]
[1306251,"Yugoslavia","NULL",0,3,"NULL","NULL","NULL","NULL"]
[1306252,"Yuhuan","NULL",0,3,"NULL","NULL","NULL","NULL"]
[1306253,"Yukon","NULL",0,3,"NULL","NULL","NULL","NULL"]
[1306254,"Yukon Territory","NULL",0,3,"NULL","NULL","NULL","NULL"]
[1306255,"Yulin","NULL",0,3,"NULL","NULL","NULL","NULL"]
[1306256,"Yuma","NULL",0,3,"NULL","NULL","NULL","NULL"]
[1306257,"Yumen","NULL",0,3,"NULL","NULL","NULL","NULL"]
[1306258,"Yuncheng","NULL",0,3,"NULL","NULL","NULL","NULL"]
[1306259,"Yungay","NULL",0,3,"NULL","NULL","NULL","NULL"]
[1306260,"Yunnan","NULL",0,3,"NULL","NULL","NULL","NULL"]
[1306261,"Yur'yev Pol'skiy","NULL",0,3,"NULL","NULL","NULL","NULL"]
[1306262,"Yuryuzan'","NULL",0,3,"NULL","NULL","NULL","NULL"]
[1306263,"Yuxi","NULL",0,3,"NULL","NULL","NULL","NULL"]
[1306264,"Yuyao","NULL",0,3,"NULL","NULL","NULL","NULL"]
[1306265,"Yuzhno-Kuril'sk","NULL",0,3,"NULL","NULL","NULL","NULL"]
[1306266,"Yuzhno-Sakhalinsk","NULL",0,3,"NULL","NULL","NULL","NULL"]
[1306267,"Yuzhnoural'sk","NULL",0,3,"NULL","NULL","NULL","NULL"]
[1306268,"Zabaykal'sk","NULL",0,3,"NULL","NULL","NULL","NULL"]
[1306269,"Zabaykal'ye","NULL",0,3,"NULL","NULL","NULL","NULL"]
[1306270,"Zabrze","NULL",0,3,"NULL","NULL","NULL","NULL"]
[1306271,"Zacapa","NULL",0,3,"NULL","NULL","NULL","NULL"]
[1306272,"Zacapoaxtla","NULL",0,3,"NULL","NULL","NULL","NULL"]
[1306273,"Zacatecas","NULL",0,3,"NULL","NULL","NULL","NULL"]
[1306274,"Zacatepec","NULL",0,3,"NULL","NULL","NULL","NULL"]
[1306275,"Zachodniopomorskie","NULL",0,3,"NULL","NULL","NULL","NULL"]
[1306276,"Zadar","NULL",0,3,"NULL","NULL","NULL","NULL"]
[1306277,"Zadonsk","NULL",0,3,"NULL","NULL","NULL","NULL"]
[1306278,"Zafarraya","NULL",0,3,"NULL","NULL","NULL","NULL"]
[1306279,"Zagorje","NULL",0,3,"NULL","NULL","NULL","NULL"]
[1306280,"Zagreb","NULL",0,3,"NULL","NULL","NULL","NULL"]
[1306281,"Zagros","NULL",0,3,"NULL","NULL","NULL","NULL"]
[1306282,"Zaire","NULL",0,3,"NULL","NULL","NULL","NULL"]
[1306283,"Zakamensk","NULL",0,3,"NULL","NULL","NULL","NULL"]
[1306284,"Zakarpattya","NULL",0,3,"NULL","NULL","NULL","NULL"]
[1306285,"Zaklików","NULL",0,3,"NULL","NULL","NULL","NULL"]
[1306286,"Zakopane","NULL",0,3,"NULL","NULL","NULL","NULL"]
[1306287,"Zákynthos","NULL",0,3,"NULL","NULL","NULL","NULL"]
[1306288,"Zalaegerszeg","NULL",0,3,"NULL","NULL","NULL","NULL"]
[1306289,"Zalaszentgrót","NULL",0,3,"NULL","NULL","NULL","NULL"]
[1306290,"Zaleshchiki","NULL",0,3,"NULL","NULL","NULL","NULL"]
[1306291,"Zaliztsi","NULL",0,3,"NULL","NULL","NULL","NULL"]
[1306292,"Zama","NULL",0,3,"NULL","NULL","NULL","NULL"]
[1306293,"Zambesi","NULL",0,3,"NULL","NULL","NULL","NULL"]
[1306294,"Zambezi","NULL",0,3,"NULL","NULL","NULL","NULL"]
[1306295,"Zambézia","NULL",0,3,"NULL","NULL","NULL","NULL"]
[1306296,"Zambia","NULL",0,3,"NULL","NULL","NULL","NULL"]
[1306297,"Zamboanga City","NULL",0,3,"NULL","NULL","NULL","NULL"]
[1306298,"Zamfara","NULL",0,3,"NULL","NULL","NULL","NULL"]
[1306299,"Zamora","NULL",0,3,"NULL","NULL","NULL","NULL"]
[1306300,"Zanesville","NULL",0,3,"NULL","NULL","NULL","NULL"]
[1306301,"Zanzibar","NULL",0,3,"NULL","NULL","NULL","NULL"]
[1306302,"Zaoyang","NULL",0,3,"NULL","NULL","NULL","NULL"]
[1306303,"Zapata","NULL",0,3,"NULL","NULL","NULL","NULL"]
[1306304,"Zapfendorf","NULL",0,3,"NULL","NULL","NULL","NULL"]
[1306305,"Zapolyarnyy","NULL",0,3,"NULL","NULL","NULL","NULL"]
[1306306,"Zaporozh′ye","NULL",0,3,"NULL","NULL","NULL","NULL"]
[1306307,"Zaporozje","NULL",0,3,"NULL","NULL","NULL","NULL"]
[1306308,"Zapovednyy","NULL",0,3,"NULL","NULL","NULL","NULL"]
[1306309,"Zaragoza","NULL",0,3,"NULL","NULL","NULL","NULL"]
[1306310,"Zaranj","NULL",0,3,"NULL","NULL","NULL","NULL"]
[1306311,"Zarechnyy","NULL",0,3,"NULL","NULL","NULL","NULL"]
[1306312,"Zaria","NULL",0,3,"NULL","NULL","NULL","NULL"]
[1306313,"Zary","NULL",0,3,"NULL","NULL","NULL","NULL"]
[1306314,"Zarzuela del Pinar","NULL",0,3,"NULL","NULL","NULL","NULL"]
[1306315,"Zashchita","NULL",0,3,"NULL","NULL","NULL","NULL"]
[1306316,"Zaslawye","NULL",0,3,"NULL","NULL","NULL","NULL"]
[1306317,"Zastron","NULL",0,3,"NULL","NULL","NULL","NULL"]
[1306318,"Zavattarello","NULL",0,3,"NULL","NULL","NULL","NULL"]
[1306319,"Závod","NULL",0,3,"NULL","NULL","NULL","NULL"]
[1306320,"Zawada","NULL",0,3,"NULL","NULL","NULL","NULL"]
[1306321,"Zboriv","NULL",0,3,"NULL","NULL","NULL","NULL"]
[1306322,"Zdvinsk","NULL",0,3,"NULL","NULL","NULL","NULL"]
[1306323,"Zealand","NULL",0,3,"NULL","NULL","NULL","NULL"]
[1306324,"Zeballos","NULL",0,3,"NULL","NULL","NULL","NULL"]
[1306325,"Zeebrugge","NULL",0,3,"NULL","NULL","NULL","NULL"]
[1306326,"Zeeland","NULL",0,3,"NULL","NULL","NULL","NULL"]
[1306327,"Zeerust","NULL",0,3,"NULL","NULL","NULL","NULL"]
[1306328,"Zelenodol′sk","NULL",0,3,"NULL","NULL","NULL","NULL"]
[1306329,"Zelenogorsk","NULL",0,3,"NULL","NULL","NULL","NULL"]
[1306330,"Zelenogradsk","NULL",0,3,"NULL","NULL","NULL","NULL"]
[1306331,"Zelenokumsk","NULL",0,3,"NULL","NULL","NULL","NULL"]
[1306332,"Zelienople","NULL",0,3,"NULL","NULL","NULL","NULL"]
[1306333,"Zell","NULL",0,3,"NULL","NULL","NULL","NULL"]
[1306334,"Zenzontepec","NULL",0,3,"NULL","NULL","NULL","NULL"]
[1306335,"Zeravshan","NULL",0,3,"NULL","NULL","NULL","NULL"]
[1306336,"Zermatt","NULL",0,3,"NULL","NULL","NULL","NULL"]
[1306337,"Zernograd","NULL",0,3,"NULL","NULL","NULL","NULL"]
[1306338,"Zêtang","NULL",0,3,"NULL","NULL","NULL","NULL"]
[1306339,"Zetland","NULL",0,3,"NULL","NULL","NULL","NULL"]
[1306340,"Zevenhuizen","NULL",0,3,"NULL","NULL","NULL","NULL"]
[1306341,"Zgornje Jezersko","NULL",0,3,"NULL","NULL","NULL","NULL"]
[1306342,"Zhaman Akkol′","NULL",0,3,"NULL","NULL","NULL","NULL"]
[1306343,"Zhambyl","NULL",0,3,"NULL","NULL","NULL","NULL"]
[1306344,"Zhangjiagang","NULL",0,3,"NULL","NULL","NULL","NULL"]
[1306345,"Zhangjiakou","NULL",0,3,"NULL","NULL","NULL","NULL"]
[1306346,"Zhangshu","NULL",0,3,"NULL","NULL","NULL","NULL"]
[1306347,"Zhangzhou","NULL",0,3,"NULL","NULL","NULL","NULL"]
[1306348,"Zhanjiang","NULL",0,3,"NULL","NULL","NULL","NULL"]
[1306349,"Zharkent","NULL",0,3,"NULL","NULL","NULL","NULL"]
[1306350,"Zhejiang","NULL",0,3,"NULL","NULL","NULL","NULL"]
[1306351,"Zheleznodorozhnyy","NULL",0,3,"NULL","NULL","NULL","NULL"]
[1306352,"Zheleznogorsk","NULL",0,3,"NULL","NULL","NULL","NULL"]
[1306353,"Zheng Zhou","NULL",0,3,"NULL","NULL","NULL","NULL"]
[1306354,"Zhengzhou","NULL",0,3,"NULL","NULL","NULL","NULL"]
[1306355,"Zhenjiang","NULL",0,3,"NULL","NULL","NULL","NULL"]
[1306356,"Zhezkazgan","NULL",0,3,"NULL","NULL","NULL","NULL"]
[1306357,"Zhidan","NULL",0,3,"NULL","NULL","NULL","NULL"]
[1306358,"Zhob","NULL",0,3,"NULL","NULL","NULL","NULL"]
[1306359,"Zhongshan","NULL",0,3,"NULL","NULL","NULL","NULL"]
[1306360,"Zhoukou","NULL",0,3,"NULL","NULL","NULL","NULL"]
[1306361,"Zhovkva","NULL",0,3,"NULL","NULL","NULL","NULL"]
[1306362,"Zhovten′","NULL",0,3,"NULL","NULL","NULL","NULL"]
[1306363,"Zhu Jiang","NULL",0,3,"NULL","NULL","NULL","NULL"]
[1306364,"Zhucheng","NULL",0,3,"NULL","NULL","NULL","NULL"]
[1306365,"Zhuhai","NULL",0,3,"NULL","NULL","NULL","NULL"]
[1306366,"Zhuji","NULL",0,3,"NULL","NULL","NULL","NULL"]
[1306367,"Zhukovskiy","NULL",0,3,"NULL","NULL","NULL","NULL"]
[1306368,"Zhumulangmafeng","NULL",0,3,"NULL","NULL","NULL","NULL"]
[1306369,"Zhuzhou","NULL",0,3,"NULL","NULL","NULL","NULL"]
[1306370,"Zhytomyr","NULL",0,3,"NULL","NULL","NULL","NULL"]
[1306371,"Ziar nad Hronom","NULL",0,3,"NULL","NULL","NULL","NULL"]
[1306372,"Ziarat","NULL",0,3,"NULL","NULL","NULL","NULL"]
[1306373,"Zibo","NULL",0,3,"NULL","NULL","NULL","NULL"]
[1306374,"Zielona Góra","NULL",0,3,"NULL","NULL","NULL","NULL"]
[1306375,"Zihuatanejo","NULL",0,3,"NULL","NULL","NULL","NULL"]
[1306376,"Zikhron Ya′akov","NULL",0,3,"NULL","NULL","NULL","NULL"]
[1306377,"Zilupe","NULL",0,3,"NULL","NULL","NULL","NULL"]
[1306378,"Zimbabwe","NULL",0,3,"NULL","NULL","NULL","NULL"]
[1306379,"Zinjibar","NULL",0,3,"NULL","NULL","NULL","NULL"]
[1306380,"Zion","NULL",0,3,"NULL","NULL","NULL","NULL"]
[1306381,"Zipaquirá","NULL",0,3,"NULL","NULL","NULL","NULL"]
[1306382,"Zlaté Hory","NULL",0,3,"NULL","NULL","NULL","NULL"]
[1306383,"Zlatibor","NULL",0,3,"NULL","NULL","NULL","NULL"]
[1306384,"Zlatoust","NULL",0,3,"NULL","NULL","NULL","NULL"]
[1306385,"Zlín","NULL",0,3,"NULL","NULL","NULL","NULL"]
[1306386,"Znamensk","NULL",0,3,"NULL","NULL","NULL","NULL"]
[1306387,"Znojmo","NULL",0,3,"NULL","NULL","NULL","NULL"]
[1306388,"Zomba","NULL",0,3,"NULL","NULL","NULL","NULL"]
[1306389,"Zorkul","NULL",0,3,"NULL","NULL","NULL","NULL"]
[1306390,"Zrenjanin","NULL",0,3,"NULL","NULL","NULL","NULL"]
[1306391,"Zubchatka, Mt","NULL",0,3,"NULL","NULL","NULL","NULL"]
[1306392,"Zugspitze","NULL",0,3,"NULL","NULL","NULL","NULL"]
[1306393,"Zuider Zee","NULL",0,3,"NULL","NULL","NULL","NULL"]
[1306394,"Zuiderzee","NULL",0,3,"NULL","NULL","NULL","NULL"]
[1306395,"Zululand","NULL",0,3,"NULL","NULL","NULL","NULL"]
[1306396,"Zuni","NULL",0,3,"NULL","NULL","NULL","NULL"]
[1306397,"Zunyi","NULL",0,3,"NULL","NULL","NULL","NULL"]
[1306398,"Zurich","NULL",0,3,"NULL","NULL","NULL","NULL"]
[1306399,"Zürich","NULL",0,3,"NULL","NULL","NULL","NULL"]
[1306400,"Zutphen","NULL",0,3,"NULL","NULL","NULL","NULL"]
[1306401,"Zvenigorod","NULL",0,3,"NULL","NULL","NULL","NULL"]
[1306402,"Zvishavane","NULL",0,3,"NULL","NULL","NULL","NULL"]
[1306403,"Zvolen","NULL",0,3,"NULL","NULL","NULL","NULL"]
[1306404,"Zweibrücken","NULL",0,3,"NULL","NULL","NULL","NULL"]
[1306405,"Zwelitsha","NULL",0,3,"NULL","NULL","NULL","NULL"]
[1306406,"Zwettl","NULL",0,3,"NULL","NULL","NULL","NULL"]
[1306407,"Zwolle","NULL",0,3,"NULL","NULL","NULL","NULL"]
[1306408,"aren't","NULL",0,1,"NULL",0.036,"NULL","NULL"]
[1306409,"can't","NULL",0,1,"NULL",0.221,"NULL","NULL"]
[1306410,"couldn't","NULL",0,1,"NULL",0.136,"NULL","NULL"]
[1306411,"didn't","NULL",0,1,"NULL",0.236,"NULL","NULL"]
[1306412,"doesn't","NULL",0,1,"NULL",0.186,"NULL","NULL"]
[1306413,"don't","NULL",0,1,"NULL",0.3,"NULL","NULL"]
[1306414,"hadn't","NULL",0,1,"NULL",0.093,"NULL","NULL"]
[1306415,"hasn't","NULL",0,1,"NULL",0.05,"NULL","NULL"]
[1306416,"haven't","NULL",0,1,"NULL",0.057,"NULL","NULL"]
[1306417,"he'd","NULL",0,1,"NULL",0.029,"NULL","NULL"]
[1306418,"he'll","NULL",0,1,"NULL",0.007,"NULL","NULL"]
[1306419,"he's","NULL",0,1,"NULL",0.107,"NULL","NULL"]
[1306420,"I'd","NULL",0,1,"NULL",0.093,"NULL","NULL"]
[1306421,"I'll","NULL",0,1,"NULL",0.121,"NULL","NULL"]
[1306422,"I'm","NULL",0,1,"NULL",0.243,"NULL","NULL"]
[1306423,"isn't","NULL",0,1,"NULL",0.093,"NULL","NULL"]
[1306424,"it'll","NULL",0,1,"NULL",0.021,"NULL","NULL"]
[1306425,"it's","NULL",0,1,"NULL",0.321,"NULL","NULL"]
[1306426,"I've","NULL",0,1,"NULL",0.136,"NULL","NULL"]
[1306427,"mustn't","NULL",0,1,"NULL",0.057,"NULL","NULL"]
[1306428,"needn't","NULL",0,1,"NULL",0.071,"NULL","NULL"]
[1306429,"she'd","NULL",0,1,"NULL",0.036,"NULL","NULL"]
[1306430,"she'll","NULL",0,1,"NULL",0.014,"NULL","NULL"]
[1306431,"she's","NULL",0,1,"NULL",0.079,"NULL","NULL"]
[1306432,"shouldn't","NULL",0,1,"NULL",0.064,"NULL","NULL"]
[1306433,"that'd","NULL",0,1,"NULL","NULL","NULL","NULL"]
[1306434,"that'll","NULL",0,1,"NULL",0.007,"NULL","NULL"]
[1306435,"that's","NULL",0,1,"NULL",0.2,"NULL","NULL"]
[1306436,"there'd","NULL",0,1,"NULL",0.007,"NULL","NULL"]
[1306437,"there'll","NULL",0,1,"NULL","NULL","NULL","NULL"]
[1306438,"there's","NULL",0,1,"NULL",0.114,"NULL","NULL"]
[1306439,"they'd","NULL",0,1,"NULL",0.014,"NULL","NULL"]
[1306440,"they'll","NULL",0,1,"NULL",0.036,"NULL","NULL"]
[1306441,"they're","NULL",0,1,"NULL",0.071,"NULL","NULL"]
[1306442,"they've","NULL",0,1,"NULL",0.014,"NULL","NULL"]
[1306443,"wasn't","NULL",0,1,"NULL",0.064,"NULL","NULL"]
[1306444,"we'd","NULL",0,1,"NULL",0.036,"NULL","NULL"]
[1306445,"we'll","NULL",0,1,"NULL",0.036,"NULL","NULL"]
[1306446,"we're","NULL",0,1,"NULL",0.086,"NULL","NULL"]
[1306447,"weren't","NULL",0,1,"NULL",0.036,"NULL","NULL"]
[1306448,"we've","NULL",0,1,"NULL",0.086,"NULL","NULL"]
[1306449,"won't","NULL",0,1,"NULL",0.1,"NULL","NULL"]
[1306450,"wouldn't","NULL",0,1,"NULL",0.071,"NULL","NULL"]
[1306451,"you'd","NULL",0,1,"NULL",0.014,"NULL","NULL"]
[1306452,"you'll","NULL",0,1,"NULL",0.057,"NULL","NULL"]
[1306453,"you're","NULL",0,1,"NULL",0.079,"NULL","NULL"]
[1306454,"you've","NULL",0,1,"NULL",0.043,"NULL","NULL"]
[1306457,"reservoir"]

{"sheet":"词义表","index":1,"n_rows":87713,"n_cols":9,"rows_kept":4500,"cut":true,"hidden":false,"merged":[],"bounds":{"rows_first":2000,"rows_last":500,"rows_between":2000,"halvings":0}}
["Id","WordId","单词辅助列",null,"Meaning","SpeechPart","IsPrimary","IsJunior","IsSenior"]
[1,743692,"a",{"$f":"IF(VLOOKUP(C2,#REF!,2,0)>0,1,0)","v":{"$error":"#REF!"}},"一(个), 每一",null,1,1,1]
[2,1127934,"the",{"$f":"IF(VLOOKUP(C3,#REF!,2,0)>0,1,0)","v":{"$error":"#REF!"}},"这个, 那个",null,1,1,1]
[3,1133655,"to",{"$f":"IF(VLOOKUP(C4,#REF!,2,0)>0,1,0)","v":{"$error":"#REF!"}},"向, 往, 到",null,1,1,1]
[4,779120,"be",{"$f":"IF(VLOOKUP(C5,#REF!,2,0)>0,1,0)","v":{"$error":"#REF!"}},"是",null,1,1,1]
[5,779120,"be",{"$f":"IF(VLOOKUP(C6,#REF!,2,0)>0,1,0)","v":{"$error":"#REF!"}},"做, 成为",null,0,1,1]
[6,935651,"in",{"$f":"IF(VLOOKUP(C7,#REF!,2,0)>0,1,0)","v":{"$error":"#REF!"}},"在…之内",null,1,1,1]
[7,1005021,"of",{"$f":"IF(VLOOKUP(C8,#REF!,2,0)>0,1,0)","v":{"$error":"#REF!"}},"属于...的",null,1,1,1]
[8,1005021,"of",{"$f":"IF(VLOOKUP(C9,#REF!,2,0)>0,1,0)","v":{"$error":"#REF!"}},"关于",null,1,1,1]
[9,760054,"and",{"$f":"IF(VLOOKUP(C10,#REF!,2,0)>0,1,0)","v":{"$error":"#REF!"}},"和",null,1,1,1]
[10,760054,"and",{"$f":"IF(VLOOKUP(C11,#REF!,2,0)>0,1,0)","v":{"$error":"#REF!"}},"又",null,1,1,1]
[11,760054,"and",{"$f":"IF(VLOOKUP(C12,#REF!,2,0)>0,1,0)","v":{"$error":"#REF!"}},"而",null,0,1,1]
[12,1174505,"is",{"$f":"IF(VLOOKUP(C13,#REF!,2,0)>0,1,0)","v":{"$error":"#REF!"}},"是",null,0,0,0]
[13,949902,"it",{"$f":"IF(VLOOKUP(C14,#REF!,2,0)>0,1,0)","v":{"$error":"#REF!"}},"它",null,1,1,1]
[14,918756,"have",{"$f":"IF(VLOOKUP(C15,#REF!,2,0)>0,1,0)","v":{"$error":"#REF!"}},"拥有",null,1,1,1]
[16,918756,"have",{"$f":"IF(VLOOKUP(C16,#REF!,2,0)>0,1,0)","v":{"$error":"#REF!"}},"吃喝, 服用",null,1,1,1]
[17,1127890,"that",{"$f":"IF(VLOOKUP(C17,#REF!,2,0)>0,1,0)","v":{"$error":"#REF!"}},"那, 那个",null,1,1,1]
[18,895370,"for",{"$f":"IF(VLOOKUP(C18,#REF!,2,0)>0,1,0)","v":{"$error":"#REF!"}},"为, 为了",null,1,1,1]
[19,895370,"for",{"$f":"IF(VLOOKUP(C19,#REF!,2,0)>0,1,0)","v":{"$error":"#REF!"}},"因为, 由于",null,0,0,0]
[20,895370,"for",{"$f":"IF(VLOOKUP(C20,#REF!,2,0)>0,1,0)","v":{"$error":"#REF!"}},"当作",null,0,0,0]
[21,1169443,"you",{"$f":"IF(VLOOKUP(C21,#REF!,2,0)>0,1,0)","v":{"$error":"#REF!"}},"你, 你们",null,1,1,1]
[22,726174,"I",{"$f":"IF(VLOOKUP(C22,#REF!,2,0)>0,1,0)","v":{"$error":"#REF!"}},"我",null,1,1,1]
[23,799918,"can",{"$f":"IF(VLOOKUP(C23,#REF!,2,0)>0,1,0)","v":{"$error":"#REF!"}},"罐, 罐头",null,0,1,1]
[24,799918,"can",{"$f":"IF(VLOOKUP(C24,#REF!,2,0)>0,1,0)","v":{"$error":"#REF!"}},"会, 能",null,1,1,1]
[25,799918,"can",{"$f":"IF(VLOOKUP(C25,#REF!,2,0)>0,1,0)","v":{"$error":"#REF!"}},"可以",null,1,1,1]
[26,1006632,"on",{"$f":"IF(VLOOKUP(C26,#REF!,2,0)>0,1,0)","v":{"$error":"#REF!"}},"在…上",null,1,1,1]
[27,1006632,"on",{"$f":"IF(VLOOKUP(C27,#REF!,2,0)>0,1,0)","v":{"$error":"#REF!"}},"继续",null,0,1,1]
[28,857750,"do",{"$f":"IF(VLOOKUP(C28,#REF!,2,0)>0,1,0)","v":{"$error":"#REF!"}},"做, 干",null,1,1,1]
[29,768937,"at",{"$f":"IF(VLOOKUP(C29,#REF!,2,0)>0,1,0)","v":{"$error":"#REF!"}},"在",null,1,1,1]
[30,768937,"at",{"$f":"IF(VLOOKUP(C30,#REF!,2,0)>0,1,0)","v":{"$error":"#REF!"}},"按照, 根据",null,0,1,1]
[31,1166242,"with",{"$f":"IF(VLOOKUP(C31,#REF!,2,0)>0,1,0)","v":{"$error":"#REF!"}},"用",null,1,1,1]
[32,1166242,"with",{"$f":"IF(VLOOKUP(C32,#REF!,2,0)>0,1,0)","v":{"$error":"#REF!"}},"和, 跟, 和…一起",null,1,1,1]
[33,759237,"an",{"$f":"IF(VLOOKUP(C33,#REF!,2,0)>0,1,0)","v":{"$error":"#REF!"}},"一个",null,1,1,1]
[34,765327,"are",{"$f":"IF(VLOOKUP(C34,#REF!,2,0)>0,1,0)","v":{"$error":"#REF!"}},"是",null,1,1,1]
[35,797016,"but",{"$f":"IF(VLOOKUP(C35,#REF!,2,0)>0,1,0)","v":{"$error":"#REF!"}},"但是",null,1,1,1]
[36,797016,"but",{"$f":"IF(VLOOKUP(C36,#REF!,2,0)>0,1,0)","v":{"$error":"#REF!"}},"除…以外",null,0,1,1]
[37,797016,"but",{"$f":"IF(VLOOKUP(C37,#REF!,2,0)>0,1,0)","v":{"$error":"#REF!"}},"只有, 仅仅",null,0,1,1]
[38,1163942,"when",{"$f":"IF(VLOOKUP(C38,#REF!,2,0)>0,1,0)","v":{"$error":"#REF!"}},"什么时候",null,1,1,1]
[39,1163942,"when",{"$f":"IF(VLOOKUP(C39,#REF!,2,0)>0,1,0)","v":{"$error":"#REF!"}},"当…的时候",null,0,1,1]
[40,766994,"as",{"$f":"IF(VLOOKUP(C40,#REF!,2,0)>0,1,0)","v":{"$error":"#REF!"}},"因为",null,0,1,1]
[41,766994,"as",{"$f":"IF(VLOOKUP(C41,#REF!,2,0)>0,1,0)","v":{"$error":"#REF!"}},"作为",null,1,1,1]
[42,766994,"as",{"$f":"IF(VLOOKUP(C42,#REF!,2,0)>0,1,0)","v":{"$error":"#REF!"}},"当…时",null,0,1,1]
[43,766994,"as",{"$f":"IF(VLOOKUP(C43,#REF!,2,0)>0,1,0)","v":{"$error":"#REF!"}},"像…一样",null,0,1,1]
[44,766994,"as",{"$f":"IF(VLOOKUP(C44,#REF!,2,0)>0,1,0)","v":{"$error":"#REF!"}},"尽管, 由于",null,0,0,0]
[45,919646,"he",{"$f":"IF(VLOOKUP(C45,#REF!,2,0)>0,1,0)","v":{"$error":"#REF!"}},"他",null,1,1,1]
[46,1163677,"what",{"$f":"IF(VLOOKUP(C46,#REF!,2,0)>0,1,0)","v":{"$error":"#REF!"}},"什么",null,1,1,1]
[47,1001941,"not",{"$f":"IF(VLOOKUP(C47,#REF!,2,0)>0,1,0)","v":{"$error":"#REF!"}},"不, 没有",null,1,1,1]
[48,1007220,"one",{"$f":"IF(VLOOKUP(C48,#REF!,2,0)>0,1,0)","v":{"$error":"#REF!"}},"一",null,1,1,1]
[49,909451,"go",{"$f":"IF(VLOOKUP(C49,#REF!,2,0)>0,1,0)","v":{"$error":"#REF!"}},"去, 走",null,1,1,1]
[50,909451,"go",{"$f":"IF(VLOOKUP(C50,#REF!,2,0)>0,1,0)","v":{"$error":"#REF!"}},"进行",null,0,0,0]
[52,899485,"from",{"$f":"IF(VLOOKUP(C51,#REF!,2,0)>0,1,0)","v":{"$error":"#REF!"}},"从…而来",null,1,1,1]
[53,1130044,"they",{"$f":"IF(VLOOKUP(C52,#REF!,2,0)>0,1,0)","v":{"$error":"#REF!"}},"他/她/它们",null,1,1,1]
[54,1130658,"this",{"$f":"IF(VLOOKUP(C53,#REF!,2,0)>0,1,0)","v":{"$error":"#REF!"}},"这, 这个",null,1,1,1]
[55,1162100,"we",{"$f":"IF(VLOOKUP(C54,#REF!,2,0)>0,1,0)","v":{"$error":"#REF!"}},"我们",null,1,1,1]
[56,745223,"about",{"$f":"IF(VLOOKUP(C55,#REF!,2,0)>0,1,0)","v":{"$error":"#REF!"}},"大约",null,1,1,1]
[57,745223,"about",{"$f":"IF(VLOOKUP(C56,#REF!,2,0)>0,1,0)","v":{"$error":"#REF!"}},"在…的附近",null,0,1,1]
[58,745223,"about",{"$f":"IF(VLOOKUP(C57,#REF!,2,0)>0,1,0)","v":{"$error":"#REF!"}},"关于, 有关",null,1,1,1]
[59,1095419,"so",{"$f":"IF(VLOOKUP(C58,#REF!,2,0)>0,1,0)","v":{"$error":"#REF!"}},"这样, 这么",null,1,1,1]
[60,1095419,"so",{"$f":"IF(VLOOKUP(C59,#REF!,2,0)>0,1,0)","v":{"$error":"#REF!"}},"因此",null,1,1,1]
[61,1095419,"so",{"$f":"IF(VLOOKUP(C60,#REF!,2,0)>0,1,0)","v":{"$error":"#REF!"}},"为了",null,0,0,0]
[62,756160,"all",{"$f":"IF(VLOOKUP(C61,#REF!,2,0)>0,1,0)","v":{"$error":"#REF!"}},"全部的, 所有的, 一切, 全体",null,1,1,1]
[63,1076764,"say",{"$f":"IF(VLOOKUP(C62,#REF!,2,0)>0,1,0)","v":{"$error":"#REF!"}},"说, 讲",null,1,1,1]
[64,1129170,"there",{"$f":"IF(VLOOKUP(C63,#REF!,2,0)>0,1,0)","v":{"$error":"#REF!"}},"那里",null,1,1,1]
[65,797494,"by",{"$f":"IF(VLOOKUP(C64,#REF!,2,0)>0,1,0)","v":{"$error":"#REF!"}},"在…旁",null,1,1,1]
[66,797494,"by",{"$f":"IF(VLOOKUP(C65,#REF!,2,0)>0,1,0)","v":{"$error":"#REF!"}},"被, 由",null,0,1,1]
[67,797494,"by",{"$f":"IF(VLOOKUP(C66,#REF!,2,0)>0,1,0)","v":{"$error":"#REF!"}},"以…方式",null,1,1,1]
[68,797494,"by",{"$f":"IF(VLOOKUP(C67,#REF!,2,0)>0,1,0)","v":{"$error":"#REF!"}},"凭借",null,0,1,1]
[69,973935,"make",{"$f":"IF(VLOOKUP(C68,#REF!,2,0)>0,1,0)","v":{"$error":"#REF!"}},"做",null,1,1,1]
[70,973935,"make",{"$f":"IF(VLOOKUP(C69,#REF!,2,0)>0,1,0)","v":{"$error":"#REF!"}},"使得",null,1,1,1]
[71,924498,"his",{"$f":"IF(VLOOKUP(C70,#REF!,2,0)>0,1,0)","v":{"$error":"#REF!"}},"他的",null,1,1,1]
[72,906572,"get",{"$f":"IF(VLOOKUP(C71,#REF!,2,0)>0,1,0)","v":{"$error":"#REF!"}},"到达",null,1,1,1]
[73,906572,"get",{"$f":"IF(VLOOKUP(C72,#REF!,2,0)>0,1,0)","v":{"$error":"#REF!"}},"得到, 抓住",null,1,1,1]
[74,906572,"get",{"$f":"IF(VLOOKUP(C73,#REF!,2,0)>0,1,0)","v":{"$error":"#REF!"}},"变得",null,1,1,1]
[75,906572,"get",{"$f":"IF(VLOOKUP(C74,#REF!,2,0)>0,1,0)","v":{"$error":"#REF!"}},"使…，让…",null,0,0,0]
[77,1163108,"well",{"$f":"IF(VLOOKUP(C75,#REF!,2,0)>0,1,0)","v":{"$error":"#REF!"}},"好",null,1,1,1]
[78,1163108,"well",{"$f":"IF(VLOOKUP(C76,#REF!,2,0)>0,1,0)","v":{"$error":"#REF!"}},"井",null,0,1,1]
[79,1132630,"time",{"$f":"IF(VLOOKUP(C77,#REF!,2,0)>0,1,0)","v":{"$error":"#REF!"}},"次数, 倍数",null,1,1,1]
[80,1132630,"time",{"$f":"IF(VLOOKUP(C78,#REF!,2,0)>0,1,0)","v":{"$error":"#REF!"}},"时间, 时侯",null,1,1,1]
[81,1165036,"will",{"$f":"IF(VLOOKUP(C79,#REF!,2,0)>0,1,0)","v":{"$error":"#REF!"}},"将, 要",null,1,1,1]
[82,1165036,"will",{"$f":"IF(VLOOKUP(C80,#REF!,2,0)>0,1,0)","v":{"$error":"#REF!"}},"愿意, 想要, 希望",null,0,1,1]
[83,1165036,"will",{"$f":"IF(VLOOKUP(C81,#REF!,2,0)>0,1,0)","v":{"$error":"#REF!"}},"意愿, 遗嘱",null,0,0,1]
[84,1121113,"take",{"$f":"IF(VLOOKUP(C82,#REF!,2,0)>0,1,0)","v":{"$error":"#REF!"}},"花费(时间、金钱)",null,0,1,1]
[85,1121113,"take",{"$f":"IF(VLOOKUP(C83,#REF!,2,0)>0,1,0)","v":{"$error":"#REF!"}},"取走, 接受, 采用",null,1,1,1]
[86,990217,"more",{"$f":"IF(VLOOKUP(C84,#REF!,2,0)>0,1,0)","v":{"$error":"#REF!"}},"更, 更多",null,1,1,1]
[87,1164020,"which",{"$f":"IF(VLOOKUP(C85,#REF!,2,0)>0,1,0)","v":{"$error":"#REF!"}},"哪个, 哪几个",null,1,1,1]
[88,1021628,"people",{"$f":"IF(VLOOKUP(C86,#REF!,2,0)>0,1,0)","v":{"$error":"#REF!"}},"人, 人们",null,1,1,1]
[89,1151756,"up",{"$f":"IF(VLOOKUP(C87,#REF!,2,0)>0,1,0)","v":{"$error":"#REF!"}},"向上",null,1,1,1]
[90,1151756,"up",{"$f":"IF(VLOOKUP(C88,#REF!,2,0)>0,1,0)","v":{"$error":"#REF!"}},"用完",null,0,0,0]
[91,1009233,"or",{"$f":"IF(VLOOKUP(C89,#REF!,2,0)>0,1,0)","v":{"$error":"#REF!"}},"或者",null,1,1,1]
[92,1009233,"or",{"$f":"IF(VLOOKUP(C90,#REF!,2,0)>0,1,0)","v":{"$error":"#REF!"}},"否则, 不然",null,1,1,1]
[93,933468,"if",{"$f":"IF(VLOOKUP(C91,#REF!,2,0)>0,1,0)","v":{"$error":"#REF!"}},"是否",null,0,1,1]
[94,933468,"if",{"$f":"IF(VLOOKUP(C92,#REF!,2,0)>0,1,0)","v":{"$error":"#REF!"}},"如果",null,1,1,1]
[95,933468,"if",{"$f":"IF(VLOOKUP(C93,#REF!,2,0)>0,1,0)","v":{"$error":"#REF!"}},"即使",null,0,0,0]
[96,1097378,"some",{"$f":"IF(VLOOKUP(C94,#REF!,2,0)>0,1,0)","v":{"$error":"#REF!"}},"一些, 若干",null,1,1,1]
[97,1097378,"some",{"$f":"IF(VLOOKUP(C95,#REF!,2,0)>0,1,0)","v":{"$error":"#REF!"}},"某个",null,0,0,0]
[98,928451,"how",{"$f":"IF(VLOOKUP(C96,#REF!,2,0)>0,1,0)","v":{"$error":"#REF!"}},"怎样, 怎么",null,1,1,1]
[99,1011400,"out",{"$f":"IF(VLOOKUP(C97,#REF!,2,0)>0,1,0)","v":{"$error":"#REF!"}},"外面",null,1,1,1]
[100,821302,"come",{"$f":"IF(VLOOKUP(C98,#REF!,2,0)>0,1,0)","v":{"$error":"#REF!"}},"来, 到达",null,1,1,1]
[101,821302,"come",{"$f":"IF(VLOOKUP(C99,#REF!,2,0)>0,1,0)","v":{"$error":"#REF!"}},"开始",null,0,0,0]
[102,1128775,"their",{"$f":"IF(VLOOKUP(C100,#REF!,2,0)>0,1,0)","v":{"$error":"#REF!"}},"他/她/它们的",null,1,1,1]
[103,955358,"know",{"$f":"IF(VLOOKUP(C101,#REF!,2,0)>0,1,0)","v":{"$error":"#REF!"}},"知道, 了解, 认识",null,1,1,1]
[104,1168954,"year",{"$f":"IF(VLOOKUP(C102,#REF!,2,0)>0,1,0)","v":{"$error":"#REF!"}},"年, 岁",null,1,1,1]
[105,1081198,"see",{"$f":"IF(VLOOKUP(C103,#REF!,2,0)>0,1,0)","v":{"$error":"#REF!"}},"看见, 领会, 理解",null,1,1,1]
[106,964047,"like",{"$f":"IF(VLOOKUP(C104,#REF!,2,0)>0,1,0)","v":{"$error":"#REF!"}},"喜欢",null,1,1,1]
[107,964047,"like",{"$f":"IF(VLOOKUP(C105,#REF!,2,0)>0,1,0)","v":{"$error":"#REF!"}},"像……",null,1,1,1]
[108,999127,"no",{"$f":"IF(VLOOKUP(C106,#REF!,2,0)>0,1,0)","v":{"$error":"#REF!"}},"不, 没有",null,1,1,1]
[109,1167305,"work",{"$f":"IF(VLOOKUP(C107,#REF!,2,0)>0,1,0)","v":{"$error":"#REF!"}},"工作, 起作用",null,1,1,1]
[110,781703,"because",{"$f":"IF(VLOOKUP(C108,#REF!,2,0)>0,1,0)","v":{"$error":"#REF!"}},"因为",null,1,1,1]
[111,910543,"good",{"$f":"IF(VLOOKUP(C109,#REF!,2,0)>0,1,0)","v":{"$error":"#REF!"}},"好的",null,1,1,1]
[112,910543,"good",{"$f":"IF(VLOOKUP(C110,#REF!,2,0)>0,1,0)","v":{"$error":"#REF!"}},"好处",null,0,0,1]
[113,1156514,"very",{"$f":"IF(VLOOKUP(C111,#REF!,2,0)>0,1,0)","v":{"$error":"#REF!"}},"很, 非常",null,1,1,1]
[114,1130304,"think",{"$f":"IF(VLOOKUP(C112,#REF!,2,0)>0,1,0)","v":{"$error":"#REF!"}},"想, 认为, 看待",null,1,1,1]
[115,993932,"my",{"$f":"IF(VLOOKUP(C113,#REF!,2,0)>0,1,0)","v":{"$error":"#REF!"}},"我的",null,1,1,1]
[116,842857,"day",{"$f":"IF(VLOOKUP(C114,#REF!,2,0)>0,1,0)","v":{"$error":"#REF!"}},"白天",null,1,1,1]
[117,842857,"day",{"$f":"IF(VLOOKUP(C115,#REF!,2,0)>0,1,0)","v":{"$error":"#REF!"}},"日子, 天",null,1,1,1]
[118,1128802,"them",{"$f":"IF(VLOOKUP(C116,#REF!,2,0)>0,1,0)","v":{"$error":"#REF!"}},"他/她/它们",null,1,1,1]
[119,888399,"find",{"$f":"IF(VLOOKUP(C117,#REF!,2,0)>0,1,0)","v":{"$error":"#REF!"}},"找到, 发现",null,1,1,1]
[120,976058,"many",{"$f":"IF(VLOOKUP(C118,#REF!,2,0)>0,1,0)","v":{"$error":"#REF!"}},"许多, 大量",null,1,1,1]
[121,1164567,"who",{"$f":"IF(VLOOKUP(C119,#REF!,2,0)>0,1,0)","v":{"$error":"#REF!"}},"谁",null,1,1,1]
[122,1167901,"would",{"$f":"IF(VLOOKUP(C120,#REF!,2,0)>0,1,0)","v":{"$error":"#REF!"}},"(表示意愿)愿意",null,1,1,1]
[123,1011285,"other",{"$f":"IF(VLOOKUP(C121,#REF!,2,0)>0,1,0)","v":{"$error":"#REF!"}},"其他的, 别的",null,1,1,1]
[124,752690,"after",{"$f":"IF(VLOOKUP(C122,#REF!,2,0)>0,1,0)","v":{"$error":"#REF!"}},"（时间）在…之后",null,1,1,1]
[125,752690,"after",{"$f":"IF(VLOOKUP(C123,#REF!,2,0)>0,1,0)","v":{"$error":"#REF!"}},"（位置）在…后面",null,1,1,1]
[126,1160205,"want",{"$f":"IF(VLOOKUP(C124,#REF!,2,0)>0,1,0)","v":{"$error":"#REF!"}},"想要, 希望, 需要",null,1,1,1]
[127,991596,"much",{"$f":"IF(VLOOKUP(C125,#REF!,2,0)>0,1,0)","v":{"$error":"#REF!"}},"许多, 大量",null,1,1,1]
[128,991596,"much",{"$f":"IF(VLOOKUP(C126,#REF!,2,0)>0,1,0)","v":{"$error":"#REF!"}},"太, 很",null,0,1,1]
[129,1007400,"only",{"$f":"IF(VLOOKUP(C127,#REF!,2,0)>0,1,0)","v":{"$error":"#REF!"}},"只, 仅仅",null,1,1,1]
[130,1169493,"your",{"$f":"IF(VLOOKUP(C128,#REF!,2,0)>0,1,0)","v":{"$error":"#REF!"}},"你的, 你们的",null,1,1,1]
[131,969022,"look",{"$f":"IF(VLOOKUP(C129,#REF!,2,0)>0,1,0)","v":{"$error":"#REF!"}},"看, 看起来",null,1,1,1]
[132,969022,"look",{"$f":"IF(VLOOKUP(C130,#REF!,2,0)>0,1,0)","v":{"$error":"#REF!"}},"样子, 相貌",null,0,1,1]
[133,1128819,"then",{"$f":"IF(VLOOKUP(C131,#REF!,2,0)>0,1,0)","v":{"$error":"#REF!"}},"在那时, 当时",null,1,1,1]
[134,1128819,"then",{"$f":"IF(VLOOKUP(C132,#REF!,2,0)>0,1,0)","v":{"$error":"#REF!"}},"那么, 然后",null,1,1,1]
[136,907614,"give",{"$f":"IF(VLOOKUP(C133,#REF!,2,0)>0,1,0)","v":{"$error":"#REF!"}},"给",null,1,1,1]
[137,1125210,"tell",{"$f":"IF(VLOOKUP(C134,#REF!,2,0)>0,1,0)","v":{"$error":"#REF!"}},"告诉, 讲述, 说出, 辨别出",null,1,1,1]
[138,978938,"me",{"$f":"IF(VLOOKUP(C135,#REF!,2,0)>0,1,0)","v":{"$error":"#REF!"}},"我",null,1,1,1]
[139,1127847,"than",{"$f":"IF(VLOOKUP(C136,#REF!,2,0)>0,1,0)","v":{"$error":"#REF!"}},"比",null,1,1,1]
[140,978873,"may",{"$f":"IF(VLOOKUP(C137,#REF!,2,0)>0,1,0)","v":{"$error":"#REF!"}},"可能",null,0,1,1]
[141,978873,"may",{"$f":"IF(VLOOKUP(C138,#REF!,2,0)>0,1,0)","v":{"$error":"#REF!"}},"可以",null,1,1,1]
[142,978873,"may",{"$f":"IF(VLOOKUP(C139,#REF!,2,0)>0,1,0)","v":{"$error":"#REF!"}},"祝愿",null,0,0,0]
[143,990617,"most",{"$f":"IF(VLOOKUP(C140,#REF!,2,0)>0,1,0)","v":{"$error":"#REF!"}},"最, 最多",null,0,0,0]
[144,990617,"most",{"$f":"IF(VLOOKUP(C141,#REF!,2,0)>0,1,0)","v":{"$error":"#REF!"}},"大部分, 大多数",null,0,0,0]
[145,1086406,"she",{"$f":"IF(VLOOKUP(C142,#REF!,2,0)>0,1,0)","v":{"$error":"#REF!"}},"她",null,1,1,1]
[146,889537,"first",{"$f":"IF(VLOOKUP(C143,#REF!,2,0)>0,1,0)","v":{"$error":"#REF!"}},"第一的, 最先的",null,1,1,1]
[147,966513,"little",{"$f":"IF(VLOOKUP(C144,#REF!,2,0)>0,1,0)","v":{"$error":"#REF!"}},"幼小的, 矮小的",null,1,1,1]
[148,966513,"little",{"$f":"IF(VLOOKUP(C145,#REF!,2,0)>0,1,0)","v":{"$error":"#REF!"}},"少的, 几乎没有",null,1,1,1]
[149,1162030,"way",{"$f":"IF(VLOOKUP(C146,#REF!,2,0)>0,1,0)","v":{"$error":"#REF!"}},"路, 路线, 途径, 方式, 方法",null,1,1,1]
[150,921521,"help",{"$f":"IF(VLOOKUP(C147,#REF!,2,0)>0,1,0)","v":{"$error":"#REF!"}},"帮忙, 帮助",null,1,1,1]
[151,924243,"him",{"$f":"IF(VLOOKUP(C148,#REF!,2,0)>0,1,0)","v":{"$error":"#REF!"}},"他",null,1,1,1]
[152,1144898,"two",{"$f":"IF(VLOOKUP(C149,#REF!,2,0)>0,1,0)","v":{"$error":"#REF!"}},"二",null,1,1,1]
[153,1152825,"use",{"$f":"IF(VLOOKUP(C150,#REF!,2,0)>0,1,0)","v":{"$error":"#REF!"}},"使用, 利用",null,1,1,1]
[154,922302,"her",{"$f":"IF(VLOOKUP(C151,#REF!,2,0)>0,1,0)","v":{"$error":"#REF!"}},"她的, 她",null,1,1,1]
[155,946395,"into",{"$f":"IF(VLOOKUP(C152,#REF!,2,0)>0,1,0)","v":{"$error":"#REF!"}},"到…里, 进入…中",null,1,1,1]
[156,993310,"mum",{"$f":"IF(VLOOKUP(C153,#REF!,2,0)>0,1,0)","v":{"$error":"#REF!"}},"妈妈",null,1,1,1]
[157,767725,"ask",{"$f":"IF(VLOOKUP(C154,#REF!,2,0)>0,1,0)","v":{"$error":"#REF!"}},"要求, 请求",null,1,1,1]
[158,767725,"ask",{"$f":"IF(VLOOKUP(C155,#REF!,2,0)>0,1,0)","v":{"$error":"#REF!"}},"问, 询问",null,1,1,1]
[159,1174506,"am",{"$f":"IF(VLOOKUP(C156,#REF!,2,0)>0,1,0)","v":{"$error":"#REF!"}},"是",null,1,1,1]
[160,952303,"just",{"$f":"IF(VLOOKUP(C157,#REF!,2,0)>0,1,0)","v":{"$error":"#REF!"}},"正好, 恰好",null,1,1,1]
[161,952303,"just",{"$f":"IF(VLOOKUP(C158,#REF!,2,0)>0,1,0)","v":{"$error":"#REF!"}},"公正",null,0,0,0]
[162,952303,"just",{"$f":"IF(VLOOKUP(C159,#REF!,2,0)>0,1,0)","v":{"$error":"#REF!"}},"只是, 仅仅",null,1,1,1]
[163,952303,"just",{"$f":"IF(VLOOKUP(C160,#REF!,2,0)>0,1,0)","v":{"$error":"#REF!"}},"合理的, 恰当的",null,0,0,0]
[164,997987,"new",{"$f":"IF(VLOOKUP(C161,#REF!,2,0)>0,1,0)","v":{"$error":"#REF!"}},"新的",null,1,1,1]
[165,1002573,"now",{"$f":"IF(VLOOKUP(C162,#REF!,2,0)>0,1,0)","v":{"$error":"#REF!"}},"现在, 马上",null,1,1,1]
[166,968543,"long",{"$f":"IF(VLOOKUP(C163,#REF!,2,0)>0,1,0)","v":{"$error":"#REF!"}},"渴望, 热望",null,0,0,1]
[167,968543,"long",{"$f":"IF(VLOOKUP(C164,#REF!,2,0)>0,1,0)","v":{"$error":"#REF!"}},"长的",null,1,1,1]
[168,782139,"before",{"$f":"IF(VLOOKUP(C165,#REF!,2,0)>0,1,0)","v":{"$error":"#REF!"}},"在…之前, 在…前面",null,1,1,1]
[169,782139,"before",{"$f":"IF(VLOOKUP(C166,#REF!,2,0)>0,1,0)","v":{"$error":"#REF!"}},"先前, 从前",null,0,1,1]
[170,966580,"live",{"$f":"IF(VLOOKUP(C167,#REF!,2,0)>0,1,0)","v":{"$error":"#REF!"}},"生活, 居住",null,1,1,1]
[171,966580,"live",{"$f":"IF(VLOOKUP(C168,#REF!,2,0)>0,1,0)","v":{"$error":"#REF!"}},"活的",null,1,1,1]
[172,966580,"live",{"$f":"IF(VLOOKUP(C169,#REF!,2,0)>0,1,0)","v":{"$error":"#REF!"}},"实时的",null,0,1,1]
[173,1163970,"where",{"$f":"IF(VLOOKUP(C170,#REF!,2,0)>0,1,0)","v":{"$error":"#REF!"}},"哪里",null,1,1,1]
[174,975124,"man",{"$f":"IF(VLOOKUP(C171,#REF!,2,0)>0,1,0)","v":{"$error":"#REF!"}},"男人, 人",null,1,1,1]
[175,1164725,"why",{"$f":"IF(VLOOKUP(C172,#REF!,2,0)>0,1,0)","v":{"$error":"#REF!"}},"为什么",null,1,1,1]
[176,1012550,"over",{"$f":"IF(VLOOKUP(C173,#REF!,2,0)>0,1,0)","v":{"$error":"#REF!"}},"在…上方, 超过, 越过",null,0,1,1]
[177,1012550,"over",{"$f":"IF(VLOOKUP(C174,#REF!,2,0)>0,1,0)","v":{"$error":"#REF!"}},"结束",null,1,1,1]
[178,963172,"life",{"$f":"IF(VLOOKUP(C175,#REF!,2,0)>0,1,0)","v":{"$error":"#REF!"}},"生活, 生计",null,1,1,1]
[179,963172,"life",{"$f":"IF(VLOOKUP(C176,#REF!,2,0)>0,1,0)","v":{"$error":"#REF!"}},"生命, 性命",null,0,1,1]
[180,963172,"life",{"$f":"IF(VLOOKUP(C177,#REF!,2,0)>0,1,0)","v":{"$error":"#REF!"}},"一生, 人生",null,0,0,0]
[181,958676,"last",{"$f":"IF(VLOOKUP(C178,#REF!,2,0)>0,1,0)","v":{"$error":"#REF!"}},"最后",null,1,1,1]
[182,958676,"last",{"$f":"IF(VLOOKUP(C179,#REF!,2,0)>0,1,0)","v":{"$error":"#REF!"}},"持续, 维持",null,0,1,1]
[183,1088156,"should",{"$f":"IF(VLOOKUP(C180,#REF!,2,0)>0,1,0)","v":{"$error":"#REF!"}},"应该, 应当",null,1,1,1]
[184,925803,"home",{"$f":"IF(VLOOKUP(C181,#REF!,2,0)>0,1,0)","v":{"$error":"#REF!"}},"家",null,1,1,1]
[185,978999,"mean",{"$f":"IF(VLOOKUP(C182,#REF!,2,0)>0,1,0)","v":{"$error":"#REF!"}},"意思, 意味着",null,1,1,1]
[186,978999,"mean",{"$f":"IF(VLOOKUP(C183,#REF!,2,0)>0,1,0)","v":{"$error":"#REF!"}},"吝啬, 小气, 刻薄",null,0,0,1]
[187,978999,"mean",{"$f":"IF(VLOOKUP(C184,#REF!,2,0)>0,1,0)","v":{"$error":"#REF!"}},"平均",null,0,0,0]
[188,1011380,"our",{"$f":"IF(VLOOKUP(C185,#REF!,2,0)>0,1,0)","v":{"$error":"#REF!"}},"我们的",null,1,1,1]
[189,1135010,"too",{"$f":"IF(VLOOKUP(C186,#REF!,2,0)>0,1,0)","v":{"$error":"#REF!"}},"也",null,1,1,1]
[190,1135010,"too",{"$f":"IF(VLOOKUP(C187,#REF!,2,0)>0,1,0)","v":{"$error":"#REF!"}},"太",null,1,1,1]
[191,757164,"also",{"$f":"IF(VLOOKUP(C188,#REF!,2,0)>0,1,0)","v":{"$error":"#REF!"}},"也, 同样",null,1,1,1]
[192,960857,"leave",{"$f":"IF(VLOOKUP(C189,#REF!,2,0)>0,1,0)","v":{"$error":"#REF!"}},"离开",null,1,1,1]
[193,774276,"back",{"$f":"IF(VLOOKUP(C190,#REF!,2,0)>0,1,0)","v":{"$error":"#REF!"}},"背部, 后面",null,1,1,1]
[194,774276,"back",{"$f":"IF(VLOOKUP(C191,#REF!,2,0)>0,1,0)","v":{"$error":"#REF!"}},"支持",null,0,0,0]
[195,774276,"back",{"$f":"IF(VLOOKUP(C192,#REF!,2,0)>0,1,0)","v":{"$error":"#REF!"}},"还原，返回",null,0,1,1]
[196,1006182,"old",{"$f":"IF(VLOOKUP(C193,#REF!,2,0)>0,1,0)","v":{"$error":"#REF!"}},"老的, 旧的, 原来的, 古老的",null,1,1,1]
[197,1130291,"thing",{"$f":"IF(VLOOKUP(C194,#REF!,2,0)>0,1,0)","v":{"$error":"#REF!"}},"东西, 事物",null,1,1,1]
[198,996117,"need",{"$f":"IF(VLOOKUP(C195,#REF!,2,0)>0,1,0)","v":{"$error":"#REF!"}},"需要",null,1,1,1]
[199,763105,"any",{"$f":"IF(VLOOKUP(C196,#REF!,2,0)>0,1,0)","v":{"$error":"#REF!"}},"任何",null,1,1,1]
[200,763105,"any",{"$f":"IF(VLOOKUP(C197,#REF!,2,0)>0,1,0)","v":{"$error":"#REF!"}},"一些, 一点",null,1,1,1]
[201,952922,"keep",{"$f":"IF(VLOOKUP(C198,#REF!,2,0)>0,1,0)","v":{"$error":"#REF!"}},"保存, 保持",null,1,1,1]
[202,1077893,"school",{"$f":"IF(VLOOKUP(C199,#REF!,2,0)>0,1,0)","v":{"$error":"#REF!"}},"学校",null,1,1,1]
[203,781733,"become",{"$f":"IF(VLOOKUP(C200,#REF!,2,0)>0,1,0)","v":{"$error":"#REF!"}},"变成, 成为",null,1,1,1]
[204,1088275,"show",{"$f":"IF(VLOOKUP(C201,#REF!,2,0)>0,1,0)","v":{"$error":"#REF!"}},"展现, 展览, 表演",null,1,1,1]
[205,877640,"even",{"$f":"IF(VLOOKUP(C202,#REF!,2,0)>0,1,0)","v":{"$error":"#REF!"}},"甚至, 即使",null,1,1,1]
[206,877640,"even",{"$f":"IF(VLOOKUP(C203,#REF!,2,0)>0,1,0)","v":{"$error":"#REF!"}},"偶数的",null,0,0,0]
[207,877640,"even",{"$f":"IF(VLOOKUP(C204,#REF!,2,0)>0,1,0)","v":{"$error":"#REF!"}},"公平的",null,0,1,1]
[208,877640,"even",{"$f":"IF(VLOOKUP(C205,#REF!,2,0)>0,1,0)","v":{"$error":"#REF!"}},"相等的",null,0,0,0]
[209,877640,"even",{"$f":"IF(VLOOKUP(C206,#REF!,2,0)>0,1,0)","v":{"$error":"#REF!"}},"平坦的",null,0,0,0]
[210,1152802,"us",{"$f":"IF(VLOOKUP(C207,#REF!,2,0)>0,1,0)","v":{"$error":"#REF!"}},"我们",null,1,1,1]
[211,860107,"down",{"$f":"IF(VLOOKUP(C208,#REF!,2,0)>0,1,0)","v":{"$error":"#REF!"}},"下, 向下",null,1,1,1]
[212,885058,"feel",{"$f":"IF(VLOOKUP(C209,#REF!,2,0)>0,1,0)","v":{"$error":"#REF!"}},"触, 摸",null,1,1,1]
[213,885058,"feel",{"$f":"IF(VLOOKUP(C210,#REF!,2,0)>0,1,0)","v":{"$error":"#REF!"}},"感觉",null,1,1,1]
[214,799140,"call",{"$f":"IF(VLOOKUP(C211,#REF!,2,0)>0,1,0)","v":{"$error":"#REF!"}},"电话, 打电话给…",null,1,1,1]
[215,799140,"call",{"$f":"IF(VLOOKUP(C212,#REF!,2,0)>0,1,0)","v":{"$error":"#REF!"}},"叫（称呼）, 喊",null,1,1,1]
[216,1164036,"while",{"$f":"IF(VLOOKUP(C213,#REF!,2,0)>0,1,0)","v":{"$error":"#REF!"}},"一会儿, 一段时间",null,0,1,1]
[217,1164036,"while",{"$f":"IF(VLOOKUP(C214,#REF!,2,0)>0,1,0)","v":{"$error":"#REF!"}},"当…的时候, 在…期间",null,0,1,1]
[218,1164036,"while",{"$f":"IF(VLOOKUP(C215,#REF!,2,0)>0,1,0)","v":{"$error":"#REF!"}},"然而, 虽然",null,0,1,1]
[219,1049581,"put",{"$f":"IF(VLOOKUP(C216,#REF!,2,0)>0,1,0)","v":{"$error":"#REF!"}},"放",null,1,1,1]
[220,783610,"best",{"$f":"IF(VLOOKUP(C217,#REF!,2,0)>0,1,0)","v":{"$error":"#REF!"}},"最好的",null,0,0,0]
[221,783610,"best",{"$f":"IF(VLOOKUP(C218,#REF!,2,0)>0,1,0)","v":{"$error":"#REF!"}},"最, 最高程度地",null,0,0,0]
[222,783610,"best",{"$f":"IF(VLOOKUP(C219,#REF!,2,0)>0,1,0)","v":{"$error":"#REF!"}},"最好的事物（或人）",null,0,0,0]
[223,1130026,"these",{"$f":"IF(VLOOKUP(C220,#REF!,2,0)>0,1,0)","v":{"$error":"#REF!"}},"这些",null,0,0,0]
[224,1167706,"world",{"$f":"IF(VLOOKUP(C221,#REF!,2,0)>0,1,0)","v":{"$error":"#REF!"}},"世界",null,1,1,1]
[225,899250,"friend",{"$f":"IF(VLOOKUP(C222,#REF!,2,0)>0,1,0)","v":{"$error":"#REF!"}},"朋友",null,1,1,1]
[226,1029763,"place",{"$f":"IF(VLOOKUP(C223,#REF!,2,0)>0,1,0)","v":{"$error":"#REF!"}},"地方, 位置, 放置",null,1,1,1]
[227,810587,"child",{"$f":"IF(VLOOKUP(C224,#REF!,2,0)>0,1,0)","v":{"$error":"#REF!"}},"孩子, 儿童",null,1,1,1]
[228,912822,"great",{"$f":"IF(VLOOKUP(C225,#REF!,2,0)>0,1,0)","v":{"$error":"#REF!"}},"大量的, 极好的, 伟大的",null,1,1,1]
[229,969663,"lot",{"$f":"IF(VLOOKUP(C226,#REF!,2,0)>0,1,0)","v":{"$error":"#REF!"}},"许多, 大量",null,1,1,1]
[230,877823,"every",{"$f":"IF(VLOOKUP(C227,#REF!,2,0)>0,1,0)","v":{"$error":"#REF!"}},"每, 每个",null,1,1,1]
[231,1143051,"try",{"$f":"IF(VLOOKUP(C228,#REF!,2,0)>0,1,0)","v":{"$error":"#REF!"}},"尝试, 设法, 努力",null,1,1,1]
[232,1168121,"write",{"$f":"IF(VLOOKUP(C229,#REF!,2,0)>0,1,0)","v":{"$error":"#REF!"}},"写",null,1,1,1]
[233,1130973,"three",{"$f":"IF(VLOOKUP(C230,#REF!,2,0)>0,1,0)","v":{"$error":"#REF!"}},"三",null,1,1,1]
[234,997951,"never",{"$f":"IF(VLOOKUP(C231,#REF!,2,0)>0,1,0)","v":{"$error":"#REF!"}},"从未, 决不",null,1,1,1]
[235,1094323,"small",{"$f":"IF(VLOOKUP(C232,#REF!,2,0)>0,1,0)","v":{"$error":"#REF!"}},"小",null,1,1,1]
[236,773379,"away",{"$f":"IF(VLOOKUP(C233,#REF!,2,0)>0,1,0)","v":{"$error":"#REF!"}},"不在的",null,0,0,0]
[237,773379,"away",{"$f":"IF(VLOOKUP(C234,#REF!,2,0)>0,1,0)","v":{"$error":"#REF!"}},"离开, 远离",null,0,1,1]
[238,782217,"begin",{"$f":"IF(VLOOKUP(C235,#REF!,2,0)>0,1,0)","v":{"$error":"#REF!"}},"开始",null,1,1,1]
[239,886333,"few",{"$f":"IF(VLOOKUP(C236,#REF!,2,0)>0,1,0)","v":{"$error":"#REF!"}},"很少的, 几乎没有的",null,1,1,1]
[240,757749,"always",{"$f":"IF(VLOOKUP(C237,#REF!,2,0)>0,1,0)","v":{"$error":"#REF!"}},"总是, 常常",null,1,1,1]
[241,864614,"each",{"$f":"IF(VLOOKUP(C238,#REF!,2,0)>0,1,0)","v":{"$error":"#REF!"}},"各自, 每个",null,1,1,1]
[242,784585,"big",{"$f":"IF(VLOOKUP(C239,#REF!,2,0)>0,1,0)","v":{"$error":"#REF!"}},"大的",null,1,1,1]
[244,1097413,"something",{"$f":"IF(VLOOKUP(C240,#REF!,2,0)>0,1,0)","v":{"$error":"#REF!"}},"某事, 某物",null,1,1,1]
[245,1068122,"right",{"$f":"IF(VLOOKUP(C241,#REF!,2,0)>0,1,0)","v":{"$error":"#REF!"}},"正确",null,1,1,1]
[246,1068122,"right",{"$f":"IF(VLOOKUP(C242,#REF!,2,0)>0,1,0)","v":{"$error":"#REF!"}},"右",null,1,1,1]
[247,1068122,"right",{"$f":"IF(VLOOKUP(C243,#REF!,2,0)>0,1,0)","v":{"$error":"#REF!"}},"权利",null,0,1,1]
[248,1144147,"turn",{"$f":"IF(VLOOKUP(C244,#REF!,2,0)>0,1,0)","v":{"$error":"#REF!"}},"转动, 翻转, 转弯",null,1,1,1]
[249,1144147,"turn",{"$f":"IF(VLOOKUP(C245,#REF!,2,0)>0,1,0)","v":{"$error":"#REF!"}},"顺次, 轮流",null,1,1,1]
[250,1144147,"turn",{"$f":"IF(VLOOKUP(C246,#REF!,2,0)>0,1,0)","v":{"$error":"#REF!"}},"变为, 成为",null,0,0,0]
[251,808284,"change",{"$f":"IF(VLOOKUP(C247,#REF!,2,0)>0,1,0)","v":{"$error":"#REF!"}},"零钱",null,0,1,1]
[252,808284,"change",{"$f":"IF(VLOOKUP(C248,#REF!,2,0)>0,1,0)","v":{"$error":"#REF!"}},"改变, 变化",null,1,1,1]
[253,993676,"must",{"$f":"IF(VLOOKUP(C249,#REF!,2,0)>0,1,0)","v":{"$error":"#REF!"}},"必须, 一定是",null,1,1,1]
[254,1105631,"start",{"$f":"IF(VLOOKUP(C250,#REF!,2,0)>0,1,0)","v":{"$error":"#REF!"}},"开始, 出发",null,1,1,1]
[255,766103,"around",{"$f":"IF(VLOOKUP(C251,#REF!,2,0)>0,1,0)","v":{"$error":"#REF!"}},"在周围, 到处, 四处",null,1,1,1]
[256,1031466,"play",{"$f":"IF(VLOOKUP(C252,#REF!,2,0)>0,1,0)","v":{"$error":"#REF!"}},"玩",null,1,1,1]
[257,1031466,"play",{"$f":"IF(VLOOKUP(C253,#REF!,2,0)>0,1,0)","v":{"$error":"#REF!"}},"演奏, 播放",null,1,1,1]
[258,988853,"money",{"$f":"IF(VLOOKUP(C254,#REF!,2,0)>0,1,0)","v":{"$error":"#REF!"}},"钱, 货币",null,1,1,1]
[259,1169448,"young",{"$f":"IF(VLOOKUP(C255,#REF!,2,0)>0,1,0)","v":{"$error":"#REF!"}},"年轻的, 年幼的",null,1,1,1]
[260,935235,"important",{"$f":"IF(VLOOKUP(C256,#REF!,2,0)>0,1,0)","v":{"$error":"#REF!"}},"重要的",null,0,1,1]
[261,1108708,"still",{"$f":"IF(VLOOKUP(C257,#REF!,2,0)>0,1,0)","v":{"$error":"#REF!"}},"静止, 静寂",null,0,1,1]
[262,1108708,"still",{"$f":"IF(VLOOKUP(C258,#REF!,2,0)>0,1,0)","v":{"$error":"#REF!"}},"仍然",null,1,1,1]
[263,917798,"hard",{"$f":"IF(VLOOKUP(C259,#REF!,2,0)>0,1,0)","v":{"$error":"#REF!"}},"硬的",null,1,1,1]
[264,917798,"hard",{"$f":"IF(VLOOKUP(C260,#REF!,2,0)>0,1,0)","v":{"$error":"#REF!"}},"困难的",null,1,1,1]
[265,917798,"hard",{"$f":"IF(VLOOKUP(C261,#REF!,2,0)>0,1,0)","v":{"$error":"#REF!"}},"努力",null,1,1,1]
[266,851505,"different",{"$f":"IF(VLOOKUP(C262,#REF!,2,0)>0,1,0)","v":{"$error":"#REF!"}},"不同的",null,1,1,1]
[267,1056776,"read",{"$f":"IF(VLOOKUP(C263,#REF!,2,0)>0,1,0)","v":{"$error":"#REF!"}},"读, 阅读",null,1,1,1]
[268,1114285,"such",{"$f":"IF(VLOOKUP(C264,#REF!,2,0)>0,1,0)","v":{"$error":"#REF!"}},"这样, 这种",null,0,1,1]
[269,1075129,"same",{"$f":"IF(VLOOKUP(C265,#REF!,2,0)>0,1,0)","v":{"$error":"#REF!"}},"同样, 相同",null,1,1,1]
[270,1018165,"part",{"$f":"IF(VLOOKUP(C266,#REF!,2,0)>0,1,0)","v":{"$error":"#REF!"}},"部分, 部件",null,1,1,1]
[271,1018165,"part",{"$f":"IF(VLOOKUP(C267,#REF!,2,0)>0,1,0)","v":{"$error":"#REF!"}},"分开, 分离",null,0,1,1]
[272,1018165,"part",{"$f":"IF(VLOOKUP(C268,#REF!,2,0)>0,1,0)","v":{"$error":"#REF!"}},"角色",null,1,1,1]
[273,1112184,"student",{"$f":"IF(VLOOKUP(C269,#REF!,2,0)>0,1,0)","v":{"$error":"#REF!"}},"学生",null,1,1,1]
[274,980403,"meet",{"$f":"IF(VLOOKUP(C270,#REF!,2,0)>0,1,0)","v":{"$error":"#REF!"}},"遇见, 迎接",null,1,1,1]
[275,980403,"meet",{"$f":"IF(VLOOKUP(C271,#REF!,2,0)>0,1,0)","v":{"$error":"#REF!"}},"开会",null,1,1,1]
[276,980403,"meet",{"$f":"IF(VLOOKUP(C272,#REF!,2,0)>0,1,0)","v":{"$error":"#REF!"}},"迎合",null,0,0,0]
[277,1121807,"talk",{"$f":"IF(VLOOKUP(C273,#REF!,2,0)>0,1,0)","v":{"$error":"#REF!"}},"谈话, 讲话, 讨论",null,1,1,1]
[278,1167227,"word",{"$f":"IF(VLOOKUP(C274,#REF!,2,0)>0,1,0)","v":{"$error":"#REF!"}},"词语, 消息",null,1,1,1]
[279,761480,"another",{"$f":"IF(VLOOKUP(C275,#REF!,2,0)>0,1,0)","v":{"$error":"#REF!"}},"又一个, 再一个",null,1,1,1]
[280,928216,"house",{"$f":"IF(VLOOKUP(C276,#REF!,2,0)>0,1,0)","v":{"$error":"#REF!"}},"房子",null,1,1,1]
[281,928216,"house",{"$f":"IF(VLOOKUP(C277,#REF!,2,0)>0,1,0)","v":{"$error":"#REF!"}},"安置",null,0,0,0]
[283,833751,"country",{"$f":"IF(VLOOKUP(C278,#REF!,2,0)>0,1,0)","v":{"$error":"#REF!"}},"国家",null,1,1,1]
[284,833751,"country",{"$f":"IF(VLOOKUP(C279,#REF!,2,0)>0,1,0)","v":{"$error":"#REF!"}},"乡下",null,1,1,1]
[285,933005,"idea",{"$f":"IF(VLOOKUP(C280,#REF!,2,0)>0,1,0)","v":{"$error":"#REF!"}},"主意, 想法",null,1,1,1]
[286,1131330,"through",{"$f":"IF(VLOOKUP(C281,#REF!,2,0)>0,1,0)","v":{"$error":"#REF!"}},"穿过, 通过, 透过, 从头到尾, 自始至终",null,1,1,1]
[287,1005152,"off",{"$f":"IF(VLOOKUP(C282,#REF!,2,0)>0,1,0)","v":{"$error":"#REF!"}},"离开, 从…下去",null,1,1,1]
[288,1109509,"stop",{"$f":"IF(VLOOKUP(C283,#REF!,2,0)>0,1,0)","v":{"$error":"#REF!"}},"停止, 停靠, 停靠站",null,1,1,1]
[289,1112251,"study",{"$f":"IF(VLOOKUP(C284,#REF!,2,0)>0,1,0)","v":{"$error":"#REF!"}},"学习, 研究",null,1,1,1]
[290,1013934,"own",{"$f":"IF(VLOOKUP(C285,#REF!,2,0)>0,1,0)","v":{"$error":"#REF!"}},"自己的",null,0,1,1]
[291,1013934,"own",{"$f":"IF(VLOOKUP(C286,#REF!,2,0)>0,1,0)","v":{"$error":"#REF!"}},"拥有",null,0,1,1]
[292,1019790,"pay",{"$f":"IF(VLOOKUP(C287,#REF!,2,0)>0,1,0)","v":{"$error":"#REF!"}},"工资",null,0,0,0]
[293,1019790,"pay",{"$f":"IF(VLOOKUP(C288,#REF!,2,0)>0,1,0)","v":{"$error":"#REF!"}},"支付, 付钱",null,0,1,1]
[294,1109957,"story",{"$f":"IF(VLOOKUP(C289,#REF!,2,0)>0,1,0)","v":{"$error":"#REF!"}},"故事",null,1,1,1]
[295,950023,"its",{"$f":"IF(VLOOKUP(C290,#REF!,2,0)>0,1,0)","v":{"$error":"#REF!"}},"它的",null,1,1,1]
[296,1159911,"walk",{"$f":"IF(VLOOKUP(C291,#REF!,2,0)>0,1,0)","v":{"$error":"#REF!"}},"走, 步行, 散步, 人行道",null,1,1,1]
[297,883264,"family",{"$f":"IF(VLOOKUP(C292,#REF!,2,0)>0,1,0)","v":{"$error":"#REF!"}},"家庭, 家",null,1,1,1]
[298,998201,"next",{"$f":"IF(VLOOKUP(C293,#REF!,2,0)>0,1,0)","v":{"$error":"#REF!"}},"下一个, 挨着的",null,1,1,1]
[299,790260,"book",{"$f":"IF(VLOOKUP(C294,#REF!,2,0)>0,1,0)","v":{"$error":"#REF!"}},"书, 书籍",null,1,1,1]
[300,790260,"book",{"$f":"IF(VLOOKUP(C295,#REF!,2,0)>0,1,0)","v":{"$error":"#REF!"}},"登记, 预订, 预约",null,0,1,1]
[301,954263,"kind",{"$f":"IF(VLOOKUP(C296,#REF!,2,0)>0,1,0)","v":{"$error":"#REF!"}},"仁慈的, 和蔼的, 友善的",null,1,1,1]
[302,954263,"kind",{"$f":"IF(VLOOKUP(C297,#REF!,2,0)>0,1,0)","v":{"$error":"#REF!"}},"种类",null,1,1,1]
[303,1007171,"once",{"$f":"IF(VLOOKUP(C298,#REF!,2,0)>0,1,0)","v":{"$error":"#REF!"}},"曾经",null,1,1,1]
[304,1007171,"once",{"$f":"IF(VLOOKUP(C299,#REF!,2,0)>0,1,0)","v":{"$error":"#REF!"}},"一次, 一回, 一旦",null,1,1,1]
[305,1130821,"those",{"$f":"IF(VLOOKUP(C300,#REF!,2,0)>0,1,0)","v":{"$error":"#REF!"}},"那些",null,0,0,0]
[306,928148,"hour",{"$f":"IF(VLOOKUP(C301,#REF!,2,0)>0,1,0)","v":{"$error":"#REF!"}},"小时, 钟头",null,1,1,1]
[307,922367,"here",{"$f":"IF(VLOOKUP(C302,#REF!,2,0)>0,1,0)","v":{"$error":"#REF!"}},"这, 这里",null,1,1,1]
[308,1162656,"week",{"$f":"IF(VLOOKUP(C303,#REF!,2,0)>0,1,0)","v":{"$error":"#REF!"}},"星期, 周",null,1,1,1]
[309,923503,"high",{"$f":"IF(VLOOKUP(C304,#REF!,2,0)>0,1,0)","v":{"$error":"#REF!"}},"高",null,1,1,1]
[310,752834,"again",{"$f":"IF(VLOOKUP(C305,#REF!,2,0)>0,1,0)","v":{"$error":"#REF!"}},"再一次, 再次",null,1,1,1]
[311,1043185,"problem",{"$f":"IF(VLOOKUP(C306,#REF!,2,0)>0,1,0)","v":{"$error":"#REF!"}},"问题, 难题",null,1,1,1]
[312,1127646,"text",{"$f":"IF(VLOOKUP(C307,#REF!,2,0)>0,1,0)","v":{"$error":"#REF!"}},"文本, 正文, 课文",null,0,1,1]
[313,761515,"answer",{"$f":"IF(VLOOKUP(C308,#REF!,2,0)>0,1,0)","v":{"$error":"#REF!"}},"答复, 解答, 回答",null,1,1,1]
[314,1151488,"until",{"$f":"IF(VLOOKUP(C309,#REF!,2,0)>0,1,0)","v":{"$error":"#REF!"}},"到...为止",null,0,1,1]
[315,1090893,"since",{"$f":"IF(VLOOKUP(C310,#REF!,2,0)>0,1,0)","v":{"$error":"#REF!"}},"自…以来, 自从",null,0,1,1]
[316,1090893,"since",{"$f":"IF(VLOOKUP(C311,#REF!,2,0)>0,1,0)","v":{"$error":"#REF!"}},"既然",null,0,0,0]
[317,1090893,"since",{"$f":"IF(VLOOKUP(C312,#REF!,2,0)>0,1,0)","v":{"$error":"#REF!"}},"因为",null,0,1,1]
[318,1073040,"run",{"$f":"IF(VLOOKUP(C313,#REF!,2,0)>0,1,0)","v":{"$error":"#REF!"}},"奔跑",null,1,1,1]
[319,1073040,"run",{"$f":"IF(VLOOKUP(C314,#REF!,2,0)>0,1,0)","v":{"$error":"#REF!"}},"运作, 运营",null,0,1,1]
[320,951157,"job",{"$f":"IF(VLOOKUP(C315,#REF!,2,0)>0,1,0)","v":{"$error":"#REF!"}},"工作, 职位",null,1,1,1]
[321,928471,"however",{"$f":"IF(VLOOKUP(C316,#REF!,2,0)>0,1,0)","v":{"$error":"#REF!"}},"但是, 然而, 无论如何",null,0,1,1]
[322,1097665,"soon",{"$f":"IF(VLOOKUP(C317,#REF!,2,0)>0,1,0)","v":{"$error":"#REF!"}},"一会儿, 立刻, 马上",null,1,1,1]
[323,961096,"left",{"$f":"IF(VLOOKUP(C318,#REF!,2,0)>0,1,0)","v":{"$error":"#REF!"}},"左",null,0,0,0]
[324,920089,"hear",{"$f":"IF(VLOOKUP(C319,#REF!,2,0)>0,1,0)","v":{"$error":"#REF!"}},"听见, 听到",null,1,1,1]
[325,1100434,"spend",{"$f":"IF(VLOOKUP(C320,#REF!,2,0)>0,1,0)","v":{"$error":"#REF!"}},"花费(时间、钱等)",null,1,1,1]
[326,1106716,"stay",{"$f":"IF(VLOOKUP(C321,#REF!,2,0)>0,1,0)","v":{"$error":"#REF!"}},"停留, 逗留, 保持某种状态",null,1,1,1]
[327,958893,"later",{"$f":"IF(VLOOKUP(C322,#REF!,2,0)>0,1,0)","v":{"$error":"#REF!"}},"后来, 随后",null,1,1,1]
[328,865069,"easy",{"$f":"IF(VLOOKUP(C323,#REF!,2,0)>0,1,0)","v":{"$error":"#REF!"}},"容易的, 轻松的",null,1,1,1]
[329,1160830,"watch",{"$f":"IF(VLOOKUP(C324,#REF!,2,0)>0,1,0)","v":{"$error":"#REF!"}},"看, 看守, 值班",null,1,1,1]
[330,1160830,"watch",{"$f":"IF(VLOOKUP(C325,#REF!,2,0)>0,1,0)","v":{"$error":"#REF!"}},"手表",null,1,1,1]
[331,1166571,"without",{"$f":"IF(VLOOKUP(C326,#REF!,2,0)>0,1,0)","v":{"$error":"#REF!"}},"没有, 不, 缺乏",null,1,1,1]
[332,1007585,"open",{"$f":"IF(VLOOKUP(C327,#REF!,2,0)>0,1,0)","v":{"$error":"#REF!"}},"打开, 开着",null,1,1,1]
[333,916884,"hand",{"$f":"IF(VLOOKUP(C328,#REF!,2,0)>0,1,0)","v":{"$error":"#REF!"}},"手",null,1,1,1]
[334,916884,"hand",{"$f":"IF(VLOOKUP(C329,#REF!,2,0)>0,1,0)","v":{"$error":"#REF!"}},"上交, 给, 传递",null,0,1,1]
[335,801394,"car",{"$f":"IF(VLOOKUP(C330,#REF!,2,0)>0,1,0)","v":{"$error":"#REF!"}},"小汽车, 轿车",null,1,1,1]
[337,820174,"color",{"$f":"IF(VLOOKUP(C331,#REF!,2,0)>0,1,0)","v":{"$error":"#REF!"}},"颜色，颜料",null,0,0,0]
[338,958273,"large",{"$f":"IF(VLOOKUP(C332,#REF!,2,0)>0,1,0)","v":{"$error":"#REF!"}},"大的, 巨大的",null,1,1,1]
[339,791030,"both",{"$f":"IF(VLOOKUP(C333,#REF!,2,0)>0,1,0)","v":{"$error":"#REF!"}},"二者, 二者都",null,1,1,1]
[340,914449,"grow",{"$f":"IF(VLOOKUP(C334,#REF!,2,0)>0,1,0)","v":{"$error":"#REF!"}},"种植",null,1,1,1]
[341,914449,"grow",{"$f":"IF(VLOOKUP(C335,#REF!,2,0)>0,1,0)","v":{"$error":"#REF!"}},"生长, 发育",null,0,1,1]
[342,991386,"move",{"$f":"IF(VLOOKUP(C336,#REF!,2,0)>0,1,0)","v":{"$error":"#REF!"}},"使…感动",null,0,1,1]
[343,991386,"move",{"$f":"IF(VLOOKUP(C337,#REF!,2,0)>0,1,0)","v":{"$error":"#REF!"}},"移动, 搬动, 走动",null,1,1,1]
[344,1057137,"really",{"$f":"IF(VLOOKUP(C338,#REF!,2,0)>0,1,0)","v":{"$error":"#REF!"}},"真, 真正",null,1,1,1]
[345,994560,"name",{"$f":"IF(VLOOKUP(C339,#REF!,2,0)>0,1,0)","v":{"$error":"#REF!"}},"姓名, 命名",null,1,1,1]
[346,782378,"believe",{"$f":"IF(VLOOKUP(C340,#REF!,2,0)>0,1,0)","v":{"$error":"#REF!"}},"相信",null,1,1,1]
[347,782378,"believe",{"$f":"IF(VLOOKUP(C341,#REF!,2,0)>0,1,0)","v":{"$error":"#REF!"}},"以为, 认为",null,0,1,1]
[348,793885,"bring",{"$f":"IF(VLOOKUP(C342,#REF!,2,0)>0,1,0)","v":{"$error":"#REF!"}},"带来, 引来",null,1,1,1]
[349,1017774,"parent",{"$f":"IF(VLOOKUP(C343,#REF!,2,0)>0,1,0)","v":{"$error":"#REF!"}},"父母",null,1,1,1]
[350,844055,"decide",{"$f":"IF(VLOOKUP(C344,#REF!,2,0)>0,1,0)","v":{"$error":"#REF!"}},"决定, 决心",null,1,1,1]
[351,1031773,"please",{"$f":"IF(VLOOKUP(C345,#REF!,2,0)>0,1,0)","v":{"$error":"#REF!"}},"请",null,1,1,1]
[352,1031773,"please",{"$f":"IF(VLOOKUP(C346,#REF!,2,0)>0,1,0)","v":{"$error":"#REF!"}},"取悦",null,0,1,1]
[353,865110,"eat",{"$f":"IF(VLOOKUP(C347,#REF!,2,0)>0,1,0)","v":{"$error":"#REF!"}},"吃",null,1,1,1]
[354,753324,"ago",{"$f":"IF(VLOOKUP(C348,#REF!,2,0)>0,1,0)","v":{"$error":"#REF!"}},"在…以前, 以前",null,1,1,1]
[355,895069,"food",{"$f":"IF(VLOOKUP(C349,#REF!,2,0)>0,1,0)","v":{"$error":"#REF!"}},"食物, 粮食, 食品",null,1,1,1]
[356,1023359,"person",{"$f":"IF(VLOOKUP(C350,#REF!,2,0)>0,1,0)","v":{"$error":"#REF!"}},"人, 个人",null,1,1,1]
[357,1147880,"understand",{"$f":"IF(VLOOKUP(C351,#REF!,2,0)>0,1,0)","v":{"$error":"#REF!"}},"懂, 了解, 明白",null,1,1,1]
[358,1123827,"teacher",{"$f":"IF(VLOOKUP(C352,#REF!,2,0)>0,1,0)","v":{"$error":"#REF!"}},"教师",null,1,1,1]
[359,1165098,"win",{"$f":"IF(VLOOKUP(C353,#REF!,2,0)>0,1,0)","v":{"$error":"#REF!"}},"胜利, 赢得",null,1,1,1]
[360,1081442,"seem",{"$f":"IF(VLOOKUP(C354,#REF!,2,0)>0,1,0)","v":{"$error":"#REF!"}},"好像, 似乎",null,0,1,1]
[361,998513,"night",{"$f":"IF(VLOOKUP(C355,#REF!,2,0)>0,1,0)","v":{"$error":"#REF!"}},"夜, 夜晚",null,1,1,1]
[362,814044,"city",{"$f":"IF(VLOOKUP(C356,#REF!,2,0)>0,1,0)","v":{"$error":"#REF!"}},"城市",null,1,1,1]
[363,1005557,"often",{"$f":"IF(VLOOKUP(C357,#REF!,2,0)>0,1,0)","v":{"$error":"#REF!"}},"经常",null,1,1,1]
[364,872728,"enough",{"$f":"IF(VLOOKUP(C358,#REF!,2,0)>0,1,0)","v":{"$error":"#REF!"}},"足够, 充分",null,1,1,1]
[365,969782,"love",{"$f":"IF(VLOOKUP(C359,#REF!,2,0)>0,1,0)","v":{"$error":"#REF!"}},"爱, 热爱",null,1,1,1]
[366,962005,"let",{"$f":"IF(VLOOKUP(C360,#REF!,2,0)>0,1,0)","v":{"$error":"#REF!"}},"让…",null,1,1,1]
[367,962005,"let",{"$f":"IF(VLOOKUP(C361,#REF!,2,0)>0,1,0)","v":{"$error":"#REF!"}},"允许",null,0,1,1]
[368,897460,"four",{"$f":"IF(VLOOKUP(C362,#REF!,2,0)>0,1,0)","v":{"$error":"#REF!"}},"四",null,1,1,1]
[369,775149,"bad",{"$f":"IF(VLOOKUP(C363,#REF!,2,0)>0,1,0)","v":{"$error":"#REF!"}},"有害的, 坏的, 不好的",null,1,1,1]
[370,1166823,"woman",{"$f":"IF(VLOOKUP(C364,#REF!,2,0)>0,1,0)","v":{"$error":"#REF!"}},"妇女, 女人",null,1,1,1]
[371,1091728,"sit",{"$f":"IF(VLOOKUP(C365,#REF!,2,0)>0,1,0)","v":{"$error":"#REF!"}},"坐, 就座",null,1,1,1]
[372,1083115,"send",{"$f":"IF(VLOOKUP(C366,#REF!,2,0)>0,1,0)","v":{"$error":"#REF!"}},"寄, 送, 派遣, 发送",null,1,1,1]
[373,894928,"follow",{"$f":"IF(VLOOKUP(C367,#REF!,2,0)>0,1,0)","v":{"$error":"#REF!"}},"听懂, 领会",null,1,1,1]
[374,894928,"follow",{"$f":"IF(VLOOKUP(C368,#REF!,2,0)>0,1,0)","v":{"$error":"#REF!"}},"跟随, 沿…而行",null,1,1,1]
[375,1099295,"speak",{"$f":"IF(VLOOKUP(C369,#REF!,2,0)>0,1,0)","v":{"$error":"#REF!"}},"说",null,1,1,1]
[376,1009476,"order",{"$f":"IF(VLOOKUP(C370,#REF!,2,0)>0,1,0)","v":{"$error":"#REF!"}},"秩序",null,0,1,1]
[377,1009476,"order",{"$f":"IF(VLOOKUP(C371,#REF!,2,0)>0,1,0)","v":{"$error":"#REF!"}},"命令",null,0,1,1]
[378,1009476,"order",{"$f":"IF(VLOOKUP(C372,#REF!,2,0)>0,1,0)","v":{"$error":"#REF!"}},"下订单",null,0,1,1]
[379,1070604,"room",{"$f":"IF(VLOOKUP(C373,#REF!,2,0)>0,1,0)","v":{"$error":"#REF!"}},"房间, 空间",null,1,1,1]
[380,863739,"during",{"$f":"IF(VLOOKUP(C374,#REF!,2,0)>0,1,0)","v":{"$error":"#REF!"}},"在…的时候, 在…期间",null,0,1,1]
[381,1134324,"today",{"$f":"IF(VLOOKUP(C375,#REF!,2,0)>0,1,0)","v":{"$error":"#REF!"}},"今天, 当今, 现今",null,1,1,1]
[382,733523,"OK",{"$f":"IF(VLOOKUP(C376,#REF!,2,0)>0,1,0)","v":{"$error":"#REF!"}},"好的, 对的",null,1,1,1]
[383,1084969,"set",{"$f":"IF(VLOOKUP(C377,#REF!,2,0)>0,1,0)","v":{"$error":"#REF!"}},"设置, 放置",null,0,1,1]
[384,1084969,"set",{"$f":"IF(VLOOKUP(C378,#REF!,2,0)>0,1,0)","v":{"$error":"#REF!"}},"一套, 一副",null,0,1,1]
[385,990284,"morning",{"$f":"IF(VLOOKUP(C379,#REF!,2,0)>0,1,0)","v":{"$error":"#REF!"}},"早晨, 上午",null,1,1,1]
[386,791919,"boy",{"$f":"IF(VLOOKUP(C380,#REF!,2,0)>0,1,0)","v":{"$error":"#REF!"}},"男孩",null,1,1,1]
[387,783843,"between",{"$f":"IF(VLOOKUP(C381,#REF!,2,0)>0,1,0)","v":{"$error":"#REF!"}},"在...之间",null,1,1,1]
[388,783843,"between",{"$f":"IF(VLOOKUP(C382,#REF!,2,0)>0,1,0)","v":{"$error":"#REF!"}},"当中, 中间",null,1,1,1]
[389,795487,"build",{"$f":"IF(VLOOKUP(C383,#REF!,2,0)>0,1,0)","v":{"$error":"#REF!"}},"建造, 建设",null,1,1,1]
[390,795487,"build",{"$f":"IF(VLOOKUP(C384,#REF!,2,0)>0,1,0)","v":{"$error":"#REF!"}},"体形, 身材, 体格",null,0,1,1]
[391,1002370,"nothing",{"$f":"IF(VLOOKUP(C385,#REF!,2,0)>0,1,0)","v":{"$error":"#REF!"}},"没有东西, 什么也不是",null,1,1,1]
[392,797410,"buy",{"$f":"IF(VLOOKUP(C386,#REF!,2,0)>0,1,0)","v":{"$error":"#REF!"}},"购买, 买",null,1,1,1]
[393,871361,"end",{"$f":"IF(VLOOKUP(C387,#REF!,2,0)>0,1,0)","v":{"$error":"#REF!"}},"结束, 终止",null,1,1,1]
[394,871361,"end",{"$f":"IF(VLOOKUP(C388,#REF!,2,0)>0,1,0)","v":{"$error":"#REF!"}},"末端, 尽头",null,1,1,1]
[395,989870,"month",{"$f":"IF(VLOOKUP(C389,#REF!,2,0)>0,1,0)","v":{"$error":"#REF!"}},"月, 月份",null,1,1,1]
[396,960650,"learn",{"$f":"IF(VLOOKUP(C390,#REF!,2,0)>0,1,0)","v":{"$error":"#REF!"}},"得知, 获悉, 学习",null,1,1,1]
[397,990663,"mother",{"$f":"IF(VLOOKUP(C391,#REF!,2,0)>0,1,0)","v":{"$error":"#REF!"}},"母亲, 妈妈",null,1,1,1]
[398,834016,"course",{"$f":"IF(VLOOKUP(C392,#REF!,2,0)>0,1,0)","v":{"$error":"#REF!"}},"路线, 方向",null,0,1,1]
[399,834016,"course",{"$f":"IF(VLOOKUP(C393,#REF!,2,0)>0,1,0)","v":{"$error":"#REF!"}},"课程",null,0,1,1]
[400,1169226,"yes",{"$f":"IF(VLOOKUP(C394,#REF!,2,0)>0,1,0)","v":{"$error":"#REF!"}},"是",null,1,1,1]
[401,1159814,"wait",{"$f":"IF(VLOOKUP(C395,#REF!,2,0)>0,1,0)","v":{"$error":"#REF!"}},"等待, 等候",null,1,1,1]
[402,1003182,"number",{"$f":"IF(VLOOKUP(C396,#REF!,2,0)>0,1,0)","v":{"$error":"#REF!"}},"号码, 数字",null,1,1,1]
[403,1003182,"number",{"$f":"IF(VLOOKUP(C397,#REF!,2,0)>0,1,0)","v":{"$error":"#REF!"}},"数量",null,1,1,1]
[404,1116897,"sure",{"$f":"IF(VLOOKUP(C398,#REF!,2,0)>0,1,0)","v":{"$error":"#REF!"}},"当然, 肯定, 确信",null,1,1,1]
[405,1080290,"second",{"$f":"IF(VLOOKUP(C399,#REF!,2,0)>0,1,0)","v":{"$error":"#REF!"}},"秒",null,0,1,1]
[406,1080290,"second",{"$f":"IF(VLOOKUP(C400,#REF!,2,0)>0,1,0)","v":{"$error":"#REF!"}},"第二",null,1,1,1]
[407,814486,"class",{"$f":"IF(VLOOKUP(C401,#REF!,2,0)>0,1,0)","v":{"$error":"#REF!"}},"课",null,1,1,1]
[408,814486,"class",{"$f":"IF(VLOOKUP(C402,#REF!,2,0)>0,1,0)","v":{"$error":"#REF!"}},"班级",null,1,1,1]
[409,802460,"care",{"$f":"IF(VLOOKUP(C403,#REF!,2,0)>0,1,0)","v":{"$error":"#REF!"}},"在乎, 关心",null,1,1,1]
[410,802460,"care",{"$f":"IF(VLOOKUP(C404,#REF!,2,0)>0,1,0)","v":{"$error":"#REF!"}},"照顾",null,0,1,1]
[411,714937,"American",{"$f":"IF(VLOOKUP(C405,#REF!,2,0)>0,1,0)","v":{"$error":"#REF!"}},"美国的, 美国人",null,1,1,1]
[412,722065,"English",{"$f":"IF(VLOOKUP(C406,#REF!,2,0)>0,1,0)","v":{"$error":"#REF!"}},"英语, 英国的, 英国人",null,1,1,1]
[413,1160918,"water",{"$f":"IF(VLOOKUP(C407,#REF!,2,0)>0,1,0)","v":{"$error":"#REF!"}},"水, 浇水",null,1,1,1]
[414,1130825,"though",{"$f":"IF(VLOOKUP(C408,#REF!,2,0)>0,1,0)","v":{"$error":"#REF!"}},"即使, 虽然, 尽管, 可是",null,0,1,1]
[415,926977,"hope",{"$f":"IF(VLOOKUP(C409,#REF!,2,0)>0,1,0)","v":{"$error":"#REF!"}},"希望, 盼望",null,1,1,1]
[416,1167832,"worry",{"$f":"IF(VLOOKUP(C410,#REF!,2,0)>0,1,0)","v":{"$error":"#REF!"}},"烦恼, 忧虑, 使烦恼",null,1,1,1]
[417,884121,"father",{"$f":"IF(VLOOKUP(C411,#REF!,2,0)>0,1,0)","v":{"$error":"#REF!"}},"父亲",null,1,1,1]
[418,884121,"father",{"$f":"IF(VLOOKUP(C412,#REF!,2,0)>0,1,0)","v":{"$error":"#REF!"}},"神父",null,0,0,0]
[419,752924,"age",{"$f":"IF(VLOOKUP(C413,#REF!,2,0)>0,1,0)","v":{"$error":"#REF!"}},"年龄",null,1,1,1]
[420,752924,"age",{"$f":"IF(VLOOKUP(C414,#REF!,2,0)>0,1,0)","v":{"$error":"#REF!"}},"长大, 老化",null,0,0,0]
[421,752924,"age",{"$f":"IF(VLOOKUP(C415,#REF!,2,0)>0,1,0)","v":{"$error":"#REF!"}},"时代",null,0,0,0]
[422,1104801,"stand",{"$f":"IF(VLOOKUP(C416,#REF!,2,0)>0,1,0)","v":{"$error":"#REF!"}},"台, 看台",null,0,1,1]
[423,1104801,"stand",{"$f":"IF(VLOOKUP(C417,#REF!,2,0)>0,1,0)","v":{"$error":"#REF!"}},"忍受",null,0,1,1]
[424,1104801,"stand",{"$f":"IF(VLOOKUP(C418,#REF!,2,0)>0,1,0)","v":{"$error":"#REF!"}},"站立",null,1,1,1]
[425,882302,"fact",{"$f":"IF(VLOOKUP(C419,#REF!,2,0)>0,1,0)","v":{"$error":"#REF!"}},"事实, 真相",null,0,1,1]
[426,1158246,"visit",{"$f":"IF(VLOOKUP(C420,#REF!,2,0)>0,1,0)","v":{"$error":"#REF!"}},"拜访, 参观",null,1,1,1]
[427,890195,"five",{"$f":"IF(VLOOKUP(C421,#REF!,2,0)>0,1,0)","v":{"$error":"#REF!"}},"五",null,1,1,1]
[428,792875,"break",{"$f":"IF(VLOOKUP(C422,#REF!,2,0)>0,1,0)","v":{"$error":"#REF!"}},"打破, 折断",null,1,1,1]
[429,792875,"break",{"$f":"IF(VLOOKUP(C423,#REF!,2,0)>0,1,0)","v":{"$error":"#REF!"}},"中间休息",null,0,1,1]
[430,816057,"close",{"$f":"IF(VLOOKUP(C424,#REF!,2,0)>0,1,0)","v":{"$error":"#REF!"}},"关, 关闭",null,1,1,1]
[431,816057,"close",{"$f":"IF(VLOOKUP(C425,#REF!,2,0)>0,1,0)","v":{"$error":"#REF!"}},"近, 靠近",null,1,1,1]
[432,816057,"close",{"$f":"IF(VLOOKUP(C426,#REF!,2,0)>0,1,0)","v":{"$error":"#REF!"}},"亲近的, 亲密的",null,0,1,1]
[433,1174563,"hi",{"$f":"IF(VLOOKUP(C427,#REF!,2,0)>0,1,0)","v":{"$error":"#REF!"}},"(打招呼)嘿, 喂",null,1,1,1]
[434,882822,"fall",{"$f":"IF(VLOOKUP(C428,#REF!,2,0)>0,1,0)","v":{"$error":"#REF!"}},"落下, 跌倒",null,1,1,1]
[435,882822,"fall",{"$f":"IF(VLOOKUP(C429,#REF!,2,0)>0,1,0)","v":{"$error":"#REF!"}},"瀑布",null,0,0,0]
[436,882822,"fall",{"$f":"IF(VLOOKUP(C430,#REF!,2,0)>0,1,0)","v":{"$error":"#REF!"}},"秋天",null,1,1,1]
[437,917718,"happy",{"$f":"IF(VLOOKUP(C431,#REF!,2,0)>0,1,0)","v":{"$error":"#REF!"}},"快乐, 幸福",null,1,1,1]
[438,878136,"example",{"$f":"IF(VLOOKUP(C432,#REF!,2,0)>0,1,0)","v":{"$error":"#REF!"}},"例子",null,0,1,1]
[439,878136,"example",{"$f":"IF(VLOOKUP(C433,#REF!,2,0)>0,1,0)","v":{"$error":"#REF!"}},"榜样",null,0,0,0]
[440,1134410,"together",{"$f":"IF(VLOOKUP(C434,#REF!,2,0)>0,1,0)","v":{"$error":"#REF!"}},"共同, 一起, 总共",null,1,1,1]
[441,925128,"hold",{"$f":"IF(VLOOKUP(C435,#REF!,2,0)>0,1,0)","v":{"$error":"#REF!"}},"持有",null,0,1,1]
[442,925128,"hold",{"$f":"IF(VLOOKUP(C436,#REF!,2,0)>0,1,0)","v":{"$error":"#REF!"}},"保持",null,0,1,1]
[443,925128,"hold",{"$f":"IF(VLOOKUP(C437,#REF!,2,0)>0,1,0)","v":{"$error":"#REF!"}},"举办",null,0,1,1]
[444,861693,"drive",{"$f":"IF(VLOOKUP(C438,#REF!,2,0)>0,1,0)","v":{"$error":"#REF!"}},"开车, 驾驶",null,1,1,1]
[445,881813,"eye",{"$f":"IF(VLOOKUP(C439,#REF!,2,0)>0,1,0)","v":{"$error":"#REF!"}},"眼睛",null,1,1,1]
[446,763132,"anything",{"$f":"IF(VLOOKUP(C440,#REF!,2,0)>0,1,0)","v":{"$error":"#REF!"}},"任何事物, 任何东西",null,1,1,1]
[447,883559,"far",{"$f":"IF(VLOOKUP(C441,#REF!,2,0)>0,1,0)","v":{"$error":"#REF!"}},"远",null,1,1,1]
[448,864695,"early",{"$f":"IF(VLOOKUP(C442,#REF!,2,0)>0,1,0)","v":{"$error":"#REF!"}},"早, 早期",null,1,1,1]
[449,985481,"mind",{"$f":"IF(VLOOKUP(C443,#REF!,2,0)>0,1,0)","v":{"$error":"#REF!"}},"介意, 注意",null,0,1,1]
[450,985481,"mind",{"$f":"IF(VLOOKUP(C444,#REF!,2,0)>0,1,0)","v":{"$error":"#REF!"}},"头脑, 心神, 智力",null,0,1,1]
[451,1139816,"travel",{"$f":"IF(VLOOKUP(C445,#REF!,2,0)>0,1,0)","v":{"$error":"#REF!"}},"旅行, 游历",null,1,1,1]
[452,1085437,"several",{"$f":"IF(VLOOKUP(C446,#REF!,2,0)>0,1,0)","v":{"$error":"#REF!"}},"几个的, 数个的",null,0,1,1]
[453,986264,"minute",{"$f":"IF(VLOOKUP(C447,#REF!,2,0)>0,1,0)","v":{"$error":"#REF!"}},"分, 分钟, 片刻",null,1,1,1]
[454,1168170,"writer",{"$f":"IF(VLOOKUP(C448,#REF!,2,0)>0,1,0)","v":{"$error":"#REF!"}},"作者, 作家",null,1,1,1]
[455,851859,"difficult",{"$f":"IF(VLOOKUP(C449,#REF!,2,0)>0,1,0)","v":{"$error":"#REF!"}},"困难的, 艰难的",null,1,1,1]
[456,1057581,"receive",{"$f":"IF(VLOOKUP(C450,#REF!,2,0)>0,1,0)","v":{"$error":"#REF!"}},"接到, 收到",null,1,1,1]
[457,877769,"ever",{"$f":"IF(VLOOKUP(C451,#REF!,2,0)>0,1,0)","v":{"$error":"#REF!"}},"究竟, 到底",null,0,1,1]
[458,877769,"ever",{"$f":"IF(VLOOKUP(C452,#REF!,2,0)>0,1,0)","v":{"$error":"#REF!"}},"曾经",null,0,1,1]
[459,877769,"ever",{"$f":"IF(VLOOKUP(C453,#REF!,2,0)>0,1,0)","v":{"$error":"#REF!"}},"永远",null,0,1,1]
[460,803106,"carry",{"$f":"IF(VLOOKUP(C454,#REF!,2,0)>0,1,0)","v":{"$error":"#REF!"}},"携带",null,1,1,1]
[461,803106,"carry",{"$f":"IF(VLOOKUP(C455,#REF!,2,0)>0,1,0)","v":{"$error":"#REF!"}},"运送, 搬运",null,1,1,1]
[462,1052550,"quite",{"$f":"IF(VLOOKUP(C456,#REF!,2,0)>0,1,0)","v":{"$error":"#REF!"}},"十分, 很",null,0,1,1]
[463,1066145,"return",{"$f":"IF(VLOOKUP(C457,#REF!,2,0)>0,1,0)","v":{"$error":"#REF!"}},"返回, 返还, 回报",null,0,1,1]
[464,1123813,"teach",{"$f":"IF(VLOOKUP(C458,#REF!,2,0)>0,1,0)","v":{"$error":"#REF!"}},"教",null,1,1,1]
[465,1152945,"usually",{"$f":"IF(VLOOKUP(C459,#REF!,2,0)>0,1,0)","v":{"$error":"#REF!"}},"通常地, 一般地",null,1,1,1]
[466,805327,"cause",{"$f":"IF(VLOOKUP(C460,#REF!,2,0)>0,1,0)","v":{"$error":"#REF!"}},"原因, 理由",null,0,1,1]
[467,805327,"cause",{"$f":"IF(VLOOKUP(C461,#REF!,2,0)>0,1,0)","v":{"$error":"#REF!"}},"导致, 引起",null,0,1,1]
[468,805327,"cause",{"$f":"IF(VLOOKUP(C462,#REF!,2,0)>0,1,0)","v":{"$error":"#REF!"}},"事业",null,0,0,1]
[469,745061,"able",{"$f":"IF(VLOOKUP(C463,#REF!,2,0)>0,1,0)","v":{"$error":"#REF!"}},"能够的",null,0,1,1]
[470,745061,"able",{"$f":"IF(VLOOKUP(C464,#REF!,2,0)>0,1,0)","v":{"$error":"#REF!"}},"有能力的",null,0,0,0]
[471,1137798,"train",{"$f":"IF(VLOOKUP(C465,#REF!,2,0)>0,1,0)","v":{"$error":"#REF!"}},"列车",null,1,1,1]
[472,1137798,"train",{"$f":"IF(VLOOKUP(C466,#REF!,2,0)>0,1,0)","v":{"$error":"#REF!"}},"训练, 培养",null,0,1,1]
[473,1147138,"under",{"$f":"IF(VLOOKUP(C467,#REF!,2,0)>0,1,0)","v":{"$error":"#REF!"}},"在…之下",null,1,1,1]
[474,879766,"expect",{"$f":"IF(VLOOKUP(C468,#REF!,2,0)>0,1,0)","v":{"$error":"#REF!"}},"预料, 预期",null,0,1,1]
[475,1052071,"question",{"$f":"IF(VLOOKUP(C469,#REF!,2,0)>0,1,0)","v":{"$error":"#REF!"}},"问题, 疑问, 怀疑",null,1,1,1]
[476,1099394,"special",{"$f":"IF(VLOOKUP(C470,#REF!,2,0)>0,1,0)","v":{"$error":"#REF!"}},"特别的, 特殊的, 专门的",null,1,1,1]
[477,849179,"develop",{"$f":"IF(VLOOKUP(C471,#REF!,2,0)>0,1,0)","v":{"$error":"#REF!"}},"发展, 开发",null,0,1,1]
[478,849179,"develop",{"$f":"IF(VLOOKUP(C472,#REF!,2,0)>0,1,0)","v":{"$error":"#REF!"}},"发育",null,0,0,0]
[479,1076559,"save",{"$f":"IF(VLOOKUP(C473,#REF!,2,0)>0,1,0)","v":{"$error":"#REF!"}},"储蓄",null,0,1,1]
[480,1076559,"save",{"$f":"IF(VLOOKUP(C474,#REF!,2,0)>0,1,0)","v":{"$error":"#REF!"}},"节省",null,1,1,1]
[481,1076559,"save",{"$f":"IF(VLOOKUP(C475,#REF!,2,0)>0,1,0)","v":{"$error":"#REF!"}},"挽救",null,0,1,1]
[482,995863,"near",{"$f":"IF(VLOOKUP(C476,#REF!,2,0)>0,1,0)","v":{"$error":"#REF!"}},"近, 接近, 临近",null,1,1,1]
[483,1030100,"plan",{"$f":"IF(VLOOKUP(C477,#REF!,2,0)>0,1,0)","v":{"$error":"#REF!"}},"打算, 计划",null,1,1,1]
[484,1105861,"state",{"$f":"IF(VLOOKUP(C478,#REF!,2,0)>0,1,0)","v":{"$error":"#REF!"}},"状况, 状态",null,0,0,1]
[485,1105861,"state",{"$f":"IF(VLOOKUP(C479,#REF!,2,0)>0,1,0)","v":{"$error":"#REF!"}},"声明, 陈述",null,0,1,1]
[486,1105861,"state",{"$f":"IF(VLOOKUP(C480,#REF!,2,0)>0,1,0)","v":{"$error":"#REF!"}},"国家，州",null,0,1,1]
[487,940351,"information",{"$f":"IF(VLOOKUP(C481,#REF!,2,0)>0,1,0)","v":{"$error":"#REF!"}},"消息, 信息",null,1,1,1]
[488,1062658,"remember",{"$f":"IF(VLOOKUP(C482,#REF!,2,0)>0,1,0)","v":{"$error":"#REF!"}},"记得, 想起",null,1,1,1]
[489,1065433,"result",{"$f":"IF(VLOOKUP(C483,#REF!,2,0)>0,1,0)","v":{"$error":"#REF!"}},"结果, 后果",null,0,1,1]
[490,907560,"girl",{"$f":"IF(VLOOKUP(C484,#REF!,2,0)>0,1,0)","v":{"$error":"#REF!"}},"女孩, 姑娘",null,1,1,1]
[491,796771,"business",{"$f":"IF(VLOOKUP(C485,#REF!,2,0)>0,1,0)","v":{"$error":"#REF!"}},"生意, 商业, 交易",null,0,1,1]
[492,796771,"business",{"$f":"IF(VLOOKUP(C486,#REF!,2,0)>0,1,0)","v":{"$error":"#REF!"}},"职责, 本分, 事务",null,0,0,0]
[493,756943,"almost",{"$f":"IF(VLOOKUP(C487,#REF!,2,0)>0,1,0)","v":{"$error":"#REF!"}},"几乎, 将近, 差不多",null,0,1,1]
[494,760681,"animal",{"$f":"IF(VLOOKUP(C488,#REF!,2,0)>0,1,0)","v":{"$error":"#REF!"}},"动物, 野兽",null,1,1,1]
[495,1097431,"sometimes",{"$f":"IF(VLOOKUP(C489,#REF!,2,0)>0,1,0)","v":{"$error":"#REF!"}},"有时, 间或",null,1,1,1]
[496,877871,"everything",{"$f":"IF(VLOOKUP(C490,#REF!,2,0)>0,1,0)","v":{"$error":"#REF!"}},"每件事物, 一切",null,1,1,1]
[497,1169244,"yet",{"$f":"IF(VLOOKUP(C491,#REF!,2,0)>0,1,0)","v":{"$error":"#REF!"}},"然而, 但是",null,0,1,1]
[498,1169244,"yet",{"$f":"IF(VLOOKUP(C492,#REF!,2,0)>0,1,0)","v":{"$error":"#REF!"}},"仍, 至今",null,0,1,1]
[499,924247,"himself",{"$f":"IF(VLOOKUP(C493,#REF!,2,0)>0,1,0)","v":{"$error":"#REF!"}},"他自己, 他亲自",null,0,1,1]
[500,1033271,"point",{"$f":"IF(VLOOKUP(C494,#REF!,2,0)>0,1,0)","v":{"$error":"#REF!"}},"得分",null,0,1,1]
[501,1033271,"point",{"$f":"IF(VLOOKUP(C495,#REF!,2,0)>0,1,0)","v":{"$error":"#REF!"}},"点, 要点, 观点",null,0,1,1]
[502,1033271,"point",{"$f":"IF(VLOOKUP(C496,#REF!,2,0)>0,1,0)","v":{"$error":"#REF!"}},"指向",null,1,1,1]
[503,851064,"die",{"$f":"IF(VLOOKUP(C497,#REF!,2,0)>0,1,0)","v":{"$error":"#REF!"}},"死亡, 凋零",null,0,1,1]
[504,1018734,"pass",{"$f":"IF(VLOOKUP(C498,#REF!,2,0)>0,1,0)","v":{"$error":"#REF!"}},"传递",null,1,1,1]
[505,1018734,"pass",{"$f":"IF(VLOOKUP(C499,#REF!,2,0)>0,1,0)","v":{"$error":"#REF!"}},"经过, 通过, 通行证",null,0,1,1]
[506,1097400,"someone",{"$f":"IF(VLOOKUP(C500,#REF!,2,0)>0,1,0)","v":{"$error":"#REF!"}},"有人, 某人",null,1,1,1]
[507,1019064,"past",{"$f":"IF(VLOOKUP(C501,#REF!,2,0)>0,1,0)","v":{"$error":"#REF!"}},"过往的",null,1,1,1]
[508,857962,"doctor",{"$f":"IF(VLOOKUP(C502,#REF!,2,0)>0,1,0)","v":{"$error":"#REF!"}},"医生",null,1,1,1]
[509,882046,"face",{"$f":"IF(VLOOKUP(C503,#REF!,2,0)>0,1,0)","v":{"$error":"#REF!"}},"脸",null,1,1,1]
[510,882046,"face",{"$f":"IF(VLOOKUP(C504,#REF!,2,0)>0,1,0)","v":{"$error":"#REF!"}},"面对, 面向",null,0,1,1]
[511,960024,"lead",{"$f":"IF(VLOOKUP(C505,#REF!,2,0)>0,1,0)","v":{"$error":"#REF!"}},"领导, 引导",null,0,1,1]
[512,960024,"lead",{"$f":"IF(VLOOKUP(C506,#REF!,2,0)>0,1,0)","v":{"$error":"#REF!"}},"过(某种生活)",null,0,0,0]
[513,808240,"chance",{"$f":"IF(VLOOKUP(C507,#REF!,2,0)>0,1,0)","v":{"$error":"#REF!"}},"机会, 机遇",null,0,1,1]
[514,804625,"catch",{"$f":"IF(VLOOKUP(C508,#REF!,2,0)>0,1,0)","v":{"$error":"#REF!"}},"赶上",null,0,1,1]
[515,804625,"catch",{"$f":"IF(VLOOKUP(C509,#REF!,2,0)>0,1,0)","v":{"$error":"#REF!"}},"抓住, 逮住",null,1,1,1]
[516,1127868,"thank",{"$f":"IF(VLOOKUP(C510,#REF!,2,0)>0,1,0)","v":{"$error":"#REF!"}},"感谢, 谢谢",null,1,1,1]
[517,880030,"explain",{"$f":"IF(VLOOKUP(C511,#REF!,2,0)>0,1,0)","v":{"$error":"#REF!"}},"解释, 说明",null,1,1,1]
[518,963504,"light",{"$f":"IF(VLOOKUP(C512,#REF!,2,0)>0,1,0)","v":{"$error":"#REF!"}},"光, 灯",null,1,1,1]
[519,963504,"light",{"$f":"IF(VLOOKUP(C513,#REF!,2,0)>0,1,0)","v":{"$error":"#REF!"}},"点着",null,1,1,1]
[520,963504,"light",{"$f":"IF(VLOOKUP(C514,#REF!,2,0)>0,1,0)","v":{"$error":"#REF!"}},"明亮的",null,0,1,1]
[521,963504,"light",{"$f":"IF(VLOOKUP(C515,#REF!,2,0)>0,1,0)","v":{"$error":"#REF!"}},"轻的",null,1,1,1]
[522,1164001,"whether",{"$f":"IF(VLOOKUP(C516,#REF!,2,0)>0,1,0)","v":{"$error":"#REF!"}},"是否",null,0,1,1]
[523,1164001,"whether",{"$f":"IF(VLOOKUP(C517,#REF!,2,0)>0,1,0)","v":{"$error":"#REF!"}},"不管是…(还是)",null,0,1,1]
[524,902720,"game",{"$f":"IF(VLOOKUP(C518,#REF!,2,0)>0,1,0)","v":{"$error":"#REF!"}},"比赛, 运动会",null,1,1,1]
[525,902720,"game",{"$f":"IF(VLOOKUP(C519,#REF!,2,0)>0,1,0)","v":{"$error":"#REF!"}},"游戏",null,1,1,1]
[526,1056516,"reach",{"$f":"IF(VLOOKUP(C520,#REF!,2,0)>0,1,0)","v":{"$error":"#REF!"}},"抵达",null,1,1,1]
[527,1056516,"reach",{"$f":"IF(VLOOKUP(C521,#REF!,2,0)>0,1,0)","v":{"$error":"#REF!"}},"伸手去够",null,0,1,1]
[528,1056516,"reach",{"$f":"IF(VLOOKUP(C522,#REF!,2,0)>0,1,0)","v":{"$error":"#REF!"}},"影响所及范围",null,0,1,1]
[529,753379,"agree",{"$f":"IF(VLOOKUP(C523,#REF!,2,0)>0,1,0)","v":{"$error":"#REF!"}},"同意, 赞成",null,1,1,1]
[530,1142457,"trouble",{"$f":"IF(VLOOKUP(C524,#REF!,2,0)>0,1,0)","v":{"$error":"#REF!"}},"故障, 困难, 麻烦, 打扰",null,0,1,1]
[531,896536,"form",{"$f":"IF(VLOOKUP(C525,#REF!,2,0)>0,1,0)","v":{"$error":"#REF!"}},"表格",null,1,1,1]
[532,896536,"form",{"$f":"IF(VLOOKUP(C526,#REF!,2,0)>0,1,0)","v":{"$error":"#REF!"}},"形状, 形式",null,0,1,1]
[533,896536,"form",{"$f":"IF(VLOOKUP(C527,#REF!,2,0)>0,1,0)","v":{"$error":"#REF!"}},"形成",null,0,1,1]
[534,1057350,"reason",{"$f":"IF(VLOOKUP(C528,#REF!,2,0)>0,1,0)","v":{"$error":"#REF!"}},"原因, 理由, 推理, 找原因",null,0,1,1]
[535,1052235,"quickly",{"$f":"IF(VLOOKUP(C529,#REF!,2,0)>0,1,0)","v":{"$error":"#REF!"}},"快地, 迅速地",null,1,1,1]
[536,1035672,"poor",{"$f":"IF(VLOOKUP(C530,#REF!,2,0)>0,1,0)","v":{"$error":"#REF!"}},"可怜的, 贫穷的, 低劣的",null,1,1,1]
[537,1168219,"wrong",{"$f":"IF(VLOOKUP(C531,#REF!,2,0)>0,1,0)","v":{"$error":"#REF!"}},"错误的, 不对的, 有毛病的",null,1,1,1]
[538,1036888,"possible",{"$f":"IF(VLOOKUP(C532,#REF!,2,0)>0,1,0)","v":{"$error":"#REF!"}},"可能的",null,0,1,1]
[539,1133565,"title",{"$f":"IF(VLOOKUP(C533,#REF!,2,0)>0,1,0)","v":{"$error":"#REF!"}},"标题, 头衔, 称号",null,0,1,1]
[540,1005316,"office",{"$f":"IF(VLOOKUP(C534,#REF!,2,0)>0,1,0)","v":{"$error":"#REF!"}},"办公室, 办公楼",null,1,1,1]
[541,1128818,"themselves",{"$f":"IF(VLOOKUP(C535,#REF!,2,0)>0,1,0)","v":{"$error":"#REF!"}},"他/她/它们自己",null,1,1,1]
[542,1046554,"provide",{"$f":"IF(VLOOKUP(C536,#REF!,2,0)>0,1,0)","v":{"$error":"#REF!"}},"提供, 供给",null,0,1,1]
[543,1097848,"sorry",{"$f":"IF(VLOOKUP(C537,#REF!,2,0)>0,1,0)","v":{"$error":"#REF!"}},"遗憾, 难过, 对不起",null,1,1,1]
[544,978456,"matter",{"$f":"IF(VLOOKUP(C538,#REF!,2,0)>0,1,0)","v":{"$error":"#REF!"}},"事件, 问题",null,1,1,1]
[545,978456,"matter",{"$f":"IF(VLOOKUP(C539,#REF!,2,0)>0,1,0)","v":{"$error":"#REF!"}},"要紧, 重要",null,1,1,1]
[546,858780,"door",{"$f":"IF(VLOOKUP(C540,#REF!,2,0)>0,1,0)","v":{"$error":"#REF!"}},"门",null,1,1,1]
[547,1082365,"sell",{"$f":"IF(VLOOKUP(C541,#REF!,2,0)>0,1,0)","v":{"$error":"#REF!"}},"卖, 出售",null,1,1,1]
[548,914230,"group",{"$f":"IF(VLOOKUP(C542,#REF!,2,0)>0,1,0)","v":{"$error":"#REF!"}},"团体, 组, 群, 分类, 集合",null,1,1,1]
[549,824841,"computer",{"$f":"IF(VLOOKUP(C543,#REF!,2,0)>0,1,0)","v":{"$error":"#REF!"}},"计算机, 电脑",null,1,1,1]
[551,757152,"already",{"$f":"IF(VLOOKUP(C544,#REF!,2,0)>0,1,0)","v":{"$error":"#REF!"}},"先前，已经",null,0,0,0]
[552,757386,"although",{"$f":"IF(VLOOKUP(C545,#REF!,2,0)>0,1,0)","v":{"$error":"#REF!"}},"虽然，尽管，即使",null,0,1,1]
[555,1110826,"street",{"$f":"IF(VLOOKUP(C546,#REF!,2,0)>0,1,0)","v":{"$error":"#REF!"}},"大街, 街道",null,1,1,1]
[556,766263,"arrive",{"$f":"IF(VLOOKUP(C547,#REF!,2,0)>0,1,0)","v":{"$error":"#REF!"}},"到达, 抵达",null,1,1,1]
[557,877865,"everyone",{"$f":"IF(VLOOKUP(C548,#REF!,2,0)>0,1,0)","v":{"$error":"#REF!"}},"每人, 人人",null,1,1,1]
[558,1063625,"report",{"$f":"IF(VLOOKUP(C549,#REF!,2,0)>0,1,0)","v":{"$error":"#REF!"}},"报告, 报道",null,1,1,1]
[559,919649,"head",{"$f":"IF(VLOOKUP(C550,#REF!,2,0)>0,1,0)","v":{"$error":"#REF!"}},"头",null,1,1,1]
[560,919649,"head",{"$f":"IF(VLOOKUP(C551,#REF!,2,0)>0,1,0)","v":{"$error":"#REF!"}},"朝…前进",null,0,0,1]
[561,811866,"choose",{"$f":"IF(VLOOKUP(C552,#REF!,2,0)>0,1,0)","v":{"$error":"#REF!"}},"选择, 挑选",null,1,1,1]
[562,1091872,"six",{"$f":"IF(VLOOKUP(C553,#REF!,2,0)>0,1,0)","v":{"$error":"#REF!"}},"六",null,1,1,1]
[563,1125696,"ten",{"$f":"IF(VLOOKUP(C554,#REF!,2,0)>0,1,0)","v":{"$error":"#REF!"}},"十",null,1,1,1]
[564,898119,"free",{"$f":"IF(VLOOKUP(C555,#REF!,2,0)>0,1,0)","v":{"$error":"#REF!"}},"自由的",null,0,1,1]
[565,898119,"free",{"$f":"IF(VLOOKUP(C556,#REF!,2,0)>0,1,0)","v":{"$error":"#REF!"}},"空闲的",null,1,1,1]
[566,898119,"free",{"$f":"IF(VLOOKUP(C557,#REF!,2,0)>0,1,0)","v":{"$error":"#REF!"}},"免费的",null,1,1,1]
[567,973326,"main",{"$f":"IF(VLOOKUP(C558,#REF!,2,0)>0,1,0)","v":{"$error":"#REF!"}},"主要的, 重要的",null,0,1,1]
[568,883884,"fast",{"$f":"IF(VLOOKUP(C559,#REF!,2,0)>0,1,0)","v":{"$error":"#REF!"}},"快",null,1,1,1]
[569,883884,"fast",{"$f":"IF(VLOOKUP(C560,#REF!,2,0)>0,1,0)","v":{"$error":"#REF!"}},"紧",null,0,0,0]
[570,765328,"area",{"$f":"IF(VLOOKUP(C561,#REF!,2,0)>0,1,0)","v":{"$error":"#REF!"}},"地区, 区域",null,0,1,1]
[571,765328,"area",{"$f":"IF(VLOOKUP(C562,#REF!,2,0)>0,1,0)","v":{"$error":"#REF!"}},"面积",null,0,1,1]
[572,765328,"area",{"$f":"IF(VLOOKUP(C563,#REF!,2,0)>0,1,0)","v":{"$error":"#REF!"}},"领域",null,0,0,0]
[573,757004,"along",{"$f":"IF(VLOOKUP(C564,#REF!,2,0)>0,1,0)","v":{"$error":"#REF!"}},"一起",null,0,1,1]
[574,757004,"along",{"$f":"IF(VLOOKUP(C565,#REF!,2,0)>0,1,0)","v":{"$error":"#REF!"}},"沿着, 顺着",null,1,1,1]
[575,753689,"air",{"$f":"IF(VLOOKUP(C566,#REF!,2,0)>0,1,0)","v":{"$error":"#REF!"}},"天空, 空中",null,0,1,1]
[576,753689,"air",{"$f":"IF(VLOOKUP(C567,#REF!,2,0)>0,1,0)","v":{"$error":"#REF!"}},"空气",null,1,1,1]
[577,888799,"finish",{"$f":"IF(VLOOKUP(C568,#REF!,2,0)>0,1,0)","v":{"$error":"#REF!"}},"完成, 结束",null,1,1,1]
[578,888799,"finish",{"$f":"IF(VLOOKUP(C569,#REF!,2,0)>0,1,0)","v":{"$error":"#REF!"}},"结尾",null,0,0,0]
[579,900470,"full",{"$f":"IF(VLOOKUP(C570,#REF!,2,0)>0,1,0)","v":{"$error":"#REF!"}},"满的",null,1,1,1]
[580,900470,"full",{"$f":"IF(VLOOKUP(C571,#REF!,2,0)>0,1,0)","v":{"$error":"#REF!"}},"充分的",null,1,1,1]
[581,877711,"evening",{"$f":"IF(VLOOKUP(C572,#REF!,2,0)>0,1,0)","v":{"$error":"#REF!"}},"傍晚, 晚上",null,0,0,0]
[582,958801,"late",{"$f":"IF(VLOOKUP(C573,#REF!,2,0)>0,1,0)","v":{"$error":"#REF!"}},"晚的",null,1,1,1]
[583,944224,"interested",{"$f":"IF(VLOOKUP(C574,#REF!,2,0)>0,1,0)","v":{"$error":"#REF!"}},"感兴趣的",null,1,1,1]
[584,928694,"human",{"$f":"IF(VLOOKUP(C575,#REF!,2,0)>0,1,0)","v":{"$error":"#REF!"}},"人, 人类",null,0,1,1]
[585,986781,"miss",{"$f":"IF(VLOOKUP(C576,#REF!,2,0)>0,1,0)","v":{"$error":"#REF!"}},"思念, 想念",null,1,1,1]
[586,986781,"miss",{"$f":"IF(VLOOKUP(C577,#REF!,2,0)>0,1,0)","v":{"$error":"#REF!"}},"错过",null,0,1,1]
[587,1012221,"outside",{"$f":"IF(VLOOKUP(C578,#REF!,2,0)>0,1,0)","v":{"$error":"#REF!"}},"外面, 外部",null,1,1,1]
[588,1149973,"university",{"$f":"IF(VLOOKUP(C579,#REF!,2,0)>0,1,0)","v":{"$error":"#REF!"}},"全科大学",null,1,1,1]
[589,896419,"forget",{"$f":"IF(VLOOKUP(C580,#REF!,2,0)>0,1,0)","v":{"$error":"#REF!"}},"忘记, 遗忘",null,1,1,1]
[590,1111690,"strong",{"$f":"IF(VLOOKUP(C581,#REF!,2,0)>0,1,0)","v":{"$error":"#REF!"}},"强壮的, 坚强的",null,1,1,1]
[591,781204,"bear",{"$f":"IF(VLOOKUP(C582,#REF!,2,0)>0,1,0)","v":{"$error":"#REF!"}},"熊",null,1,1,1]
[592,781204,"bear",{"$f":"IF(VLOOKUP(C583,#REF!,2,0)>0,1,0)","v":{"$error":"#REF!"}},"出生, 结果",null,1,1,1]
[593,781204,"bear",{"$f":"IF(VLOOKUP(C584,#REF!,2,0)>0,1,0)","v":{"$error":"#REF!"}},"忍受",null,0,1,1]
[594,781204,"bear",{"$f":"IF(VLOOKUP(C585,#REF!,2,0)>0,1,0)","v":{"$error":"#REF!"}},"经得起",null,0,0,1]
[595,888262,"finally",{"$f":"IF(VLOOKUP(C586,#REF!,2,0)>0,1,0)","v":{"$error":"#REF!"}},"最后, 终于",null,1,1,1]
[596,916278,"half",{"$f":"IF(VLOOKUP(C587,#REF!,2,0)>0,1,0)","v":{"$error":"#REF!"}},"一半, 半数",null,1,1,1]
[597,795507,"building",{"$f":"IF(VLOOKUP(C588,#REF!,2,0)>0,1,0)","v":{"$error":"#REF!"}},"建筑物, 房屋, 楼房",null,0,0,0]
[598,828563,"continue",{"$f":"IF(VLOOKUP(C589,#REF!,2,0)>0,1,0)","v":{"$error":"#REF!"}},"继续, 连续",null,0,1,1]
[599,1078156,"scientist",{"$f":"IF(VLOOKUP(C590,#REF!,2,0)>0,1,0)","v":{"$error":"#REF!"}},"科学家",null,1,1,1]
[600,944231,"interesting",{"$f":"IF(VLOOKUP(C591,#REF!,2,0)>0,1,0)","v":{"$error":"#REF!"}},"有趣的, 令人感兴趣的",null,1,1,1]
[601,963062,"lie",{"$f":"IF(VLOOKUP(C592,#REF!,2,0)>0,1,0)","v":{"$error":"#REF!"}},"位于",null,0,1,1]
[602,963062,"lie",{"$f":"IF(VLOOKUP(C593,#REF!,2,0)>0,1,0)","v":{"$error":"#REF!"}},"说谎, 谎言",null,1,1,1]
[603,963062,"lie",{"$f":"IF(VLOOKUP(C594,#REF!,2,0)>0,1,0)","v":{"$error":"#REF!"}},"躺",null,0,1,1]
[604,1035811,"popular",{"$f":"IF(VLOOKUP(C595,#REF!,2,0)>0,1,0)","v":{"$error":"#REF!"}},"流行的, 大众的, 公众的",null,0,1,1]
[605,843451,"dear",{"$f":"IF(VLOOKUP(C596,#REF!,2,0)>0,1,0)","v":{"$error":"#REF!"}},"亲爱的",null,1,1,1]
[606,843451,"dear",{"$f":"IF(VLOOKUP(C597,#REF!,2,0)>0,1,0)","v":{"$error":"#REF!"}},"敬爱的",null,0,0,0]
[607,843451,"dear",{"$f":"IF(VLOOKUP(C598,#REF!,2,0)>0,1,0)","v":{"$error":"#REF!"}},"昂贵的",null,0,0,0]
[608,843451,"dear",{"$f":"IF(VLOOKUP(C599,#REF!,2,0)>0,1,0)","v":{"$error":"#REF!"}},"哎, 天哪",null,1,1,1]
[609,944182,"interest",{"$f":"IF(VLOOKUP(C600,#REF!,2,0)>0,1,0)","v":{"$error":"#REF!"}},"兴趣, 爱好",null,0,1,1]
[610,944182,"interest",{"$f":"IF(VLOOKUP(C601,#REF!,2,0)>0,1,0)","v":{"$error":"#REF!"}},"利息, 利润, 利益",null,0,0,0]
[611,748583,"across",{"$f":"IF(VLOOKUP(C602,#REF!,2,0)>0,1,0)","v":{"$error":"#REF!"}},"穿过, 横过",null,0,1,1]
[612,748583,"across",{"$f":"IF(VLOOKUP(C603,#REF!,2,0)>0,1,0)","v":{"$error":"#REF!"}},"在对面",null,0,0,0]
[614,1002403,"notice",{"$f":"IF(VLOOKUP(C604,#REF!,2,0)>0,1,0)","v":{"$error":"#REF!"}},"注意, 注意到",null,0,1,1]
[615,1002403,"notice",{"$f":"IF(VLOOKUP(C605,#REF!,2,0)>0,1,0)","v":{"$error":"#REF!"}},"通知, 布告",null,0,1,1]
[616,791770,"box",{"$f":"IF(VLOOKUP(C606,#REF!,2,0)>0,1,0)","v":{"$error":"#REF!"}},"盒子, 箱",null,1,1,1]
[617,791770,"box",{"$f":"IF(VLOOKUP(C607,#REF!,2,0)>0,1,0)","v":{"$error":"#REF!"}},"把…装箱",null,0,0,0]
[618,791770,"box",{"$f":"IF(VLOOKUP(C608,#REF!,2,0)>0,1,0)","v":{"$error":"#REF!"}},"拳击",null,0,0,1]
[619,935417,"improve",{"$f":"IF(VLOOKUP(C609,#REF!,2,0)>0,1,0)","v":{"$error":"#REF!"}},"改善, 改进, 提高",null,0,1,1]
[620,1056017,"rather",{"$f":"IF(VLOOKUP(C610,#REF!,2,0)>0,1,0)","v":{"$error":"#REF!"}},"宁愿, 宁可",null,0,1,1]
[621,1091709,"sister",{"$f":"IF(VLOOKUP(C611,#REF!,2,0)>0,1,0)","v":{"$error":"#REF!"}},"姐, 妹",null,1,1,1]
[622,901941,"future",{"$f":"IF(VLOOKUP(C612,#REF!,2,0)>0,1,0)","v":{"$error":"#REF!"}},"未来, 将来, 前途",null,1,1,1]
[623,1114669,"suggest",{"$f":"IF(VLOOKUP(C613,#REF!,2,0)>0,1,0)","v":{"$error":"#REF!"}},"建议, 暗示, 提示",null,0,1,1]
[624,988610,"moment",{"$f":"IF(VLOOKUP(C614,#REF!,2,0)>0,1,0)","v":{"$error":"#REF!"}},"瞬间, 即刻, 片刻",null,0,1,1]
[625,942669,"instead",{"$f":"IF(VLOOKUP(C615,#REF!,2,0)>0,1,0)","v":{"$error":"#REF!"}},"反而",null,0,1,1]
[626,942669,"instead",{"$f":"IF(VLOOKUP(C616,#REF!,2,0)>0,1,0)","v":{"$error":"#REF!"}},"代替",null,0,1,1]
[627,781657,"beautiful",{"$f":"IF(VLOOKUP(C617,#REF!,2,0)>0,1,0)","v":{"$error":"#REF!"}},"美丽的, 美好的",null,1,1,1]
[628,782293,"behind",{"$f":"IF(VLOOKUP(C618,#REF!,2,0)>0,1,0)","v":{"$error":"#REF!"}},"在...之后",null,1,1,1]
[629,782293,"behind",{"$f":"IF(VLOOKUP(C619,#REF!,2,0)>0,1,0)","v":{"$error":"#REF!"}},"向后, 在后面",null,1,1,1]
[630,1087842,"short",{"$f":"IF(VLOOKUP(C620,#REF!,2,0)>0,1,0)","v":{"$error":"#REF!"}},"短的, 矮的",null,1,1,1]
[631,899620,"front",{"$f":"IF(VLOOKUP(C621,#REF!,2,0)>0,1,0)","v":{"$error":"#REF!"}},"前面, 正面",null,1,1,1]
[632,803559,"case",{"$f":"IF(VLOOKUP(C622,#REF!,2,0)>0,1,0)","v":{"$error":"#REF!"}},"情况",null,0,1,1]
[633,803559,"case",{"$f":"IF(VLOOKUP(C623,#REF!,2,0)>0,1,0)","v":{"$error":"#REF!"}},"状况",null,0,0,1]
[634,803559,"case",{"$f":"IF(VLOOKUP(C624,#REF!,2,0)>0,1,0)","v":{"$error":"#REF!"}},"案例",null,0,1,1]
[635,803559,"case",{"$f":"IF(VLOOKUP(C625,#REF!,2,0)>0,1,0)","v":{"$error":"#REF!"}},"盒, 箱",null,0,0,1]
[636,848107,"describe",{"$f":"IF(VLOOKUP(C626,#REF!,2,0)>0,1,0)","v":{"$error":"#REF!"}},"描述, 形容",null,0,1,1]
[637,1164904,"wife",{"$f":"IF(VLOOKUP(C627,#REF!,2,0)>0,1,0)","v":{"$error":"#REF!"}},"妻子",null,1,1,1]
[638,1115230,"summer",{"$f":"IF(VLOOKUP(C628,#REF!,2,0)>0,1,0)","v":{"$error":"#REF!"}},"夏",null,1,1,1]
[639,966220,"listen",{"$f":"IF(VLOOKUP(C629,#REF!,2,0)>0,1,0)","v":{"$error":"#REF!"}},"听",null,1,1,1]
[640,746365,"accept",{"$f":"IF(VLOOKUP(C630,#REF!,2,0)>0,1,0)","v":{"$error":"#REF!"}},"接受",null,0,1,1]
[641,822886,"company",{"$f":"IF(VLOOKUP(C631,#REF!,2,0)>0,1,0)","v":{"$error":"#REF!"}},"公司",null,0,1,1]
[642,822886,"company",{"$f":"IF(VLOOKUP(C632,#REF!,2,0)>0,1,0)","v":{"$error":"#REF!"}},"陪伴",null,0,0,1]
[643,1093081,"sleep",{"$f":"IF(VLOOKUP(C633,#REF!,2,0)>0,1,0)","v":{"$error":"#REF!"}},"睡, 睡觉",null,1,1,1]
[644,920021,"health",{"$f":"IF(VLOOKUP(C634,#REF!,2,0)>0,1,0)","v":{"$error":"#REF!"}},"健康",null,0,1,1]
[645,1069248,"road",{"$f":"IF(VLOOKUP(C635,#REF!,2,0)>0,1,0)","v":{"$error":"#REF!"}},"道路, 公路",null,1,1,1]
[646,752668,"afraid",{"$f":"IF(VLOOKUP(C636,#REF!,2,0)>0,1,0)","v":{"$error":"#REF!"}},"害怕的, 担心的",null,1,1,1]
[647,786168,"bird",{"$f":"IF(VLOOKUP(C637,#REF!,2,0)>0,1,0)","v":{"$error":"#REF!"}},"鸟, 禽",null,1,1,1]
[648,1027264,"pick",{"$f":"IF(VLOOKUP(C638,#REF!,2,0)>0,1,0)","v":{"$error":"#REF!"}},"挑选, 采摘",null,1,1,1]
[649,895193,"foot",{"$f":"IF(VLOOKUP(C639,#REF!,2,0)>0,1,0)","v":{"$error":"#REF!"}},"脚",null,1,1,1]
[650,895193,"foot",{"$f":"IF(VLOOKUP(C640,#REF!,2,0)>0,1,0)","v":{"$error":"#REF!"}},"英尺",null,0,1,1]
[651,865032,"easily",{"$f":"IF(VLOOKUP(C641,#REF!,2,0)>0,1,0)","v":{"$error":"#REF!"}},"容易地, 不费力地",null,0,1,1]
[652,843394,"deal",{"$f":"IF(VLOOKUP(C642,#REF!,2,0)>0,1,0)","v":{"$error":"#REF!"}},"交易, 处理",null,0,1,1]
[653,843394,"deal",{"$f":"IF(VLOOKUP(C643,#REF!,2,0)>0,1,0)","v":{"$error":"#REF!"}},"许多",null,0,1,1]
[654,869964,"else",{"$f":"IF(VLOOKUP(C644,#REF!,2,0)>0,1,0)","v":{"$error":"#REF!"}},"别的, 另外的, 其他的",null,1,1,1]
[655,893273,"flower",{"$f":"IF(VLOOKUP(C645,#REF!,2,0)>0,1,0)","v":{"$error":"#REF!"}},"花, 开花",null,1,1,1]
[656,1140188,"tree",{"$f":"IF(VLOOKUP(C646,#REF!,2,0)>0,1,0)","v":{"$error":"#REF!"}},"树",null,1,1,1]
[657,1164573,"whole",{"$f":"IF(VLOOKUP(C647,#REF!,2,0)>0,1,0)","v":{"$error":"#REF!"}},"完整的, 全部的, 整体的",null,0,1,1]
[658,998257,"nice",{"$f":"IF(VLOOKUP(C648,#REF!,2,0)>0,1,0)","v":{"$error":"#REF!"}},"好的, 美好的, 友好的, 亲切的",null,1,1,1]
[659,1097479,"son",{"$f":"IF(VLOOKUP(C649,#REF!,2,0)>0,1,0)","v":{"$error":"#REF!"}},"儿子",null,1,1,1]
[660,763890,"appear",{"$f":"IF(VLOOKUP(C650,#REF!,2,0)>0,1,0)","v":{"$error":"#REF!"}},"出现",null,1,1,1]
[661,832757,"cost",{"$f":"IF(VLOOKUP(C651,#REF!,2,0)>0,1,0)","v":{"$error":"#REF!"}},"费用",null,0,1,1]
[662,832757,"cost",{"$f":"IF(VLOOKUP(C652,#REF!,2,0)>0,1,0)","v":{"$error":"#REF!"}},"花费, 付出",null,1,1,1]
[663,1084379,"serious",{"$f":"IF(VLOOKUP(C653,#REF!,2,0)>0,1,0)","v":{"$error":"#REF!"}},"严重的, 严肃的, 认真的",null,1,1,1]
[664,861595,"drink",{"$f":"IF(VLOOKUP(C654,#REF!,2,0)>0,1,0)","v":{"$error":"#REF!"}},"喝",null,1,1,1]
[665,861595,"drink",{"$f":"IF(VLOOKUP(C655,#REF!,2,0)>0,1,0)","v":{"$error":"#REF!"}},"饮料",null,1,1,1]
[666,1136682,"town",{"$f":"IF(VLOOKUP(C656,#REF!,2,0)>0,1,0)","v":{"$error":"#REF!"}},"市镇, 城镇",null,1,1,1]
[667,1016302,"paper",{"$f":"IF(VLOOKUP(C657,#REF!,2,0)>0,1,0)","v":{"$error":"#REF!"}},"纸, 论文, 文件, 报纸",null,1,1,1]
[668,1088872,"side",{"$f":"IF(VLOOKUP(C658,#REF!,2,0)>0,1,0)","v":{"$error":"#REF!"}},"边, 侧, 侧面, 站在…的一边",null,0,1,1]
[669,1058946,"red",{"$f":"IF(VLOOKUP(C659,#REF!,2,0)>0,1,0)","v":{"$error":"#REF!"}},"红",null,1,1,1]
[670,1162246,"wear",{"$f":"IF(VLOOKUP(C660,#REF!,2,0)>0,1,0)","v":{"$error":"#REF!"}},"穿着，戴着",null,1,1,1]
[671,1162246,"wear",{"$f":"IF(VLOOKUP(C661,#REF!,2,0)>0,1,0)","v":{"$error":"#REF!"}},"损耗",null,0,0,1]
[672,819109,"cold",{"$f":"IF(VLOOKUP(C662,#REF!,2,0)>0,1,0)","v":{"$error":"#REF!"}},"冷, 寒冷",null,1,1,1]
[673,819109,"cold",{"$f":"IF(VLOOKUP(C663,#REF!,2,0)>0,1,0)","v":{"$error":"#REF!"}},"感冒",null,1,1,1]
[674,1130579,"third",{"$f":"IF(VLOOKUP(C664,#REF!,2,0)>0,1,0)","v":{"$error":"#REF!"}},"第三, 三分之一",null,1,1,1]
[675,1130846,"thousand",{"$f":"IF(VLOOKUP(C665,#REF!,2,0)>0,1,0)","v":{"$error":"#REF!"}},"千",null,1,1,1]
[676,1126935,"test",{"$f":"IF(VLOOKUP(C666,#REF!,2,0)>0,1,0)","v":{"$error":"#REF!"}},"测试, 试验, 考验",null,0,1,1]
[677,1166864,"wonder",{"$f":"IF(VLOOKUP(C667,#REF!,2,0)>0,1,0)","v":{"$error":"#REF!"}},"奇迹, 感到惊奇, 想知道",null,0,1,1]
[678,998162,"newspaper",{"$f":"IF(VLOOKUP(C668,#REF!,2,0)>0,1,0)","v":{"$error":"#REF!"}},"报纸",null,1,1,1]
[679,758622,"among",{"$f":"IF(VLOOKUP(C669,#REF!,2,0)>0,1,0)","v":{"$error":"#REF!"}},"在…之中, 在…之内",null,0,1,1]
[680,1047635,"public",{"$f":"IF(VLOOKUP(C670,#REF!,2,0)>0,1,0)","v":{"$error":"#REF!"}},"民众, 大众, 公众, 公共",null,0,1,1]
[681,1086192,"share",{"$f":"IF(VLOOKUP(C671,#REF!,2,0)>0,1,0)","v":{"$error":"#REF!"}},"分享, 分配, 份额",null,1,1,1]
[682,1166191,"wish",{"$f":"IF(VLOOKUP(C672,#REF!,2,0)>0,1,0)","v":{"$error":"#REF!"}},"愿望, 心愿, 祝愿",null,1,1,1]
[683,951342,"join",{"$f":"IF(VLOOKUP(C673,#REF!,2,0)>0,1,0)","v":{"$error":"#REF!"}},"参加, 加入, 参与",null,1,1,1]
[684,917699,"happen",{"$f":"IF(VLOOKUP(C674,#REF!,2,0)>0,1,0)","v":{"$error":"#REF!"}},"发生",null,1,1,1]
[685,1130826,"thought",{"$f":"IF(VLOOKUP(C675,#REF!,2,0)>0,1,0)","v":{"$error":"#REF!"}},"思想, 想法",null,0,0,0]
[686,1056980,"real",{"$f":"IF(VLOOKUP(C676,#REF!,2,0)>0,1,0)","v":{"$error":"#REF!"}},"真的, 真实的",null,0,1,1]
[687,834220,"cover",{"$f":"IF(VLOOKUP(C677,#REF!,2,0)>0,1,0)","v":{"$error":"#REF!"}},"覆盖",null,0,1,1]
[688,834220,"cover",{"$f":"IF(VLOOKUP(C678,#REF!,2,0)>0,1,0)","v":{"$error":"#REF!"}},"封面",null,0,1,1]
[689,834220,"cover",{"$f":"IF(VLOOKUP(C679,#REF!,2,0)>0,1,0)","v":{"$error":"#REF!"}},"涉及",null,0,1,1]
[690,998104,"news",{"$f":"IF(VLOOKUP(C680,#REF!,2,0)>0,1,0)","v":{"$error":"#REF!"}},"新闻",null,1,1,1]
[691,752837,"against",{"$f":"IF(VLOOKUP(C681,#REF!,2,0)>0,1,0)","v":{"$error":"#REF!"}},"反对",null,0,1,1]
[692,752837,"against",{"$f":"IF(VLOOKUP(C682,#REF!,2,0)>0,1,0)","v":{"$error":"#REF!"}},"紧靠",null,0,1,1]
[693,752837,"against",{"$f":"IF(VLOOKUP(C683,#REF!,2,0)>0,1,0)","v":{"$error":"#REF!"}},"以防",null,0,0,0]
[694,1027526,"picture",{"$f":"IF(VLOOKUP(C684,#REF!,2,0)>0,1,0)","v":{"$error":"#REF!"}},"照片, 图片",null,1,1,1]
[695,1174507,"thanks",{"$f":"IF(VLOOKUP(C685,#REF!,2,0)>0,1,0)","v":{"$error":"#REF!"}},"谢谢",null,1,1,1]
[696,984487,"middle",{"$f":"IF(VLOOKUP(C686,#REF!,2,0)>0,1,0)","v":{"$error":"#REF!"}},"中间, 中部",null,1,1,1]
[698,814932,"clean",{"$f":"IF(VLOOKUP(C687,#REF!,2,0)>0,1,0)","v":{"$error":"#REF!"}},"干净",null,1,1,1]
[700,814932,"clean",{"$f":"IF(VLOOKUP(C688,#REF!,2,0)>0,1,0)","v":{"$error":"#REF!"}},"清扫",null,1,1,1]
[701,1085409,"seven",{"$f":"IF(VLOOKUP(C689,#REF!,2,0)>0,1,0)","v":{"$error":"#REF!"}},"七",null,1,1,1]
[702,752789,"afternoon",{"$f":"IF(VLOOKUP(C690,#REF!,2,0)>0,1,0)","v":{"$error":"#REF!"}},"午后, 下午",null,1,1,1]
[703,957583,"land",{"$f":"IF(VLOOKUP(C691,#REF!,2,0)>0,1,0)","v":{"$error":"#REF!"}},"陆地, 靠岸, 着陆",null,0,1,1]
[704,889826,"fish",{"$f":"IF(VLOOKUP(C692,#REF!,2,0)>0,1,0)","v":{"$error":"#REF!"}},"鱼, 鱼肉, 捕鱼, 钓鱼",null,1,1,1]
[705,1135208,"top",{"$f":"IF(VLOOKUP(C693,#REF!,2,0)>0,1,0)","v":{"$error":"#REF!"}},"顶, 顶端, 最高的",null,0,1,1]
[706,1174711,"good-bye",{"$f":"IF(VLOOKUP(C694,#REF!,2,0)>0,1,0)","v":{"$error":"#REF!"}},"告辞",null,1,1,1]
[707,969475,"lose",{"$f":"IF(VLOOKUP(C695,#REF!,2,0)>0,1,0)","v":{"$error":"#REF!"}},"失去, 输掉, 损失",null,1,1,1]
[708,866665,"effect",{"$f":"IF(VLOOKUP(C696,#REF!,2,0)>0,1,0)","v":{"$error":"#REF!"}},"结果，效果，影响",null,0,1,1]
[709,866665,"effect",{"$f":"IF(VLOOKUP(C697,#REF!,2,0)>0,1,0)","v":{"$error":"#REF!"}},"引起",null,0,1,1]
[710,807398,"certain",{"$f":"IF(VLOOKUP(C698,#REF!,2,0)>0,1,0)","v":{"$error":"#REF!"}},"确定的, 必然的",null,0,1,1]
[711,807398,"certain",{"$f":"IF(VLOOKUP(C699,#REF!,2,0)>0,1,0)","v":{"$error":"#REF!"}},"某一, 某种",null,0,1,1]
[712,924651,"history",{"$f":"IF(VLOOKUP(C700,#REF!,2,0)>0,1,0)","v":{"$error":"#REF!"}},"历史",null,1,1,1]
[713,957942,"language",{"$f":"IF(VLOOKUP(C701,#REF!,2,0)>0,1,0)","v":{"$error":"#REF!"}},"语言",null,1,1,1]
[714,848239,"design",{"$f":"IF(VLOOKUP(C702,#REF!,2,0)>0,1,0)","v":{"$error":"#REF!"}},"设计, 计划",null,0,1,1]
[715,866479,"education",{"$f":"IF(VLOOKUP(C703,#REF!,2,0)>0,1,0)","v":{"$error":"#REF!"}},"教育",null,0,1,1]
[716,912915,"green",{"$f":"IF(VLOOKUP(C704,#REF!,2,0)>0,1,0)","v":{"$error":"#REF!"}},"绿色的, 绿色",null,1,1,1]
[717,959370,"laugh",{"$f":"IF(VLOOKUP(C705,#REF!,2,0)>0,1,0)","v":{"$error":"#REF!"}},"笑, 笑声",null,1,1,1]
[718,959370,"laugh",{"$f":"IF(VLOOKUP(C706,#REF!,2,0)>0,1,0)","v":{"$error":"#REF!"}},"嘲笑",null,0,0,0]
[719,888480,"fine",{"$f":"IF(VLOOKUP(C707,#REF!,2,0)>0,1,0)","v":{"$error":"#REF!"}},"好的, 上等的",null,1,1,1]
[720,888480,"fine",{"$f":"IF(VLOOKUP(C708,#REF!,2,0)>0,1,0)","v":{"$error":"#REF!"}},"罚款",null,0,1,1]
[721,1027697,"piece",{"$f":"IF(VLOOKUP(C709,#REF!,2,0)>0,1,0)","v":{"$error":"#REF!"}},"块, 片, 段",null,1,1,1]
[722,962121,"letter",{"$f":"IF(VLOOKUP(C710,#REF!,2,0)>0,1,0)","v":{"$error":"#REF!"}},"字母",null,1,1,1]
[723,962121,"letter",{"$f":"IF(VLOOKUP(C711,#REF!,2,0)>0,1,0)","v":{"$error":"#REF!"}},"信函",null,1,1,1]
[724,921471,"hello",{"$f":"IF(VLOOKUP(C712,#REF!,2,0)>0,1,0)","v":{"$error":"#REF!"}},"(打招呼)喂, 你好",null,1,1,1]
[725,806994,"century",{"$f":"IF(VLOOKUP(C713,#REF!,2,0)>0,1,0)","v":{"$error":"#REF!"}},"世纪, 百年",null,0,1,1]
[726,781770,"bed",{"$f":"IF(VLOOKUP(C714,#REF!,2,0)>0,1,0)","v":{"$error":"#REF!"}},"床",null,1,1,1]
[727,822264,"common",{"$f":"IF(VLOOKUP(C715,#REF!,2,0)>0,1,0)","v":{"$error":"#REF!"}},"普通的, 常见的",null,0,1,1]
[728,822264,"common",{"$f":"IF(VLOOKUP(C716,#REF!,2,0)>0,1,0)","v":{"$error":"#REF!"}},"共同的, 公共的",null,0,0,0]
[729,1025143,"phone",{"$f":"IF(VLOOKUP(C717,#REF!,2,0)>0,1,0)","v":{"$error":"#REF!"}},"电话, 打电话",null,1,1,1]
[730,1169497,"yourself",{"$f":"IF(VLOOKUP(C718,#REF!,2,0)>0,1,0)","v":{"$error":"#REF!"}},"你自己",null,0,1,1]
[731,969852,"low",{"$f":"IF(VLOOKUP(C719,#REF!,2,0)>0,1,0)","v":{"$error":"#REF!"}},"低的, 矮的",null,1,1,1]
[732,1087748,"shop",{"$f":"IF(VLOOKUP(C720,#REF!,2,0)>0,1,0)","v":{"$error":"#REF!"}},"商店, 购物",null,1,1,1]
[733,1116610,"support",{"$f":"IF(VLOOKUP(C721,#REF!,2,0)>0,1,0)","v":{"$error":"#REF!"}},"支持, 维持",null,0,1,1]
[734,1164236,"white",{"$f":"IF(VLOOKUP(C722,#REF!,2,0)>0,1,0)","v":{"$error":"#REF!"}},"白",null,1,1,1]
[735,980435,"meeting",{"$f":"IF(VLOOKUP(C723,#REF!,2,0)>0,1,0)","v":{"$error":"#REF!"}},"会议, 集会",null,0,0,0]
[736,745232,"above",{"$f":"IF(VLOOKUP(C724,#REF!,2,0)>0,1,0)","v":{"$error":"#REF!"}},"上面，之上，超过",null,1,1,1]
[738,1054739,"rain",{"$f":"IF(VLOOKUP(C725,#REF!,2,0)>0,1,0)","v":{"$error":"#REF!"}},"雨, 下雨",null,1,1,1]
[739,839715,"cut",{"$f":"IF(VLOOKUP(C726,#REF!,2,0)>0,1,0)","v":{"$error":"#REF!"}},"切(割、削、砍)",null,1,1,1]
[740,839715,"cut",{"$f":"IF(VLOOKUP(C727,#REF!,2,0)>0,1,0)","v":{"$error":"#REF!"}},"切口",null,0,0,0]
[741,839715,"cut",{"$f":"IF(VLOOKUP(C728,#REF!,2,0)>0,1,0)","v":{"$error":"#REF!"}},"削减",null,0,0,0]
[742,719044,"Chinese",{"$f":"IF(VLOOKUP(C729,#REF!,2,0)>0,1,0)","v":{"$error":"#REF!"}},"中国的",null,1,1,1]
[743,719044,"Chinese",{"$f":"IF(VLOOKUP(C730,#REF!,2,0)>0,1,0)","v":{"$error":"#REF!"}},"中国人",null,1,1,1]
[744,719044,"Chinese",{"$f":"IF(VLOOKUP(C731,#REF!,2,0)>0,1,0)","v":{"$error":"#REF!"}},"中国话",null,1,1,1]
[745,1079554,"sea",{"$f":"IF(VLOOKUP(C732,#REF!,2,0)>0,1,0)","v":{"$error":"#REF!"}},"海",null,1,1,1]
[746,1097971,"sound",{"$f":"IF(VLOOKUP(C733,#REF!,2,0)>0,1,0)","v":{"$error":"#REF!"}},"声音, 发声音",null,1,1,1]
[747,1097971,"sound",{"$f":"IF(VLOOKUP(C734,#REF!,2,0)>0,1,0)","v":{"$error":"#REF!"}},"听起来, 好像",null,1,1,1]
[748,853131,"dinner",{"$f":"IF(VLOOKUP(C735,#REF!,2,0)>0,1,0)","v":{"$error":"#REF!"}},"晚餐, 宴会",null,1,1,1]
[749,1065172,"rest",{"$f":"IF(VLOOKUP(C736,#REF!,2,0)>0,1,0)","v":{"$error":"#REF!"}},"休息, 停止",null,1,1,1]
[750,1065172,"rest",{"$f":"IF(VLOOKUP(C737,#REF!,2,0)>0,1,0)","v":{"$error":"#REF!"}},"其余",null,0,1,1]
[751,796649,"bus",{"$f":"IF(VLOOKUP(C738,#REF!,2,0)>0,1,0)","v":{"$error":"#REF!"}},"公共汽车, 巴士, 汽车",null,1,1,1]
[752,1089428,"sign",{"$f":"IF(VLOOKUP(C739,#REF!,2,0)>0,1,0)","v":{"$error":"#REF!"}},"手势, 符号, 签名",null,1,1,1]
[753,1089428,"sign",{"$f":"IF(VLOOKUP(C740,#REF!,2,0)>0,1,0)","v":{"$error":"#REF!"}},"迹象, 指示牌",null,1,1,1]
[754,961996,"lesson",{"$f":"IF(VLOOKUP(C741,#REF!,2,0)>0,1,0)","v":{"$error":"#REF!"}},"教训",null,0,0,0]
[755,961996,"lesson",{"$f":"IF(VLOOKUP(C742,#REF!,2,0)>0,1,0)","v":{"$error":"#REF!"}},"课",null,1,1,1]
[756,1092609,"sky",{"$f":"IF(VLOOKUP(C743,#REF!,2,0)>0,1,0)","v":{"$error":"#REF!"}},"天, 天空",null,1,1,1]
[757,1017955,"park",{"$f":"IF(VLOOKUP(C744,#REF!,2,0)>0,1,0)","v":{"$error":"#REF!"}},"公园",null,1,1,1]
[758,1017955,"park",{"$f":"IF(VLOOKUP(C745,#REF!,2,0)>0,1,0)","v":{"$error":"#REF!"}},"停放, 停车场",null,1,1,1]
[759,775281,"bag",{"$f":"IF(VLOOKUP(C746,#REF!,2,0)>0,1,0)","v":{"$error":"#REF!"}},"袋子, 包",null,1,1,1]
[760,1043582,"produce",{"$f":"IF(VLOOKUP(C747,#REF!,2,0)>0,1,0)","v":{"$error":"#REF!"}},"生产, 制造, 产品",null,0,1,1]
[761,987774,"modern",{"$f":"IF(VLOOKUP(C748,#REF!,2,0)>0,1,0)","v":{"$error":"#REF!"}},"现代的, 新式的",null,1,1,1]
[762,1084631,"service",{"$f":"IF(VLOOKUP(C749,#REF!,2,0)>0,1,0)","v":{"$error":"#REF!"}},"接待, 服务",null,0,1,1]
[763,995905,"nearly",{"$f":"IF(VLOOKUP(C750,#REF!,2,0)>0,1,0)","v":{"$error":"#REF!"}},"几乎, 将近",null,0,1,1]
[764,1121897,"tall",{"$f":"IF(VLOOKUP(C751,#REF!,2,0)>0,1,0)","v":{"$error":"#REF!"}},"高的",null,1,1,1]
[765,1018662,"party",{"$f":"IF(VLOOKUP(C752,#REF!,2,0)>0,1,0)","v":{"$error":"#REF!"}},"聚会",null,1,1,1]
[766,1018662,"party",{"$f":"IF(VLOOKUP(C753,#REF!,2,0)>0,1,0)","v":{"$error":"#REF!"}},"党派",null,0,1,1]
[767,1040376,"present",{"$f":"IF(VLOOKUP(C754,#REF!,2,0)>0,1,0)","v":{"$error":"#REF!"}},"在场的",null,0,1,1]
[768,1040376,"present",{"$f":"IF(VLOOKUP(C755,#REF!,2,0)>0,1,0)","v":{"$error":"#REF!"}},"礼物, 赠送",null,1,1,1]
[769,1040376,"present",{"$f":"IF(VLOOKUP(C756,#REF!,2,0)>0,1,0)","v":{"$error":"#REF!"}},"提出, 演示",null,0,1,1]
[770,1040376,"present",{"$f":"IF(VLOOKUP(C757,#REF!,2,0)>0,1,0)","v":{"$error":"#REF!"}},"当前的, 现在的",null,1,1,1]
[771,748645,"act",{"$f":"IF(VLOOKUP(C758,#REF!,2,0)>0,1,0)","v":{"$error":"#REF!"}},"行动",null,0,1,1]
[772,748645,"act",{"$f":"IF(VLOOKUP(C759,#REF!,2,0)>0,1,0)","v":{"$error":"#REF!"}},"起作用",null,0,0,0]
[773,748645,"act",{"$f":"IF(VLOOKUP(C760,#REF!,2,0)>0,1,0)","v":{"$error":"#REF!"}},"表演",null,1,1,1]
[774,1062570,"remain",{"$f":"IF(VLOOKUP(C761,#REF!,2,0)>0,1,0)","v":{"$error":"#REF!"}},"保持不变",null,0,1,1]
[775,1062570,"remain",{"$f":"IF(VLOOKUP(C762,#REF!,2,0)>0,1,0)","v":{"$error":"#REF!"}},"剩余",null,0,1,1]
[776,954061,"kill",{"$f":"IF(VLOOKUP(C763,#REF!,2,0)>0,1,0)","v":{"$error":"#REF!"}},"杀死",null,0,1,1]
[777,964670,"line",{"$f":"IF(VLOOKUP(C764,#REF!,2,0)>0,1,0)","v":{"$error":"#REF!"}},"线, 画线",null,1,1,1]
[778,964670,"line",{"$f":"IF(VLOOKUP(C765,#REF!,2,0)>0,1,0)","v":{"$error":"#REF!"}},"排列, 排队",null,1,1,1]
[779,867219,"either",{"$f":"IF(VLOOKUP(C766,#REF!,2,0)>0,1,0)","v":{"$error":"#REF!"}},"或者, 要么",null,0,1,1]
[780,867219,"either",{"$f":"IF(VLOOKUP(C767,#REF!,2,0)>0,1,0)","v":{"$error":"#REF!"}},"也",null,1,1,1]
[781,964153,"likely",{"$f":"IF(VLOOKUP(C768,#REF!,2,0)>0,1,0)","v":{"$error":"#REF!"}},"有可能的",null,0,0,1]
[782,1041394,"price",{"$f":"IF(VLOOKUP(C769,#REF!,2,0)>0,1,0)","v":{"$error":"#REF!"}},"价格, 代价, 估价",null,1,1,1]
[783,1166871,"wonderful",{"$f":"IF(VLOOKUP(C770,#REF!,2,0)>0,1,0)","v":{"$error":"#REF!"}},"令人惊奇的, 精彩的",null,1,1,1]
[784,928970,"hundred",{"$f":"IF(VLOOKUP(C771,#REF!,2,0)>0,1,0)","v":{"$error":"#REF!"}},"百",null,1,1,1]
[785,1033952,"police",{"$f":"IF(VLOOKUP(C772,#REF!,2,0)>0,1,0)","v":{"$error":"#REF!"}},"警察",null,1,1,1]
[786,757003,"alone",{"$f":"IF(VLOOKUP(C773,#REF!,2,0)>0,1,0)","v":{"$error":"#REF!"}},"单独的（地）",null,0,1,1]
[787,882595,"fail",{"$f":"IF(VLOOKUP(C774,#REF!,2,0)>0,1,0)","v":{"$error":"#REF!"}},"失败, 不及格",null,0,1,1]
[788,827251,"consider",{"$f":"IF(VLOOKUP(C775,#REF!,2,0)>0,1,0)","v":{"$error":"#REF!"}},"考虑",null,0,1,1]
[789,827251,"consider",{"$f":"IF(VLOOKUP(C776,#REF!,2,0)>0,1,0)","v":{"$error":"#REF!"}},"认为",null,0,1,1]
[790,867183,"eight",{"$f":"IF(VLOOKUP(C777,#REF!,2,0)>0,1,0)","v":{"$error":"#REF!"}},"八",null,1,1,1]
[791,991113,"mountain",{"$f":"IF(VLOOKUP(C778,#REF!,2,0)>0,1,0)","v":{"$error":"#REF!"}},"山, 山脉",null,1,1,1]
[792,789278,"body",{"$f":"IF(VLOOKUP(C779,#REF!,2,0)>0,1,0)","v":{"$error":"#REF!"}},"身体,身躯",null,1,1,1]
[794,829355,"control",{"$f":"IF(VLOOKUP(C780,#REF!,2,0)>0,1,0)","v":{"$error":"#REF!"}},"控制, 支配, 操纵",null,0,1,1]
[795,887648,"film",{"$f":"IF(VLOOKUP(C781,#REF!,2,0)>0,1,0)","v":{"$error":"#REF!"}},"电影",null,1,1,1]
[796,887648,"film",{"$f":"IF(VLOOKUP(C782,#REF!,2,0)>0,1,0)","v":{"$error":"#REF!"}},"薄膜, 胶片",null,0,0,0]
[797,1083533,"sentence",{"$f":"IF(VLOOKUP(C783,#REF!,2,0)>0,1,0)","v":{"$error":"#REF!"}},"宣判, 判决",null,0,1,1]
[798,1083533,"sentence",{"$f":"IF(VLOOKUP(C784,#REF!,2,0)>0,1,0)","v":{"$error":"#REF!"}},"句子",null,1,1,1]
[799,1022293,"perhaps",{"$f":"IF(VLOOKUP(C785,#REF!,2,0)>0,1,0)","v":{"$error":"#REF!"}},"或许, 也许",null,0,1,1]
[800,1038172,"power",{"$f":"IF(VLOOKUP(C786,#REF!,2,0)>0,1,0)","v":{"$error":"#REF!"}},"权力, 力量",null,0,1,1]
[801,1038172,"power",{"$f":"IF(VLOOKUP(C787,#REF!,2,0)>0,1,0)","v":{"$error":"#REF!"}},"电力, 功率",null,0,1,1]
[802,970945,"lunch",{"$f":"IF(VLOOKUP(C788,#REF!,2,0)>0,1,0)","v":{"$error":"#REF!"}},"午餐",null,1,1,1]
[803,929135,"husband",{"$f":"IF(VLOOKUP(C789,#REF!,2,0)>0,1,0)","v":{"$error":"#REF!"}},"丈夫",null,0,1,1]
[804,810806,"China",{"$f":"IF(VLOOKUP(C790,#REF!,2,0)>0,1,0)","v":{"$error":"#REF!"}},"中国",null,1,1,1]
[805,1094570,"smile",{"$f":"IF(VLOOKUP(C791,#REF!,2,0)>0,1,0)","v":{"$error":"#REF!"}},"微笑",null,1,1,1]
[806,1120380,"table",{"$f":"IF(VLOOKUP(C792,#REF!,2,0)>0,1,0)","v":{"$error":"#REF!"}},"桌子",null,1,1,1]
[807,774156,"baby",{"$f":"IF(VLOOKUP(C793,#REF!,2,0)>0,1,0)","v":{"$error":"#REF!"}},"婴孩, 宝贝",null,1,1,1]
[808,1107762,"step",{"$f":"IF(VLOOKUP(C794,#REF!,2,0)>0,1,0)","v":{"$error":"#REF!"}},"走, 跨步, 脚步, 步骤, 台阶",null,1,1,1]
[809,819835,"college",{"$f":"IF(VLOOKUP(C795,#REF!,2,0)>0,1,0)","v":{"$error":"#REF!"}},"学院, 大学",null,0,1,1]
[810,763128,"anyone",{"$f":"IF(VLOOKUP(C796,#REF!,2,0)>0,1,0)","v":{"$error":"#REF!"}},"任何人",null,0,1,1]
[811,998736,"nine",{"$f":"IF(VLOOKUP(C797,#REF!,2,0)>0,1,0)","v":{"$error":"#REF!"}},"九",null,1,1,1]
[812,841595,"dad",{"$f":"IF(VLOOKUP(C798,#REF!,2,0)>0,1,0)","v":{"$error":"#REF!"}},"爸爸",null,1,1,1]
[814,878228,"except",{"$f":"IF(VLOOKUP(C799,#REF!,2,0)>0,1,0)","v":{"$error":"#REF!"}},"除了…之外",null,0,1,1]
[815,878228,"except",{"$f":"IF(VLOOKUP(C800,#REF!,2,0)>0,1,0)","v":{"$error":"#REF!"}},"除非",null,0,1,1]
[816,1056920,"ready",{"$f":"IF(VLOOKUP(C801,#REF!,2,0)>0,1,0)","v":{"$error":"#REF!"}},"愿意的, 准备好的",null,1,1,1]
[817,1063609,"reply",{"$f":"IF(VLOOKUP(C802,#REF!,2,0)>0,1,0)","v":{"$error":"#REF!"}},"回答, 回应, 答辩",null,0,1,1]
[818,1167468,"worker",{"$f":"IF(VLOOKUP(C803,#REF!,2,0)>0,1,0)","v":{"$error":"#REF!"}},"工人, 劳动者, 雇工",null,1,1,1]
[819,879896,"expensive",{"$f":"IF(VLOOKUP(C804,#REF!,2,0)>0,1,0)","v":{"$error":"#REF!"}},"昂贵的, 花费多的",null,1,1,1]
[820,864798,"earth",{"$f":"IF(VLOOKUP(C805,#REF!,2,0)>0,1,0)","v":{"$error":"#REF!"}},"地球",null,1,1,1]
[821,864798,"earth",{"$f":"IF(VLOOKUP(C806,#REF!,2,0)>0,1,0)","v":{"$error":"#REF!"}},"泥土",null,0,0,0]
[822,1150079,"unless",{"$f":"IF(VLOOKUP(C807,#REF!,2,0)>0,1,0)","v":{"$error":"#REF!"}},"除非, 如果不",null,0,1,1]
[823,887491,"fill",{"$f":"IF(VLOOKUP(C808,#REF!,2,0)>0,1,0)","v":{"$error":"#REF!"}},"填充",null,1,1,1]
[824,1005291,"offer",{"$f":"IF(VLOOKUP(C809,#REF!,2,0)>0,1,0)","v":{"$error":"#REF!"}},"提出, 提供",null,0,1,1]
[825,1005291,"offer",{"$f":"IF(VLOOKUP(C810,#REF!,2,0)>0,1,0)","v":{"$error":"#REF!"}},"出价, 开价, 提议",null,0,1,1]
[826,1054846,"raise",{"$f":"IF(VLOOKUP(C811,#REF!,2,0)>0,1,0)","v":{"$error":"#REF!"}},"提升, 增加",null,0,1,1]
[827,1054846,"raise",{"$f":"IF(VLOOKUP(C812,#REF!,2,0)>0,1,0)","v":{"$error":"#REF!"}},"养育",null,0,1,1]
[828,1054846,"raise",{"$f":"IF(VLOOKUP(C813,#REF!,2,0)>0,1,0)","v":{"$error":"#REF!"}},"筹集",null,0,1,1]
[829,1109806,"store",{"$f":"IF(VLOOKUP(C814,#REF!,2,0)>0,1,0)","v":{"$error":"#REF!"}},"商店, 店铺",null,1,1,1]
[830,1109806,"store",{"$f":"IF(VLOOKUP(C815,#REF!,2,0)>0,1,0)","v":{"$error":"#REF!"}},"贮藏, 贮备",null,0,1,1]
[831,830450,"cook",{"$f":"IF(VLOOKUP(C816,#REF!,2,0)>0,1,0)","v":{"$error":"#REF!"}},"厨师",null,1,1,1]
[832,830450,"cook",{"$f":"IF(VLOOKUP(C817,#REF!,2,0)>0,1,0)","v":{"$error":"#REF!"}},"烹调, 煮",null,1,1,1]
[833,900915,"fun",{"$f":"IF(VLOOKUP(C818,#REF!,2,0)>0,1,0)","v":{"$error":"#REF!"}},"乐趣, 有趣",null,1,1,1]
[834,1165404,"window",{"$f":"IF(VLOOKUP(C819,#REF!,2,0)>0,1,0)","v":{"$error":"#REF!"}},"窗, 窗口, 窗户",null,1,1,1]
[835,878982,"exercise",{"$f":"IF(VLOOKUP(C820,#REF!,2,0)>0,1,0)","v":{"$error":"#REF!"}},"练习, 习题",null,1,1,1]
[836,878982,"exercise",{"$f":"IF(VLOOKUP(C821,#REF!,2,0)>0,1,0)","v":{"$error":"#REF!"}},"运动, 锻炼",null,1,1,1]
[837,1131431,"throw",{"$f":"IF(VLOOKUP(C822,#REF!,2,0)>0,1,0)","v":{"$error":"#REF!"}},"扔, 抛",null,1,1,1]
[838,1068920,"rise",{"$f":"IF(VLOOKUP(C823,#REF!,2,0)>0,1,0)","v":{"$error":"#REF!"}},"起来, 上升",null,0,1,1]
[839,784742,"bike",{"$f":"IF(VLOOKUP(C824,#REF!,2,0)>0,1,0)","v":{"$error":"#REF!"}},"脚踏车, 自行车",null,1,1,1]
[840,994270,"myself",{"$f":"IF(VLOOKUP(C825,#REF!,2,0)>0,1,0)","v":{"$error":"#REF!"}},"我自己, 亲自",null,1,1,1]
[841,1047990,"pull",{"$f":"IF(VLOOKUP(C826,#REF!,2,0)>0,1,0)","v":{"$error":"#REF!"}},"拉, 拖, 拔, 拉力, 牵引力",null,1,1,1]
[842,1040130,"prepare",{"$f":"IF(VLOOKUP(C827,#REF!,2,0)>0,1,0)","v":{"$error":"#REF!"}},"准备",null,0,1,1]
[843,894104,"fly",{"$f":"IF(VLOOKUP(C828,#REF!,2,0)>0,1,0)","v":{"$error":"#REF!"}},"飞, 飞行",null,1,1,1]
[844,894104,"fly",{"$f":"IF(VLOOKUP(C829,#REF!,2,0)>0,1,0)","v":{"$error":"#REF!"}},"驾驶",null,0,0,0]
[845,862016,"drop",{"$f":"IF(VLOOKUP(C830,#REF!,2,0)>0,1,0)","v":{"$error":"#REF!"}},"落下, 投下",null,1,1,1]
[846,862016,"drop",{"$f":"IF(VLOOKUP(C831,#REF!,2,0)>0,1,0)","v":{"$error":"#REF!"}},"滴",null,0,1,1]
[847,1045929,"protect",{"$f":"IF(VLOOKUP(C832,#REF!,2,0)>0,1,0)","v":{"$error":"#REF!"}},"保护",null,1,1,1]
[848,1067818,"rich",{"$f":"IF(VLOOKUP(C833,#REF!,2,0)>0,1,0)","v":{"$error":"#REF!"}},"有钱的, 富裕的, 肥沃的",null,1,1,1]
[849,942222,"inside",{"$f":"IF(VLOOKUP(C834,#REF!,2,0)>0,1,0)","v":{"$error":"#REF!"}},"里面, 内部",null,1,1,1]
[850,816528,"clothes",{"$f":"IF(VLOOKUP(C835,#REF!,2,0)>0,1,0)","v":{"$error":"#REF!"}},"衣服, 衣物, 服装",null,1,1,1]
[851,1114164,"success",{"$f":"IF(VLOOKUP(C836,#REF!,2,0)>0,1,0)","v":{"$error":"#REF!"}},"成功, 好结果",null,0,1,1]
[852,842792,"daughter",{"$f":"IF(VLOOKUP(C837,#REF!,2,0)>0,1,0)","v":{"$error":"#REF!"}},"女儿",null,1,1,1]
[853,887117,"fight",{"$f":"IF(VLOOKUP(C838,#REF!,2,0)>0,1,0)","v":{"$error":"#REF!"}},"斗争, 战斗",null,1,1,1]
[854,788733,"blue",{"$f":"IF(VLOOKUP(C839,#REF!,2,0)>0,1,0)","v":{"$error":"#REF!"}},"忧郁的",null,0,0,1]
[855,788733,"blue",{"$f":"IF(VLOOKUP(C840,#REF!,2,0)>0,1,0)","v":{"$error":"#REF!"}},"蓝色的",null,1,1,1]
[856,1160360,"warm",{"$f":"IF(VLOOKUP(C841,#REF!,2,0)>0,1,0)","v":{"$error":"#REF!"}},"暖",null,1,1,1]
[857,920127,"heart",{"$f":"IF(VLOOKUP(C842,#REF!,2,0)>0,1,0)","v":{"$error":"#REF!"}},"心, 心脏",null,1,1,1]
[858,1115314,"sun",{"$f":"IF(VLOOKUP(C843,#REF!,2,0)>0,1,0)","v":{"$error":"#REF!"}},"太阳, 阳光",null,1,1,1]
[859,975254,"manager",{"$f":"IF(VLOOKUP(C844,#REF!,2,0)>0,1,0)","v":{"$error":"#REF!"}},"经理, 管理人",null,1,1,1]
[860,993582,"music",{"$f":"IF(VLOOKUP(C845,#REF!,2,0)>0,1,0)","v":{"$error":"#REF!"}},"音乐, 乐曲",null,1,1,1]
[861,842115,"dangerous",{"$f":"IF(VLOOKUP(C846,#REF!,2,0)>0,1,0)","v":{"$error":"#REF!"}},"危险的",null,1,1,1]
[862,1088220,"shout",{"$f":"IF(VLOOKUP(C847,#REF!,2,0)>0,1,0)","v":{"$error":"#REF!"}},"呼喊, 呼叫",null,1,1,1]
[863,1030461,"plant",{"$f":"IF(VLOOKUP(C848,#REF!,2,0)>0,1,0)","v":{"$error":"#REF!"}},"工厂",null,0,0,1]
[864,1030461,"plant",{"$f":"IF(VLOOKUP(C849,#REF!,2,0)>0,1,0)","v":{"$error":"#REF!"}},"植物, 种植",null,1,1,1]
[865,1084589,"serve",{"$f":"IF(VLOOKUP(C850,#REF!,2,0)>0,1,0)","v":{"$error":"#REF!"}},"服务, 招待, 侍候",null,0,1,1]
[866,1113006,"subject",{"$f":"IF(VLOOKUP(C851,#REF!,2,0)>0,1,0)","v":{"$error":"#REF!"}},"话题, 主题, 科目",null,1,1,1]
[867,847249,"depend",{"$f":"IF(VLOOKUP(C852,#REF!,2,0)>0,1,0)","v":{"$error":"#REF!"}},"依赖, 决定于",null,0,1,1]
[868,1169233,"yesterday",{"$f":"IF(VLOOKUP(C853,#REF!,2,0)>0,1,0)","v":{"$error":"#REF!"}},"昨天",null,1,1,1]
[869,1162352,"weather",{"$f":"IF(VLOOKUP(C854,#REF!,2,0)>0,1,0)","v":{"$error":"#REF!"}},"天气, 气象",null,1,1,1]
[870,1092288,"skill",{"$f":"IF(VLOOKUP(C855,#REF!,2,0)>0,1,0)","v":{"$error":"#REF!"}},"技能, 技巧",null,0,1,1]
[871,809406,"check",{"$f":"IF(VLOOKUP(C856,#REF!,2,0)>0,1,0)","v":{"$error":"#REF!"}},"支票",null,0,1,1]
[872,809406,"check",{"$f":"IF(VLOOKUP(C857,#REF!,2,0)>0,1,0)","v":{"$error":"#REF!"}},"检查, 核对",null,1,1,1]
[873,1069094,"river",{"$f":"IF(VLOOKUP(C858,#REF!,2,0)>0,1,0)","v":{"$error":"#REF!"}},"河, 江",null,1,1,1]
[874,986923,"mistake",{"$f":"IF(VLOOKUP(C859,#REF!,2,0)>0,1,0)","v":{"$error":"#REF!"}},"错误, 过失, 弄错, 误解",null,1,1,1]
[875,976732,"mark",{"$f":"IF(VLOOKUP(C860,#REF!,2,0)>0,1,0)","v":{"$error":"#REF!"}},"记号, 作记号",null,0,1,1]
[876,976732,"mark",{"$f":"IF(VLOOKUP(C861,#REF!,2,0)>0,1,0)","v":{"$error":"#REF!"}},"打分, 成绩",null,0,1,1]
[877,1067895,"ride",{"$f":"IF(VLOOKUP(C862,#REF!,2,0)>0,1,0)","v":{"$error":"#REF!"}},"骑, 乘",null,1,1,1]
[878,1067895,"ride",{"$f":"IF(VLOOKUP(C863,#REF!,2,0)>0,1,0)","v":{"$error":"#REF!"}},"旅行, 旅程",null,0,1,1]
[879,1046525,"prove",{"$f":"IF(VLOOKUP(C864,#REF!,2,0)>0,1,0)","v":{"$error":"#REF!"}},"证明",null,0,1,1]
[880,1098569,"space",{"$f":"IF(VLOOKUP(C865,#REF!,2,0)>0,1,0)","v":{"$error":"#REF!"}},"空, 空白, 空地, 空间, 太空",null,1,1,1]
[881,858138,"dog",{"$f":"IF(VLOOKUP(C866,#REF!,2,0)>0,1,0)","v":{"$error":"#REF!"}},"狗, 犬",null,1,1,1]
[882,1140113,"treat",{"$f":"IF(VLOOKUP(C867,#REF!,2,0)>0,1,0)","v":{"$error":"#REF!"}},"招待, 对待, 处理, 治疗",null,0,1,1]
[883,819631,"collect",{"$f":"IF(VLOOKUP(C868,#REF!,2,0)>0,1,0)","v":{"$error":"#REF!"}},"收集, 聚集",null,1,1,1]
[884,786777,"black",{"$f":"IF(VLOOKUP(C869,#REF!,2,0)>0,1,0)","v":{"$error":"#REF!"}},"黑色(的)",null,1,1,1]
[885,794644,"brother",{"$f":"IF(VLOOKUP(C870,#REF!,2,0)>0,1,0)","v":{"$error":"#REF!"}},"兄, 弟",null,1,1,1]
[886,1078098,"science",{"$f":"IF(VLOOKUP(C871,#REF!,2,0)>0,1,0)","v":{"$error":"#REF!"}},"科学",null,1,1,1]
[887,928094,"hotel",{"$f":"IF(VLOOKUP(C872,#REF!,2,0)>0,1,0)","v":{"$error":"#REF!"}},"旅馆, 客栈",null,1,1,1]
[888,927811,"hot",{"$f":"IF(VLOOKUP(C873,#REF!,2,0)>0,1,0)","v":{"$error":"#REF!"}},"热的",null,1,1,1]
[889,991281,"mouth",{"$f":"IF(VLOOKUP(C874,#REF!,2,0)>0,1,0)","v":{"$error":"#REF!"}},"口, 嘴",null,1,1,1]
[890,1174508,"less",{"$f":"IF(VLOOKUP(C875,#REF!,2,0)>0,1,0)","v":{"$error":"#REF!"}},"更少, 更小",null,0,0,0]
[891,1145114,"type",{"$f":"IF(VLOOKUP(C876,#REF!,2,0)>0,1,0)","v":{"$error":"#REF!"}},"类型, 种类",null,0,1,1]
[892,1145114,"type",{"$f":"IF(VLOOKUP(C877,#REF!,2,0)>0,1,0)","v":{"$error":"#REF!"}},"打字",null,1,1,1]
[893,886717,"field",{"$f":"IF(VLOOKUP(C878,#REF!,2,0)>0,1,0)","v":{"$error":"#REF!"}},"领域",null,1,1,1]
[894,886717,"field",{"$f":"IF(VLOOKUP(C879,#REF!,2,0)>0,1,0)","v":{"$error":"#REF!"}},"田地, 场地",null,1,1,1]
[895,1157478,"village",{"$f":"IF(VLOOKUP(C880,#REF!,2,0)>0,1,0)","v":{"$error":"#REF!"}},"乡村, 村庄",null,1,1,1]
[896,1094046,"slow",{"$f":"IF(VLOOKUP(C881,#REF!,2,0)>0,1,0)","v":{"$error":"#REF!"}},"慢, 迟钝",null,1,1,1]
[897,955415,"knowledge",{"$f":"IF(VLOOKUP(C882,#REF!,2,0)>0,1,0)","v":{"$error":"#REF!"}},"知识, 学问",null,0,1,1]
[898,1098424,"south",{"$f":"IF(VLOOKUP(C883,#REF!,2,0)>0,1,0)","v":{"$error":"#REF!"}},"南",null,1,1,1]
[899,1038618,"practice",{"$f":"IF(VLOOKUP(C884,#REF!,2,0)>0,1,0)","v":{"$error":"#REF!"}},"实践, 练习",null,0,1,1]
[900,1114167,"successful",{"$f":"IF(VLOOKUP(C885,#REF!,2,0)>0,1,0)","v":{"$error":"#REF!"}},"成功的",null,0,1,1]
[901,980976,"member",{"$f":"IF(VLOOKUP(C886,#REF!,2,0)>0,1,0)","v":{"$error":"#REF!"}},"成员, 会员",null,0,1,1]
[902,851458,"difference",{"$f":"IF(VLOOKUP(C887,#REF!,2,0)>0,1,0)","v":{"$error":"#REF!"}},"不同, 差异",null,0,1,1]
[903,775934,"ball",{"$f":"IF(VLOOKUP(C888,#REF!,2,0)>0,1,0)","v":{"$error":"#REF!"}},"舞会",null,0,0,1]
[904,775934,"ball",{"$f":"IF(VLOOKUP(C889,#REF!,2,0)>0,1,0)","v":{"$error":"#REF!"}},"球",null,1,1,1]
[905,766463,"art",{"$f":"IF(VLOOKUP(C890,#REF!,2,0)>0,1,0)","v":{"$error":"#REF!"}},"艺术",null,1,1,1]
[906,766463,"art",{"$f":"IF(VLOOKUP(C891,#REF!,2,0)>0,1,0)","v":{"$error":"#REF!"}},"美术",null,1,1,1]
[907,815087,"clear",{"$f":"IF(VLOOKUP(C892,#REF!,2,0)>0,1,0)","v":{"$error":"#REF!"}},"清理，清除",null,0,1,1]
[908,815087,"clear",{"$f":"IF(VLOOKUP(C893,#REF!,2,0)>0,1,0)","v":{"$error":"#REF!"}},"清楚，清澈，明亮",null,1,1,1]
[911,883343,"famous",{"$f":"IF(VLOOKUP(C894,#REF!,2,0)>0,1,0)","v":{"$error":"#REF!"}},"著名的, 出名的",null,1,1,1]
[912,732097,"Mrs.",{"$f":"IF(VLOOKUP(C895,#REF!,2,0)>0,1,0)","v":{"$error":"#REF!"}},"夫人, 太太",null,1,1,1]
[913,908181,"glass",{"$f":"IF(VLOOKUP(C896,#REF!,2,0)>0,1,0)","v":{"$error":"#REF!"}},"玻璃, 玻璃杯, 玻璃镜",null,1,1,1]
[914,1136378,"touch",{"$f":"IF(VLOOKUP(C897,#REF!,2,0)>0,1,0)","v":{"$error":"#REF!"}},"触摸, 碰, 触动, 接触, 联系",null,1,1,1]
[915,1071939,"round",{"$f":"IF(VLOOKUP(C898,#REF!,2,0)>0,1,0)","v":{"$error":"#REF!"}},"圆",null,0,1,1]
[916,1071939,"round",{"$f":"IF(VLOOKUP(C899,#REF!,2,0)>0,1,0)","v":{"$error":"#REF!"}},"周围",null,0,1,1]
[917,1071939,"round",{"$f":"IF(VLOOKUP(C900,#REF!,2,0)>0,1,0)","v":{"$error":"#REF!"}},"大约",null,0,0,0]
[918,1106277,"station",{"$f":"IF(VLOOKUP(C901,#REF!,2,0)>0,1,0)","v":{"$error":"#REF!"}},"台站, 驻扎点, 驻扎",null,1,1,1]
[919,924677,"hit",{"$f":"IF(VLOOKUP(C902,#REF!,2,0)>0,1,0)","v":{"$error":"#REF!"}},"打击, 击中, 碰撞",null,1,1,1]
[920,1072905,"rule",{"$f":"IF(VLOOKUP(C903,#REF!,2,0)>0,1,0)","v":{"$error":"#REF!"}},"规则, 支配, 统治",null,1,1,1]
[921,1073915,"sad",{"$f":"IF(VLOOKUP(C904,#REF!,2,0)>0,1,0)","v":{"$error":"#REF!"}},"伤心的, 悲哀的",null,1,1,1]
[922,872626,"enjoy",{"$f":"IF(VLOOKUP(C905,#REF!,2,0)>0,1,0)","v":{"$error":"#REF!"}},"享受, 喜爱",null,1,1,1]
[923,1123899,"team",{"$f":"IF(VLOOKUP(C906,#REF!,2,0)>0,1,0)","v":{"$error":"#REF!"}},"队, 组",null,1,1,1]
[924,1039494,"prefer",{"$f":"IF(VLOOKUP(C907,#REF!,2,0)>0,1,0)","v":{"$error":"#REF!"}},"更喜欢, 宁愿",null,1,1,1]
[925,978980,"meal",{"$f":"IF(VLOOKUP(C908,#REF!,2,0)>0,1,0)","v":{"$error":"#REF!"}},"一餐, 一顿饭",null,1,1,1]
[926,918132,"hardly",{"$f":"IF(VLOOKUP(C909,#REF!,2,0)>0,1,0)","v":{"$error":"#REF!"}},"几乎不, 几乎没有",null,0,1,1]
[927,920711,"heavy",{"$f":"IF(VLOOKUP(C910,#REF!,2,0)>0,1,0)","v":{"$error":"#REF!"}},"重的",null,1,1,1]
[928,1123849,"teaching",{"$f":"IF(VLOOKUP(C911,#REF!,2,0)>0,1,0)","v":{"$error":"#REF!"}},"教学, 教导",null,0,0,0]
[929,1124758,"telephone",{"$f":"IF(VLOOKUP(C912,#REF!,2,0)>0,1,0)","v":{"$error":"#REF!"}},"电话, 打电话",null,1,1,1]
[930,946734,"introduce",{"$f":"IF(VLOOKUP(C913,#REF!,2,0)>0,1,0)","v":{"$error":"#REF!"}},"介绍, 引进, 提出",null,1,1,1]
[931,871311,"encourage",{"$f":"IF(VLOOKUP(C914,#REF!,2,0)>0,1,0)","v":{"$error":"#REF!"}},"鼓励, 促进",null,0,1,1]
[932,1068521,"ring",{"$f":"IF(VLOOKUP(C915,#REF!,2,0)>0,1,0)","v":{"$error":"#REF!"}},"戒指, 指环",null,0,1,1]
[933,1068521,"ring",{"$f":"IF(VLOOKUP(C916,#REF!,2,0)>0,1,0)","v":{"$error":"#REF!"}},"铃, 响铃",null,1,1,1]
[934,895627,"force",{"$f":"IF(VLOOKUP(C917,#REF!,2,0)>0,1,0)","v":{"$error":"#REF!"}},"武力, 力量",null,0,1,1]
[935,895627,"force",{"$f":"IF(VLOOKUP(C918,#REF!,2,0)>0,1,0)","v":{"$error":"#REF!"}},"强迫",null,0,1,1]
[936,1090556,"simple",{"$f":"IF(VLOOKUP(C919,#REF!,2,0)>0,1,0)","v":{"$error":"#REF!"}},"简单的, 单纯的",null,0,1,1]
[937,935231,"importance",{"$f":"IF(VLOOKUP(C920,#REF!,2,0)>0,1,0)","v":{"$error":"#REF!"}},"重要(性), 重大",null,0,1,1]
[938,739438,"Sunday",{"$f":"IF(VLOOKUP(C921,#REF!,2,0)>0,1,0)","v":{"$error":"#REF!"}},"星期日",null,1,1,1]
[939,929125,"hurt",{"$f":"IF(VLOOKUP(C922,#REF!,2,0)>0,1,0)","v":{"$error":"#REF!"}},"损害, 伤害, 伤痛",null,1,1,1]
[940,1000304,"none",{"$f":"IF(VLOOKUP(C923,#REF!,2,0)>0,1,0)","v":{"$error":"#REF!"}},"无任何东西, 无一人",null,0,1,1]
[941,892801,"floor",{"$f":"IF(VLOOKUP(C924,#REF!,2,0)>0,1,0)","v":{"$error":"#REF!"}},"地面, 地板",null,1,1,1]
[942,1100218,"speed",{"$f":"IF(VLOOKUP(C925,#REF!,2,0)>0,1,0)","v":{"$error":"#REF!"}},"速度, 加速",null,0,1,1]
[943,814752,"classroom",{"$f":"IF(VLOOKUP(C926,#REF!,2,0)>0,1,0)","v":{"$error":"#REF!"}},"教室",null,1,1,1]
[944,814752,"classroom",{"$f":"IF(VLOOKUP(C927,#REF!,2,0)>0,1,0)","v":{"$error":"#REF!"}},"课堂",null,0,0,0]
[945,1306455,"works",{"$f":"IF(VLOOKUP(C928,#REF!,2,0)>0,1,0)","v":{"$error":"#REF!"}},"工场, 工程, 作品",null,0,0,0]
[946,1020974,"pen",{"$f":"IF(VLOOKUP(C929,#REF!,2,0)>0,1,0)","v":{"$error":"#REF!"}},"笔",null,1,1,1]
[947,770157,"attend",{"$f":"IF(VLOOKUP(C930,#REF!,2,0)>0,1,0)","v":{"$error":"#REF!"}},"参加, 出席",null,0,1,1]
[948,770157,"attend",{"$f":"IF(VLOOKUP(C931,#REF!,2,0)>0,1,0)","v":{"$error":"#REF!"}},"照顾, 护理",null,0,0,1]
[949,770157,"attend",{"$f":"IF(VLOOKUP(C932,#REF!,2,0)>0,1,0)","v":{"$error":"#REF!"}},"关注",null,0,0,0]
[950,851861,"difficulty",{"$f":"IF(VLOOKUP(C933,#REF!,2,0)>0,1,0)","v":{"$error":"#REF!"}},"困难, 麻烦",null,0,1,1]
[951,880440,"express",{"$f":"IF(VLOOKUP(C934,#REF!,2,0)>0,1,0)","v":{"$error":"#REF!"}},"快车",null,0,0,1]
[952,880440,"express",{"$f":"IF(VLOOKUP(C935,#REF!,2,0)>0,1,0)","v":{"$error":"#REF!"}},"表达, 表示",null,0,1,1]
[953,988607,"mom",{"$f":"IF(VLOOKUP(C936,#REF!,2,0)>0,1,0)","v":{"$error":"#REF!"}},"妈妈",null,1,1,1]
[954,884460,"fear",{"$f":"IF(VLOOKUP(C937,#REF!,2,0)>0,1,0)","v":{"$error":"#REF!"}},"害怕, 担心",null,0,1,1]
[955,927750,"hospital",{"$f":"IF(VLOOKUP(C938,#REF!,2,0)>0,1,0)","v":{"$error":"#REF!"}},"医院",null,1,1,1]
[956,738004,"Saturday",{"$f":"IF(VLOOKUP(C939,#REF!,2,0)>0,1,0)","v":{"$error":"#REF!"}},"星期六",null,1,1,1]
[957,1306456,"lots",{"$f":"IF(VLOOKUP(C940,#REF!,2,0)>0,1,0)","v":{"$error":"#REF!"}},"许多",null,0,0,0]
[958,904897,"general",{"$f":"IF(VLOOKUP(C941,#REF!,2,0)>0,1,0)","v":{"$error":"#REF!"}},"将军",null,0,1,1]
[959,904897,"general",{"$f":"IF(VLOOKUP(C942,#REF!,2,0)>0,1,0)","v":{"$error":"#REF!"}},"普遍的, 综合的",null,0,1,1]
[960,837351,"cry",{"$f":"IF(VLOOKUP(C943,#REF!,2,0)>0,1,0)","v":{"$error":"#REF!"}},"哭",null,1,1,1]
[961,837351,"cry",{"$f":"IF(VLOOKUP(C944,#REF!,2,0)>0,1,0)","v":{"$error":"#REF!"}},"叫喊",null,0,1,1]
[962,913902,"ground",{"$f":"IF(VLOOKUP(C945,#REF!,2,0)>0,1,0)","v":{"$error":"#REF!"}},"地面, 土地",null,1,1,1]
[963,1157374,"view",{"$f":"IF(VLOOKUP(C946,#REF!,2,0)>0,1,0)","v":{"$error":"#REF!"}},"风景, 景色, 看, 看待, 观点",null,0,1,1]
[964,1041277,"prevent",{"$f":"IF(VLOOKUP(C947,#REF!,2,0)>0,1,0)","v":{"$error":"#REF!"}},"阻止, 阻挠",null,0,1,1]
[965,1064055,"research",{"$f":"IF(VLOOKUP(C948,#REF!,2,0)>0,1,0)","v":{"$error":"#REF!"}},"调查, 探索, 研究",null,0,1,1]
[966,844173,"decision",{"$f":"IF(VLOOKUP(C949,#REF!,2,0)>0,1,0)","v":{"$error":"#REF!"}},"决定",null,0,1,1]
[967,844173,"decision",{"$f":"IF(VLOOKUP(C950,#REF!,2,0)>0,1,0)","v":{"$error":"#REF!"}},"判决",null,0,0,0]
[968,815615,"climb",{"$f":"IF(VLOOKUP(C951,#REF!,2,0)>0,1,0)","v":{"$error":"#REF!"}},"攀登, 爬",null,1,1,1]
[969,1036488,"position",{"$f":"IF(VLOOKUP(C952,#REF!,2,0)>0,1,0)","v":{"$error":"#REF!"}},"位置",null,0,1,1]
[970,1087210,"ship",{"$f":"IF(VLOOKUP(C953,#REF!,2,0)>0,1,0)","v":{"$error":"#REF!"}},"船, 船运",null,1,1,1]
[971,895262,"football",{"$f":"IF(VLOOKUP(C954,#REF!,2,0)>0,1,0)","v":{"$error":"#REF!"}},"足球",null,1,1,1]
[972,1094125,"slowly",{"$f":"IF(VLOOKUP(C955,#REF!,2,0)>0,1,0)","v":{"$error":"#REF!"}},"缓慢, 迟缓",null,1,1,1]
[973,1117420,"surprise",{"$f":"IF(VLOOKUP(C956,#REF!,2,0)>0,1,0)","v":{"$error":"#REF!"}},"惊奇, 惊讶, 惊喜",null,1,1,1]
[974,861162,"dream",{"$f":"IF(VLOOKUP(C957,#REF!,2,0)>0,1,0)","v":{"$error":"#REF!"}},"梦, 梦想, 做梦",null,1,1,1]
[975,1165739,"winter",{"$f":"IF(VLOOKUP(C958,#REF!,2,0)>0,1,0)","v":{"$error":"#REF!"}},"冬季, 冬天",null,1,1,1]
[976,961200,"leg",{"$f":"IF(VLOOKUP(C959,#REF!,2,0)>0,1,0)","v":{"$error":"#REF!"}},"腿",null,1,1,1]
[977,1059363,"reduce",{"$f":"IF(VLOOKUP(C960,#REF!,2,0)>0,1,0)","v":{"$error":"#REF!"}},"减少, 缩小",null,0,1,1]
[978,1110447,"strange",{"$f":"IF(VLOOKUP(C961,#REF!,2,0)>0,1,0)","v":{"$error":"#REF!"}},"陌生的, 奇怪的",null,0,1,1]
[979,1141559,"trip",{"$f":"IF(VLOOKUP(C962,#REF!,2,0)>0,1,0)","v":{"$error":"#REF!"}},"旅行, 旅程",null,1,1,1]
[980,1141559,"trip",{"$f":"IF(VLOOKUP(C963,#REF!,2,0)>0,1,0)","v":{"$error":"#REF!"}},"绊倒",null,1,1,1]
[981,867026,"effort",{"$f":"IF(VLOOKUP(C964,#REF!,2,0)>0,1,0)","v":{"$error":"#REF!"}},"努力, 尽力",null,0,1,1]
[982,995631,"nature",{"$f":"IF(VLOOKUP(C965,#REF!,2,0)>0,1,0)","v":{"$error":"#REF!"}},"自然",null,1,1,1]
[983,995631,"nature",{"$f":"IF(VLOOKUP(C966,#REF!,2,0)>0,1,0)","v":{"$error":"#REF!"}},"本性, 天性",null,0,0,1]
[984,848388,"desk",{"$f":"IF(VLOOKUP(C967,#REF!,2,0)>0,1,0)","v":{"$error":"#REF!"}},"书桌, 办公桌",null,1,1,1]
[985,895964,"foreign",{"$f":"IF(VLOOKUP(C968,#REF!,2,0)>0,1,0)","v":{"$error":"#REF!"}},"外国的, 外来的",null,1,1,1]
[986,843479,"death",{"$f":"IF(VLOOKUP(C969,#REF!,2,0)>0,1,0)","v":{"$error":"#REF!"}},"死, 死亡",null,0,1,1]
[987,1063945,"require",{"$f":"IF(VLOOKUP(C970,#REF!,2,0)>0,1,0)","v":{"$error":"#REF!"}},"要求, 请求, 需要",null,0,1,1]
[988,1153728,"value",{"$f":"IF(VLOOKUP(C971,#REF!,2,0)>0,1,0)","v":{"$error":"#REF!"}},"价值, 珍视, 估价, 评价",null,0,1,1]
[989,962439,"level",{"$f":"IF(VLOOKUP(C972,#REF!,2,0)>0,1,0)","v":{"$error":"#REF!"}},"水平线",null,0,0,0]
[990,962439,"level",{"$f":"IF(VLOOKUP(C973,#REF!,2,0)>0,1,0)","v":{"$error":"#REF!"}},"水平, 层次",null,0,1,1]
[991,1159875,"wake",{"$f":"IF(VLOOKUP(C974,#REF!,2,0)>0,1,0)","v":{"$error":"#REF!"}},"叫醒, 唤醒",null,1,1,1]
[992,903184,"garden",{"$f":"IF(VLOOKUP(C975,#REF!,2,0)>0,1,0)","v":{"$error":"#REF!"}},"花园, 公园",null,1,1,1]
[993,1083307,"sense",{"$f":"IF(VLOOKUP(C976,#REF!,2,0)>0,1,0)","v":{"$error":"#REF!"}},"感觉, 感官, 意识",null,0,1,1]
[994,1083307,"sense",{"$f":"IF(VLOOKUP(C977,#REF!,2,0)>0,1,0)","v":{"$error":"#REF!"}},"观念, 理性",null,0,1,1]
[995,751558,"advice",{"$f":"IF(VLOOKUP(C978,#REF!,2,0)>0,1,0)","v":{"$error":"#REF!"}},"建议，劝告，忠告",null,1,1,1]
[997,861825,"driver",{"$f":"IF(VLOOKUP(C979,#REF!,2,0)>0,1,0)","v":{"$error":"#REF!"}},"驾驶员, 司机",null,1,1,1]
[998,844821,"deep",{"$f":"IF(VLOOKUP(C980,#REF!,2,0)>0,1,0)","v":{"$error":"#REF!"}},"深的, 深奥的",null,1,1,1]
[999,1090481,"similar",{"$f":"IF(VLOOKUP(C981,#REF!,2,0)>0,1,0)","v":{"$error":"#REF!"}},"相似的, 类似的",null,0,1,1]
[1000,777805,"base",{"$f":"IF(VLOOKUP(C982,#REF!,2,0)>0,1,0)","v":{"$error":"#REF!"}},"底部, 基础",null,0,1,1]
[1001,777805,"base",{"$f":"IF(VLOOKUP(C983,#REF!,2,0)>0,1,0)","v":{"$error":"#REF!"}},"卑鄙的, 低级的",null,0,0,0]
[1002,1044861,"promise",{"$f":"IF(VLOOKUP(C984,#REF!,2,0)>0,1,0)","v":{"$error":"#REF!"}},"承诺, 答应",null,0,1,1]
[1003,999293,"nobody",{"$f":"IF(VLOOKUP(C985,#REF!,2,0)>0,1,0)","v":{"$error":"#REF!"}},"无人",null,0,1,1]
[1004,996600,"neither",{"$f":"IF(VLOOKUP(C986,#REF!,2,0)>0,1,0)","v":{"$error":"#REF!"}},"既不...也不, 两者都不",null,1,1,1]
[1005,815894,"clock",{"$f":"IF(VLOOKUP(C987,#REF!,2,0)>0,1,0)","v":{"$error":"#REF!"}},"时钟",null,1,1,1]
[1006,815894,"clock",{"$f":"IF(VLOOKUP(C988,#REF!,2,0)>0,1,0)","v":{"$error":"#REF!"}},"计时",null,0,0,0]
[1007,1019465,"patient",{"$f":"IF(VLOOKUP(C989,#REF!,2,0)>0,1,0)","v":{"$error":"#REF!"}},"有耐心的",null,0,1,1]
[1008,1019465,"patient",{"$f":"IF(VLOOKUP(C990,#REF!,2,0)>0,1,0)","v":{"$error":"#REF!"}},"病人",null,0,1,1]
[1009,1095780,"society",{"$f":"IF(VLOOKUP(C991,#REF!,2,0)>0,1,0)","v":{"$error":"#REF!"}},"社会, 社团, 协会",null,0,1,1]
[1010,1114519,"suffer",{"$f":"IF(VLOOKUP(C992,#REF!,2,0)>0,1,0)","v":{"$error":"#REF!"}},"遭受, 忍受",null,0,1,1]
[1011,1023368,"personal",{"$f":"IF(VLOOKUP(C993,#REF!,2,0)>0,1,0)","v":{"$error":"#REF!"}},"私人的, 个人的",null,0,1,1]
[1012,889107,"fire",{"$f":"IF(VLOOKUP(C994,#REF!,2,0)>0,1,0)","v":{"$error":"#REF!"}},"解雇",null,0,1,1]
[1013,889107,"fire",{"$f":"IF(VLOOKUP(C995,#REF!,2,0)>0,1,0)","v":{"$error":"#REF!"}},"开枪, 射击",null,0,1,1]
[1014,889107,"fire",{"$f":"IF(VLOOKUP(C996,#REF!,2,0)>0,1,0)","v":{"$error":"#REF!"}},"火",null,1,1,1]
[1015,811603,"choice",{"$f":"IF(VLOOKUP(C997,#REF!,2,0)>0,1,0)","v":{"$error":"#REF!"}},"选择, 抉择",null,0,1,1]
[1016,811603,"choice",{"$f":"IF(VLOOKUP(C998,#REF!,2,0)>0,1,0)","v":{"$error":"#REF!"}},"精选的",null,0,0,0]
[1017,1002311,"note",{"$f":"IF(VLOOKUP(C999,#REF!,2,0)>0,1,0)","v":{"$error":"#REF!"}},"便条, 笔记, 注释, 记录, 注意",null,0,1,1]
[1018,1002311,"note",{"$f":"IF(VLOOKUP(C1000,#REF!,2,0)>0,1,0)","v":{"$error":"#REF!"}},"钞票, 票据",null,0,1,1]
[1019,1002311,"note",{"$f":"IF(VLOOKUP(C1001,#REF!,2,0)>0,1,0)","v":{"$error":"#REF!"}},"音符",null,0,0,1]
[1020,1152939,"usual",{"$f":"IF(VLOOKUP(C1002,#REF!,2,0)>0,1,0)","v":{"$error":"#REF!"}},"平常的, 通常的",null,0,1,1]
[1021,1109370,"stone",{"$f":"IF(VLOOKUP(C1003,#REF!,2,0)>0,1,0)","v":{"$error":"#REF!"}},"石头, 石块",null,0,1,1]
[1022,872915,"enter",{"$f":"IF(VLOOKUP(C1004,#REF!,2,0)>0,1,0)","v":{"$error":"#REF!"}},"进入, 参加",null,0,1,1]
[1023,872915,"enter",{"$f":"IF(VLOOKUP(C1005,#REF!,2,0)>0,1,0)","v":{"$error":"#REF!"}},"开始",null,0,0,0]
[1024,796993,"busy",{"$f":"IF(VLOOKUP(C1006,#REF!,2,0)>0,1,0)","v":{"$error":"#REF!"}},"繁忙的, 忙碌的",null,1,1,1]
[1025,843089,"dead",{"$f":"IF(VLOOKUP(C1007,#REF!,2,0)>0,1,0)","v":{"$error":"#REF!"}},"死去的",null,1,1,1]
[1026,843089,"dead",{"$f":"IF(VLOOKUP(C1008,#REF!,2,0)>0,1,0)","v":{"$error":"#REF!"}},"无感觉的",null,0,0,0]
[1027,843089,"dead",{"$f":"IF(VLOOKUP(C1009,#REF!,2,0)>0,1,0)","v":{"$error":"#REF!"}},"死者",null,0,0,0]
[1028,807403,"certainly",{"$f":"IF(VLOOKUP(C1010,#REF!,2,0)>0,1,0)","v":{"$error":"#REF!"}},"的确, 当然",null,1,1,1]
[1029,1125038,"television",{"$f":"IF(VLOOKUP(C1011,#REF!,2,0)>0,1,0)","v":{"$error":"#REF!"}},"电视, 电视机",null,1,1,1]
[1030,1087612,"shoe",{"$f":"IF(VLOOKUP(C1012,#REF!,2,0)>0,1,0)","v":{"$error":"#REF!"}},"鞋子",null,1,1,1]
[1031,854220,"direction",{"$f":"IF(VLOOKUP(C1013,#REF!,2,0)>0,1,0)","v":{"$error":"#REF!"}},"方向",null,0,1,1]
[1032,854220,"direction",{"$f":"IF(VLOOKUP(C1014,#REF!,2,0)>0,1,0)","v":{"$error":"#REF!"}},"方面",null,0,0,0]
[1033,854220,"direction",{"$f":"IF(VLOOKUP(C1015,#REF!,2,0)>0,1,0)","v":{"$error":"#REF!"}},"说明",null,0,0,0]
[1034,1152857,"useful",{"$f":"IF(VLOOKUP(C1016,#REF!,2,0)>0,1,0)","v":{"$error":"#REF!"}},"有用的, 有益的",null,1,1,1]
[1035,916114,"hair",{"$f":"IF(VLOOKUP(C1017,#REF!,2,0)>0,1,0)","v":{"$error":"#REF!"}},"头发, 毛发",null,1,1,1]
[1036,798554,"cake",{"$f":"IF(VLOOKUP(C1018,#REF!,2,0)>0,1,0)","v":{"$error":"#REF!"}},"蛋糕",null,1,1,1]
[1037,783570,"besides",{"$f":"IF(VLOOKUP(C1019,#REF!,2,0)>0,1,0)","v":{"$error":"#REF!"}},"除…之外",null,0,1,1]
[1038,783570,"besides",{"$f":"IF(VLOOKUP(C1020,#REF!,2,0)>0,1,0)","v":{"$error":"#REF!"}},"此外",null,0,1,1]
[1039,859962,"doubt",{"$f":"IF(VLOOKUP(C1021,#REF!,2,0)>0,1,0)","v":{"$error":"#REF!"}},"怀疑, 疑惑",null,0,1,1]
[1040,802159,"card",{"$f":"IF(VLOOKUP(C1022,#REF!,2,0)>0,1,0)","v":{"$error":"#REF!"}},"卡片, 明信片",null,1,1,1]
[1041,975177,"manage",{"$f":"IF(VLOOKUP(C1023,#REF!,2,0)>0,1,0)","v":{"$error":"#REF!"}},"设法, 应付",null,0,1,1]
[1042,975177,"manage",{"$f":"IF(VLOOKUP(C1024,#REF!,2,0)>0,1,0)","v":{"$error":"#REF!"}},"管理, 经营",null,0,1,1]
[1043,890230,"fix",{"$f":"IF(VLOOKUP(C1025,#REF!,2,0)>0,1,0)","v":{"$error":"#REF!"}},"修理, 解决",null,1,1,1]
[1044,890230,"fix",{"$f":"IF(VLOOKUP(C1026,#REF!,2,0)>0,1,0)","v":{"$error":"#REF!"}},"固定, 安装",null,0,1,1]
[1045,890230,"fix",{"$f":"IF(VLOOKUP(C1027,#REF!,2,0)>0,1,0)","v":{"$error":"#REF!"}},"困境",null,0,0,0]
[1046,1001742,"north",{"$f":"IF(VLOOKUP(C1028,#REF!,2,0)>0,1,0)","v":{"$error":"#REF!"}},"北",null,1,1,1]
[1047,746621,"accident",{"$f":"IF(VLOOKUP(C1029,#REF!,2,0)>0,1,0)","v":{"$error":"#REF!"}},"事故, 意外事件",null,1,1,1]
[1048,746621,"accident",{"$f":"IF(VLOOKUP(C1030,#REF!,2,0)>0,1,0)","v":{"$error":"#REF!"}},"意外",null,0,1,1]
[1049,746621,"accident",{"$f":"IF(VLOOKUP(C1031,#REF!,2,0)>0,1,0)","v":{"$error":"#REF!"}},"偶然",null,0,0,0]
[1050,1052776,"race",{"$f":"IF(VLOOKUP(C1032,#REF!,2,0)>0,1,0)","v":{"$error":"#REF!"}},"种族",null,0,0,1]
[1051,1052776,"race",{"$f":"IF(VLOOKUP(C1033,#REF!,2,0)>0,1,0)","v":{"$error":"#REF!"}},"竞速比赛, 赛跑",null,1,1,1]
[1052,925992,"homework",{"$f":"IF(VLOOKUP(C1034,#REF!,2,0)>0,1,0)","v":{"$error":"#REF!"}},"家庭作业",null,1,1,1]
[1053,1095617,"social",{"$f":"IF(VLOOKUP(C1035,#REF!,2,0)>0,1,0)","v":{"$error":"#REF!"}},"社会的, 社交的",null,0,1,1]
[1054,934180,"imagine",{"$f":"IF(VLOOKUP(C1036,#REF!,2,0)>0,1,0)","v":{"$error":"#REF!"}},"想象, 想",null,0,1,1]
[1055,947473,"invite",{"$f":"IF(VLOOKUP(C1037,#REF!,2,0)>0,1,0)","v":{"$error":"#REF!"}},"邀请, 请求",null,1,1,1]
[1056,1151584,"unusual",{"$f":"IF(VLOOKUP(C1038,#REF!,2,0)>0,1,0)","v":{"$error":"#REF!"}},"不寻常的, 稀有的",null,0,1,1]
[1057,860844,"draw",{"$f":"IF(VLOOKUP(C1039,#REF!,2,0)>0,1,0)","v":{"$error":"#REF!"}},"画",null,1,1,1]
[1058,860844,"draw",{"$f":"IF(VLOOKUP(C1040,#REF!,2,0)>0,1,0)","v":{"$error":"#REF!"}},"拉, 吸引",null,0,0,0]
[1059,1031787,"pleasure",{"$f":"IF(VLOOKUP(C1041,#REF!,2,0)>0,1,0)","v":{"$error":"#REF!"}},"愉快, 快乐",null,0,1,1]
[1060,749704,"add",{"$f":"IF(VLOOKUP(C1042,#REF!,2,0)>0,1,0)","v":{"$error":"#REF!"}},"加，增加，补充",null,1,1,1]
[1063,1021031,"pencil",{"$f":"IF(VLOOKUP(C1043,#REF!,2,0)>0,1,0)","v":{"$error":"#REF!"}},"铅笔",null,1,1,1]
[1064,925415,"holiday",{"$f":"IF(VLOOKUP(C1044,#REF!,2,0)>0,1,0)","v":{"$error":"#REF!"}},"假日, 节日",null,1,1,1]
[1065,1049339,"purpose",{"$f":"IF(VLOOKUP(C1045,#REF!,2,0)>0,1,0)","v":{"$error":"#REF!"}},"目的, 意图, 打算",null,0,1,1]
[1066,1160233,"war",{"$f":"IF(VLOOKUP(C1046,#REF!,2,0)>0,1,0)","v":{"$error":"#REF!"}},"战争",null,0,1,1]
[1067,790825,"born",{"$f":"IF(VLOOKUP(C1047,#REF!,2,0)>0,1,0)","v":{"$error":"#REF!"}},"出生",null,0,0,0]
[1068,790825,"born",{"$f":"IF(VLOOKUP(C1048,#REF!,2,0)>0,1,0)","v":{"$error":"#REF!"}},"天生的, 天生就…的",null,0,0,0]
[1069,776592,"bank",{"$f":"IF(VLOOKUP(C1049,#REF!,2,0)>0,1,0)","v":{"$error":"#REF!"}},"岸",null,0,1,1]
[1070,776592,"bank",{"$f":"IF(VLOOKUP(C1050,#REF!,2,0)>0,1,0)","v":{"$error":"#REF!"}},"银行",null,1,1,1]
[1071,914781,"guess",{"$f":"IF(VLOOKUP(C1051,#REF!,2,0)>0,1,0)","v":{"$error":"#REF!"}},"猜, 推测",null,1,1,1]
[1072,967314,"local",{"$f":"IF(VLOOKUP(C1052,#REF!,2,0)>0,1,0)","v":{"$error":"#REF!"}},"当地(人）, 本土",null,0,1,1]
[1073,928601,"huge",{"$f":"IF(VLOOKUP(C1053,#REF!,2,0)>0,1,0)","v":{"$error":"#REF!"}},"巨大的, 庞大的",null,1,1,1]
[1074,1160014,"wall",{"$f":"IF(VLOOKUP(C1054,#REF!,2,0)>0,1,0)","v":{"$error":"#REF!"}},"墙壁, 围墙",null,1,1,1]
[1075,971531,"machine",{"$f":"IF(VLOOKUP(C1055,#REF!,2,0)>0,1,0)","v":{"$error":"#REF!"}},"机器, 机械",null,1,1,1]
[1076,1169057,"yellow",{"$f":"IF(VLOOKUP(C1056,#REF!,2,0)>0,1,0)","v":{"$error":"#REF!"}},"黄",null,1,1,1]
[1077,781498,"beat",{"$f":"IF(VLOOKUP(C1057,#REF!,2,0)>0,1,0)","v":{"$error":"#REF!"}},"敲打",null,0,1,1]
[1078,781498,"beat",{"$f":"IF(VLOOKUP(C1058,#REF!,2,0)>0,1,0)","v":{"$error":"#REF!"}},"打败",null,0,1,1]
[1079,978032,"material",{"$f":"IF(VLOOKUP(C1059,#REF!,2,0)>0,1,0)","v":{"$error":"#REF!"}},"材料, 原料, 素材, 资料",null,0,1,1]
[1080,839632,"customer",{"$f":"IF(VLOOKUP(C1060,#REF!,2,0)>0,1,0)","v":{"$error":"#REF!"}},"消费者",null,0,1,1]
[1081,1074021,"safe",{"$f":"IF(VLOOKUP(C1061,#REF!,2,0)>0,1,0)","v":{"$error":"#REF!"}},"安全的",null,1,1,1]
[1082,1074021,"safe",{"$f":"IF(VLOOKUP(C1062,#REF!,2,0)>0,1,0)","v":{"$error":"#REF!"}},"保险箱",null,0,0,0]
[1083,872058,"energy",{"$f":"IF(VLOOKUP(C1063,#REF!,2,0)>0,1,0)","v":{"$error":"#REF!"}},"能量, 精力, 活力",null,1,1,1]
[1084,1151985,"upon",{"$f":"IF(VLOOKUP(C1064,#REF!,2,0)>0,1,0)","v":{"$error":"#REF!"}},"在…之上",null,0,1,1]
[1085,1151985,"upon",{"$f":"IF(VLOOKUP(C1065,#REF!,2,0)>0,1,0)","v":{"$error":"#REF!"}},"当…时候",null,0,1,1]
[1086,784909,"bill",{"$f":"IF(VLOOKUP(C1066,#REF!,2,0)>0,1,0)","v":{"$error":"#REF!"}},"帐单, 钞票",null,0,1,1]
[1087,835203,"create",{"$f":"IF(VLOOKUP(C1067,#REF!,2,0)>0,1,0)","v":{"$error":"#REF!"}},"产生",null,0,1,1]
[1088,835203,"create",{"$f":"IF(VLOOKUP(C1068,#REF!,2,0)>0,1,0)","v":{"$error":"#REF!"}},"创造, 创作",null,0,1,1]
[1089,1124254,"technology",{"$f":"IF(VLOOKUP(C1069,#REF!,2,0)>0,1,0)","v":{"$error":"#REF!"}},"工艺, 技术",null,0,1,1]
[1090,995970,"necessary",{"$f":"IF(VLOOKUP(C1070,#REF!,2,0)>0,1,0)","v":{"$error":"#REF!"}},"必要的, 必需的",null,0,1,1]
[1091,977103,"marry",{"$f":"IF(VLOOKUP(C1071,#REF!,2,0)>0,1,0)","v":{"$error":"#REF!"}},"结婚, 娶, 嫁",null,0,1,1]
[1092,1166527,"within",{"$f":"IF(VLOOKUP(C1072,#REF!,2,0)>0,1,0)","v":{"$error":"#REF!"}},"在…之内, 不超过",null,0,0,1]
[1093,1126793,"terrible",{"$f":"IF(VLOOKUP(C1073,#REF!,2,0)>0,1,0)","v":{"$error":"#REF!"}},"危害大的, 可怕的",null,0,1,1]
[1094,856615,"distance",{"$f":"IF(VLOOKUP(C1074,#REF!,2,0)>0,1,0)","v":{"$error":"#REF!"}},"距离, 路程",null,0,1,1]
[1095,972190,"magazine",{"$f":"IF(VLOOKUP(C1075,#REF!,2,0)>0,1,0)","v":{"$error":"#REF!"}},"杂志, 期刊",null,1,1,1]
[1096,953564,"key",{"$f":"IF(VLOOKUP(C1076,#REF!,2,0)>0,1,0)","v":{"$error":"#REF!"}},"按键",null,0,1,1]
[1097,953564,"key",{"$f":"IF(VLOOKUP(C1077,#REF!,2,0)>0,1,0)","v":{"$error":"#REF!"}},"钥匙",null,1,1,1]
[1098,953564,"key",{"$f":"IF(VLOOKUP(C1078,#REF!,2,0)>0,1,0)","v":{"$error":"#REF!"}},"关键",null,1,1,1]
[1099,1167873,"worth",{"$f":"IF(VLOOKUP(C1079,#REF!,2,0)>0,1,0)","v":{"$error":"#REF!"}},"值得的, 有.....的价值",null,0,1,1]
[1100,910640,"goodbye",{"$f":"IF(VLOOKUP(C1080,#REF!,2,0)>0,1,0)","v":{"$error":"#REF!"}},"再见",null,1,1,1]
[1101,983242,"method",{"$f":"IF(VLOOKUP(C1081,#REF!,2,0)>0,1,0)","v":{"$error":"#REF!"}},"方法",null,0,1,1]
[1102,983242,"method",{"$f":"IF(VLOOKUP(C1082,#REF!,2,0)>0,1,0)","v":{"$error":"#REF!"}},"条理",null,0,0,0]
[1103,982214,"message",{"$f":"IF(VLOOKUP(C1083,#REF!,2,0)>0,1,0)","v":{"$error":"#REF!"}},"消息, 信息",null,1,1,1]
[1104,841669,"daily",{"$f":"IF(VLOOKUP(C1084,#REF!,2,0)>0,1,0)","v":{"$error":"#REF!"}},"每日的, 日常的",null,0,1,1]
[1105,997105,"nervous",{"$f":"IF(VLOOKUP(C1085,#REF!,2,0)>0,1,0)","v":{"$error":"#REF!"}},"焦虑, 不安",null,1,1,1]
[1106,1089317,"sight",{"$f":"IF(VLOOKUP(C1086,#REF!,2,0)>0,1,0)","v":{"$error":"#REF!"}},"视力, 视野, 看见",null,0,1,1]
[1107,934369,"immediately",{"$f":"IF(VLOOKUP(C1087,#REF!,2,0)>0,1,0)","v":{"$error":"#REF!"}},"立即, 马上",null,0,1,1]
[1108,1132009,"ticket",{"$f":"IF(VLOOKUP(C1088,#REF!,2,0)>0,1,0)","v":{"$error":"#REF!"}},"票, 入场券, 标签",null,1,1,1]
[1109,902154,"gain",{"$f":"IF(VLOOKUP(C1089,#REF!,2,0)>0,1,0)","v":{"$error":"#REF!"}},"获得, 增加, 收益",null,0,1,1]
[1110,1080130,"seat",{"$f":"IF(VLOOKUP(C1090,#REF!,2,0)>0,1,0)","v":{"$error":"#REF!"}},"臀部, 座位, 就座",null,1,1,1]
[1111,951733,"journey",{"$f":"IF(VLOOKUP(C1091,#REF!,2,0)>0,1,0)","v":{"$error":"#REF!"}},"旅行, 旅程",null,0,1,1]
[1112,959605,"law",{"$f":"IF(VLOOKUP(C1092,#REF!,2,0)>0,1,0)","v":{"$error":"#REF!"}},"法律, 规律",null,0,1,1]
[1113,861235,"dress",{"$f":"IF(VLOOKUP(C1093,#REF!,2,0)>0,1,0)","v":{"$error":"#REF!"}},"衣服, 礼服, 连衣裙",null,1,1,1]
[1114,861235,"dress",{"$f":"IF(VLOOKUP(C1094,#REF!,2,0)>0,1,0)","v":{"$error":"#REF!"}},"打扮, 给…穿衣",null,0,1,1]
[1115,1134778,"tomorrow",{"$f":"IF(VLOOKUP(C1095,#REF!,2,0)>0,1,0)","v":{"$error":"#REF!"}},"明天, 在明天",null,1,1,1]
[1116,751425,"advantage",{"$f":"IF(VLOOKUP(C1096,#REF!,2,0)>0,1,0)","v":{"$error":"#REF!"}},"优势",null,0,1,1]
[1117,751425,"advantage",{"$f":"IF(VLOOKUP(C1097,#REF!,2,0)>0,1,0)","v":{"$error":"#REF!"}},"有利",null,0,1,1]
[1118,751425,"advantage",{"$f":"IF(VLOOKUP(C1098,#REF!,2,0)>0,1,0)","v":{"$error":"#REF!"}},"益处",null,0,0,0]
[1119,1052279,"quiet",{"$f":"IF(VLOOKUP(C1099,#REF!,2,0)>0,1,0)","v":{"$error":"#REF!"}},"安静, 宁静",null,1,1,1]
[1120,758708,"amount",{"$f":"IF(VLOOKUP(C1100,#REF!,2,0)>0,1,0)","v":{"$error":"#REF!"}},"量, 数量",null,0,1,1]
[1121,758708,"amount",{"$f":"IF(VLOOKUP(C1101,#REF!,2,0)>0,1,0)","v":{"$error":"#REF!"}},"等于, 等同",null,0,0,0]
[1122,758708,"amount",{"$f":"IF(VLOOKUP(C1102,#REF!,2,0)>0,1,0)","v":{"$error":"#REF!"}},"合计, 总共",null,0,0,0]
[1123,1102963,"spread",{"$f":"IF(VLOOKUP(C1103,#REF!,2,0)>0,1,0)","v":{"$error":"#REF!"}},"传播, 散布, 蔓延",null,0,1,1]
[1124,782225,"beginning",{"$f":"IF(VLOOKUP(C1104,#REF!,2,0)>0,1,0)","v":{"$error":"#REF!"}},"开始, 开端",null,0,0,0]
[1125,723547,"Friday",{"$f":"IF(VLOOKUP(C1105,#REF!,2,0)>0,1,0)","v":{"$error":"#REF!"}},"星期五",null,1,1,1]
[1126,1065019,"respect",{"$f":"IF(VLOOKUP(C1106,#REF!,2,0)>0,1,0)","v":{"$error":"#REF!"}},"尊重, 尊敬",null,0,1,1]
[1127,1065019,"respect",{"$f":"IF(VLOOKUP(C1107,#REF!,2,0)>0,1,0)","v":{"$error":"#REF!"}},"某方面",null,0,0,0]
[1128,1069938,"role",{"$f":"IF(VLOOKUP(C1108,#REF!,2,0)>0,1,0)","v":{"$error":"#REF!"}},"角色, 职能, 作用",null,0,1,1]
[1129,842094,"danger",{"$f":"IF(VLOOKUP(C1109,#REF!,2,0)>0,1,0)","v":{"$error":"#REF!"}},"危险",null,1,1,1]
[1130,815446,"clever",{"$f":"IF(VLOOKUP(C1110,#REF!,2,0)>0,1,0)","v":{"$error":"#REF!"}},"灵巧的, 聪明的",null,1,1,1]
[1131,838276,"culture",{"$f":"IF(VLOOKUP(C1111,#REF!,2,0)>0,1,0)","v":{"$error":"#REF!"}},"文化",null,0,1,1]
[1132,838276,"culture",{"$f":"IF(VLOOKUP(C1112,#REF!,2,0)>0,1,0)","v":{"$error":"#REF!"}},"修养",null,0,0,0]
[1133,1049416,"push",{"$f":"IF(VLOOKUP(C1113,#REF!,2,0)>0,1,0)","v":{"$error":"#REF!"}},"推, 按",null,1,1,1]
[1134,765739,"arm",{"$f":"IF(VLOOKUP(C1114,#REF!,2,0)>0,1,0)","v":{"$error":"#REF!"}},"手臂",null,1,1,1]
[1135,765739,"arm",{"$f":"IF(VLOOKUP(C1115,#REF!,2,0)>0,1,0)","v":{"$error":"#REF!"}},"武装, 武器",null,0,0,1]
[1136,951960,"jump",{"$f":"IF(VLOOKUP(C1116,#REF!,2,0)>0,1,0)","v":{"$error":"#REF!"}},"跳, 跃",null,1,1,1]
[1137,807944,"chair",{"$f":"IF(VLOOKUP(C1117,#REF!,2,0)>0,1,0)","v":{"$error":"#REF!"}},"椅子",null,1,1,1]
[1138,933683,"ill",{"$f":"IF(VLOOKUP(C1118,#REF!,2,0)>0,1,0)","v":{"$error":"#REF!"}},"有病的, 不良地",null,1,1,1]
[1139,1144615,"twelve",{"$f":"IF(VLOOKUP(C1119,#REF!,2,0)>0,1,0)","v":{"$error":"#REF!"}},"十二",null,1,1,1]
[1140,1022469,"period",{"$f":"IF(VLOOKUP(C1120,#REF!,2,0)>0,1,0)","v":{"$error":"#REF!"}},"一段时间, 时期",null,0,1,1]
[1141,920064,"healthy",{"$f":"IF(VLOOKUP(C1121,#REF!,2,0)>0,1,0)","v":{"$error":"#REF!"}},"健康的",null,1,1,1]
[1142,920064,"healthy",{"$f":"IF(VLOOKUP(C1122,#REF!,2,0)>0,1,0)","v":{"$error":"#REF!"}},"有益于健康的",null,0,0,0]
[1143,920064,"healthy",{"$f":"IF(VLOOKUP(C1123,#REF!,2,0)>0,1,0)","v":{"$error":"#REF!"}},"大量的",null,0,0,0]
[1144,1164932,"wild",{"$f":"IF(VLOOKUP(C1124,#REF!,2,0)>0,1,0)","v":{"$error":"#REF!"}},"野外，野生，野蛮",null,1,1,1]
[1145,976809,"market",{"$f":"IF(VLOOKUP(C1125,#REF!,2,0)>0,1,0)","v":{"$error":"#REF!"}},"市场, 市集, 推销",null,0,1,1]
[1146,822972,"compare",{"$f":"IF(VLOOKUP(C1126,#REF!,2,0)>0,1,0)","v":{"$error":"#REF!"}},"比较, 相比",null,0,1,1]
[1147,1091848,"situation",{"$f":"IF(VLOOKUP(C1127,#REF!,2,0)>0,1,0)","v":{"$error":"#REF!"}},"处境, 形势, 局面",null,0,1,1]
[1148,809365,"cheap",{"$f":"IF(VLOOKUP(C1128,#REF!,2,0)>0,1,0)","v":{"$error":"#REF!"}},"便宜, 廉价的",null,1,1,1]
[1149,877857,"everybody",{"$f":"IF(VLOOKUP(C1129,#REF!,2,0)>0,1,0)","v":{"$error":"#REF!"}},"每人, 人人, 所有人",null,0,1,1]
[1150,783811,"better",{"$f":"IF(VLOOKUP(C1130,#REF!,2,0)>0,1,0)","v":{"$error":"#REF!"}},"更好",null,0,0,0]
[1151,842197,"dark",{"$f":"IF(VLOOKUP(C1131,#REF!,2,0)>0,1,0)","v":{"$error":"#REF!"}},"黑暗, 暗处",null,1,1,1]
[1152,984832,"mile",{"$f":"IF(VLOOKUP(C1132,#REF!,2,0)>0,1,0)","v":{"$error":"#REF!"}},"英里",null,0,1,1]
[1153,1013955,"owner",{"$f":"IF(VLOOKUP(C1133,#REF!,2,0)>0,1,0)","v":{"$error":"#REF!"}},"物主, 所有人",null,0,1,1]
[1154,1091921,"size",{"$f":"IF(VLOOKUP(C1134,#REF!,2,0)>0,1,0)","v":{"$error":"#REF!"}},"大小, 尺寸",null,1,1,1]
[1155,1133419,"tired",{"$f":"IF(VLOOKUP(C1135,#REF!,2,0)>0,1,0)","v":{"$error":"#REF!"}},"厌倦的, 疲倦的",null,1,1,1]
[1156,815318,"clearly",{"$f":"IF(VLOOKUP(C1136,#REF!,2,0)>0,1,0)","v":{"$error":"#REF!"}},"明确地",null,0,1,1]
[1157,815318,"clearly",{"$f":"IF(VLOOKUP(C1137,#REF!,2,0)>0,1,0)","v":{"$error":"#REF!"}},"显然地",null,0,1,1]
[1158,1015056,"page",{"$f":"IF(VLOOKUP(C1138,#REF!,2,0)>0,1,0)","v":{"$error":"#REF!"}},"页面, 页码",null,0,1,1]
[1159,883684,"farm",{"$f":"IF(VLOOKUP(C1139,#REF!,2,0)>0,1,0)","v":{"$error":"#REF!"}},"农场",null,1,1,1]
[1160,883684,"farm",{"$f":"IF(VLOOKUP(C1140,#REF!,2,0)>0,1,0)","v":{"$error":"#REF!"}},"耕作",null,0,1,1]
[1161,1079975,"search",{"$f":"IF(VLOOKUP(C1141,#REF!,2,0)>0,1,0)","v":{"$error":"#REF!"}},"搜索, 搜寻",null,0,1,1]
[1162,1060675,"refuse",{"$f":"IF(VLOOKUP(C1142,#REF!,2,0)>0,1,0)","v":{"$error":"#REF!"}},"拒绝",null,0,1,1]
[1163,959694,"lay",{"$f":"IF(VLOOKUP(C1143,#REF!,2,0)>0,1,0)","v":{"$error":"#REF!"}},"产卵",null,0,0,0]
[1164,959694,"lay",{"$f":"IF(VLOOKUP(C1144,#REF!,2,0)>0,1,0)","v":{"$error":"#REF!"}},"放置, 铺放",null,0,0,0]
[1165,959694,"lay",{"$f":"IF(VLOOKUP(C1145,#REF!,2,0)>0,1,0)","v":{"$error":"#REF!"}},"躺下",null,0,0,0]
[1166,753577,"ahead",{"$f":"IF(VLOOKUP(C1146,#REF!,2,0)>0,1,0)","v":{"$error":"#REF!"}},"提前",null,0,1,1]
[1167,753577,"ahead",{"$f":"IF(VLOOKUP(C1147,#REF!,2,0)>0,1,0)","v":{"$error":"#REF!"}},"向前",null,0,1,1]
[1168,841810,"damage",{"$f":"IF(VLOOKUP(C1148,#REF!,2,0)>0,1,0)","v":{"$error":"#REF!"}},"损害, 损坏",null,0,1,1]
[1169,896220,"forest",{"$f":"IF(VLOOKUP(C1149,#REF!,2,0)>0,1,0)","v":{"$error":"#REF!"}},"森林",null,1,1,1]
[1170,1165179,"wind",{"$f":"IF(VLOOKUP(C1150,#REF!,2,0)>0,1,0)","v":{"$error":"#REF!"}},"风",null,1,1,1]
[1171,1165179,"wind",{"$f":"IF(VLOOKUP(C1151,#REF!,2,0)>0,1,0)","v":{"$error":"#REF!"}},"缠绕, 发条",null,0,0,1]
[1172,821673,"comfortable",{"$f":"IF(VLOOKUP(C1152,#REF!,2,0)>0,1,0)","v":{"$error":"#REF!"}},"舒适的",null,0,1,1]
[1173,1160537,"wash",{"$f":"IF(VLOOKUP(C1153,#REF!,2,0)>0,1,0)","v":{"$error":"#REF!"}},"洗涤, 冲洗",null,1,1,1]
[1174,1065221,"restaurant",{"$f":"IF(VLOOKUP(C1154,#REF!,2,0)>0,1,0)","v":{"$error":"#REF!"}},"餐馆, 饭店",null,1,1,1]
[1175,792135,"brain",{"$f":"IF(VLOOKUP(C1155,#REF!,2,0)>0,1,0)","v":{"$error":"#REF!"}},"脑, 头脑, 智慧",null,0,1,1]
[1176,1164715,"whose",{"$f":"IF(VLOOKUP(C1156,#REF!,2,0)>0,1,0)","v":{"$error":"#REF!"}},"谁的",null,1,1,1]
[1177,1162949,"welcome",{"$f":"IF(VLOOKUP(C1157,#REF!,2,0)>0,1,0)","v":{"$error":"#REF!"}},"欢迎, 迎接, 受欢迎的",null,1,1,1]
[1178,908042,"glad",{"$f":"IF(VLOOKUP(C1158,#REF!,2,0)>0,1,0)","v":{"$error":"#REF!"}},"高兴, 乐意",null,1,1,1]
[1179,1162664,"weekend",{"$f":"IF(VLOOKUP(C1159,#REF!,2,0)>0,1,0)","v":{"$error":"#REF!"}},"周末",null,1,1,1]
[1180,979420,"meat",{"$f":"IF(VLOOKUP(C1160,#REF!,2,0)>0,1,0)","v":{"$error":"#REF!"}},"肉, 肉类",null,1,1,1]
[1181,1022033,"perfect",{"$f":"IF(VLOOKUP(C1161,#REF!,2,0)>0,1,0)","v":{"$error":"#REF!"}},"完美的, 极好的",null,0,1,1]
[1182,956923,"lady",{"$f":"IF(VLOOKUP(C1162,#REF!,2,0)>0,1,0)","v":{"$error":"#REF!"}},"女士, 夫人",null,1,1,1]
[1183,744975,"ability",{"$f":"IF(VLOOKUP(C1163,#REF!,2,0)>0,1,0)","v":{"$error":"#REF!"}},"能力, 才能",null,0,1,1]
[1184,816692,"club",{"$f":"IF(VLOOKUP(C1164,#REF!,2,0)>0,1,0)","v":{"$error":"#REF!"}},"俱乐部",null,1,1,1]
[1185,816692,"club",{"$f":"IF(VLOOKUP(C1165,#REF!,2,0)>0,1,0)","v":{"$error":"#REF!"}},"夜总会",null,0,0,0]
[1186,816692,"club",{"$f":"IF(VLOOKUP(C1166,#REF!,2,0)>0,1,0)","v":{"$error":"#REF!"}},"社团",null,0,1,1]
[1187,1126332,"term",{"$f":"IF(VLOOKUP(C1167,#REF!,2,0)>0,1,0)","v":{"$error":"#REF!"}},"学期",null,1,1,1]
[1188,1126332,"term",{"$f":"IF(VLOOKUP(C1168,#REF!,2,0)>0,1,0)","v":{"$error":"#REF!"}},"术语",null,0,0,0]
[1189,1126332,"term",{"$f":"IF(VLOOKUP(C1169,#REF!,2,0)>0,1,0)","v":{"$error":"#REF!"}},"条款",null,0,0,0]
[1190,836196,"cross",{"$f":"IF(VLOOKUP(C1170,#REF!,2,0)>0,1,0)","v":{"$error":"#REF!"}},"交叉, 横过",null,1,1,1]
[1191,836196,"cross",{"$f":"IF(VLOOKUP(C1171,#REF!,2,0)>0,1,0)","v":{"$error":"#REF!"}},"十字架",null,0,1,1]
[1192,836196,"cross",{"$f":"IF(VLOOKUP(C1172,#REF!,2,0)>0,1,0)","v":{"$error":"#REF!"}},"杂交",null,0,0,0]
[1193,999465,"noise",{"$f":"IF(VLOOKUP(C1173,#REF!,2,0)>0,1,0)","v":{"$error":"#REF!"}},"喧闹声, 噪音",null,1,1,1]
[1194,1086003,"shall",{"$f":"IF(VLOOKUP(C1174,#REF!,2,0)>0,1,0)","v":{"$error":"#REF!"}},"将会, 应该, 可以",null,1,1,1]
[1195,864644,"ear",{"$f":"IF(VLOOKUP(C1175,#REF!,2,0)>0,1,0)","v":{"$error":"#REF!"}},"耳朵",null,1,1,1]
[1196,864644,"ear",{"$f":"IF(VLOOKUP(C1176,#REF!,2,0)>0,1,0)","v":{"$error":"#REF!"}},"听觉, 听力",null,0,0,0]
[1197,929112,"hurry",{"$f":"IF(VLOOKUP(C1177,#REF!,2,0)>0,1,0)","v":{"$error":"#REF!"}},"匆忙, 仓促, 催促",null,1,1,1]
[1198,937887,"increase",{"$f":"IF(VLOOKUP(C1178,#REF!,2,0)>0,1,0)","v":{"$error":"#REF!"}},"增加, 增长",null,0,1,1]
[1199,962913,"library",{"$f":"IF(VLOOKUP(C1179,#REF!,2,0)>0,1,0)","v":{"$error":"#REF!"}},"图书馆",null,1,1,1]
[1200,884033,"fat",{"$f":"IF(VLOOKUP(C1180,#REF!,2,0)>0,1,0)","v":{"$error":"#REF!"}},"油脂",null,0,1,1]
[1201,884033,"fat",{"$f":"IF(VLOOKUP(C1181,#REF!,2,0)>0,1,0)","v":{"$error":"#REF!"}},"肥胖",null,1,1,1]
[1202,1158266,"visitor",{"$f":"IF(VLOOKUP(C1182,#REF!,2,0)>0,1,0)","v":{"$error":"#REF!"}},"访问者, 来宾",null,1,1,1]
[1203,793107,"breakfast",{"$f":"IF(VLOOKUP(C1183,#REF!,2,0)>0,1,0)","v":{"$error":"#REF!"}},"早餐, 早饭",null,1,1,1]
[1204,1005359,"official",{"$f":"IF(VLOOKUP(C1184,#REF!,2,0)>0,1,0)","v":{"$error":"#REF!"}},"官方的, 正式的, 官员, 公务员",null,1,1,1]
[1205,825756,"condition",{"$f":"IF(VLOOKUP(C1185,#REF!,2,0)>0,1,0)","v":{"$error":"#REF!"}},"条件, 环境",null,0,1,1]
[1206,825756,"condition",{"$f":"IF(VLOOKUP(C1186,#REF!,2,0)>0,1,0)","v":{"$error":"#REF!"}},"状况, 状态",null,0,1,1]
[1207,915809,"habit",{"$f":"IF(VLOOKUP(C1187,#REF!,2,0)>0,1,0)","v":{"$error":"#REF!"}},"习惯, 习性",null,1,1,1]
[1208,1009650,"ordinary",{"$f":"IF(VLOOKUP(C1188,#REF!,2,0)>0,1,0)","v":{"$error":"#REF!"}},"平常的, 普通的, 一般的",null,0,0,1]
[1209,763965,"apple",{"$f":"IF(VLOOKUP(C1189,#REF!,2,0)>0,1,0)","v":{"$error":"#REF!"}},"苹果",null,1,1,1]
[1210,935263,"impossible",{"$f":"IF(VLOOKUP(C1190,#REF!,2,0)>0,1,0)","v":{"$error":"#REF!"}},"不可能的, 做不到的",null,0,1,1]
[1211,1117424,"surprised",{"$f":"IF(VLOOKUP(C1191,#REF!,2,0)>0,1,0)","v":{"$error":"#REF!"}},"惊奇的, 感到意外的",null,0,0,0]
[1212,1053664,"radio",{"$f":"IF(VLOOKUP(C1192,#REF!,2,0)>0,1,0)","v":{"$error":"#REF!"}},"无线电, 辐射",null,1,1,1]
[1213,723488,"French",{"$f":"IF(VLOOKUP(C1193,#REF!,2,0)>0,1,0)","v":{"$error":"#REF!"}},"法国, 法语, 法国人",null,1,1,1]
[1214,1040549,"president",{"$f":"IF(VLOOKUP(C1194,#REF!,2,0)>0,1,0)","v":{"$error":"#REF!"}},"总统, 负责人",null,0,1,1]
[1215,867054,"egg",{"$f":"IF(VLOOKUP(C1195,#REF!,2,0)>0,1,0)","v":{"$error":"#REF!"}},"蛋, 卵",null,1,1,1]
[1216,878824,"excuse",{"$f":"IF(VLOOKUP(C1196,#REF!,2,0)>0,1,0)","v":{"$error":"#REF!"}},"原谅",null,0,1,1]
[1217,878824,"excuse",{"$f":"IF(VLOOKUP(C1197,#REF!,2,0)>0,1,0)","v":{"$error":"#REF!"}},"借口, 理由",null,0,1,1]
[1218,1043610,"product",{"$f":"IF(VLOOKUP(C1198,#REF!,2,0)>0,1,0)","v":{"$error":"#REF!"}},"产品, 产物",null,0,1,1]
[1219,927575,"horse",{"$f":"IF(VLOOKUP(C1199,#REF!,2,0)>0,1,0)","v":{"$error":"#REF!"}},"马",null,1,1,1]
[1220,770182,"attention",{"$f":"IF(VLOOKUP(C1200,#REF!,2,0)>0,1,0)","v":{"$error":"#REF!"}},"注意, 关心, 注意力",null,1,1,1]
[1221,770182,"attention",{"$f":"IF(VLOOKUP(C1201,#REF!,2,0)>0,1,0)","v":{"$error":"#REF!"}},"照料, 关怀",null,0,0,0]
[1222,911191,"grade",{"$f":"IF(VLOOKUP(C1202,#REF!,2,0)>0,1,0)","v":{"$error":"#REF!"}},"年级, 级别",null,1,1,1]
[1223,1090971,"single",{"$f":"IF(VLOOKUP(C1203,#REF!,2,0)>0,1,0)","v":{"$error":"#REF!"}},"单一的, 单身的",null,0,1,1]
[1224,978883,"maybe",{"$f":"IF(VLOOKUP(C1204,#REF!,2,0)>0,1,0)","v":{"$error":"#REF!"}},"大概, 或许, 可能",null,1,1,1]
[1225,897081,"forward",{"$f":"IF(VLOOKUP(C1205,#REF!,2,0)>0,1,0)","v":{"$error":"#REF!"}},"向前, 前进",null,0,1,1]
[1226,966182,"list",{"$f":"IF(VLOOKUP(C1206,#REF!,2,0)>0,1,0)","v":{"$error":"#REF!"}},"清单, 列清单",null,1,1,1]
[1227,782601,"below",{"$f":"IF(VLOOKUP(C1207,#REF!,2,0)>0,1,0)","v":{"$error":"#REF!"}},"在…下面",null,0,1,1]
[1228,782601,"below",{"$f":"IF(VLOOKUP(C1208,#REF!,2,0)>0,1,0)","v":{"$error":"#REF!"}},"向下",null,0,0,0]
[1229,782601,"below",{"$f":"IF(VLOOKUP(C1209,#REF!,2,0)>0,1,0)","v":{"$error":"#REF!"}},"在下面, 到下面",null,0,1,1]
[1230,911004,"government",{"$f":"IF(VLOOKUP(C1210,#REF!,2,0)>0,1,0)","v":{"$error":"#REF!"}},"政府",null,0,1,1]
[1231,920238,"heat",{"$f":"IF(VLOOKUP(C1211,#REF!,2,0)>0,1,0)","v":{"$error":"#REF!"}},"热",null,0,1,1]
[1232,920238,"heat",{"$f":"IF(VLOOKUP(C1212,#REF!,2,0)>0,1,0)","v":{"$error":"#REF!"}},"加热",null,0,1,1]
[1233,833816,"couple",{"$f":"IF(VLOOKUP(C1213,#REF!,2,0)>0,1,0)","v":{"$error":"#REF!"}},"夫妻, 情侣",null,0,1,1]
[1234,833816,"couple",{"$f":"IF(VLOOKUP(C1214,#REF!,2,0)>0,1,0)","v":{"$error":"#REF!"}},"(一)对, (一)双",null,0,1,1]
[1235,766632,"article",{"$f":"IF(VLOOKUP(C1215,#REF!,2,0)>0,1,0)","v":{"$error":"#REF!"}},"物品",null,0,0,0]
[1236,766632,"article",{"$f":"IF(VLOOKUP(C1216,#REF!,2,0)>0,1,0)","v":{"$error":"#REF!"}},"文章",null,0,1,1]
[1237,855385,"disease",{"$f":"IF(VLOOKUP(C1217,#REF!,2,0)>0,1,0)","v":{"$error":"#REF!"}},"疾病",null,0,1,1]
[1238,995900,"nearby",{"$f":"IF(VLOOKUP(C1218,#REF!,2,0)>0,1,0)","v":{"$error":"#REF!"}},"附近",null,0,1,1]
[1239,922589,"herself",{"$f":"IF(VLOOKUP(C1219,#REF!,2,0)>0,1,0)","v":{"$error":"#REF!"}},"她自己",null,1,1,1]
[1240,1160424,"warn",{"$f":"IF(VLOOKUP(C1220,#REF!,2,0)>0,1,0)","v":{"$error":"#REF!"}},"警告, 预告",null,1,1,1]
[1241,1063244,"repair",{"$f":"IF(VLOOKUP(C1221,#REF!,2,0)>0,1,0)","v":{"$error":"#REF!"}},"修理, 修补",null,0,1,1]
[1242,748814,"action",{"$f":"IF(VLOOKUP(C1222,#REF!,2,0)>0,1,0)","v":{"$error":"#REF!"}},"动作",null,0,1,1]
[1243,748814,"action",{"$f":"IF(VLOOKUP(C1223,#REF!,2,0)>0,1,0)","v":{"$error":"#REF!"}},"活动",null,0,1,1]
[1244,748814,"action",{"$f":"IF(VLOOKUP(C1224,#REF!,2,0)>0,1,0)","v":{"$error":"#REF!"}},"功能, 作用",null,0,0,0]
[1245,1052126,"quick",{"$f":"IF(VLOOKUP(C1225,#REF!,2,0)>0,1,0)","v":{"$error":"#REF!"}},"快, 迅速",null,1,1,1]
[1246,957131,"lake",{"$f":"IF(VLOOKUP(C1226,#REF!,2,0)>0,1,0)","v":{"$error":"#REF!"}},"湖",null,1,1,1]
[1247,977905,"match",{"$f":"IF(VLOOKUP(C1227,#REF!,2,0)>0,1,0)","v":{"$error":"#REF!"}},"比赛, 竞赛",null,1,1,1]
[1248,977905,"match",{"$f":"IF(VLOOKUP(C1228,#REF!,2,0)>0,1,0)","v":{"$error":"#REF!"}},"匹配, 相称",null,0,1,1]
[1249,977905,"match",{"$f":"IF(VLOOKUP(C1229,#REF!,2,0)>0,1,0)","v":{"$error":"#REF!"}},"火柴",null,0,1,1]
[1250,1015149,"pain",{"$f":"IF(VLOOKUP(C1230,#REF!,2,0)>0,1,0)","v":{"$error":"#REF!"}},"疼痛, 痛苦",null,1,1,1]
[1251,1073519,"rush",{"$f":"IF(VLOOKUP(C1231,#REF!,2,0)>0,1,0)","v":{"$error":"#REF!"}},"冲, 奔, 仓促",null,0,1,1]
[1252,921549,"helpful",{"$f":"IF(VLOOKUP(C1232,#REF!,2,0)>0,1,0)","v":{"$error":"#REF!"}},"有帮助的, 有用的, 有益的",null,1,1,1]
[1253,1094626,"smoke",{"$f":"IF(VLOOKUP(C1233,#REF!,2,0)>0,1,0)","v":{"$error":"#REF!"}},"烟, 吸烟",null,1,1,1]
[1254,808866,"charge",{"$f":"IF(VLOOKUP(C1234,#REF!,2,0)>0,1,0)","v":{"$error":"#REF!"}},"充电",null,0,0,1]
[1255,808866,"charge",{"$f":"IF(VLOOKUP(C1235,#REF!,2,0)>0,1,0)","v":{"$error":"#REF!"}},"收费, 索价",null,0,1,1]
[1256,808866,"charge",{"$f":"IF(VLOOKUP(C1236,#REF!,2,0)>0,1,0)","v":{"$error":"#REF!"}},"控诉, 指控",null,0,1,1]
[1257,1135123,"tooth",{"$f":"IF(VLOOKUP(C1237,#REF!,2,0)>0,1,0)","v":{"$error":"#REF!"}},"牙齿",null,1,1,1]
[1258,980188,"medicine",{"$f":"IF(VLOOKUP(C1238,#REF!,2,0)>0,1,0)","v":{"$error":"#REF!"}},"药, 内服药",null,1,1,1]
[1259,760457,"angry",{"$f":"IF(VLOOKUP(C1239,#REF!,2,0)>0,1,0)","v":{"$error":"#REF!"}},"生气的, 愤怒的, 发怒的",null,1,1,1]
[1260,973251,"mail",{"$f":"IF(VLOOKUP(C1240,#REF!,2,0)>0,1,0)","v":{"$error":"#REF!"}},"邮件, 邮寄",null,1,1,1]
[1261,1001298,"normal",{"$f":"IF(VLOOKUP(C1241,#REF!,2,0)>0,1,0)","v":{"$error":"#REF!"}},"正常, 常态, 标准",null,0,1,1]
[1262,953972,"kid",{"$f":"IF(VLOOKUP(C1242,#REF!,2,0)>0,1,0)","v":{"$error":"#REF!"}},"小孩",null,1,1,1]
[1263,953972,"kid",{"$f":"IF(VLOOKUP(C1243,#REF!,2,0)>0,1,0)","v":{"$error":"#REF!"}},"戏弄, 开玩笑",null,1,1,1]
[1264,1061153,"regular",{"$f":"IF(VLOOKUP(C1244,#REF!,2,0)>0,1,0)","v":{"$error":"#REF!"}},"有规律, 经常, 定期",null,0,0,1]
[1265,786288,"birthday",{"$f":"IF(VLOOKUP(C1245,#REF!,2,0)>0,1,0)","v":{"$error":"#REF!"}},"生日",null,1,1,1]
[1266,1118399,"swim",{"$f":"IF(VLOOKUP(C1246,#REF!,2,0)>0,1,0)","v":{"$error":"#REF!"}},"游泳",null,1,1,1]
[1267,838483,"cup",{"$f":"IF(VLOOKUP(C1247,#REF!,2,0)>0,1,0)","v":{"$error":"#REF!"}},"奖杯",null,0,1,1]
[1268,838483,"cup",{"$f":"IF(VLOOKUP(C1248,#REF!,2,0)>0,1,0)","v":{"$error":"#REF!"}},"杯子",null,1,1,1]
[1269,1090934,"sing",{"$f":"IF(VLOOKUP(C1249,#REF!,2,0)>0,1,0)","v":{"$error":"#REF!"}},"唱, 歌唱",null,1,1,1]
[1270,1164761,"wide",{"$f":"IF(VLOOKUP(C1250,#REF!,2,0)>0,1,0)","v":{"$error":"#REF!"}},"宽, 阔, 广泛",null,0,1,1]
[1271,794680,"brown",{"$f":"IF(VLOOKUP(C1251,#REF!,2,0)>0,1,0)","v":{"$error":"#REF!"}},"褐色(的)",null,0,1,1]
[1272,794680,"brown",{"$f":"IF(VLOOKUP(C1252,#REF!,2,0)>0,1,0)","v":{"$error":"#REF!"}},"棕色(的)",null,1,1,1]
[1273,1097534,"song",{"$f":"IF(VLOOKUP(C1253,#REF!,2,0)>0,1,0)","v":{"$error":"#REF!"}},"歌, 歌曲",null,1,1,1]
[1274,914829,"guide",{"$f":"IF(VLOOKUP(C1254,#REF!,2,0)>0,1,0)","v":{"$error":"#REF!"}},"导游, 向导, 指南",null,1,1,1]
[1275,890121,"fit",{"$f":"IF(VLOOKUP(C1255,#REF!,2,0)>0,1,0)","v":{"$error":"#REF!"}},"适合, 适应",null,1,1,1]
[1276,1105448,"star",{"$f":"IF(VLOOKUP(C1256,#REF!,2,0)>0,1,0)","v":{"$error":"#REF!"}},"星, 明星",null,1,1,1]
[1277,855179,"discover",{"$f":"IF(VLOOKUP(C1257,#REF!,2,0)>0,1,0)","v":{"$error":"#REF!"}},"发现, 碰见",null,0,1,1]
[1278,1083614,"separate",{"$f":"IF(VLOOKUP(C1258,#REF!,2,0)>0,1,0)","v":{"$error":"#REF!"}},"分开, 分离, 区分",null,0,1,1]
[1279,823699,"completely",{"$f":"IF(VLOOKUP(C1259,#REF!,2,0)>0,1,0)","v":{"$error":"#REF!"}},"十分, 完全地",null,0,1,1]
[1280,951587,"joke",{"$f":"IF(VLOOKUP(C1260,#REF!,2,0)>0,1,0)","v":{"$error":"#REF!"}},"笑话, 玩笑, 戏弄",null,1,1,1]
[1281,818473,"coffee",{"$f":"IF(VLOOKUP(C1261,#REF!,2,0)>0,1,0)","v":{"$error":"#REF!"}},"咖啡",null,1,1,1]
[1282,818473,"coffee",{"$f":"IF(VLOOKUP(C1262,#REF!,2,0)>0,1,0)","v":{"$error":"#REF!"}},"咖啡豆",null,0,0,0]
[1283,802502,"careful",{"$f":"IF(VLOOKUP(C1263,#REF!,2,0)>0,1,0)","v":{"$error":"#REF!"}},"小心的, 仔细的",null,1,1,1]
[1284,918618,"hate",{"$f":"IF(VLOOKUP(C1264,#REF!,2,0)>0,1,0)","v":{"$error":"#REF!"}},"厌恶, 憎恨",null,1,1,1]
[1285,1074529,"sale",{"$f":"IF(VLOOKUP(C1265,#REF!,2,0)>0,1,0)","v":{"$error":"#REF!"}},"售卖, 特价促销",null,1,1,1]
[1286,1097208,"solve",{"$f":"IF(VLOOKUP(C1266,#REF!,2,0)>0,1,0)","v":{"$error":"#REF!"}},"解决, 解答",null,0,1,1]
[1287,970473,"lucky",{"$f":"IF(VLOOKUP(C1267,#REF!,2,0)>0,1,0)","v":{"$error":"#REF!"}},"幸运的",null,1,1,1]
[1288,848592,"destroy",{"$f":"IF(VLOOKUP(C1268,#REF!,2,0)>0,1,0)","v":{"$error":"#REF!"}},"破坏, 摧毁",null,0,1,1]
[1289,1044528,"project",{"$f":"IF(VLOOKUP(C1269,#REF!,2,0)>0,1,0)","v":{"$error":"#REF!"}},"项目, 工程",null,1,1,1]
[1290,1044528,"project",{"$f":"IF(VLOOKUP(C1270,#REF!,2,0)>0,1,0)","v":{"$error":"#REF!"}},"放映, 展现",null,0,0,0]
[1291,854605,"disappear",{"$f":"IF(VLOOKUP(C1271,#REF!,2,0)>0,1,0)","v":{"$error":"#REF!"}},"消失, 灭绝",null,0,1,1]
[1292,1160701,"waste",{"$f":"IF(VLOOKUP(C1272,#REF!,2,0)>0,1,0)","v":{"$error":"#REF!"}},"浪费, 荒芜, 废物",null,1,1,1]
[1293,873514,"environment",{"$f":"IF(VLOOKUP(C1273,#REF!,2,0)>0,1,0)","v":{"$error":"#REF!"}},"环境, 外界",null,0,1,1]
[1294,981104,"memory",{"$f":"IF(VLOOKUP(C1274,#REF!,2,0)>0,1,0)","v":{"$error":"#REF!"}},"记忆, 记忆力, 回忆",null,0,1,1]
[1295,796364,"burn",{"$f":"IF(VLOOKUP(C1275,#REF!,2,0)>0,1,0)","v":{"$error":"#REF!"}},"燃烧, 烧伤, 烧坏",null,0,1,1]
[1296,796364,"burn",{"$f":"IF(VLOOKUP(C1276,#REF!,2,0)>0,1,0)","v":{"$error":"#REF!"}},"烧伤, 烧痕",null,0,1,1]
[1297,830518,"cool",{"$f":"IF(VLOOKUP(C1277,#REF!,2,0)>0,1,0)","v":{"$error":"#REF!"}},"酷的",null,1,1,1]
[1298,830518,"cool",{"$f":"IF(VLOOKUP(C1278,#REF!,2,0)>0,1,0)","v":{"$error":"#REF!"}},"冷静的",null,0,0,0]
[1299,830518,"cool",{"$f":"IF(VLOOKUP(C1279,#REF!,2,0)>0,1,0)","v":{"$error":"#REF!"}},"凉",null,1,1,1]
[1300,1106851,"steal",{"$f":"IF(VLOOKUP(C1280,#REF!,2,0)>0,1,0)","v":{"$error":"#REF!"}},"偷, 窃取",null,0,1,1]
[1301,1103076,"spring",{"$f":"IF(VLOOKUP(C1281,#REF!,2,0)>0,1,0)","v":{"$error":"#REF!"}},"泉, 源泉",null,0,0,0]
[1302,1103076,"spring",{"$f":"IF(VLOOKUP(C1282,#REF!,2,0)>0,1,0)","v":{"$error":"#REF!"}},"春天",null,1,1,1]
[1303,1069488,"rock",{"$f":"IF(VLOOKUP(C1283,#REF!,2,0)>0,1,0)","v":{"$error":"#REF!"}},"岩石, 石头",null,1,1,1]
[1304,1069488,"rock",{"$f":"IF(VLOOKUP(C1284,#REF!,2,0)>0,1,0)","v":{"$error":"#REF!"}},"摇晃, 摇动",null,0,0,0]
[1305,1069488,"rock",{"$f":"IF(VLOOKUP(C1285,#REF!,2,0)>0,1,0)","v":{"$error":"#REF!"}},"摇滚乐",null,0,1,1]
[1306,1085326,"settle",{"$f":"IF(VLOOKUP(C1286,#REF!,2,0)>0,1,0)","v":{"$error":"#REF!"}},"解决, 安顿, 定居",null,0,0,1]
[1307,1031891,"plenty",{"$f":"IF(VLOOKUP(C1287,#REF!,2,0)>0,1,0)","v":{"$error":"#REF!"}},"丰富, 大量",null,0,1,1]
[1308,1097849,"sort",{"$f":"IF(VLOOKUP(C1288,#REF!,2,0)>0,1,0)","v":{"$error":"#REF!"}},"种类, 品种, 分类, 整理",null,0,1,1]
[1309,749309,"actually",{"$f":"IF(VLOOKUP(C1289,#REF!,2,0)>0,1,0)","v":{"$error":"#REF!"}},"的确",null,0,1,1]
[1310,749309,"actually",{"$f":"IF(VLOOKUP(C1290,#REF!,2,0)>0,1,0)","v":{"$error":"#REF!"}},"真实地",null,0,1,1]
[1311,749309,"actually",{"$f":"IF(VLOOKUP(C1291,#REF!,2,0)>0,1,0)","v":{"$error":"#REF!"}},"事实上",null,0,1,1]
[1312,770287,"attract",{"$f":"IF(VLOOKUP(C1292,#REF!,2,0)>0,1,0)","v":{"$error":"#REF!"}},"吸引, 引起注意",null,0,1,1]
[1313,802504,"carefully",{"$f":"IF(VLOOKUP(C1293,#REF!,2,0)>0,1,0)","v":{"$error":"#REF!"}},"小心地, 谨慎地",null,0,0,0]
[1314,823552,"complete",{"$f":"IF(VLOOKUP(C1294,#REF!,2,0)>0,1,0)","v":{"$error":"#REF!"}},"完成",null,0,1,1]
[1315,823552,"complete",{"$f":"IF(VLOOKUP(C1295,#REF!,2,0)>0,1,0)","v":{"$error":"#REF!"}},"全部的, 完整的",null,0,1,1]
[1316,877735,"event",{"$f":"IF(VLOOKUP(C1296,#REF!,2,0)>0,1,0)","v":{"$error":"#REF!"}},"事件, 赛事",null,0,1,1]
[1317,887194,"figure",{"$f":"IF(VLOOKUP(C1297,#REF!,2,0)>0,1,0)","v":{"$error":"#REF!"}},"数字, 计算",null,0,1,1]
[1318,887194,"figure",{"$f":"IF(VLOOKUP(C1298,#REF!,2,0)>0,1,0)","v":{"$error":"#REF!"}},"描绘, 图解, 轮廓",null,0,0,1]
[1319,887194,"figure",{"$f":"IF(VLOOKUP(C1299,#REF!,2,0)>0,1,0)","v":{"$error":"#REF!"}},"出现",null,0,0,0]
[1320,912258,"grass",{"$f":"IF(VLOOKUP(C1300,#REF!,2,0)>0,1,0)","v":{"$error":"#REF!"}},"草, 草坪",null,1,1,1]
[1321,731875,"Monday",{"$f":"IF(VLOOKUP(C1301,#REF!,2,0)>0,1,0)","v":{"$error":"#REF!"}},"星期一",null,1,1,1]
[1322,749156,"activity",{"$f":"IF(VLOOKUP(C1302,#REF!,2,0)>0,1,0)","v":{"$error":"#REF!"}},"活动",null,0,1,1]
[1323,1018813,"passage",{"$f":"IF(VLOOKUP(C1303,#REF!,2,0)>0,1,0)","v":{"$error":"#REF!"}},"通道",null,0,0,1]
[1324,1018813,"passage",{"$f":"IF(VLOOKUP(C1304,#REF!,2,0)>0,1,0)","v":{"$error":"#REF!"}},"(文章的)章节",null,0,1,1]
[1325,1114483,"suddenly",{"$f":"IF(VLOOKUP(C1305,#REF!,2,0)>0,1,0)","v":{"$error":"#REF!"}},"突然地",null,1,1,1]
[1326,1123350,"task",{"$f":"IF(VLOOKUP(C1306,#REF!,2,0)>0,1,0)","v":{"$error":"#REF!"}},"任务",null,0,1,1]
[1327,1174509,"center",{"$f":"IF(VLOOKUP(C1307,#REF!,2,0)>0,1,0)","v":{"$error":"#REF!"}},"中心",null,1,1,1]
[1328,1174509,"center",{"$f":"IF(VLOOKUP(C1308,#REF!,2,0)>0,1,0)","v":{"$error":"#REF!"}},"集中, 居中",null,0,0,0]
[1329,984975,"milk",{"$f":"IF(VLOOKUP(C1309,#REF!,2,0)>0,1,0)","v":{"$error":"#REF!"}},"奶, 挤奶",null,1,1,1]
[1330,855369,"discuss",{"$f":"IF(VLOOKUP(C1310,#REF!,2,0)>0,1,0)","v":{"$error":"#REF!"}},"商量, 讨论",null,0,1,1]
[1331,842030,"dance",{"$f":"IF(VLOOKUP(C1311,#REF!,2,0)>0,1,0)","v":{"$error":"#REF!"}},"跳舞, 舞蹈",null,1,1,1]
[1332,804290,"cat",{"$f":"IF(VLOOKUP(C1312,#REF!,2,0)>0,1,0)","v":{"$error":"#REF!"}},"猫",null,1,1,1]
[1333,900024,"fruit",{"$f":"IF(VLOOKUP(C1313,#REF!,2,0)>0,1,0)","v":{"$error":"#REF!"}},"水果, 果实",null,1,1,1]
[1334,1043131,"probably",{"$f":"IF(VLOOKUP(C1314,#REF!,2,0)>0,1,0)","v":{"$error":"#REF!"}},"大概, 或许",null,0,1,1]
[1335,1043003,"prize",{"$f":"IF(VLOOKUP(C1315,#REF!,2,0)>0,1,0)","v":{"$error":"#REF!"}},"奖赏, 奖品, 奖金",null,1,1,1]
[1336,1137580,"traffic",{"$f":"IF(VLOOKUP(C1316,#REF!,2,0)>0,1,0)","v":{"$error":"#REF!"}},"交通, 车流",null,1,1,1]
[1337,776339,"banana",{"$f":"IF(VLOOKUP(C1317,#REF!,2,0)>0,1,0)","v":{"$error":"#REF!"}},"香蕉",null,1,1,1]
[1338,722406,"Europe",{"$f":"IF(VLOOKUP(C1318,#REF!,2,0)>0,1,0)","v":{"$error":"#REF!"}},"欧洲",null,0,1,1]
[1339,1133279,"tiny",{"$f":"IF(VLOOKUP(C1319,#REF!,2,0)>0,1,0)","v":{"$error":"#REF!"}},"很少的, 微小的",null,0,1,1]
[1340,789121,"boat",{"$f":"IF(VLOOKUP(C1320,#REF!,2,0)>0,1,0)","v":{"$error":"#REF!"}},"小船, 船, 轮船",null,1,1,1]
[1341,789121,"boat",{"$f":"IF(VLOOKUP(C1321,#REF!,2,0)>0,1,0)","v":{"$error":"#REF!"}},"划船",null,1,1,1]
[1342,959408,"launch",{"$f":"IF(VLOOKUP(C1322,#REF!,2,0)>0,1,0)","v":{"$error":"#REF!"}},"发射, 推出",null,0,1,1]
[1343,1164672,"whom",{"$f":"IF(VLOOKUP(C1323,#REF!,2,0)>0,1,0)","v":{"$error":"#REF!"}},"谁",null,0,1,1]
[1344,1030174,"plane",{"$f":"IF(VLOOKUP(C1324,#REF!,2,0)>0,1,0)","v":{"$error":"#REF!"}},"飞机",null,1,1,1]
[1345,748949,"active",{"$f":"IF(VLOOKUP(C1325,#REF!,2,0)>0,1,0)","v":{"$error":"#REF!"}},"活跃的, 积极的",null,1,1,1]
[1346,923376,"hide",{"$f":"IF(VLOOKUP(C1326,#REF!,2,0)>0,1,0)","v":{"$error":"#REF!"}},"隐藏, 躲避",null,1,1,1]
[1347,1046513,"proud",{"$f":"IF(VLOOKUP(C1327,#REF!,2,0)>0,1,0)","v":{"$error":"#REF!"}},"自豪的, 得意的",null,1,1,1]
[1348,1031701,"player",{"$f":"IF(VLOOKUP(C1328,#REF!,2,0)>0,1,0)","v":{"$error":"#REF!"}},"播放器",null,0,1,1]
[1349,1031701,"player",{"$f":"IF(VLOOKUP(C1329,#REF!,2,0)>0,1,0)","v":{"$error":"#REF!"}},"比赛者, 运动员",null,1,1,1]
[1350,842638,"date",{"$f":"IF(VLOOKUP(C1330,#REF!,2,0)>0,1,0)","v":{"$error":"#REF!"}},"日期, 年代",null,1,1,1]
[1351,842638,"date",{"$f":"IF(VLOOKUP(C1331,#REF!,2,0)>0,1,0)","v":{"$error":"#REF!"}},"与人约会, 相约",null,0,0,0]
[1352,991443,"movie",{"$f":"IF(VLOOKUP(C1332,#REF!,2,0)>0,1,0)","v":{"$error":"#REF!"}},"电影",null,0,1,1]
[1353,907251,"gift",{"$f":"IF(VLOOKUP(C1333,#REF!,2,0)>0,1,0)","v":{"$error":"#REF!"}},"天赋, 才能",null,0,1,1]
[1354,907251,"gift",{"$f":"IF(VLOOKUP(C1334,#REF!,2,0)>0,1,0)","v":{"$error":"#REF!"}},"赠品, 礼物",null,1,1,1]
[1355,832131,"correct",{"$f":"IF(VLOOKUP(C1335,#REF!,2,0)>0,1,0)","v":{"$error":"#REF!"}},"改错, 纠正",null,0,1,1]
[1356,832131,"correct",{"$f":"IF(VLOOKUP(C1336,#REF!,2,0)>0,1,0)","v":{"$error":"#REF!"}},"正确的",null,0,1,1]
[1357,948633,"island",{"$f":"IF(VLOOKUP(C1337,#REF!,2,0)>0,1,0)","v":{"$error":"#REF!"}},"岛, 岛屿",null,1,1,1]
[1358,1057721,"recent",{"$f":"IF(VLOOKUP(C1338,#REF!,2,0)>0,1,0)","v":{"$error":"#REF!"}},"最近的, 近代的",null,0,1,1]
[1359,1163348,"west",{"$f":"IF(VLOOKUP(C1339,#REF!,2,0)>0,1,0)","v":{"$error":"#REF!"}},"西",null,1,1,1]
[1360,753661,"aim",{"$f":"IF(VLOOKUP(C1340,#REF!,2,0)>0,1,0)","v":{"$error":"#REF!"}},"目标",null,0,1,1]
[1361,753661,"aim",{"$f":"IF(VLOOKUP(C1341,#REF!,2,0)>0,1,0)","v":{"$error":"#REF!"}},"对…瞄准",null,0,0,1]
[1362,753661,"aim",{"$f":"IF(VLOOKUP(C1342,#REF!,2,0)>0,1,0)","v":{"$error":"#REF!"}},"旨在, 以…为目标",null,0,0,1]
[1363,845668,"degree",{"$f":"IF(VLOOKUP(C1343,#REF!,2,0)>0,1,0)","v":{"$error":"#REF!"}},"度数, 度, 程度",null,1,1,1]
[1364,845668,"degree",{"$f":"IF(VLOOKUP(C1344,#REF!,2,0)>0,1,0)","v":{"$error":"#REF!"}},"学位",null,0,1,1]
[1365,1057121,"realize",{"$f":"IF(VLOOKUP(C1345,#REF!,2,0)>0,1,0)","v":{"$error":"#REF!"}},"实现, 意识到",null,0,1,1]
[1366,980118,"medical",{"$f":"IF(VLOOKUP(C1346,#REF!,2,0)>0,1,0)","v":{"$error":"#REF!"}},"医学的, 医疗的",null,0,1,1]
[1367,917450,"hang",{"$f":"IF(VLOOKUP(C1347,#REF!,2,0)>0,1,0)","v":{"$error":"#REF!"}},"悬挂",null,1,1,1]
[1368,917450,"hang",{"$f":"IF(VLOOKUP(C1348,#REF!,2,0)>0,1,0)","v":{"$error":"#REF!"}},"绞死",null,0,0,1]
[1369,950024,"itself",{"$f":"IF(VLOOKUP(C1349,#REF!,2,0)>0,1,0)","v":{"$error":"#REF!"}},"它本身, 它自己",null,0,1,1]
[1370,911374,"graduate",{"$f":"IF(VLOOKUP(C1350,#REF!,2,0)>0,1,0)","v":{"$error":"#REF!"}},"毕业, 毕业生",null,0,1,1]
[1371,1026780,"physical",{"$f":"IF(VLOOKUP(C1351,#REF!,2,0)>0,1,0)","v":{"$error":"#REF!"}},"物理的",null,0,0,1]
[1372,1026780,"physical",{"$f":"IF(VLOOKUP(C1352,#REF!,2,0)>0,1,0)","v":{"$error":"#REF!"}},"身体的, 肉体的",null,0,1,1]
[1373,826915,"connect",{"$f":"IF(VLOOKUP(C1353,#REF!,2,0)>0,1,0)","v":{"$error":"#REF!"}},"(使)连接, 与…有联系",null,0,1,1]
[1374,995129,"national",{"$f":"IF(VLOOKUP(C1354,#REF!,2,0)>0,1,0)","v":{"$error":"#REF!"}},"国家的, 民族的",null,1,1,1]
[1375,1114676,"suggestion",{"$f":"IF(VLOOKUP(C1355,#REF!,2,0)>0,1,0)","v":{"$error":"#REF!"}},"建议, 提议",null,0,1,1]
[1376,995343,"natural",{"$f":"IF(VLOOKUP(C1356,#REF!,2,0)>0,1,0)","v":{"$error":"#REF!"}},"自然的, 天生的",null,0,1,1]
[1377,985502,"mine",{"$f":"IF(VLOOKUP(C1357,#REF!,2,0)>0,1,0)","v":{"$error":"#REF!"}},"我的",null,1,1,1]
[1378,985502,"mine",{"$f":"IF(VLOOKUP(C1358,#REF!,2,0)>0,1,0)","v":{"$error":"#REF!"}},"矿, 矿井, 挖坑",null,0,0,1]
[1379,985502,"mine",{"$f":"IF(VLOOKUP(C1359,#REF!,2,0)>0,1,0)","v":{"$error":"#REF!"}},"地雷, 埋雷",null,0,0,0]
[1380,1080732,"secret",{"$f":"IF(VLOOKUP(C1360,#REF!,2,0)>0,1,0)","v":{"$error":"#REF!"}},"秘密",null,0,1,1]
[1381,887101,"fifty",{"$f":"IF(VLOOKUP(C1361,#REF!,2,0)>0,1,0)","v":{"$error":"#REF!"}},"五十",null,1,1,1]
[1382,790977,"boss",{"$f":"IF(VLOOKUP(C1362,#REF!,2,0)>0,1,0)","v":{"$error":"#REF!"}},"老板, 上司",null,0,1,1]
[1383,790977,"boss",{"$f":"IF(VLOOKUP(C1363,#REF!,2,0)>0,1,0)","v":{"$error":"#REF!"}},"管理, 指挥, 发号施令",null,0,0,0]
[1384,790914,"borrow",{"$f":"IF(VLOOKUP(C1364,#REF!,2,0)>0,1,0)","v":{"$error":"#REF!"}},"向……借, 借入",null,1,1,1]
[1385,745393,"abroad",{"$f":"IF(VLOOKUP(C1365,#REF!,2,0)>0,1,0)","v":{"$error":"#REF!"}},"在国外, 到海外",null,0,1,1]
[1386,752612,"afford",{"$f":"IF(VLOOKUP(C1366,#REF!,2,0)>0,1,0)","v":{"$error":"#REF!"}},"承担得起(后果)",null,0,1,1]
[1387,752612,"afford",{"$f":"IF(VLOOKUP(C1367,#REF!,2,0)>0,1,0)","v":{"$error":"#REF!"}},"买得起",null,0,1,1]
[1388,878073,"exactly",{"$f":"IF(VLOOKUP(C1368,#REF!,2,0)>0,1,0)","v":{"$error":"#REF!"}},"准确地, 精确地",null,0,1,1]
[1389,792821,"bread",{"$f":"IF(VLOOKUP(C1369,#REF!,2,0)>0,1,0)","v":{"$error":"#REF!"}},"面包, 食物",null,1,1,1]
[1390,1033047,"pocket",{"$f":"IF(VLOOKUP(C1370,#REF!,2,0)>0,1,0)","v":{"$error":"#REF!"}},"衣袋, 口袋",null,1,1,1]
[1391,955178,"knock",{"$f":"IF(VLOOKUP(C1371,#REF!,2,0)>0,1,0)","v":{"$error":"#REF!"}},"敲, 击打",null,1,1,1]
[1392,883739,"farmer",{"$f":"IF(VLOOKUP(C1372,#REF!,2,0)>0,1,0)","v":{"$error":"#REF!"}},"农民, 农场主",null,1,1,1]
[1393,882403,"factory",{"$f":"IF(VLOOKUP(C1373,#REF!,2,0)>0,1,0)","v":{"$error":"#REF!"}},"工厂, 制造厂",null,1,1,1]
[1394,862478,"dry",{"$f":"IF(VLOOKUP(C1374,#REF!,2,0)>0,1,0)","v":{"$error":"#REF!"}},"干燥",null,1,1,1]
[1395,963301,"lift",{"$f":"IF(VLOOKUP(C1375,#REF!,2,0)>0,1,0)","v":{"$error":"#REF!"}},"电梯",null,0,1,1]
[1396,963301,"lift",{"$f":"IF(VLOOKUP(C1376,#REF!,2,0)>0,1,0)","v":{"$error":"#REF!"}},"举起, 抬起",null,0,1,1]
[1397,963301,"lift",{"$f":"IF(VLOOKUP(C1377,#REF!,2,0)>0,1,0)","v":{"$error":"#REF!"}},"搭便车",null,0,1,1]
[1398,1022193,"performance",{"$f":"IF(VLOOKUP(C1378,#REF!,2,0)>0,1,0)","v":{"$error":"#REF!"}},"表演, 表现",null,0,1,1]
[1399,1080056,"season",{"$f":"IF(VLOOKUP(C1379,#REF!,2,0)>0,1,0)","v":{"$error":"#REF!"}},"季, 季节",null,1,1,1]
[1400,954716,"kitchen",{"$f":"IF(VLOOKUP(C1380,#REF!,2,0)>0,1,0)","v":{"$error":"#REF!"}},"厨房",null,1,1,1]
[1401,1154626,"variety",{"$f":"IF(VLOOKUP(C1381,#REF!,2,0)>0,1,0)","v":{"$error":"#REF!"}},"多样, 多样性",null,0,1,1]
[1402,1130652,"thirty",{"$f":"IF(VLOOKUP(C1382,#REF!,2,0)>0,1,0)","v":{"$error":"#REF!"}},"三十",null,1,1,1]
[1403,1155073,"vegetable",{"$f":"IF(VLOOKUP(C1383,#REF!,2,0)>0,1,0)","v":{"$error":"#REF!"}},"蔬菜",null,1,1,1]
[1404,1057728,"recently",{"$f":"IF(VLOOKUP(C1384,#REF!,2,0)>0,1,0)","v":{"$error":"#REF!"}},"最近, 不久以前",null,0,1,1]
[1405,870849,"empty",{"$f":"IF(VLOOKUP(C1385,#REF!,2,0)>0,1,0)","v":{"$error":"#REF!"}},"空的",null,0,1,1]
[1406,1086121,"shape",{"$f":"IF(VLOOKUP(C1386,#REF!,2,0)>0,1,0)","v":{"$error":"#REF!"}},"外形, 形状, 塑形",null,0,1,1]
[1407,1114152,"succeed",{"$f":"IF(VLOOKUP(C1387,#REF!,2,0)>0,1,0)","v":{"$error":"#REF!"}},"取得成功",null,0,1,1]
[1408,1125410,"temperature",{"$f":"IF(VLOOKUP(C1388,#REF!,2,0)>0,1,0)","v":{"$error":"#REF!"}},"温度, 气温",null,0,1,1]
[1409,863944,"duty",{"$f":"IF(VLOOKUP(C1389,#REF!,2,0)>0,1,0)","v":{"$error":"#REF!"}},"义务, 责任, 职责",null,0,1,1]
[1410,960295,"leader",{"$f":"IF(VLOOKUP(C1390,#REF!,2,0)>0,1,0)","v":{"$error":"#REF!"}},"领导, 领袖",null,0,1,1]
[1411,810442,"chicken",{"$f":"IF(VLOOKUP(C1391,#REF!,2,0)>0,1,0)","v":{"$error":"#REF!"}},"小鸡, 鸡肉",null,1,1,1]
[1412,810442,"chicken",{"$f":"IF(VLOOKUP(C1392,#REF!,2,0)>0,1,0)","v":{"$error":"#REF!"}},"胆小鬼, 懦夫",null,0,0,0]
[1413,1036897,"post",{"$f":"IF(VLOOKUP(C1393,#REF!,2,0)>0,1,0)","v":{"$error":"#REF!"}},"邮政, 邮件",null,1,1,1]
[1414,1036897,"post",{"$f":"IF(VLOOKUP(C1394,#REF!,2,0)>0,1,0)","v":{"$error":"#REF!"}},"张贴",null,0,1,1]
[1415,1036897,"post",{"$f":"IF(VLOOKUP(C1395,#REF!,2,0)>0,1,0)","v":{"$error":"#REF!"}},"在…过后",null,0,0,0]
[1416,878128,"examine",{"$f":"IF(VLOOKUP(C1396,#REF!,2,0)>0,1,0)","v":{"$error":"#REF!"}},"检查",null,0,1,1]
[1417,878128,"examine",{"$f":"IF(VLOOKUP(C1397,#REF!,2,0)>0,1,0)","v":{"$error":"#REF!"}},"检验",null,0,1,1]
[1418,959961,"lazy",{"$f":"IF(VLOOKUP(C1398,#REF!,2,0)>0,1,0)","v":{"$error":"#REF!"}},"懒惰的, 懒散的",null,1,1,1]
[1419,877875,"everywhere",{"$f":"IF(VLOOKUP(C1399,#REF!,2,0)>0,1,0)","v":{"$error":"#REF!"}},"各处, 到处",null,1,1,1]
[1420,1146712,"uncle",{"$f":"IF(VLOOKUP(C1400,#REF!,2,0)>0,1,0)","v":{"$error":"#REF!"}},"叔父, 伯父, 姑父, 舅父, 姨父",null,1,1,1]
[1421,1098964,"spare",{"$f":"IF(VLOOKUP(C1401,#REF!,2,0)>0,1,0)","v":{"$error":"#REF!"}},"省出来的, 备用的, 空闲的",null,0,1,1]
[1422,910078,"god",{"$f":"IF(VLOOKUP(C1402,#REF!,2,0)>0,1,0)","v":{"$error":"#REF!"}},"神",null,0,1,1]
[1423,1144639,"twice",{"$f":"IF(VLOOKUP(C1403,#REF!,2,0)>0,1,0)","v":{"$error":"#REF!"}},"两次, 两倍",null,1,1,1]
[1424,1001248,"nor",{"$f":"IF(VLOOKUP(C1404,#REF!,2,0)>0,1,0)","v":{"$error":"#REF!"}},"也不",null,0,1,1]
[1425,1135457,"topic",{"$f":"IF(VLOOKUP(C1405,#REF!,2,0)>0,1,0)","v":{"$error":"#REF!"}},"话题, 主题",null,1,1,1]
[1426,816573,"cloud",{"$f":"IF(VLOOKUP(C1406,#REF!,2,0)>0,1,0)","v":{"$error":"#REF!"}},"云",null,1,1,1]
[1427,816573,"cloud",{"$f":"IF(VLOOKUP(C1407,#REF!,2,0)>0,1,0)","v":{"$error":"#REF!"}},"一团",null,0,0,0]
[1428,1112372,"stupid",{"$f":"IF(VLOOKUP(C1408,#REF!,2,0)>0,1,0)","v":{"$error":"#REF!"}},"愚蠢的",null,0,1,1]
[1429,1015165,"paint",{"$f":"IF(VLOOKUP(C1409,#REF!,2,0)>0,1,0)","v":{"$error":"#REF!"}},"颜料, 油漆, 刷漆, 绘画",null,1,1,1]
[1430,858326,"dollar",{"$f":"IF(VLOOKUP(C1410,#REF!,2,0)>0,1,0)","v":{"$error":"#REF!"}},"美元",null,1,1,1]
[1431,993546,"museum",{"$f":"IF(VLOOKUP(C1411,#REF!,2,0)>0,1,0)","v":{"$error":"#REF!"}},"博物馆",null,1,1,1]
[1432,878647,"exciting",{"$f":"IF(VLOOKUP(C1412,#REF!,2,0)>0,1,0)","v":{"$error":"#REF!"}},"令人兴奋的, 使人激动的",null,1,1,1]
[1433,939602,"industry",{"$f":"IF(VLOOKUP(C1413,#REF!,2,0)>0,1,0)","v":{"$error":"#REF!"}},"工业, 产业",null,0,1,1]
[1434,888105,"final",{"$f":"IF(VLOOKUP(C1414,#REF!,2,0)>0,1,0)","v":{"$error":"#REF!"}},"最后, 最终, 决赛",null,0,1,1]
[1435,946982,"invent",{"$f":"IF(VLOOKUP(C1415,#REF!,2,0)>0,1,0)","v":{"$error":"#REF!"}},"发明, 创造",null,0,1,1]
[1436,905374,"generation",{"$f":"IF(VLOOKUP(C1416,#REF!,2,0)>0,1,0)","v":{"$error":"#REF!"}},"代, 一代（人）",null,0,1,1]
[1437,792749,"brave",{"$f":"IF(VLOOKUP(C1417,#REF!,2,0)>0,1,0)","v":{"$error":"#REF!"}},"勇敢的",null,0,1,1]
[1438,1044384,"progress",{"$f":"IF(VLOOKUP(C1418,#REF!,2,0)>0,1,0)","v":{"$error":"#REF!"}},"进步, 进展",null,0,1,1]
[1439,770254,"attitude",{"$f":"IF(VLOOKUP(C1419,#REF!,2,0)>0,1,0)","v":{"$error":"#REF!"}},"态度",null,0,0,1]
[1440,770254,"attitude",{"$f":"IF(VLOOKUP(C1420,#REF!,2,0)>0,1,0)","v":{"$error":"#REF!"}},"看法",null,0,0,1]
[1441,987118,"mix",{"$f":"IF(VLOOKUP(C1421,#REF!,2,0)>0,1,0)","v":{"$error":"#REF!"}},"混合",null,1,1,1]
[1442,885155,"feeling",{"$f":"IF(VLOOKUP(C1422,#REF!,2,0)>0,1,0)","v":{"$error":"#REF!"}},"知觉, 情绪",null,0,0,0]
[1443,740628,"Thursday",{"$f":"IF(VLOOKUP(C1423,#REF!,2,0)>0,1,0)","v":{"$error":"#REF!"}},"星期四",null,1,1,1]
[1444,929016,"hunt",{"$f":"IF(VLOOKUP(C1424,#REF!,2,0)>0,1,0)","v":{"$error":"#REF!"}},"打猎, 猎杀",null,0,1,1]
[1445,929016,"hunt",{"$f":"IF(VLOOKUP(C1425,#REF!,2,0)>0,1,0)","v":{"$error":"#REF!"}},"寻找, 搜索",null,0,1,1]
[1446,1161687,"wave",{"$f":"IF(VLOOKUP(C1426,#REF!,2,0)>0,1,0)","v":{"$error":"#REF!"}},"挥动, 摇动, 飘动, 波动, 波浪",null,0,1,1]
[1447,976228,"March",{"$f":"IF(VLOOKUP(C1427,#REF!,2,0)>0,1,0)","v":{"$error":"#REF!"}},"进军, 前进",null,0,0,0]
[1448,976228,"March",{"$f":"IF(VLOOKUP(C1428,#REF!,2,0)>0,1,0)","v":{"$error":"#REF!"}},"三月",null,1,1,1]
[1449,1007440,"onto",{"$f":"IF(VLOOKUP(C1429,#REF!,2,0)>0,1,0)","v":{"$error":"#REF!"}},"到…上",null,0,1,1]
[1450,1060732,"regard",{"$f":"IF(VLOOKUP(C1430,#REF!,2,0)>0,1,0)","v":{"$error":"#REF!"}},"注意, 注视, 尊敬",null,0,1,1]
[1451,793695,"bright",{"$f":"IF(VLOOKUP(C1431,#REF!,2,0)>0,1,0)","v":{"$error":"#REF!"}},"聪明的",null,0,1,1]
[1452,793695,"bright",{"$f":"IF(VLOOKUP(C1432,#REF!,2,0)>0,1,0)","v":{"$error":"#REF!"}},"明亮的",null,1,1,1]
[1453,788360,"blood",{"$f":"IF(VLOOKUP(C1433,#REF!,2,0)>0,1,0)","v":{"$error":"#REF!"}},"血, 血液",null,0,1,1]
[1454,1041233,"pretty",{"$f":"IF(VLOOKUP(C1434,#REF!,2,0)>0,1,0)","v":{"$error":"#REF!"}},"相当, 颇",null,0,1,1]
[1455,1041233,"pretty",{"$f":"IF(VLOOKUP(C1435,#REF!,2,0)>0,1,0)","v":{"$error":"#REF!"}},"漂亮的",null,1,1,1]
[1456,883248,"familiar",{"$f":"IF(VLOOKUP(C1436,#REF!,2,0)>0,1,0)","v":{"$error":"#REF!"}},"熟悉的, 通晓的",null,0,1,1]
[1457,878216,"excellent",{"$f":"IF(VLOOKUP(C1437,#REF!,2,0)>0,1,0)","v":{"$error":"#REF!"}},"卓越的, 极好的",null,0,1,1]
[1458,918556,"hat",{"$f":"IF(VLOOKUP(C1438,#REF!,2,0)>0,1,0)","v":{"$error":"#REF!"}},"帽子",null,1,1,1]
[1459,773310,"avoid",{"$f":"IF(VLOOKUP(C1439,#REF!,2,0)>0,1,0)","v":{"$error":"#REF!"}},"避开",null,0,1,1]
[1460,773310,"avoid",{"$f":"IF(VLOOKUP(C1440,#REF!,2,0)>0,1,0)","v":{"$error":"#REF!"}},"避免",null,0,1,1]
[1461,773310,"avoid",{"$f":"IF(VLOOKUP(C1441,#REF!,2,0)>0,1,0)","v":{"$error":"#REF!"}},"预防",null,0,0,0]
[1462,1173224,"voice",{"$f":"IF(VLOOKUP(C1442,#REF!,2,0)>0,1,0)","v":{"$error":"#REF!"}},"嗓音",null,0,1,1]
[1463,989958,"moon",{"$f":"IF(VLOOKUP(C1443,#REF!,2,0)>0,1,0)","v":{"$error":"#REF!"}},"月球, 月亮",null,1,1,1]
[1464,1153155,"vacation",{"$f":"IF(VLOOKUP(C1444,#REF!,2,0)>0,1,0)","v":{"$error":"#REF!"}},"假期, 休假",null,1,1,1]
[1465,1025606,"photo",{"$f":"IF(VLOOKUP(C1445,#REF!,2,0)>0,1,0)","v":{"$error":"#REF!"}},"照片",null,1,1,1]
[1466,884692,"feed",{"$f":"IF(VLOOKUP(C1446,#REF!,2,0)>0,1,0)","v":{"$error":"#REF!"}},"喂养, 饲养",null,1,1,1]
[1467,1116551,"supply",{"$f":"IF(VLOOKUP(C1447,#REF!,2,0)>0,1,0)","v":{"$error":"#REF!"}},"补给, 供给, 给养",null,0,1,1]
[1468,770100,"attack",{"$f":"IF(VLOOKUP(C1448,#REF!,2,0)>0,1,0)","v":{"$error":"#REF!"}},"攻击, 袭击",null,0,1,1]
[1469,754847,"airport",{"$f":"IF(VLOOKUP(C1449,#REF!,2,0)>0,1,0)","v":{"$error":"#REF!"}},"机场",null,1,1,1]
[1470,754847,"airport",{"$f":"IF(VLOOKUP(C1450,#REF!,2,0)>0,1,0)","v":{"$error":"#REF!"}},"航空站",null,0,0,0]
[1471,831173,"copy",{"$f":"IF(VLOOKUP(C1451,#REF!,2,0)>0,1,0)","v":{"$error":"#REF!"}},"复制, 复制品",null,0,1,1]
[1472,1170603,"zoo",{"$f":"IF(VLOOKUP(C1452,#REF!,2,0)>0,1,0)","v":{"$error":"#REF!"}},"动物园",null,1,1,1]
[1473,970466,"luck",{"$f":"IF(VLOOKUP(C1453,#REF!,2,0)>0,1,0)","v":{"$error":"#REF!"}},"运气, 好运",null,1,1,1]
[1474,1123667,"taxi",{"$f":"IF(VLOOKUP(C1454,#REF!,2,0)>0,1,0)","v":{"$error":"#REF!"}},"出租车, 打车",null,1,1,1]
[1475,1123667,"taxi",{"$f":"IF(VLOOKUP(C1455,#REF!,2,0)>0,1,0)","v":{"$error":"#REF!"}},"滑行",null,0,0,0]
[1476,954449,"king",{"$f":"IF(VLOOKUP(C1456,#REF!,2,0)>0,1,0)","v":{"$error":"#REF!"}},"国王, 君主",null,1,1,1]
[1477,1162102,"weak",{"$f":"IF(VLOOKUP(C1457,#REF!,2,0)>0,1,0)","v":{"$error":"#REF!"}},"弱的, 虚弱的",null,1,1,1]
[1478,987681,"model",{"$f":"IF(VLOOKUP(C1458,#REF!,2,0)>0,1,0)","v":{"$error":"#REF!"}},"模型, 塑造",null,1,1,1]
[1479,987681,"model",{"$f":"IF(VLOOKUP(C1459,#REF!,2,0)>0,1,0)","v":{"$error":"#REF!"}},"模特",null,0,0,1]
[1480,1067778,"rice",{"$f":"IF(VLOOKUP(C1460,#REF!,2,0)>0,1,0)","v":{"$error":"#REF!"}},"米, 米饭",null,1,1,1]
[1481,834368,"cow",{"$f":"IF(VLOOKUP(C1461,#REF!,2,0)>0,1,0)","v":{"$error":"#REF!"}},"母牛, 乳牛",null,1,1,1]
[1482,1035849,"population",{"$f":"IF(VLOOKUP(C1462,#REF!,2,0)>0,1,0)","v":{"$error":"#REF!"}},"人口",null,0,1,1]
[1483,937539,"include",{"$f":"IF(VLOOKUP(C1463,#REF!,2,0)>0,1,0)","v":{"$error":"#REF!"}},"包括, 包含",null,0,1,1]
[1484,1136479,"tour",{"$f":"IF(VLOOKUP(C1464,#REF!,2,0)>0,1,0)","v":{"$error":"#REF!"}},"旅行, 旅游, 巡回",null,0,1,1]
[1485,755880,"alive",{"$f":"IF(VLOOKUP(C1465,#REF!,2,0)>0,1,0)","v":{"$error":"#REF!"}},"活着的, 活泼的, 有生气的",null,0,1,1]
[1486,1102589,"sport",{"$f":"IF(VLOOKUP(C1466,#REF!,2,0)>0,1,0)","v":{"$error":"#REF!"}},"运动, 运动会",null,1,1,1]
[1487,831816,"corner",{"$f":"IF(VLOOKUP(C1467,#REF!,2,0)>0,1,0)","v":{"$error":"#REF!"}},"拐角处, 角落",null,1,1,1]
[1488,751576,"advise",{"$f":"IF(VLOOKUP(C1468,#REF!,2,0)>0,1,0)","v":{"$error":"#REF!"}},"建议",null,0,1,1]
[1489,751576,"advise",{"$f":"IF(VLOOKUP(C1469,#REF!,2,0)>0,1,0)","v":{"$error":"#REF!"}},"劝告",null,0,1,1]
[1490,916537,"hall",{"$f":"IF(VLOOKUP(C1470,#REF!,2,0)>0,1,0)","v":{"$error":"#REF!"}},"礼堂, 大厅",null,1,1,1]
[1491,765544,"argue",{"$f":"IF(VLOOKUP(C1471,#REF!,2,0)>0,1,0)","v":{"$error":"#REF!"}},"争辩, 争吵",null,1,1,1]
[1492,765544,"argue",{"$f":"IF(VLOOKUP(C1472,#REF!,2,0)>0,1,0)","v":{"$error":"#REF!"}},"主张",null,0,0,0]
[1493,953890,"kick",{"$f":"IF(VLOOKUP(C1473,#REF!,2,0)>0,1,0)","v":{"$error":"#REF!"}},"踢, 踹",null,0,1,1]
[1494,1123739,"tea",{"$f":"IF(VLOOKUP(C1474,#REF!,2,0)>0,1,0)","v":{"$error":"#REF!"}},"茶, 茶叶, 喝茶",null,1,1,1]
[1495,914790,"guest",{"$f":"IF(VLOOKUP(C1475,#REF!,2,0)>0,1,0)","v":{"$error":"#REF!"}},"客人, 来宾",null,0,1,1]
[1496,848369,"desire",{"$f":"IF(VLOOKUP(C1476,#REF!,2,0)>0,1,0)","v":{"$error":"#REF!"}},"渴望, 希望",null,0,0,1]
[1497,1045264,"proper",{"$f":"IF(VLOOKUP(C1477,#REF!,2,0)>0,1,0)","v":{"$error":"#REF!"}},"适当的, 正当的, 正常的",null,0,1,1]
[1498,1136085,"total",{"$f":"IF(VLOOKUP(C1478,#REF!,2,0)>0,1,0)","v":{"$error":"#REF!"}},"总计, 总数, 全部, 完全, 绝对",null,0,1,1]
[1499,995126,"nation",{"$f":"IF(VLOOKUP(C1479,#REF!,2,0)>0,1,0)","v":{"$error":"#REF!"}},"国家",null,0,1,1]
[1500,995126,"nation",{"$f":"IF(VLOOKUP(C1480,#REF!,2,0)>0,1,0)","v":{"$error":"#REF!"}},"民族",null,0,0,1]
[1501,778039,"basic",{"$f":"IF(VLOOKUP(C1481,#REF!,2,0)>0,1,0)","v":{"$error":"#REF!"}},"基本的, 基础的",null,0,1,1]
[1502,783981,"beyond",{"$f":"IF(VLOOKUP(C1482,#REF!,2,0)>0,1,0)","v":{"$error":"#REF!"}},"超出, 超过",null,0,1,1]
[1503,1116701,"suppose",{"$f":"IF(VLOOKUP(C1483,#REF!,2,0)>0,1,0)","v":{"$error":"#REF!"}},"认为, 假定, 猜想",null,0,1,1]
[1504,1008051,"operate",{"$f":"IF(VLOOKUP(C1484,#REF!,2,0)>0,1,0)","v":{"$error":"#REF!"}},"操作, 手术",null,0,1,1]
[1505,1008051,"operate",{"$f":"IF(VLOOKUP(C1485,#REF!,2,0)>0,1,0)","v":{"$error":"#REF!"}},"经营",null,0,1,1]
[1506,898981,"fresh",{"$f":"IF(VLOOKUP(C1486,#REF!,2,0)>0,1,0)","v":{"$error":"#REF!"}},"新的, 新鲜的",null,1,1,1]
[1507,901399,"funny",{"$f":"IF(VLOOKUP(C1487,#REF!,2,0)>0,1,0)","v":{"$error":"#REF!"}},"有趣的, 好笑的",null,1,1,1]
[1508,926630,"honest",{"$f":"IF(VLOOKUP(C1488,#REF!,2,0)>0,1,0)","v":{"$error":"#REF!"}},"诚实, 正直",null,0,1,1]
[1509,1057099,"realise",{"$f":"IF(VLOOKUP(C1489,#REF!,2,0)>0,1,0)","v":{"$error":"#REF!"}},"认识到, 了解",null,0,1,1]
[1510,778370,"basketball",{"$f":"IF(VLOOKUP(C1490,#REF!,2,0)>0,1,0)","v":{"$error":"#REF!"}},"篮球",null,1,1,1]
[1511,717372,"British",{"$f":"IF(VLOOKUP(C1491,#REF!,2,0)>0,1,0)","v":{"$error":"#REF!"}},"英国的, 英国人的",null,1,1,1]
[1512,951894,"juice",{"$f":"IF(VLOOKUP(C1492,#REF!,2,0)>0,1,0)","v":{"$error":"#REF!"}},"果汁, 汁液",null,1,1,1]
[1513,876170,"especially",{"$f":"IF(VLOOKUP(C1493,#REF!,2,0)>0,1,0)","v":{"$error":"#REF!"}},"特别, 尤其",null,1,1,1]
[1514,1058333,"record",{"$f":"IF(VLOOKUP(C1494,#REF!,2,0)>0,1,0)","v":{"$error":"#REF!"}},"记录, 录制",null,0,1,1]
[1515,929006,"hungry",{"$f":"IF(VLOOKUP(C1495,#REF!,2,0)>0,1,0)","v":{"$error":"#REF!"}},"饥饿",null,1,1,1]
[1516,929006,"hungry",{"$f":"IF(VLOOKUP(C1496,#REF!,2,0)>0,1,0)","v":{"$error":"#REF!"}},"渴求",null,0,0,0]
[1517,1123393,"taste",{"$f":"IF(VLOOKUP(C1497,#REF!,2,0)>0,1,0)","v":{"$error":"#REF!"}},"滋味, 品尝",null,1,1,1]
[1518,854388,"director",{"$f":"IF(VLOOKUP(C1498,#REF!,2,0)>0,1,0)","v":{"$error":"#REF!"}},"导演",null,0,1,1]
[1519,854388,"director",{"$f":"IF(VLOOKUP(C1499,#REF!,2,0)>0,1,0)","v":{"$error":"#REF!"}},"主任, 经理, 董事",null,0,1,1]
[1520,1015248,"pair",{"$f":"IF(VLOOKUP(C1500,#REF!,2,0)>0,1,0)","v":{"$error":"#REF!"}},"一对, 一双, 配对",null,1,1,1]
[1521,1004508,"ocean",{"$f":"IF(VLOOKUP(C1501,#REF!,2,0)>0,1,0)","v":{"$error":"#REF!"}},"大海, 海洋",null,0,1,1]
[1522,989052,"monkey",{"$f":"IF(VLOOKUP(C1502,#REF!,2,0)>0,1,0)","v":{"$error":"#REF!"}},"猴子",null,1,1,1]
[1523,960674,"learning",{"$f":"IF(VLOOKUP(C1503,#REF!,2,0)>0,1,0)","v":{"$error":"#REF!"}},"学问, 学术, 学习",null,0,0,0]
[1524,1036891,"possibly",{"$f":"IF(VLOOKUP(C1504,#REF!,2,0)>0,1,0)","v":{"$error":"#REF!"}},"可能, 也许, 或许",null,0,1,1]
[1525,932672,"ice",{"$f":"IF(VLOOKUP(C1505,#REF!,2,0)>0,1,0)","v":{"$error":"#REF!"}},"冰",null,1,1,1]
[1526,1094514,"smell",{"$f":"IF(VLOOKUP(C1506,#REF!,2,0)>0,1,0)","v":{"$error":"#REF!"}},"气味, 闻, 嗅",null,1,1,1]
[1527,1135023,"tool",{"$f":"IF(VLOOKUP(C1507,#REF!,2,0)>0,1,0)","v":{"$error":"#REF!"}},"工具, 用具",null,0,1,1]
[1528,854496,"dirty",{"$f":"IF(VLOOKUP(C1508,#REF!,2,0)>0,1,0)","v":{"$error":"#REF!"}},"脏",null,1,1,1]
[1529,1144628,"twenty",{"$f":"IF(VLOOKUP(C1509,#REF!,2,0)>0,1,0)","v":{"$error":"#REF!"}},"二十",null,1,1,1]
[1530,954650,"kiss",{"$f":"IF(VLOOKUP(C1510,#REF!,2,0)>0,1,0)","v":{"$error":"#REF!"}},"吻, 接吻",null,0,1,1]
[1531,892191,"flight",{"$f":"IF(VLOOKUP(C1511,#REF!,2,0)>0,1,0)","v":{"$error":"#REF!"}},"飞行, 航班",null,0,1,1]
[1532,819691,"collection",{"$f":"IF(VLOOKUP(C1512,#REF!,2,0)>0,1,0)","v":{"$error":"#REF!"}},"收藏, 收集",null,0,1,1]
[1533,819691,"collection",{"$f":"IF(VLOOKUP(C1513,#REF!,2,0)>0,1,0)","v":{"$error":"#REF!"}},"募捐",null,0,0,1]
[1534,799797,"camp",{"$f":"IF(VLOOKUP(C1514,#REF!,2,0)>0,1,0)","v":{"$error":"#REF!"}},"营地",null,0,1,1]
[1535,799797,"camp",{"$f":"IF(VLOOKUP(C1515,#REF!,2,0)>0,1,0)","v":{"$error":"#REF!"}},"宿营, 露营",null,1,1,1]
[1536,1042524,"print",{"$f":"IF(VLOOKUP(C1516,#REF!,2,0)>0,1,0)","v":{"$error":"#REF!"}},"印, 印刷",null,0,1,1]
[1537,951799,"judge",{"$f":"IF(VLOOKUP(C1517,#REF!,2,0)>0,1,0)","v":{"$error":"#REF!"}},"法官, 裁判, 判决, 断定",null,0,1,1]
[1538,1118201,"sweet",{"$f":"IF(VLOOKUP(C1518,#REF!,2,0)>0,1,0)","v":{"$error":"#REF!"}},"甜的, 可爱的",null,1,1,1]
[1539,875961,"escape",{"$f":"IF(VLOOKUP(C1519,#REF!,2,0)>0,1,0)","v":{"$error":"#REF!"}},"逃逸, 躲过",null,0,1,1]
[1540,1037961,"pound",{"$f":"IF(VLOOKUP(C1520,#REF!,2,0)>0,1,0)","v":{"$error":"#REF!"}},"磅（重量）, 英镑",null,0,1,1]
[1541,1037961,"pound",{"$f":"IF(VLOOKUP(C1521,#REF!,2,0)>0,1,0)","v":{"$error":"#REF!"}},"(连续)猛击",null,0,0,1]
[1542,1104953,"standard",{"$f":"IF(VLOOKUP(C1522,#REF!,2,0)>0,1,0)","v":{"$error":"#REF!"}},"标准, 水平",null,0,1,1]
[1543,817405,"coat",{"$f":"IF(VLOOKUP(C1523,#REF!,2,0)>0,1,0)","v":{"$error":"#REF!"}},"外套",null,1,1,1]
[1544,817405,"coat",{"$f":"IF(VLOOKUP(C1524,#REF!,2,0)>0,1,0)","v":{"$error":"#REF!"}},"涂上",null,0,0,0]
[1545,817405,"coat",{"$f":"IF(VLOOKUP(C1525,#REF!,2,0)>0,1,0)","v":{"$error":"#REF!"}},"覆盖",null,0,0,0]
[1546,810619,"childhood",{"$f":"IF(VLOOKUP(C1526,#REF!,2,0)>0,1,0)","v":{"$error":"#REF!"}},"童年, 儿童时代",null,0,1,1]
[1547,833245,"count",{"$f":"IF(VLOOKUP(C1527,#REF!,2,0)>0,1,0)","v":{"$error":"#REF!"}},"数数",null,1,1,1]
[1548,833245,"count",{"$f":"IF(VLOOKUP(C1528,#REF!,2,0)>0,1,0)","v":{"$error":"#REF!"}},"总数",null,0,0,0]
[1549,833245,"count",{"$f":"IF(VLOOKUP(C1529,#REF!,2,0)>0,1,0)","v":{"$error":"#REF!"}},"重要",null,0,0,1]
[1550,951751,"joy",{"$f":"IF(VLOOKUP(C1530,#REF!,2,0)>0,1,0)","v":{"$error":"#REF!"}},"欢乐, 喜悦",null,1,1,1]
[1551,965684,"lion",{"$f":"IF(VLOOKUP(C1531,#REF!,2,0)>0,1,0)","v":{"$error":"#REF!"}},"狮子",null,1,1,1]
[1552,1163384,"wet",{"$f":"IF(VLOOKUP(C1532,#REF!,2,0)>0,1,0)","v":{"$error":"#REF!"}},"湿",null,1,1,1]
[1553,1166894,"wood",{"$f":"IF(VLOOKUP(C1533,#REF!,2,0)>0,1,0)","v":{"$error":"#REF!"}},"木材, 树木",null,1,1,1]
[1554,879912,"experiment",{"$f":"IF(VLOOKUP(C1534,#REF!,2,0)>0,1,0)","v":{"$error":"#REF!"}},"实验, 试验",null,1,1,1]
[1555,719204,"Christmas",{"$f":"IF(VLOOKUP(C1535,#REF!,2,0)>0,1,0)","v":{"$error":"#REF!"}},"圣诞节",null,1,1,1]
[1556,1163362,"western",{"$f":"IF(VLOOKUP(C1536,#REF!,2,0)>0,1,0)","v":{"$error":"#REF!"}},"西的, 西方的",null,0,1,1]
[1557,1110077,"straight",{"$f":"IF(VLOOKUP(C1537,#REF!,2,0)>0,1,0)","v":{"$error":"#REF!"}},"直, 笔直, 直率",null,1,1,1]
[1558,891332,"flat",{"$f":"IF(VLOOKUP(C1538,#REF!,2,0)>0,1,0)","v":{"$error":"#REF!"}},"公寓",null,0,1,1]
[1559,891332,"flat",{"$f":"IF(VLOOKUP(C1539,#REF!,2,0)>0,1,0)","v":{"$error":"#REF!"}},"平的",null,1,1,1]
[1560,869741,"eleven",{"$f":"IF(VLOOKUP(C1540,#REF!,2,0)>0,1,0)","v":{"$error":"#REF!"}},"十一",null,1,1,1]
[1561,1137398,"trade",{"$f":"IF(VLOOKUP(C1541,#REF!,2,0)>0,1,0)","v":{"$error":"#REF!"}},"贸易, 交易",null,0,1,1]
[1562,788570,"blow",{"$f":"IF(VLOOKUP(C1542,#REF!,2,0)>0,1,0)","v":{"$error":"#REF!"}},"吹, 刮",null,1,1,1]
[1563,788570,"blow",{"$f":"IF(VLOOKUP(C1543,#REF!,2,0)>0,1,0)","v":{"$error":"#REF!"}},"撞击, 打击, 殴打",null,0,0,0]
[1564,833187,"could",{"$f":"IF(VLOOKUP(C1544,#REF!,2,0)>0,1,0)","v":{"$error":"#REF!"}},"能, 可以",null,0,0,0]
[1565,714934,"America",{"$f":"IF(VLOOKUP(C1545,#REF!,2,0)>0,1,0)","v":{"$error":"#REF!"}},"美国, 美洲",null,0,1,1]
[1566,781914,"bedroom",{"$f":"IF(VLOOKUP(C1546,#REF!,2,0)>0,1,0)","v":{"$error":"#REF!"}},"卧室, 寝室",null,1,1,1]
[1567,1074096,"safety",{"$f":"IF(VLOOKUP(C1547,#REF!,2,0)>0,1,0)","v":{"$error":"#REF!"}},"安全, 安全性",null,1,1,1]
[1568,1087450,"shirt",{"$f":"IF(VLOOKUP(C1548,#REF!,2,0)>0,1,0)","v":{"$error":"#REF!"}},"衬衫, 衬衣",null,1,1,1]
[1569,903311,"gas",{"$f":"IF(VLOOKUP(C1549,#REF!,2,0)>0,1,0)","v":{"$error":"#REF!"}},"气体, 煤气",null,0,1,1]
[1570,903311,"gas",{"$f":"IF(VLOOKUP(C1550,#REF!,2,0)>0,1,0)","v":{"$error":"#REF!"}},"汽油, 加油",null,0,1,1]
[1571,977592,"master",{"$f":"IF(VLOOKUP(C1551,#REF!,2,0)>0,1,0)","v":{"$error":"#REF!"}},"掌握, 精通",null,0,0,1]
[1572,977592,"master",{"$f":"IF(VLOOKUP(C1552,#REF!,2,0)>0,1,0)","v":{"$error":"#REF!"}},"大师, 硕士",null,0,1,1]
[1573,977592,"master",{"$f":"IF(VLOOKUP(C1553,#REF!,2,0)>0,1,0)","v":{"$error":"#REF!"}},"主人",null,0,1,1]
[1574,1143039,"truth",{"$f":"IF(VLOOKUP(C1554,#REF!,2,0)>0,1,0)","v":{"$error":"#REF!"}},"真相, 事实, 现实",null,0,1,1]
[1575,879899,"experience",{"$f":"IF(VLOOKUP(C1555,#REF!,2,0)>0,1,0)","v":{"$error":"#REF!"}},"经验, 体验, 经历",null,0,1,1]
[1576,1052310,"quietly",{"$f":"IF(VLOOKUP(C1556,#REF!,2,0)>0,1,0)","v":{"$error":"#REF!"}},"静静地, 文静地",null,0,0,0]
[1577,1038705,"praise",{"$f":"IF(VLOOKUP(C1557,#REF!,2,0)>0,1,0)","v":{"$error":"#REF!"}},"称赞, 赞美",null,0,1,1]
[1578,1132148,"tie",{"$f":"IF(VLOOKUP(C1558,#REF!,2,0)>0,1,0)","v":{"$error":"#REF!"}},"扭结, 打结, 领结, 领带, 捆扎",null,1,1,1]
[1579,1018843,"passenger",{"$f":"IF(VLOOKUP(C1559,#REF!,2,0)>0,1,0)","v":{"$error":"#REF!"}},"乘客, 旅客",null,0,1,1]
[1580,917716,"happily",{"$f":"IF(VLOOKUP(C1560,#REF!,2,0)>0,1,0)","v":{"$error":"#REF!"}},"幸福地, 快乐地",null,1,1,1]
[1581,910171,"gold",{"$f":"IF(VLOOKUP(C1561,#REF!,2,0)>0,1,0)","v":{"$error":"#REF!"}},"黄金",null,0,1,1]
[1582,910171,"gold",{"$f":"IF(VLOOKUP(C1562,#REF!,2,0)>0,1,0)","v":{"$error":"#REF!"}},"金色的",null,0,1,1]
[1583,766915,"artist",{"$f":"IF(VLOOKUP(C1563,#REF!,2,0)>0,1,0)","v":{"$error":"#REF!"}},"艺术家, 画家",null,1,1,1]
[1584,1162772,"weight",{"$f":"IF(VLOOKUP(C1564,#REF!,2,0)>0,1,0)","v":{"$error":"#REF!"}},"重力, 重量, 负重",null,1,1,1]
[1585,1095253,"snow",{"$f":"IF(VLOOKUP(C1565,#REF!,2,0)>0,1,0)","v":{"$error":"#REF!"}},"雪",null,1,1,1]
[1586,1005355,"officer",{"$f":"IF(VLOOKUP(C1566,#REF!,2,0)>0,1,0)","v":{"$error":"#REF!"}},"官员, 军官",null,0,1,1]
[1587,852107,"dig",{"$f":"IF(VLOOKUP(C1567,#REF!,2,0)>0,1,0)","v":{"$error":"#REF!"}},"掘, 挖, 戳, 捅",null,0,1,1]
[1588,852107,"dig",{"$f":"IF(VLOOKUP(C1568,#REF!,2,0)>0,1,0)","v":{"$error":"#REF!"}},"挖苦",null,0,0,0]
[1589,1008412,"opinion",{"$f":"IF(VLOOKUP(C1569,#REF!,2,0)>0,1,0)","v":{"$error":"#REF!"}},"观点, 主张",null,0,1,1]
[1590,797763,"bye",{"$f":"IF(VLOOKUP(C1570,#REF!,2,0)>0,1,0)","v":{"$error":"#REF!"}},"再见",null,1,1,1]
[1591,1100154,"speech",{"$f":"IF(VLOOKUP(C1571,#REF!,2,0)>0,1,0)","v":{"$error":"#REF!"}},"演说, 讲话",null,1,1,1]
[1592,749968,"address",{"$f":"IF(VLOOKUP(C1572,#REF!,2,0)>0,1,0)","v":{"$error":"#REF!"}},"地址, 住址",null,1,1,1]
[1593,749968,"address",{"$f":"IF(VLOOKUP(C1573,#REF!,2,0)>0,1,0)","v":{"$error":"#REF!"}},"致辞, 演说",null,0,0,1]
[1594,749968,"address",{"$f":"IF(VLOOKUP(C1574,#REF!,2,0)>0,1,0)","v":{"$error":"#REF!"}},"称呼",null,0,0,1]
[1595,978175,"math",{"$f":"IF(VLOOKUP(C1575,#REF!,2,0)>0,1,0)","v":{"$error":"#REF!"}},"数学",null,1,1,1]
[1596,924206,"hill",{"$f":"IF(VLOOKUP(C1576,#REF!,2,0)>0,1,0)","v":{"$error":"#REF!"}},"小山, 丘陵",null,1,1,1]
[1597,1088810,"sick",{"$f":"IF(VLOOKUP(C1577,#REF!,2,0)>0,1,0)","v":{"$error":"#REF!"}},"病的, 不舒服的, 恶心的",null,1,1,1]
[1598,789033,"board",{"$f":"IF(VLOOKUP(C1578,#REF!,2,0)>0,1,0)","v":{"$error":"#REF!"}},"板, 木板, 甲板",null,0,1,1]
[1599,789033,"board",{"$f":"IF(VLOOKUP(C1579,#REF!,2,0)>0,1,0)","v":{"$error":"#REF!"}},"上(船、飞机等)",null,0,0,1]
[1600,1027908,"pig",{"$f":"IF(VLOOKUP(C1580,#REF!,2,0)>0,1,0)","v":{"$error":"#REF!"}},"猪, 猪肉",null,1,1,1]
[1601,969706,"loud",{"$f":"IF(VLOOKUP(C1581,#REF!,2,0)>0,1,0)","v":{"$error":"#REF!"}},"高声的, 大声的",null,1,1,1]
[1602,897540,"fourth",{"$f":"IF(VLOOKUP(C1582,#REF!,2,0)>0,1,0)","v":{"$error":"#REF!"}},"第四",null,1,1,1]
[1603,782319,"being",{"$f":"IF(VLOOKUP(C1583,#REF!,2,0)>0,1,0)","v":{"$error":"#REF!"}},"生命, 人, 生物",null,0,0,0]
[1604,782319,"being",{"$f":"IF(VLOOKUP(C1584,#REF!,2,0)>0,1,0)","v":{"$error":"#REF!"}},"存在",null,0,0,0]
[1605,782588,"belong",{"$f":"IF(VLOOKUP(C1585,#REF!,2,0)>0,1,0)","v":{"$error":"#REF!"}},"属于",null,0,1,1]
[1606,969831,"lovely",{"$f":"IF(VLOOKUP(C1586,#REF!,2,0)>0,1,0)","v":{"$error":"#REF!"}},"可爱的",null,1,1,1]
[1607,1130234,"thin",{"$f":"IF(VLOOKUP(C1587,#REF!,2,0)>0,1,0)","v":{"$error":"#REF!"}},"瘦的, 稀薄的, 变薄, 变淡",null,1,1,1]
[1608,894513,"focus",{"$f":"IF(VLOOKUP(C1588,#REF!,2,0)>0,1,0)","v":{"$error":"#REF!"}},"聚焦, 焦点",null,0,1,1]
[1609,1096651,"soldier",{"$f":"IF(VLOOKUP(C1589,#REF!,2,0)>0,1,0)","v":{"$error":"#REF!"}},"士兵, 军人",null,0,1,1]
[1610,1116925,"surface",{"$f":"IF(VLOOKUP(C1590,#REF!,2,0)>0,1,0)","v":{"$error":"#REF!"}},"面, 表面",null,0,1,1]
[1611,1111207,"strike",{"$f":"IF(VLOOKUP(C1591,#REF!,2,0)>0,1,0)","v":{"$error":"#REF!"}},"罢工",null,0,1,1]
[1612,1111207,"strike",{"$f":"IF(VLOOKUP(C1592,#REF!,2,0)>0,1,0)","v":{"$error":"#REF!"}},"敲打, 打击",null,0,0,1]
[1613,865041,"east",{"$f":"IF(VLOOKUP(C1593,#REF!,2,0)>0,1,0)","v":{"$error":"#REF!"}},"东",null,1,1,1]
[1614,976080,"map",{"$f":"IF(VLOOKUP(C1594,#REF!,2,0)>0,1,0)","v":{"$error":"#REF!"}},"地图",null,1,1,1]
[1615,1085906,"shake",{"$f":"IF(VLOOKUP(C1595,#REF!,2,0)>0,1,0)","v":{"$error":"#REF!"}},"摇动, 晃动, 握手",null,0,1,1]
[1616,1094452,"smart",{"$f":"IF(VLOOKUP(C1596,#REF!,2,0)>0,1,0)","v":{"$error":"#REF!"}},"聪明",null,1,1,1]
[1617,1108456,"stick",{"$f":"IF(VLOOKUP(C1597,#REF!,2,0)>0,1,0)","v":{"$error":"#REF!"}},"棍, 棒, 手杖",null,1,1,1]
[1618,1108456,"stick",{"$f":"IF(VLOOKUP(C1598,#REF!,2,0)>0,1,0)","v":{"$error":"#REF!"}},"粘贴, 粘住",null,1,1,1]
[1619,1042848,"private",{"$f":"IF(VLOOKUP(C1599,#REF!,2,0)>0,1,0)","v":{"$error":"#REF!"}},"私人的, 秘密的",null,0,1,1]
[1620,1003497,"nurse",{"$f":"IF(VLOOKUP(C1600,#REF!,2,0)>0,1,0)","v":{"$error":"#REF!"}},"护士, 护理, 看护, 保姆",null,1,1,1]
[1621,782264,"behavior",{"$f":"IF(VLOOKUP(C1601,#REF!,2,0)>0,1,0)","v":{"$error":"#REF!"}},"行为",null,0,0,1]
[1622,782264,"behavior",{"$f":"IF(VLOOKUP(C1602,#REF!,2,0)>0,1,0)","v":{"$error":"#REF!"}},"举止",null,0,0,0]
[1623,782264,"behavior",{"$f":"IF(VLOOKUP(C1603,#REF!,2,0)>0,1,0)","v":{"$error":"#REF!"}},"表现",null,0,0,0]
[1624,1021792,"percent",{"$f":"IF(VLOOKUP(C1604,#REF!,2,0)>0,1,0)","v":{"$error":"#REF!"}},"百分比, 百分数",null,0,1,1]
[1625,1101626,"spirit",{"$f":"IF(VLOOKUP(C1605,#REF!,2,0)>0,1,0)","v":{"$error":"#REF!"}},"精神, 心灵",null,0,1,1]
[1626,1130095,"thick",{"$f":"IF(VLOOKUP(C1606,#REF!,2,0)>0,1,0)","v":{"$error":"#REF!"}},"茂密的, 密集的, 厚的",null,0,1,1]
[1627,955023,"knife",{"$f":"IF(VLOOKUP(C1607,#REF!,2,0)>0,1,0)","v":{"$error":"#REF!"}},"刀, 餐刀",null,1,1,1]
[1628,855374,"discussion",{"$f":"IF(VLOOKUP(C1608,#REF!,2,0)>0,1,0)","v":{"$error":"#REF!"}},"讨论, 谈论",null,0,1,1]
[1629,877858,"everyday",{"$f":"IF(VLOOKUP(C1609,#REF!,2,0)>0,1,0)","v":{"$error":"#REF!"}},"每天的, 日常的",null,0,1,1]
[1630,1061129,"regret",{"$f":"IF(VLOOKUP(C1610,#REF!,2,0)>0,1,0)","v":{"$error":"#REF!"}},"后悔, 遗憾",null,0,1,1]
[1631,1111153,"strict",{"$f":"IF(VLOOKUP(C1611,#REF!,2,0)>0,1,0)","v":{"$error":"#REF!"}},"严格的, 严谨的",null,1,1,1]
[1632,1109890,"storm",{"$f":"IF(VLOOKUP(C1612,#REF!,2,0)>0,1,0)","v":{"$error":"#REF!"}},"暴风雨, 暴风雪",null,0,1,1]
[1633,967740,"lock",{"$f":"IF(VLOOKUP(C1613,#REF!,2,0)>0,1,0)","v":{"$error":"#REF!"}},"锁住, 锁",null,1,1,1]
[1634,1087177,"shine",{"$f":"IF(VLOOKUP(C1614,#REF!,2,0)>0,1,0)","v":{"$error":"#REF!"}},"照耀, 发光, 闪耀",null,1,1,1]
[1635,1051626,"quarter",{"$f":"IF(VLOOKUP(C1615,#REF!,2,0)>0,1,0)","v":{"$error":"#REF!"}},"四分之一, 一刻钟（1小时的1/4）",null,1,1,1]
[1636,866224,"edge",{"$f":"IF(VLOOKUP(C1616,#REF!,2,0)>0,1,0)","v":{"$error":"#REF!"}},"边, 边缘",null,0,1,1]
[1637,866224,"edge",{"$f":"IF(VLOOKUP(C1617,#REF!,2,0)>0,1,0)","v":{"$error":"#REF!"}},"优势",null,0,0,1]
[1638,866224,"edge",{"$f":"IF(VLOOKUP(C1618,#REF!,2,0)>0,1,0)","v":{"$error":"#REF!"}},"使锋利",null,0,0,0]
[1639,1008210,"operation",{"$f":"IF(VLOOKUP(C1619,#REF!,2,0)>0,1,0)","v":{"$error":"#REF!"}},"操作, 手术",null,0,1,1]
[1640,1008210,"operation",{"$f":"IF(VLOOKUP(C1620,#REF!,2,0)>0,1,0)","v":{"$error":"#REF!"}},"经营",null,0,0,1]
[1641,1096105,"soft",{"$f":"IF(VLOOKUP(C1621,#REF!,2,0)>0,1,0)","v":{"$error":"#REF!"}},"软的, 柔软的",null,1,1,1]
[1642,846134,"deliver",{"$f":"IF(VLOOKUP(C1622,#REF!,2,0)>0,1,0)","v":{"$error":"#REF!"}},"发表",null,0,0,1]
[1643,846134,"deliver",{"$f":"IF(VLOOKUP(C1623,#REF!,2,0)>0,1,0)","v":{"$error":"#REF!"}},"递送, 交付",null,0,1,1]
[1644,846134,"deliver",{"$f":"IF(VLOOKUP(C1624,#REF!,2,0)>0,1,0)","v":{"$error":"#REF!"}},"接生",null,0,0,1]
[1645,760015,"ancient",{"$f":"IF(VLOOKUP(C1625,#REF!,2,0)>0,1,0)","v":{"$error":"#REF!"}},"远古的, 古代的",null,0,1,1]
[1646,793519,"bridge",{"$f":"IF(VLOOKUP(C1626,#REF!,2,0)>0,1,0)","v":{"$error":"#REF!"}},"桥",null,1,1,1]
[1647,763141,"anywhere",{"$f":"IF(VLOOKUP(C1627,#REF!,2,0)>0,1,0)","v":{"$error":"#REF!"}},"任何地方, 无论何处",null,1,1,1]
[1648,850968,"dictionary",{"$f":"IF(VLOOKUP(C1628,#REF!,2,0)>0,1,0)","v":{"$error":"#REF!"}},"字典, 词典",null,1,1,1]
[1649,1097438,"somewhere",{"$f":"IF(VLOOKUP(C1629,#REF!,2,0)>0,1,0)","v":{"$error":"#REF!"}},"某处, 在某处",null,1,1,1]
[1650,1008508,"opposite",{"$f":"IF(VLOOKUP(C1630,#REF!,2,0)>0,1,0)","v":{"$error":"#REF!"}},"相反, 对面",null,0,1,1]
[1651,1023695,"pet",{"$f":"IF(VLOOKUP(C1631,#REF!,2,0)>0,1,0)","v":{"$error":"#REF!"}},"宠物",null,1,1,1]
[1652,1023695,"pet",{"$f":"IF(VLOOKUP(C1632,#REF!,2,0)>0,1,0)","v":{"$error":"#REF!"}},"爱抚",null,0,0,0]
[1653,1142569,"truck",{"$f":"IF(VLOOKUP(C1633,#REF!,2,0)>0,1,0)","v":{"$error":"#REF!"}},"卡车, 货车",null,0,1,1]
[1654,784387,"bicycle",{"$f":"IF(VLOOKUP(C1634,#REF!,2,0)>0,1,0)","v":{"$error":"#REF!"}},"脚踏车, 自行车",null,1,1,1]
[1655,895025,"fond",{"$f":"IF(VLOOKUP(C1635,#REF!,2,0)>0,1,0)","v":{"$error":"#REF!"}},"喜欢的, 宠爱的",null,0,1,1]
[1656,1091663,"sir",{"$f":"IF(VLOOKUP(C1636,#REF!,2,0)>0,1,0)","v":{"$error":"#REF!"}},"先生",null,1,1,1]
[1657,985342,"million",{"$f":"IF(VLOOKUP(C1637,#REF!,2,0)>0,1,0)","v":{"$error":"#REF!"}},"百万",null,1,1,1]
[1658,1136570,"toward",{"$f":"IF(VLOOKUP(C1638,#REF!,2,0)>0,1,0)","v":{"$error":"#REF!"}},"向, 对于, 为了",null,0,1,1]
[1659,1102458,"spoon",{"$f":"IF(VLOOKUP(C1639,#REF!,2,0)>0,1,0)","v":{"$error":"#REF!"}},"勺子",null,1,1,1]
[1660,853827,"direct",{"$f":"IF(VLOOKUP(C1640,#REF!,2,0)>0,1,0)","v":{"$error":"#REF!"}},"指路, 领路, 指导",null,0,1,1]
[1661,853827,"direct",{"$f":"IF(VLOOKUP(C1641,#REF!,2,0)>0,1,0)","v":{"$error":"#REF!"}},"直接, 笔直",null,0,1,1]
[1662,853827,"direct",{"$f":"IF(VLOOKUP(C1642,#REF!,2,0)>0,1,0)","v":{"$error":"#REF!"}},"导演",null,0,1,1]
[1663,1033978,"policeman",{"$f":"IF(VLOOKUP(C1643,#REF!,2,0)>0,1,0)","v":{"$error":"#REF!"}},"警察",null,1,1,1]
[1664,776832,"bar",{"$f":"IF(VLOOKUP(C1644,#REF!,2,0)>0,1,0)","v":{"$error":"#REF!"}},"酒吧, 柜台",null,0,1,1]
[1665,776832,"bar",{"$f":"IF(VLOOKUP(C1645,#REF!,2,0)>0,1,0)","v":{"$error":"#REF!"}},"禁止, 不准",null,0,0,1]
[1666,1174510,"others",{"$f":"IF(VLOOKUP(C1646,#REF!,2,0)>0,1,0)","v":{"$error":"#REF!"}},"其他的, 别的",null,0,0,0]
[1667,1142648,true,{"$f":"IF(VLOOKUP(C1647,#REF!,2,0)>0,1,0)","v":{"$error":"#REF!"}},"真实的, 正确的",null,0,1,1]
[1668,869575,"elephant",{"$f":"IF(VLOOKUP(C1648,#REF!,2,0)>0,1,0)","v":{"$error":"#REF!"}},"大象",null,1,1,1]
[1669,1165721,"winner",{"$f":"IF(VLOOKUP(C1649,#REF!,2,0)>0,1,0)","v":{"$error":"#REF!"}},"胜利者, 优胜者",null,1,1,1]
[1670,1097393,"somebody",{"$f":"IF(VLOOKUP(C1650,#REF!,2,0)>0,1,0)","v":{"$error":"#REF!"}},"某人, 有人",null,0,1,1]
[1671,763139,"anyway",{"$f":"IF(VLOOKUP(C1651,#REF!,2,0)>0,1,0)","v":{"$error":"#REF!"}},"不管怎样, 无论如何",null,1,1,1]
[1672,763139,"anyway",{"$f":"IF(VLOOKUP(C1652,#REF!,2,0)>0,1,0)","v":{"$error":"#REF!"}},"至少",null,0,1,1]
[1673,878391,"exchange",{"$f":"IF(VLOOKUP(C1653,#REF!,2,0)>0,1,0)","v":{"$error":"#REF!"}},"交换, 互换",null,0,1,1]
[1674,878391,"exchange",{"$f":"IF(VLOOKUP(C1654,#REF!,2,0)>0,1,0)","v":{"$error":"#REF!"}},"兑换",null,0,0,1]
[1675,768259,"assistant",{"$f":"IF(VLOOKUP(C1655,#REF!,2,0)>0,1,0)","v":{"$error":"#REF!"}},"助手, 助理",null,0,0,1]
[1676,768259,"assistant",{"$f":"IF(VLOOKUP(C1656,#REF!,2,0)>0,1,0)","v":{"$error":"#REF!"}},"助理的, 辅助的",null,0,0,0]
[1677,1132256,"tiger",{"$f":"IF(VLOOKUP(C1657,#REF!,2,0)>0,1,0)","v":{"$error":"#REF!"}},"老虎",null,1,1,1]
[1678,1078526,"score",{"$f":"IF(VLOOKUP(C1658,#REF!,2,0)>0,1,0)","v":{"$error":"#REF!"}},"得分, 评分",null,1,1,1]
[1679,834141,"cousin",{"$f":"IF(VLOOKUP(C1659,#REF!,2,0)>0,1,0)","v":{"$error":"#REF!"}},"堂兄(弟、姐、妹), 表兄(弟、姐、妹)",null,1,1,1]
[1680,1001808,"nose",{"$f":"IF(VLOOKUP(C1660,#REF!,2,0)>0,1,0)","v":{"$error":"#REF!"}},"鼻子",null,1,1,1]
[1681,1001808,"nose",{"$f":"IF(VLOOKUP(C1661,#REF!,2,0)>0,1,0)","v":{"$error":"#REF!"}},"嗅觉",null,0,0,0]
[1682,724196,"German",{"$f":"IF(VLOOKUP(C1662,#REF!,2,0)>0,1,0)","v":{"$error":"#REF!"}},"德语, 德国人, 德国的",null,0,1,1]
[1683,945460,"international",{"$f":"IF(VLOOKUP(C1663,#REF!,2,0)>0,1,0)","v":{"$error":"#REF!"}},"国际的",null,0,1,1]
[1684,995261,"native",{"$f":"IF(VLOOKUP(C1664,#REF!,2,0)>0,1,0)","v":{"$error":"#REF!"}},"出生地的, 本土的",null,0,1,1]
[1685,886179,"festival",{"$f":"IF(VLOOKUP(C1665,#REF!,2,0)>0,1,0)","v":{"$error":"#REF!"}},"节日, 喜庆日",null,1,1,1]
[1686,913150,"greet",{"$f":"IF(VLOOKUP(C1666,#REF!,2,0)>0,1,0)","v":{"$error":"#REF!"}},"问候, 向…致意",null,0,1,1]
[1687,1164831,"widely",{"$f":"IF(VLOOKUP(C1667,#REF!,2,0)>0,1,0)","v":{"$error":"#REF!"}},"广泛地, 普遍地",null,0,1,1]
[1688,742621,"Wednesday",{"$f":"IF(VLOOKUP(C1668,#REF!,2,0)>0,1,0)","v":{"$error":"#REF!"}},"星期三",null,1,1,1]
[1689,780818,"beach",{"$f":"IF(VLOOKUP(C1669,#REF!,2,0)>0,1,0)","v":{"$error":"#REF!"}},"海滩,沙滩",null,1,1,1]
[1691,849223,"development",{"$f":"IF(VLOOKUP(C1670,#REF!,2,0)>0,1,0)","v":{"$error":"#REF!"}},"发展, 开发, 生长",null,0,1,1]
[1692,898488,"freedom",{"$f":"IF(VLOOKUP(C1671,#REF!,2,0)>0,1,0)","v":{"$error":"#REF!"}},"自由",null,0,0,1]
[1693,960994,"lecture",{"$f":"IF(VLOOKUP(C1672,#REF!,2,0)>0,1,0)","v":{"$error":"#REF!"}},"演讲, 训斥",null,0,0,1]
[1694,972085,"mad",{"$f":"IF(VLOOKUP(C1673,#REF!,2,0)>0,1,0)","v":{"$error":"#REF!"}},"疯狂的",null,0,1,1]
[1695,715715,"August",{"$f":"IF(VLOOKUP(C1674,#REF!,2,0)>0,1,0)","v":{"$error":"#REF!"}},"八月",null,1,1,1]
[1696,727761,"July",{"$f":"IF(VLOOKUP(C1675,#REF!,2,0)>0,1,0)","v":{"$error":"#REF!"}},"七月",null,1,1,1]
[1697,933813,"illness",{"$f":"IF(VLOOKUP(C1676,#REF!,2,0)>0,1,0)","v":{"$error":"#REF!"}},"疾病, 生病",null,0,1,1]
[1698,1168175,"writing",{"$f":"IF(VLOOKUP(C1677,#REF!,2,0)>0,1,0)","v":{"$error":"#REF!"}},"写作, 著作",null,0,0,0]
[1699,809670,"cheer",{"$f":"IF(VLOOKUP(C1678,#REF!,2,0)>0,1,0)","v":{"$error":"#REF!"}},"欢呼, 喝彩",null,1,1,1]
[1700,813198,"cinema",{"$f":"IF(VLOOKUP(C1679,#REF!,2,0)>0,1,0)","v":{"$error":"#REF!"}},"电影院",null,1,1,1]
[1701,1116075,"supermarket",{"$f":"IF(VLOOKUP(C1680,#REF!,2,0)>0,1,0)","v":{"$error":"#REF!"}},"超市",null,1,1,1]
[1702,972093,"madam",{"$f":"IF(VLOOKUP(C1681,#REF!,2,0)>0,1,0)","v":{"$error":"#REF!"}},"女士, 夫人",null,0,1,1]
[1703,1090228,"silly",{"$f":"IF(VLOOKUP(C1682,#REF!,2,0)>0,1,0)","v":{"$error":"#REF!"}},"愚蠢的",null,0,1,1]
[1704,715290,"April",{"$f":"IF(VLOOKUP(C1683,#REF!,2,0)>0,1,0)","v":{"$error":"#REF!"}},"四月",null,1,1,1]
[1705,942332,"insist",{"$f":"IF(VLOOKUP(C1684,#REF!,2,0)>0,1,0)","v":{"$error":"#REF!"}},"坚持, 坚决主张",null,0,1,1]
[1706,763124,"anybody",{"$f":"IF(VLOOKUP(C1685,#REF!,2,0)>0,1,0)","v":{"$error":"#REF!"}},"任何人",null,0,1,1]
[1707,814750,"classmate",{"$f":"IF(VLOOKUP(C1686,#REF!,2,0)>0,1,0)","v":{"$error":"#REF!"}},"同学",null,1,1,1]
[1708,1088746,"shy",{"$f":"IF(VLOOKUP(C1687,#REF!,2,0)>0,1,0)","v":{"$error":"#REF!"}},"怕羞的, 害羞的",null,1,1,1]
[1709,1003881,"object",{"$f":"IF(VLOOKUP(C1688,#REF!,2,0)>0,1,0)","v":{"$error":"#REF!"}},"目标",null,0,1,1]
[1710,1003881,"object",{"$f":"IF(VLOOKUP(C1689,#REF!,2,0)>0,1,0)","v":{"$error":"#REF!"}},"客观的, 实体的, 物体",null,0,1,1]
[1711,1003881,"object",{"$f":"IF(VLOOKUP(C1690,#REF!,2,0)>0,1,0)","v":{"$error":"#REF!"}},"反对, 拒绝",null,0,0,1]
[1712,897074,"forty",{"$f":"IF(VLOOKUP(C1691,#REF!,2,0)>0,1,0)","v":{"$error":"#REF!"}},"四十",null,1,1,1]
[1713,887088,"fifteen",{"$f":"IF(VLOOKUP(C1692,#REF!,2,0)>0,1,0)","v":{"$error":"#REF!"}},"十五",null,1,1,1]
[1714,874567,"equal",{"$f":"IF(VLOOKUP(C1693,#REF!,2,0)>0,1,0)","v":{"$error":"#REF!"}},"相等, 平等, 等于",null,0,1,1]
[1715,968538,"lonely",{"$f":"IF(VLOOKUP(C1694,#REF!,2,0)>0,1,0)","v":{"$error":"#REF!"}},"孤独的, 寂寞的",null,0,1,1]
[1716,1116458,"supper",{"$f":"IF(VLOOKUP(C1695,#REF!,2,0)>0,1,0)","v":{"$error":"#REF!"}},"晚餐",null,1,1,1]
[1717,793231,"breathe",{"$f":"IF(VLOOKUP(C1696,#REF!,2,0)>0,1,0)","v":{"$error":"#REF!"}},"呼吸",null,0,1,1]
[1718,817330,"coast",{"$f":"IF(VLOOKUP(C1697,#REF!,2,0)>0,1,0)","v":{"$error":"#REF!"}},"海岸, 沿海地区",null,0,1,1]
[1719,892728,"flood",{"$f":"IF(VLOOKUP(C1698,#REF!,2,0)>0,1,0)","v":{"$error":"#REF!"}},"洪水, 水灾",null,0,1,1]
[1720,892728,"flood",{"$f":"IF(VLOOKUP(C1699,#REF!,2,0)>0,1,0)","v":{"$error":"#REF!"}},"淹没",null,0,0,1]
[1721,791056,"bottle",{"$f":"IF(VLOOKUP(C1700,#REF!,2,0)>0,1,0)","v":{"$error":"#REF!"}},"瓶子, 用瓶子装",null,1,1,1]
[1722,825288,"concert",{"$f":"IF(VLOOKUP(C1701,#REF!,2,0)>0,1,0)","v":{"$error":"#REF!"}},"音乐会, 演奏会",null,1,1,1]
[1723,825288,"concert",{"$f":"IF(VLOOKUP(C1702,#REF!,2,0)>0,1,0)","v":{"$error":"#REF!"}},"一致",null,0,0,0]
[1724,848715,"detail",{"$f":"IF(VLOOKUP(C1703,#REF!,2,0)>0,1,0)","v":{"$error":"#REF!"}},"细节, 枝节",null,0,1,1]
[1725,848715,"detail",{"$f":"IF(VLOOKUP(C1704,#REF!,2,0)>0,1,0)","v":{"$error":"#REF!"}},"详述, 详细说明",null,0,1,1]
[1726,899255,"friendly",{"$f":"IF(VLOOKUP(C1705,#REF!,2,0)>0,1,0)","v":{"$error":"#REF!"}},"友好的, 亲密的",null,1,1,1]
[1727,1099354,"speaker",{"$f":"IF(VLOOKUP(C1706,#REF!,2,0)>0,1,0)","v":{"$error":"#REF!"}},"发言者",null,0,1,1]
[1728,1075374,"sand",{"$f":"IF(VLOOKUP(C1707,#REF!,2,0)>0,1,0)","v":{"$error":"#REF!"}},"沙, 沙子, 沙滩",null,0,1,1]
[1729,1086595,"sheep",{"$f":"IF(VLOOKUP(C1708,#REF!,2,0)>0,1,0)","v":{"$error":"#REF!"}},"羊, 绵羊",null,1,1,1]
[1730,1062097,"relax",{"$f":"IF(VLOOKUP(C1709,#REF!,2,0)>0,1,0)","v":{"$error":"#REF!"}},"放松, 休息",null,1,1,1]
[1731,981438,"mention",{"$f":"IF(VLOOKUP(C1710,#REF!,2,0)>0,1,0)","v":{"$error":"#REF!"}},"提及, 说起",null,0,1,1]
[1732,998752,"nineteen",{"$f":"IF(VLOOKUP(C1711,#REF!,2,0)>0,1,0)","v":{"$error":"#REF!"}},"十九",null,1,1,1]
[1733,1085423,"seventh",{"$f":"IF(VLOOKUP(C1712,#REF!,2,0)>0,1,0)","v":{"$error":"#REF!"}},"第七的",null,1,1,1]
[1734,1114468,"sudden",{"$f":"IF(VLOOKUP(C1713,#REF!,2,0)>0,1,0)","v":{"$error":"#REF!"}},"突然的, 意外的",null,0,1,1]
[1735,899278,"frighten",{"$f":"IF(VLOOKUP(C1714,#REF!,2,0)>0,1,0)","v":{"$error":"#REF!"}},"惊吓, 惊恐",null,1,1,1]
[1736,1061800,"relation",{"$f":"IF(VLOOKUP(C1715,#REF!,2,0)>0,1,0)","v":{"$error":"#REF!"}},"关系, 联系, 亲戚, 亲属",null,0,1,1]
[1737,727384,"Japanese",{"$f":"IF(VLOOKUP(C1716,#REF!,2,0)>0,1,0)","v":{"$error":"#REF!"}},"日本的",null,1,1,1]
[1738,773367,"award",{"$f":"IF(VLOOKUP(C1717,#REF!,2,0)>0,1,0)","v":{"$error":"#REF!"}},"授予, 给予",null,0,1,1]
[1739,773367,"award",{"$f":"IF(VLOOKUP(C1718,#REF!,2,0)>0,1,0)","v":{"$error":"#REF!"}},"奖, 奖品",null,0,1,1]
[1740,1140881,"trick",{"$f":"IF(VLOOKUP(C1719,#REF!,2,0)>0,1,0)","v":{"$error":"#REF!"}},"恶作剧, 戏法, 作假, 欺骗",null,0,1,1]
[1741,1169496,"yours",{"$f":"IF(VLOOKUP(C1720,#REF!,2,0)>0,1,0)","v":{"$error":"#REF!"}},"你（们）的东西",null,1,1,1]
[1742,1015908,"panda",{"$f":"IF(VLOOKUP(C1721,#REF!,2,0)>0,1,0)","v":{"$error":"#REF!"}},"熊猫",null,1,1,1]
[1743,753401,"agreement",{"$f":"IF(VLOOKUP(C1722,#REF!,2,0)>0,1,0)","v":{"$error":"#REF!"}},"协议,协定",null,0,1,1]
[1744,753401,"agreement",{"$f":"IF(VLOOKUP(C1723,#REF!,2,0)>0,1,0)","v":{"$error":"#REF!"}},"同意",null,0,1,1]
[1745,753401,"agreement",{"$f":"IF(VLOOKUP(C1724,#REF!,2,0)>0,1,0)","v":{"$error":"#REF!"}},"一致",null,0,1,1]
[1747,1035634,"pool",{"$f":"IF(VLOOKUP(C1725,#REF!,2,0)>0,1,0)","v":{"$error":"#REF!"}},"游泳池, 池子",null,0,1,1]
[1748,1069002,"risk",{"$f":"IF(VLOOKUP(C1726,#REF!,2,0)>0,1,0)","v":{"$error":"#REF!"}},"冒险, 风险",null,0,1,1]
[1749,806629,"centre",{"$f":"IF(VLOOKUP(C1727,#REF!,2,0)>0,1,0)","v":{"$error":"#REF!"}},"中心",null,1,1,1]
[1750,806629,"centre",{"$f":"IF(VLOOKUP(C1728,#REF!,2,0)>0,1,0)","v":{"$error":"#REF!"}},"集中, 居中",null,0,0,1]
[1751,1088662,"shut",{"$f":"IF(VLOOKUP(C1729,#REF!,2,0)>0,1,0)","v":{"$error":"#REF!"}},"关上, 关闭",null,0,1,1]
[1752,1027211,"piano",{"$f":"IF(VLOOKUP(C1730,#REF!,2,0)>0,1,0)","v":{"$error":"#REF!"}},"钢琴",null,1,1,1]
[1753,1142977,"trust",{"$f":"IF(VLOOKUP(C1731,#REF!,2,0)>0,1,0)","v":{"$error":"#REF!"}},"信任, 信赖",null,0,1,1]
[1754,799656,"camera",{"$f":"IF(VLOOKUP(C1732,#REF!,2,0)>0,1,0)","v":{"$error":"#REF!"}},"照相机",null,1,1,1]
[1755,799656,"camera",{"$f":"IF(VLOOKUP(C1733,#REF!,2,0)>0,1,0)","v":{"$error":"#REF!"}},"摄影机",null,0,1,1]
[1756,830045,"conversation",{"$f":"IF(VLOOKUP(C1734,#REF!,2,0)>0,1,0)","v":{"$error":"#REF!"}},"会话, 交谈",null,0,1,1]
[1757,1041173,"pretend",{"$f":"IF(VLOOKUP(C1735,#REF!,2,0)>0,1,0)","v":{"$error":"#REF!"}},"假装, 装扮",null,0,1,1]
[1758,778930,"battle",{"$f":"IF(VLOOKUP(C1736,#REF!,2,0)>0,1,0)","v":{"$error":"#REF!"}},"战役, 战斗",null,0,1,1]
[1759,1001227,"noon",{"$f":"IF(VLOOKUP(C1737,#REF!,2,0)>0,1,0)","v":{"$error":"#REF!"}},"中午",null,0,1,1]
[1760,1165532,"wine",{"$f":"IF(VLOOKUP(C1738,#REF!,2,0)>0,1,0)","v":{"$error":"#REF!"}},"酒",null,0,1,1]
[1761,783563,"beside",{"$f":"IF(VLOOKUP(C1739,#REF!,2,0)>0,1,0)","v":{"$error":"#REF!"}},"在旁边, 在…旁边",null,1,1,1]
[1762,1076307,"satisfy",{"$f":"IF(VLOOKUP(C1740,#REF!,2,0)>0,1,0)","v":{"$error":"#REF!"}},"满足, 使满意",null,0,1,1]
[1763,1088158,"shoulder",{"$f":"IF(VLOOKUP(C1741,#REF!,2,0)>0,1,0)","v":{"$error":"#REF!"}},"肩, 肩部, 肩负, 承担",null,0,1,1]
[1764,781947,"bee",{"$f":"IF(VLOOKUP(C1742,#REF!,2,0)>0,1,0)","v":{"$error":"#REF!"}},"蜜蜂, 蜂",null,1,1,1]
[1765,829878,"convenient",{"$f":"IF(VLOOKUP(C1743,#REF!,2,0)>0,1,0)","v":{"$error":"#REF!"}},"便利的, 方便的",null,0,1,1]
[1766,782388,"bell",{"$f":"IF(VLOOKUP(C1744,#REF!,2,0)>0,1,0)","v":{"$error":"#REF!"}},"铃铛, 铃声, 钟声",null,1,1,1]
[1767,860359,"dozen",{"$f":"IF(VLOOKUP(C1745,#REF!,2,0)>0,1,0)","v":{"$error":"#REF!"}},"一打, 十二个",null,0,1,1]
[1768,1074364,"sail",{"$f":"IF(VLOOKUP(C1746,#REF!,2,0)>0,1,0)","v":{"$error":"#REF!"}},"船帆, 航行",null,0,1,1]
[1769,946307,"interview",{"$f":"IF(VLOOKUP(C1747,#REF!,2,0)>0,1,0)","v":{"$error":"#REF!"}},"面试, 面谈, 采访",null,0,1,1]
[1770,1009306,"orange",{"$f":"IF(VLOOKUP(C1748,#REF!,2,0)>0,1,0)","v":{"$error":"#REF!"}},"橙子, 橙色",null,1,1,1]
[1771,855522,"dish",{"$f":"IF(VLOOKUP(C1749,#REF!,2,0)>0,1,0)","v":{"$error":"#REF!"}},"盘, 碟",null,1,1,1]
[1772,855522,"dish",{"$f":"IF(VLOOKUP(C1750,#REF!,2,0)>0,1,0)","v":{"$error":"#REF!"}},"菜肴",null,1,1,1]
[1773,1092351,"skin",{"$f":"IF(VLOOKUP(C1751,#REF!,2,0)>0,1,0)","v":{"$error":"#REF!"}},"皮, 皮肤",null,1,1,1]
[1774,722408,"European",{"$f":"IF(VLOOKUP(C1752,#REF!,2,0)>0,1,0)","v":{"$error":"#REF!"}},"欧洲的, 欧洲人",null,0,1,1]
[1775,937596,"income",{"$f":"IF(VLOOKUP(C1753,#REF!,2,0)>0,1,0)","v":{"$error":"#REF!"}},"收入, 收益",null,0,0,1]
[1776,791126,"bottom",{"$f":"IF(VLOOKUP(C1754,#REF!,2,0)>0,1,0)","v":{"$error":"#REF!"}},"底部, 末端",null,0,1,1]
[1777,871001,"enable",{"$f":"IF(VLOOKUP(C1755,#REF!,2,0)>0,1,0)","v":{"$error":"#REF!"}},"使可能, 使可行",null,0,0,1]
[1778,1014708,"pack",{"$f":"IF(VLOOKUP(C1756,#REF!,2,0)>0,1,0)","v":{"$error":"#REF!"}},"打包, 包裹",null,1,1,1]
[1779,896336,"forever",{"$f":"IF(VLOOKUP(C1757,#REF!,2,0)>0,1,0)","v":{"$error":"#REF!"}},"永远, 始终",null,1,1,1]
[1780,1134936,"tonight",{"$f":"IF(VLOOKUP(C1758,#REF!,2,0)>0,1,0)","v":{"$error":"#REF!"}},"今晚, 今夜",null,1,1,1]
[1781,879180,"exhibition",{"$f":"IF(VLOOKUP(C1759,#REF!,2,0)>0,1,0)","v":{"$error":"#REF!"}},"陈列, 展览",null,1,1,1]
[1782,1072268,"row",{"$f":"IF(VLOOKUP(C1760,#REF!,2,0)>0,1,0)","v":{"$error":"#REF!"}},"行, 排, 列",null,1,1,1]
[1783,1072268,"row",{"$f":"IF(VLOOKUP(C1761,#REF!,2,0)>0,1,0)","v":{"$error":"#REF!"}},"划船",null,1,1,1]
[1784,755026,"alarm",{"$f":"IF(VLOOKUP(C1762,#REF!,2,0)>0,1,0)","v":{"$error":"#REF!"}},"惊慌",null,0,0,1]
[1785,755026,"alarm",{"$f":"IF(VLOOKUP(C1763,#REF!,2,0)>0,1,0)","v":{"$error":"#REF!"}},"警报",null,0,0,1]
[1786,755026,"alarm",{"$f":"IF(VLOOKUP(C1764,#REF!,2,0)>0,1,0)","v":{"$error":"#REF!"}},"闹铃, 警铃",null,0,1,1]
[1787,845870,"delay",{"$f":"IF(VLOOKUP(C1765,#REF!,2,0)>0,1,0)","v":{"$error":"#REF!"}},"耽搁, 延迟",null,0,0,1]
[1788,1048943,"pupil",{"$f":"IF(VLOOKUP(C1766,#REF!,2,0)>0,1,0)","v":{"$error":"#REF!"}},"学生, 小学生",null,1,1,1]
[1789,800976,"capital",{"$f":"IF(VLOOKUP(C1767,#REF!,2,0)>0,1,0)","v":{"$error":"#REF!"}},"首都",null,1,1,1]
[1790,800976,"capital",{"$f":"IF(VLOOKUP(C1768,#REF!,2,0)>0,1,0)","v":{"$error":"#REF!"}},"资本",null,0,0,0]
[1791,749188,"actor",{"$f":"IF(VLOOKUP(C1769,#REF!,2,0)>0,1,0)","v":{"$error":"#REF!"}},"演员",null,1,1,1]
[1792,982420,"metal",{"$f":"IF(VLOOKUP(C1770,#REF!,2,0)>0,1,0)","v":{"$error":"#REF!"}},"金属",null,0,1,1]
[1793,1066890,"review",{"$f":"IF(VLOOKUP(C1771,#REF!,2,0)>0,1,0)","v":{"$error":"#REF!"}},"复习, 回顾, 审核, 评论",null,0,1,1]
[1794,1136596,"tower",{"$f":"IF(VLOOKUP(C1772,#REF!,2,0)>0,1,0)","v":{"$error":"#REF!"}},"塔",null,0,1,1]
[1795,910652,"goods",{"$f":"IF(VLOOKUP(C1773,#REF!,2,0)>0,1,0)","v":{"$error":"#REF!"}},"货物, 商品",null,0,0,0]
[1796,1042813,"prison",{"$f":"IF(VLOOKUP(C1774,#REF!,2,0)>0,1,0)","v":{"$error":"#REF!"}},"监狱",null,0,1,1]
[1797,1089885,"silence",{"$f":"IF(VLOOKUP(C1775,#REF!,2,0)>0,1,0)","v":{"$error":"#REF!"}},"寂静, 沉默",null,0,1,1]
[1798,839594,"custom",{"$f":"IF(VLOOKUP(C1776,#REF!,2,0)>0,1,0)","v":{"$error":"#REF!"}},"习俗, 风俗",null,0,1,1]
[1799,882668,"fair",{"$f":"IF(VLOOKUP(C1777,#REF!,2,0)>0,1,0)","v":{"$error":"#REF!"}},"合理的, 公平的",null,0,1,1]
[1800,882668,"fair",{"$f":"IF(VLOOKUP(C1778,#REF!,2,0)>0,1,0)","v":{"$error":"#REF!"}},"集市",null,0,1,1]
[1801,1162226,"wealth",{"$f":"IF(VLOOKUP(C1779,#REF!,2,0)>0,1,0)","v":{"$error":"#REF!"}},"财富, 财产, 丰富, 大量",null,0,1,1]
[1802,1034243,"pollution",{"$f":"IF(VLOOKUP(C1780,#REF!,2,0)>0,1,0)","v":{"$error":"#REF!"}},"污染",null,1,1,1]
[1803,1028701,"pink",{"$f":"IF(VLOOKUP(C1781,#REF!,2,0)>0,1,0)","v":{"$error":"#REF!"}},"粉红",null,1,1,1]
[1804,1121777,"tale",{"$f":"IF(VLOOKUP(C1782,#REF!,2,0)>0,1,0)","v":{"$error":"#REF!"}},"故事, 传说",null,0,1,1]
[1805,1078910,"screen",{"$f":"IF(VLOOKUP(C1783,#REF!,2,0)>0,1,0)","v":{"$error":"#REF!"}},"屏, 银幕",null,1,1,1]
[1806,773399,"awful",{"$f":"IF(VLOOKUP(C1784,#REF!,2,0)>0,1,0)","v":{"$error":"#REF!"}},"(口)极度的, 糟糕的",null,1,1,1]
[1807,793224,"breath",{"$f":"IF(VLOOKUP(C1785,#REF!,2,0)>0,1,0)","v":{"$error":"#REF!"}},"呼吸, 气息",null,1,1,1]
[1808,796953,"businessman",{"$f":"IF(VLOOKUP(C1786,#REF!,2,0)>0,1,0)","v":{"$error":"#REF!"}},"商人, 实业家",null,1,1,1]
[1809,809390,"cheat",{"$f":"IF(VLOOKUP(C1787,#REF!,2,0)>0,1,0)","v":{"$error":"#REF!"}},"欺骗, 骗子",null,0,1,1]
[1810,1040584,"press",{"$f":"IF(VLOOKUP(C1788,#REF!,2,0)>0,1,0)","v":{"$error":"#REF!"}},"压, 按",null,1,1,1]
[1811,1040584,"press",{"$f":"IF(VLOOKUP(C1789,#REF!,2,0)>0,1,0)","v":{"$error":"#REF!"}},"印刷, 出版社",null,0,1,1]
[1812,1001777,"northern",{"$f":"IF(VLOOKUP(C1790,#REF!,2,0)>0,1,0)","v":{"$error":"#REF!"}},"北方, 北部",null,0,1,1]
[1813,911811,"grandma",{"$f":"IF(VLOOKUP(C1791,#REF!,2,0)>0,1,0)","v":{"$error":"#REF!"}},"(外)祖母",null,1,1,1]
[1814,883346,"fan",{"$f":"IF(VLOOKUP(C1792,#REF!,2,0)>0,1,0)","v":{"$error":"#REF!"}},"风扇, 煽动",null,1,1,1]
[1815,883346,"fan",{"$f":"IF(VLOOKUP(C1793,#REF!,2,0)>0,1,0)","v":{"$error":"#REF!"}},"追随者",null,1,1,1]
[1816,995984,"neck",{"$f":"IF(VLOOKUP(C1794,#REF!,2,0)>0,1,0)","v":{"$error":"#REF!"}},"脖子, 颈",null,1,1,1]
[1817,919939,"headmaster",{"$f":"IF(VLOOKUP(C1795,#REF!,2,0)>0,1,0)","v":{"$error":"#REF!"}},"校长",null,0,1,1]
[1818,928381,"housework",{"$f":"IF(VLOOKUP(C1796,#REF!,2,0)>0,1,0)","v":{"$error":"#REF!"}},"家务",null,1,1,1]
[1819,733690,"October",{"$f":"IF(VLOOKUP(C1797,#REF!,2,0)>0,1,0)","v":{"$error":"#REF!"}},"十月",null,1,1,1]
[1820,760456,"angrily",{"$f":"IF(VLOOKUP(C1798,#REF!,2,0)>0,1,0)","v":{"$error":"#REF!"}},"愤怒地, 生气地",null,0,0,0]
[1821,1011359,"ought",{"$f":"IF(VLOOKUP(C1799,#REF!,2,0)>0,1,0)","v":{"$error":"#REF!"}},"应当, 应该",null,0,0,1]
[1822,1115484,"sunny",{"$f":"IF(VLOOKUP(C1800,#REF!,2,0)>0,1,0)","v":{"$error":"#REF!"}},"阳光充足的, 和煦的",null,1,1,1]
[1823,888699,"finger",{"$f":"IF(VLOOKUP(C1801,#REF!,2,0)>0,1,0)","v":{"$error":"#REF!"}},"手指, 指向",null,1,1,1]
[1824,1168810,"yard",{"$f":"IF(VLOOKUP(C1802,#REF!,2,0)>0,1,0)","v":{"$error":"#REF!"}},"院子",null,0,1,1]
[1825,1168810,"yard",{"$f":"IF(VLOOKUP(C1803,#REF!,2,0)>0,1,0)","v":{"$error":"#REF!"}},"码（约0.9米）",null,0,1,1]
[1826,815428,"clerk",{"$f":"IF(VLOOKUP(C1804,#REF!,2,0)>0,1,0)","v":{"$error":"#REF!"}},"职员, 店员",null,0,1,1]
[1827,778343,"basket",{"$f":"IF(VLOOKUP(C1805,#REF!,2,0)>0,1,0)","v":{"$error":"#REF!"}},"篮, 筺",null,1,1,1]
[1828,1103642,"square",{"$f":"IF(VLOOKUP(C1806,#REF!,2,0)>0,1,0)","v":{"$error":"#REF!"}},"正方形, 方形广场, 平方",null,1,1,1]
[1829,1077998,"schoolbag",{"$f":"IF(VLOOKUP(C1807,#REF!,2,0)>0,1,0)","v":{"$error":"#REF!"}},"书包",null,1,1,1]
[1830,895181,"foolish",{"$f":"IF(VLOOKUP(C1808,#REF!,2,0)>0,1,0)","v":{"$error":"#REF!"}},"愚蠢的, 傻的",null,1,1,1]
[1831,1134715,"tomato",{"$f":"IF(VLOOKUP(C1809,#REF!,2,0)>0,1,0)","v":{"$error":"#REF!"}},"番茄, 西红柿",null,1,1,1]
[1832,1019356,"path",{"$f":"IF(VLOOKUP(C1810,#REF!,2,0)>0,1,0)","v":{"$error":"#REF!"}},"小路, 小径, 路线",null,0,1,1]
[1833,1063667,"reporter",{"$f":"IF(VLOOKUP(C1811,#REF!,2,0)>0,1,0)","v":{"$error":"#REF!"}},"记者, 通讯员",null,1,1,1]
[1834,1136846,"toy",{"$f":"IF(VLOOKUP(C1812,#REF!,2,0)>0,1,0)","v":{"$error":"#REF!"}},"玩具",null,1,1,1]
[1835,761550,"ant",{"$f":"IF(VLOOKUP(C1813,#REF!,2,0)>0,1,0)","v":{"$error":"#REF!"}},"蚂蚁",null,1,1,1]
[1836,862296,"drug",{"$f":"IF(VLOOKUP(C1814,#REF!,2,0)>0,1,0)","v":{"$error":"#REF!"}},"药物, 毒品",null,0,1,1]
[1837,961563,"lend",{"$f":"IF(VLOOKUP(C1815,#REF!,2,0)>0,1,0)","v":{"$error":"#REF!"}},"借出, 把…借给",null,0,1,1]
[1838,1086743,"shelf",{"$f":"IF(VLOOKUP(C1816,#REF!,2,0)>0,1,0)","v":{"$error":"#REF!"}},"架子, 搁板",null,1,1,1]
[1839,999354,"nod",{"$f":"IF(VLOOKUP(C1817,#REF!,2,0)>0,1,0)","v":{"$error":"#REF!"}},"点头",null,0,1,1]
[1840,999354,"nod",{"$f":"IF(VLOOKUP(C1818,#REF!,2,0)>0,1,0)","v":{"$error":"#REF!"}},"打瞌睡",null,0,0,0]
[1841,787905,"blind",{"$f":"IF(VLOOKUP(C1819,#REF!,2,0)>0,1,0)","v":{"$error":"#REF!"}},"瞎的, 盲目的",null,1,1,1]
[1842,787905,"blind",{"$f":"IF(VLOOKUP(C1820,#REF!,2,0)>0,1,0)","v":{"$error":"#REF!"}},"蒙蔽, 欺瞒, 弄瞎",null,0,0,0]
[1843,747546,"achieve",{"$f":"IF(VLOOKUP(C1821,#REF!,2,0)>0,1,0)","v":{"$error":"#REF!"}},"取得",null,0,1,1]
[1844,747546,"achieve",{"$f":"IF(VLOOKUP(C1822,#REF!,2,0)>0,1,0)","v":{"$error":"#REF!"}},"达到",null,0,1,1]
[1845,1159302,"volunteer",{"$f":"IF(VLOOKUP(C1823,#REF!,2,0)>0,1,0)","v":{"$error":"#REF!"}},"志愿, 自愿",null,0,1,1]
[1846,1117486,"survey",{"$f":"IF(VLOOKUP(C1824,#REF!,2,0)>0,1,0)","v":{"$error":"#REF!"}},"调查",null,0,1,1]
[1847,1166174,"wise",{"$f":"IF(VLOOKUP(C1825,#REF!,2,0)>0,1,0)","v":{"$error":"#REF!"}},"英明的, 明智的",null,0,1,1]
[1848,1131421,"throughout",{"$f":"IF(VLOOKUP(C1826,#REF!,2,0)>0,1,0)","v":{"$error":"#REF!"}},"遍及, 贯穿, 始终",null,0,1,1]
[1849,1055610,"rapid",{"$f":"IF(VLOOKUP(C1827,#REF!,2,0)>0,1,0)","v":{"$error":"#REF!"}},"迅速的, 飞快的",null,0,1,1]
[1850,959676,"lawyer",{"$f":"IF(VLOOKUP(C1828,#REF!,2,0)>0,1,0)","v":{"$error":"#REF!"}},"律师",null,0,1,1]
[1851,722060,"England",{"$f":"IF(VLOOKUP(C1829,#REF!,2,0)>0,1,0)","v":{"$error":"#REF!"}},"英格兰",null,0,1,1]
[1852,1159843,"waiter",{"$f":"IF(VLOOKUP(C1830,#REF!,2,0)>0,1,0)","v":{"$error":"#REF!"}},"服务员",null,0,1,1]
[1853,834003,"courage",{"$f":"IF(VLOOKUP(C1831,#REF!,2,0)>0,1,0)","v":{"$error":"#REF!"}},"勇气, 胆量",null,0,1,1]
[1854,812926,"church",{"$f":"IF(VLOOKUP(C1832,#REF!,2,0)>0,1,0)","v":{"$error":"#REF!"}},"教堂, 教会",null,0,1,1]
[1855,1094961,"snake",{"$f":"IF(VLOOKUP(C1833,#REF!,2,0)>0,1,0)","v":{"$error":"#REF!"}},"蛇",null,1,1,1]
[1856,727771,"June",{"$f":"IF(VLOOKUP(C1834,#REF!,2,0)>0,1,0)","v":{"$error":"#REF!"}},"六月",null,1,1,1]
[1857,1004232,"observe",{"$f":"IF(VLOOKUP(C1835,#REF!,2,0)>0,1,0)","v":{"$error":"#REF!"}},"观察",null,0,1,1]
[1858,1004232,"observe",{"$f":"IF(VLOOKUP(C1836,#REF!,2,0)>0,1,0)","v":{"$error":"#REF!"}},"遵守",null,0,0,1]
[1859,1004232,"observe",{"$f":"IF(VLOOKUP(C1837,#REF!,2,0)>0,1,0)","v":{"$error":"#REF!"}},"庆祝",null,0,0,1]
[1860,1038535,"powerful",{"$f":"IF(VLOOKUP(C1838,#REF!,2,0)>0,1,0)","v":{"$error":"#REF!"}},"强大的, 有力的",null,0,1,1]
[1861,826214,"confident",{"$f":"IF(VLOOKUP(C1839,#REF!,2,0)>0,1,0)","v":{"$error":"#REF!"}},"自信的",null,0,1,1]
[1862,826214,"confident",{"$f":"IF(VLOOKUP(C1840,#REF!,2,0)>0,1,0)","v":{"$error":"#REF!"}},"确信的",null,0,0,1]
[1863,1052722,"rabbit",{"$f":"IF(VLOOKUP(C1841,#REF!,2,0)>0,1,0)","v":{"$error":"#REF!"}},"兔, 野兔",null,1,1,1]
[1864,1063339,"repeat",{"$f":"IF(VLOOKUP(C1842,#REF!,2,0)>0,1,0)","v":{"$error":"#REF!"}},"重复, 重演",null,0,1,1]
[1865,1074091,"safely",{"$f":"IF(VLOOKUP(C1843,#REF!,2,0)>0,1,0)","v":{"$error":"#REF!"}},"安全地, 平安地",null,1,1,1]
[1866,1125873,"tennis",{"$f":"IF(VLOOKUP(C1844,#REF!,2,0)>0,1,0)","v":{"$error":"#REF!"}},"网球",null,1,1,1]
[1867,972236,"magic",{"$f":"IF(VLOOKUP(C1845,#REF!,2,0)>0,1,0)","v":{"$error":"#REF!"}},"魔术, 魔法",null,1,1,1]
[1868,802507,"careless",{"$f":"IF(VLOOKUP(C1846,#REF!,2,0)>0,1,0)","v":{"$error":"#REF!"}},"粗心的",null,0,1,1]
[1869,802507,"careless",{"$f":"IF(VLOOKUP(C1847,#REF!,2,0)>0,1,0)","v":{"$error":"#REF!"}},"漫不经心的",null,0,1,1]
[1870,878616,"excited",{"$f":"IF(VLOOKUP(C1848,#REF!,2,0)>0,1,0)","v":{"$error":"#REF!"}},"兴奋的",null,1,1,1]
[1871,872456,"engineer",{"$f":"IF(VLOOKUP(C1849,#REF!,2,0)>0,1,0)","v":{"$error":"#REF!"}},"设计, 策划",null,0,0,1]
[1872,872456,"engineer",{"$f":"IF(VLOOKUP(C1850,#REF!,2,0)>0,1,0)","v":{"$error":"#REF!"}},"工程师",null,0,1,1]
[1873,811565,"chocolate",{"$f":"IF(VLOOKUP(C1851,#REF!,2,0)>0,1,0)","v":{"$error":"#REF!"}},"巧克力",null,1,1,1]
[1874,909998,"goal",{"$f":"IF(VLOOKUP(C1852,#REF!,2,0)>0,1,0)","v":{"$error":"#REF!"}},"目标, 达成目标",null,0,1,1]
[1875,909998,"goal",{"$f":"IF(VLOOKUP(C1853,#REF!,2,0)>0,1,0)","v":{"$error":"#REF!"}},"球门, 进球得分",null,1,1,1]
[1876,973643,"mainly",{"$f":"IF(VLOOKUP(C1854,#REF!,2,0)>0,1,0)","v":{"$error":"#REF!"}},"大体上, 主要地",null,0,1,1]
[1877,915184,"gun",{"$f":"IF(VLOOKUP(C1855,#REF!,2,0)>0,1,0)","v":{"$error":"#REF!"}},"枪, 炮, 枪炮声",null,0,1,1]
[1878,956142,"lab",{"$f":"IF(VLOOKUP(C1856,#REF!,2,0)>0,1,0)","v":{"$error":"#REF!"}},"实验室, 研究室",null,0,1,1]
[1879,905748,"gentleman",{"$f":"IF(VLOOKUP(C1857,#REF!,2,0)>0,1,0)","v":{"$error":"#REF!"}},"绅士, 先生",null,0,1,1]
[1880,1009944,"organise",{"$f":"IF(VLOOKUP(C1858,#REF!,2,0)>0,1,0)","v":{"$error":"#REF!"}},"组织, 安排",null,0,1,1]
[1881,1065115,"response",{"$f":"IF(VLOOKUP(C1859,#REF!,2,0)>0,1,0)","v":{"$error":"#REF!"}},"回答, 反应",null,0,1,1]
[1882,1005604,"oil",{"$f":"IF(VLOOKUP(C1860,#REF!,2,0)>0,1,0)","v":{"$error":"#REF!"}},"油, 石油, 给...加油",null,1,1,1]
[1883,859167,"double",{"$f":"IF(VLOOKUP(C1861,#REF!,2,0)>0,1,0)","v":{"$error":"#REF!"}},"双倍, 加倍",null,0,1,1]
[1884,910309,"golden",{"$f":"IF(VLOOKUP(C1862,#REF!,2,0)>0,1,0)","v":{"$error":"#REF!"}},"金的, 金色的",null,0,1,1]
[1885,1031042,"plate",{"$f":"IF(VLOOKUP(C1863,#REF!,2,0)>0,1,0)","v":{"$error":"#REF!"}},"盘子, 金属板",null,1,1,1]
[1886,1031042,"plate",{"$f":"IF(VLOOKUP(C1864,#REF!,2,0)>0,1,0)","v":{"$error":"#REF!"}},"镀, 电镀",null,0,0,0]
[1887,1124368,"teenager",{"$f":"IF(VLOOKUP(C1865,#REF!,2,0)>0,1,0)","v":{"$error":"#REF!"}},"十几岁的青少年",null,0,1,1]
[1888,1009975,"organize",{"$f":"IF(VLOOKUP(C1866,#REF!,2,0)>0,1,0)","v":{"$error":"#REF!"}},"组织, 安排",null,0,1,1]
[1889,766003,"army",{"$f":"IF(VLOOKUP(C1867,#REF!,2,0)>0,1,0)","v":{"$error":"#REF!"}},"陆军, 军队",null,0,1,1]
[1890,1071742,"rough",{"$f":"IF(VLOOKUP(C1868,#REF!,2,0)>0,1,0)","v":{"$error":"#REF!"}},"粗糙, 崎岖, 艰难, 粗暴",null,0,0,1]
[1891,1110464,"stranger",{"$f":"IF(VLOOKUP(C1869,#REF!,2,0)>0,1,0)","v":{"$error":"#REF!"}},"陌生人",null,0,0,0]
[1892,921105,"height",{"$f":"IF(VLOOKUP(C1870,#REF!,2,0)>0,1,0)","v":{"$error":"#REF!"}},"高度, 身高",null,1,1,1]
[1893,1081777,"select",{"$f":"IF(VLOOKUP(C1871,#REF!,2,0)>0,1,0)","v":{"$error":"#REF!"}},"选择, 挑选",null,0,0,1]
[1894,818903,"coin",{"$f":"IF(VLOOKUP(C1872,#REF!,2,0)>0,1,0)","v":{"$error":"#REF!"}},"硬币",null,0,1,1]
[1895,835129,"crazy",{"$f":"IF(VLOOKUP(C1873,#REF!,2,0)>0,1,0)","v":{"$error":"#REF!"}},"疯狂的, 狂热的",null,0,1,1]
[1896,1163741,"wheel",{"$f":"IF(VLOOKUP(C1874,#REF!,2,0)>0,1,0)","v":{"$error":"#REF!"}},"轮子, 旋转, 盘旋飞行",null,1,1,1]
[1897,1035724,"pop",{"$f":"IF(VLOOKUP(C1875,#REF!,2,0)>0,1,0)","v":{"$error":"#REF!"}},"流行的, 通俗的",null,1,1,1]
[1898,1154678,"various",{"$f":"IF(VLOOKUP(C1876,#REF!,2,0)>0,1,0)","v":{"$error":"#REF!"}},"不同的, 多样的",null,0,1,1]
[1899,786572,"bite",{"$f":"IF(VLOOKUP(C1877,#REF!,2,0)>0,1,0)","v":{"$error":"#REF!"}},"咬",null,1,1,1]
[1900,786572,"bite",{"$f":"IF(VLOOKUP(C1878,#REF!,2,0)>0,1,0)","v":{"$error":"#REF!"}},"咬, 咬伤",null,0,0,1]
[1901,813980,"citizen",{"$f":"IF(VLOOKUP(C1879,#REF!,2,0)>0,1,0)","v":{"$error":"#REF!"}},"市民, 公民",null,0,1,1]
[1902,813980,"citizen",{"$f":"IF(VLOOKUP(C1880,#REF!,2,0)>0,1,0)","v":{"$error":"#REF!"}},"平民",null,0,0,0]
[1903,999626,"noisy",{"$f":"IF(VLOOKUP(C1881,#REF!,2,0)>0,1,0)","v":{"$error":"#REF!"}},"吵杂的, 喧闹的",null,0,1,1]
[1904,864968,"earthquake",{"$f":"IF(VLOOKUP(C1882,#REF!,2,0)>0,1,0)","v":{"$error":"#REF!"}},"地震",null,0,1,1]
[1905,1070641,"root",{"$f":"IF(VLOOKUP(C1883,#REF!,2,0)>0,1,0)","v":{"$error":"#REF!"}},"根, 根源",null,0,1,1]
[1906,782182,"beg",{"$f":"IF(VLOOKUP(C1884,#REF!,2,0)>0,1,0)","v":{"$error":"#REF!"}},"请求, 乞求",null,0,0,1]
[1907,842186,"dare",{"$f":"IF(VLOOKUP(C1885,#REF!,2,0)>0,1,0)","v":{"$error":"#REF!"}},"敢, 胆敢",null,0,1,1]
[1908,842186,"dare",{"$f":"IF(VLOOKUP(C1886,#REF!,2,0)>0,1,0)","v":{"$error":"#REF!"}},"激将, 挑战",null,0,0,0]
[1909,887092,"fifth",{"$f":"IF(VLOOKUP(C1887,#REF!,2,0)>0,1,0)","v":{"$error":"#REF!"}},"第五",null,1,1,1]
[1910,885369,"female",{"$f":"IF(VLOOKUP(C1888,#REF!,2,0)>0,1,0)","v":{"$error":"#REF!"}},"女性",null,0,1,1]
[1911,1041602,"primary",{"$f":"IF(VLOOKUP(C1889,#REF!,2,0)>0,1,0)","v":{"$error":"#REF!"}},"初级的, 最早的, 主要的",null,1,1,1]
[1912,915450,"guy",{"$f":"IF(VLOOKUP(C1890,#REF!,2,0)>0,1,0)","v":{"$error":"#REF!"}},"家伙, 伙计",null,0,1,1]
[1913,1157114,"video",{"$f":"IF(VLOOKUP(C1891,#REF!,2,0)>0,1,0)","v":{"$error":"#REF!"}},"录像, 视频",null,1,1,1]
[1914,1120136,"system",{"$f":"IF(VLOOKUP(C1892,#REF!,2,0)>0,1,0)","v":{"$error":"#REF!"}},"制度, 体系, 系统",null,0,1,1]
[1915,895163,"fool",{"$f":"IF(VLOOKUP(C1893,#REF!,2,0)>0,1,0)","v":{"$error":"#REF!"}},"傻瓜, 愚弄, 欺骗",null,1,1,1]
[1916,978236,"maths",{"$f":"IF(VLOOKUP(C1894,#REF!,2,0)>0,1,0)","v":{"$error":"#REF!"}},"数学",null,1,1,1]
[1917,813322,"circle",{"$f":"IF(VLOOKUP(C1895,#REF!,2,0)>0,1,0)","v":{"$error":"#REF!"}},"圆, 圈子",null,1,1,1]
[1918,813322,"circle",{"$f":"IF(VLOOKUP(C1896,#REF!,2,0)>0,1,0)","v":{"$error":"#REF!"}},"圈出, 环绕, 盘旋",null,0,1,1]
[1919,1174511,"oh",{"$f":"IF(VLOOKUP(C1897,#REF!,2,0)>0,1,0)","v":{"$error":"#REF!"}},"噢, 啊",null,1,1,1]
[1920,897575,"fox",{"$f":"IF(VLOOKUP(C1898,#REF!,2,0)>0,1,0)","v":{"$error":"#REF!"}},"狐狸",null,1,1,1]
[1921,1140082,"treasure",{"$f":"IF(VLOOKUP(C1899,#REF!,2,0)>0,1,0)","v":{"$error":"#REF!"}},"珍宝, 珍视",null,0,1,1]
[1922,723430,"France",{"$f":"IF(VLOOKUP(C1900,#REF!,2,0)>0,1,0)","v":{"$error":"#REF!"}},"法国, 法兰西",null,1,1,1]
[1923,904058,"gate",{"$f":"IF(VLOOKUP(C1901,#REF!,2,0)>0,1,0)","v":{"$error":"#REF!"}},"大门",null,1,1,1]
[1924,991237,"mouse",{"$f":"IF(VLOOKUP(C1902,#REF!,2,0)>0,1,0)","v":{"$error":"#REF!"}},"鼠, 耗子",null,1,1,1]
[1925,991237,"mouse",{"$f":"IF(VLOOKUP(C1903,#REF!,2,0)>0,1,0)","v":{"$error":"#REF!"}},"鼠标",null,1,1,1]
[1926,1152217,"upset",{"$f":"IF(VLOOKUP(C1904,#REF!,2,0)>0,1,0)","v":{"$error":"#REF!"}},"搅乱, 心烦意乱",null,0,1,1]
[1927,786273,"birth",{"$f":"IF(VLOOKUP(C1905,#REF!,2,0)>0,1,0)","v":{"$error":"#REF!"}},"出生, 分娩",null,0,1,1]
[1928,984691,"might",{"$f":"IF(VLOOKUP(C1906,#REF!,2,0)>0,1,0)","v":{"$error":"#REF!"}},"可能, 可以",null,0,0,0]
[1929,984691,"might",{"$f":"IF(VLOOKUP(C1907,#REF!,2,0)>0,1,0)","v":{"$error":"#REF!"}},"力气, 力量",null,0,0,0]
[1930,772628,"autumn",{"$f":"IF(VLOOKUP(C1908,#REF!,2,0)>0,1,0)","v":{"$error":"#REF!"}},"秋天",null,1,1,1]
[1931,1167028,"wooden",{"$f":"IF(VLOOKUP(C1909,#REF!,2,0)>0,1,0)","v":{"$error":"#REF!"}},"木制的, 木头的",null,0,1,1]
[1932,809828,"chemical",{"$f":"IF(VLOOKUP(C1910,#REF!,2,0)>0,1,0)","v":{"$error":"#REF!"}},"化学的, 化学作用的",null,0,1,1]
[1933,770770,"aunt",{"$f":"IF(VLOOKUP(C1911,#REF!,2,0)>0,1,0)","v":{"$error":"#REF!"}},"姑母,姨母,伯母,婶母,舅母",null,1,1,1]
[1938,927771,"host",{"$f":"IF(VLOOKUP(C1912,#REF!,2,0)>0,1,0)","v":{"$error":"#REF!"}},"主人, 节目主持人",null,0,1,1]
[1939,1167913,"wound",{"$f":"IF(VLOOKUP(C1913,#REF!,2,0)>0,1,0)","v":{"$error":"#REF!"}},"创伤, 伤, 伤害",null,0,1,1]
[1940,905733,"gentle",{"$f":"IF(VLOOKUP(C1914,#REF!,2,0)>0,1,0)","v":{"$error":"#REF!"}},"文雅的, 高尚的",null,0,1,1]
[1941,820401,"colour",{"$f":"IF(VLOOKUP(C1915,#REF!,2,0)>0,1,0)","v":{"$error":"#REF!"}},"颜色,颜料",null,1,1,1]
[1943,917243,"handbag",{"$f":"IF(VLOOKUP(C1916,#REF!,2,0)>0,1,0)","v":{"$error":"#REF!"}},"手提包",null,0,1,1]
[1944,1026934,"physics",{"$f":"IF(VLOOKUP(C1917,#REF!,2,0)>0,1,0)","v":{"$error":"#REF!"}},"物理(学)",null,1,1,1]
[1945,919832,"headache",{"$f":"IF(VLOOKUP(C1918,#REF!,2,0)>0,1,0)","v":{"$error":"#REF!"}},"头痛",null,1,1,1]
[1946,867572,"electric",{"$f":"IF(VLOOKUP(C1919,#REF!,2,0)>0,1,0)","v":{"$error":"#REF!"}},"与电有关的, 用电的",null,0,1,1]
[1947,969715,"loudly",{"$f":"IF(VLOOKUP(C1920,#REF!,2,0)>0,1,0)","v":{"$error":"#REF!"}},"大声地, 响亮地",null,0,0,0]
[1948,1104733,"stamp",{"$f":"IF(VLOOKUP(C1921,#REF!,2,0)>0,1,0)","v":{"$error":"#REF!"}},"邮票, 印章",null,1,1,1]
[1949,823420,"complain",{"$f":"IF(VLOOKUP(C1922,#REF!,2,0)>0,1,0)","v":{"$error":"#REF!"}},"抱怨, 抗议",null,0,1,1]
[1950,823420,"complain",{"$f":"IF(VLOOKUP(C1923,#REF!,2,0)>0,1,0)","v":{"$error":"#REF!"}},"申诉, 控诉",null,0,0,0]
[1951,1097161,"solution",{"$f":"IF(VLOOKUP(C1924,#REF!,2,0)>0,1,0)","v":{"$error":"#REF!"}},"解决办法, 答案",null,0,1,1]
[1952,1097161,"solution",{"$f":"IF(VLOOKUP(C1925,#REF!,2,0)>0,1,0)","v":{"$error":"#REF!"}},"溶液",null,0,0,0]
[1953,954938,"knee",{"$f":"IF(VLOOKUP(C1926,#REF!,2,0)>0,1,0)","v":{"$error":"#REF!"}},"膝, 膝盖",null,0,1,1]
[1954,1072956,"ruler",{"$f":"IF(VLOOKUP(C1927,#REF!,2,0)>0,1,0)","v":{"$error":"#REF!"}},"直尺",null,1,1,1]
[1955,1072956,"ruler",{"$f":"IF(VLOOKUP(C1928,#REF!,2,0)>0,1,0)","v":{"$error":"#REF!"}},"统治者",null,0,1,1]
[1956,965509,"link",{"$f":"IF(VLOOKUP(C1929,#REF!,2,0)>0,1,0)","v":{"$error":"#REF!"}},"环, 节",null,0,0,0]
[1957,965509,"link",{"$f":"IF(VLOOKUP(C1930,#REF!,2,0)>0,1,0)","v":{"$error":"#REF!"}},"联系, 链接",null,0,0,1]
[1958,965509,"link",{"$f":"IF(VLOOKUP(C1931,#REF!,2,0)>0,1,0)","v":{"$error":"#REF!"}},"关联, 关系",null,0,0,1]
[1959,782278,"behaviour",{"$f":"IF(VLOOKUP(C1932,#REF!,2,0)>0,1,0)","v":{"$error":"#REF!"}},"行为, 举止",null,0,0,1]
[1960,782278,"behaviour",{"$f":"IF(VLOOKUP(C1933,#REF!,2,0)>0,1,0)","v":{"$error":"#REF!"}},"态度",null,0,0,0]
[1961,788108,"block",{"$f":"IF(VLOOKUP(C1934,#REF!,2,0)>0,1,0)","v":{"$error":"#REF!"}},"块, 街区, 大楼",null,0,1,1]
[1962,788108,"block",{"$f":"IF(VLOOKUP(C1935,#REF!,2,0)>0,1,0)","v":{"$error":"#REF!"}},"堵住, 堵塞, 阻塞",null,0,0,0]
[1963,1054680,"railway",{"$f":"IF(VLOOKUP(C1936,#REF!,2,0)>0,1,0)","v":{"$error":"#REF!"}},"铁道, 铁路",null,0,1,1]
[1964,949938,"item",{"$f":"IF(VLOOKUP(C1937,#REF!,2,0)>0,1,0)","v":{"$error":"#REF!"}},"项目, 条款",null,0,1,1]
[1965,937296,"inch",{"$f":"IF(VLOOKUP(C1938,#REF!,2,0)>0,1,0)","v":{"$error":"#REF!"}},"英寸",null,0,1,1]
[1966,863199,"dull",{"$f":"IF(VLOOKUP(C1939,#REF!,2,0)>0,1,0)","v":{"$error":"#REF!"}},"乏味的, 沉闷的",null,0,0,1]
[1967,863199,"dull",{"$f":"IF(VLOOKUP(C1940,#REF!,2,0)>0,1,0)","v":{"$error":"#REF!"}},"缓和, 减轻",null,0,0,0]
[1968,863199,"dull",{"$f":"IF(VLOOKUP(C1941,#REF!,2,0)>0,1,0)","v":{"$error":"#REF!"}},"钝的",null,0,0,1]
[1969,1114576,"sugar",{"$f":"IF(VLOOKUP(C1942,#REF!,2,0)>0,1,0)","v":{"$error":"#REF!"}},"糖",null,1,1,1]
[1970,1030290,"planet",{"$f":"IF(VLOOKUP(C1943,#REF!,2,0)>0,1,0)","v":{"$error":"#REF!"}},"行星",null,1,1,1]
[1971,1003861,"obey",{"$f":"IF(VLOOKUP(C1944,#REF!,2,0)>0,1,0)","v":{"$error":"#REF!"}},"遵循, 服从",null,0,1,1]
[1972,1109317,"stomach",{"$f":"IF(VLOOKUP(C1945,#REF!,2,0)>0,1,0)","v":{"$error":"#REF!"}},"胃, 胃部",null,1,1,1]
[1973,1171481,"website",{"$f":"IF(VLOOKUP(C1946,#REF!,2,0)>0,1,0)","v":{"$error":"#REF!"}},"网站",null,0,1,1]
[1974,1120903,"tail",{"$f":"IF(VLOOKUP(C1947,#REF!,2,0)>0,1,0)","v":{"$error":"#REF!"}},"尾部, 尾巴, 尾随",null,1,1,1]
[1975,898561,"freeze",{"$f":"IF(VLOOKUP(C1948,#REF!,2,0)>0,1,0)","v":{"$error":"#REF!"}},"冻结, 凝固",null,0,1,1]
[1976,1030817,"plastic",{"$f":"IF(VLOOKUP(C1949,#REF!,2,0)>0,1,0)","v":{"$error":"#REF!"}},"塑料, 可塑的",null,1,1,1]
[1977,1144676,"twin",{"$f":"IF(VLOOKUP(C1950,#REF!,2,0)>0,1,0)","v":{"$error":"#REF!"}},"双重的, 孪生的",null,1,1,1]
[1978,1133289,"tip",{"$f":"IF(VLOOKUP(C1951,#REF!,2,0)>0,1,0)","v":{"$error":"#REF!"}},"小费, 付小费",null,0,1,1]
[1979,1133289,"tip",{"$f":"IF(VLOOKUP(C1952,#REF!,2,0)>0,1,0)","v":{"$error":"#REF!"}},"尖端",null,0,0,1]
[1980,1133289,"tip",{"$f":"IF(VLOOKUP(C1953,#REF!,2,0)>0,1,0)","v":{"$error":"#REF!"}},"倾斜, 翻倒",null,0,0,1]
[1981,994963,"narrow",{"$f":"IF(VLOOKUP(C1954,#REF!,2,0)>0,1,0)","v":{"$error":"#REF!"}},"狭窄, 变窄",null,0,1,1]
[1982,1137552,"traditional",{"$f":"IF(VLOOKUP(C1955,#REF!,2,0)>0,1,0)","v":{"$error":"#REF!"}},"传统的, 惯例的",null,1,1,1]
[1983,1048885,"punish",{"$f":"IF(VLOOKUP(C1956,#REF!,2,0)>0,1,0)","v":{"$error":"#REF!"}},"处罚, 惩罚",null,0,1,1]
[1984,1157087,"victory",{"$f":"IF(VLOOKUP(C1957,#REF!,2,0)>0,1,0)","v":{"$error":"#REF!"}},"胜利, 成功",null,0,1,1]
[1985,1098449,"southern",{"$f":"IF(VLOOKUP(C1958,#REF!,2,0)>0,1,0)","v":{"$error":"#REF!"}},"南的, 南方的",null,0,1,1]
[1986,899438,"frog",{"$f":"IF(VLOOKUP(C1959,#REF!,2,0)>0,1,0)","v":{"$error":"#REF!"}},"青蛙",null,1,1,1]
[1987,1127673,"textbook",{"$f":"IF(VLOOKUP(C1960,#REF!,2,0)>0,1,0)","v":{"$error":"#REF!"}},"教科书, 课本",null,0,1,1]
[1988,1002345,"notebook",{"$f":"IF(VLOOKUP(C1961,#REF!,2,0)>0,1,0)","v":{"$error":"#REF!"}},"笔记本",null,1,1,1]
[1989,1085530,"sex",{"$f":"IF(VLOOKUP(C1962,#REF!,2,0)>0,1,0)","v":{"$error":"#REF!"}},"性别, 性",null,0,0,1]
[1990,1021726,"per",{"$f":"IF(VLOOKUP(C1963,#REF!,2,0)>0,1,0)","v":{"$error":"#REF!"}},"每, 每一",null,0,1,1]
[1991,1067880,"rid",{"$f":"IF(VLOOKUP(C1964,#REF!,2,0)>0,1,0)","v":{"$error":"#REF!"}},"摆脱, 除去",null,0,0,1]
[1992,974751,"male",{"$f":"IF(VLOOKUP(C1965,#REF!,2,0)>0,1,0)","v":{"$error":"#REF!"}},"男的, 雄的",null,0,1,1]
[1993,932814,"ice-cream",{"$f":"IF(VLOOKUP(C1966,#REF!,2,0)>0,1,0)","v":{"$error":"#REF!"}},"冰淇淋",null,1,1,1]
[1994,1163708,"whatever",{"$f":"IF(VLOOKUP(C1967,#REF!,2,0)>0,1,0)","v":{"$error":"#REF!"}},"无论什么",null,0,1,1]
[1995,1028242,"pilot",{"$f":"IF(VLOOKUP(C1968,#REF!,2,0)>0,1,0)","v":{"$error":"#REF!"}},"领航员, 飞行员, 驾驶",null,1,1,1]
[1996,986377,"mirror",{"$f":"IF(VLOOKUP(C1969,#REF!,2,0)>0,1,0)","v":{"$error":"#REF!"}},"镜子, 反映, 反射",null,0,1,1]
[1997,801329,"captain",{"$f":"IF(VLOOKUP(C1970,#REF!,2,0)>0,1,0)","v":{"$error":"#REF!"}},"机长, 船长",null,0,1,1]
[1998,801329,"captain",{"$f":"IF(VLOOKUP(C1971,#REF!,2,0)>0,1,0)","v":{"$error":"#REF!"}},"上尉",null,0,1,1]
[1999,896115,"foreigner",{"$f":"IF(VLOOKUP(C1972,#REF!,2,0)>0,1,0)","v":{"$error":"#REF!"}},"外国人",null,0,1,1]
[2000,914685,"guard",{"$f":"IF(VLOOKUP(C1973,#REF!,2,0)>0,1,0)","v":{"$error":"#REF!"}},"警卫, 警惕",null,0,1,1]
[2001,872257,"engine",{"$f":"IF(VLOOKUP(C1974,#REF!,2,0)>0,1,0)","v":{"$error":"#REF!"}},"发动机, 引擎, 火车头",null,0,1,1]
[2002,966727,"lively",{"$f":"IF(VLOOKUP(C1975,#REF!,2,0)>0,1,0)","v":{"$error":"#REF!"}},"活泼的, 活跃的",null,0,1,1]
[2003,1070885,"rose",{"$f":"IF(VLOOKUP(C1976,#REF!,2,0)>0,1,0)","v":{"$error":"#REF!"}},"玫瑰",null,0,0,0]
[2004,775570,"balance",{"$f":"IF(VLOOKUP(C1977,#REF!,2,0)>0,1,0)","v":{"$error":"#REF!"}},"天平",null,0,0,1]
[2005,775570,"balance",{"$f":"IF(VLOOKUP(C1978,#REF!,2,0)>0,1,0)","v":{"$error":"#REF!"}},"使…平衡",null,0,1,1]
[2006,1142531,"trousers",{"$f":"IF(VLOOKUP(C1979,#REF!,2,0)>0,1,0)","v":{"$error":"#REF!"}},"裤子",null,1,1,1]
[2007,1020032,"peace",{"$f":"IF(VLOOKUP(C1980,#REF!,2,0)>0,1,0)","v":{"$error":"#REF!"}},"和平, 安宁",null,0,1,1]
[2008,773022,"average",{"$f":"IF(VLOOKUP(C1981,#REF!,2,0)>0,1,0)","v":{"$error":"#REF!"}},"平均数",null,0,1,1]
[2009,773022,"average",{"$f":"IF(VLOOKUP(C1982,#REF!,2,0)>0,1,0)","v":{"$error":"#REF!"}},"中等的",null,0,0,1]
[2010,1027435,"picnic",{"$f":"IF(VLOOKUP(C1983,#REF!,2,0)>0,1,0)","v":{"$error":"#REF!"}},"野餐",null,1,1,1]
[2011,1162719,"weigh",{"$f":"IF(VLOOKUP(C1984,#REF!,2,0)>0,1,0)","v":{"$error":"#REF!"}},"重量, 称重量",null,1,1,1]
[2012,1017734,"pardon",{"$f":"IF(VLOOKUP(C1985,#REF!,2,0)>0,1,0)","v":{"$error":"#REF!"}},"原谅, 宽恕",null,0,1,1]
[2013,925986,"hometown",{"$f":"IF(VLOOKUP(C1986,#REF!,2,0)>0,1,0)","v":{"$error":"#REF!"}},"家乡,故乡",null,1,1,1]
[2015,884404,"favorite",{"$f":"IF(VLOOKUP(C1987,#REF!,2,0)>0,1,0)","v":{"$error":"#REF!"}},"特别喜爱的东西",null,1,1,1]
[2016,884420,"favourite",{"$f":"IF(VLOOKUP(C1988,#REF!,2,0)>0,1,0)","v":{"$error":"#REF!"}},"特别喜爱的东西",null,1,1,1]
[2017,1166770,"wolf",{"$f":"IF(VLOOKUP(C1989,#REF!,2,0)>0,1,0)","v":{"$error":"#REF!"}},"狼",null,0,1,1]
[2018,997178,"net",{"$f":"IF(VLOOKUP(C1990,#REF!,2,0)>0,1,0)","v":{"$error":"#REF!"}},"网络, 网状物",null,1,1,1]
[2019,1047823,"publish",{"$f":"IF(VLOOKUP(C1991,#REF!,2,0)>0,1,0)","v":{"$error":"#REF!"}},"出版, 发表",null,0,1,1]
[2020,837149,"cruel",{"$f":"IF(VLOOKUP(C1992,#REF!,2,0)>0,1,0)","v":{"$error":"#REF!"}},"残酷的, 残忍的",null,0,1,1]
[2021,1031782,"pleased",{"$f":"IF(VLOOKUP(C1993,#REF!,2,0)>0,1,0)","v":{"$error":"#REF!"}},"高兴的, 满意",null,0,0,0]
[2022,1084583,"servant",{"$f":"IF(VLOOKUP(C1994,#REF!,2,0)>0,1,0)","v":{"$error":"#REF!"}},"仆人",null,0,1,1]
[2023,822519,"communication",{"$f":"IF(VLOOKUP(C1995,#REF!,2,0)>0,1,0)","v":{"$error":"#REF!"}},"交流",null,0,1,1]
[2024,822519,"communication",{"$f":"IF(VLOOKUP(C1996,#REF!,2,0)>0,1,0)","v":{"$error":"#REF!"}},"通讯",null,0,1,1]
[2025,857487,"divide",{"$f":"IF(VLOOKUP(C1997,#REF!,2,0)>0,1,0)","v":{"$error":"#REF!"}},"划分, 分离",null,0,1,1]
[2026,857487,"divide",{"$f":"IF(VLOOKUP(C1998,#REF!,2,0)>0,1,0)","v":{"$error":"#REF!"}},"除以, 做除法",null,0,0,0]
[2027,1002582,"nowadays",{"$f":"IF(VLOOKUP(C1999,#REF!,2,0)>0,1,0)","v":{"$error":"#REF!"}},"现今, 现在",null,0,1,1]
[2028,794804,"brush",{"$f":"IF(VLOOKUP(C2000,#REF!,2,0)>0,1,0)","v":{"$error":"#REF!"}},"刷",null,1,1,1]
[2070,850434,"diary",{"$f":"IF(VLOOKUP(C2040,#REF!,2,0)>0,1,0)","v":{"$error":"#REF!"}},"日记, 日记簿",null,1,1,1]
[2086,1029943,"plain",{"$f":"IF(VLOOKUP(C2056,#REF!,2,0)>0,1,0)","v":{"$error":"#REF!"}},"朴素的, 简单的",null,0,0,1]
[2147,1014743,"package",{"$f":"IF(VLOOKUP(C2117,#REF!,2,0)>0,1,0)","v":{"$error":"#REF!"}},"包裹",null,0,1,1]
[2173,808402,"channel",{"$f":"IF(VLOOKUP(C2143,#REF!,2,0)>0,1,0)","v":{"$error":"#REF!"}},"海峡",null,0,0,1]
[2209,1033839,"pole",{"$f":"IF(VLOOKUP(C2179,#REF!,2,0)>0,1,0)","v":{"$error":"#REF!"}},"杆",null,0,1,1]
[2282,843568,"debate",{"$f":"IF(VLOOKUP(C2252,#REF!,2,0)>0,1,0)","v":{"$error":"#REF!"}},"争论, 辩论",null,0,1,1]
[2296,1042823,"prisoner",{"$f":"IF(VLOOKUP(C2266,#REF!,2,0)>0,1,0)","v":{"$error":"#REF!"}},"囚犯, 俘虏",null,0,1,1]
[2360,1110739,"stream",{"$f":"IF(VLOOKUP(C2329,#REF!,2,0)>0,1,0)","v":{"$error":"#REF!"}},"溪流, 小河, 流动",null,0,1,1]
[2384,850077,"dialogue",{"$f":"IF(VLOOKUP(C2353,#REF!,2,0)>0,1,0)","v":{"$error":"#REF!"}},"对话, 对白",null,0,1,1]
[2420,910724,"goose",{"$f":"IF(VLOOKUP(C2389,#REF!,2,0)>0,1,0)","v":{"$error":"#REF!"}},"傻瓜",null,0,0,0]
[2497,1033982,"policewoman",{"$f":"IF(VLOOKUP(C2464,#REF!,2,0)>0,1,0)","v":{"$error":"#REF!"}},"女警察",null,0,1,1]
[2509,911787,"grandchild",{"$f":"IF(VLOOKUP(C2476,#REF!,2,0)>0,1,0)","v":{"$error":"#REF!"}},"孙子, 孙女",null,1,1,1]
[2574,864606,"e-mail",{"$f":"IF(VLOOKUP(C2541,#REF!,2,0)>0,1,0)","v":{"$error":"#REF!"}},"电子邮件",null,1,1,1]
[2623,1026505,"phrase",{"$f":"IF(VLOOKUP(C2590,#REF!,2,0)>0,1,0)","v":{"$error":"#REF!"}},"短语, 习惯用语",null,0,1,1]
[2632,808074,"challenge",{"$f":"IF(VLOOKUP(C2599,#REF!,2,0)>0,1,0)","v":{"$error":"#REF!"}},"质疑",null,0,0,1]
[2709,809302,"chat",{"$f":"IF(VLOOKUP(C2676,#REF!,2,0)>0,1,0)","v":{"$error":"#REF!"}},"闲谈, 聊天",null,1,1,1]
[2719,821666,"comfort",{"$f":"IF(VLOOKUP(C2686,#REF!,2,0)>0,1,0)","v":{"$error":"#REF!"}},"舒适, 安逸",null,0,1,1]
[2786,760261,"anger",{"$f":"IF(VLOOKUP(C2753,#REF!,2,0)>0,1,0)","v":{"$error":"#REF!"}},"(使)发怒",null,0,1,1]
[2834,838748,"cure",{"$f":"IF(VLOOKUP(C2800,#REF!,2,0)>0,1,0)","v":{"$error":"#REF!"}},"治愈, 治疗",null,0,1,1]
[2886,1063961,"requirement",{"$f":"IF(VLOOKUP(C2852,#REF!,2,0)>0,1,0)","v":{"$error":"#REF!"}},"要求, 必要条件, 必需品",null,0,0,1]
[2922,1153665,"valley",{"$f":"IF(VLOOKUP(C2888,#REF!,2,0)>0,1,0)","v":{"$error":"#REF!"}},"山谷, 溪谷",null,0,0,1]
[2930,1062617,"remark",{"$f":"IF(VLOOKUP(C2896,#REF!,2,0)>0,1,0)","v":{"$error":"#REF!"}},"注意",null,0,0,0]
[2999,1110893,"strengthen",{"$f":"IF(VLOOKUP(C2965,#REF!,2,0)>0,1,0)","v":{"$error":"#REF!"}},"变强, 加强, 强化",null,0,0,1]
[3044,943100,"insurance",{"$f":"IF(VLOOKUP(C3010,#REF!,2,0)>0,1,0)","v":{"$error":"#REF!"}},"保险",null,0,0,1]
[3096,1140362,"trend",{"$f":"IF(VLOOKUP(C3062,#REF!,2,0)>0,1,0)","v":{"$error":"#REF!"}},"倾向, 趋势",null,0,0,1]
[3134,1015229,"painter",{"$f":"IF(VLOOKUP(C3100,#REF!,2,0)>0,1,0)","v":{"$error":"#REF!"}},"画家, 油漆匠",null,0,1,1]
[3167,990137,"moral",{"$f":"IF(VLOOKUP(C3133,#REF!,2,0)>0,1,0)","v":{"$error":"#REF!"}},"寓意, 格言",null,0,0,1]
[3211,935191,"import",{"$f":"IF(VLOOKUP(C3177,#REF!,2,0)>0,1,0)","v":{"$error":"#REF!"}},"重要性, 意义",null,0,0,0]
[3254,814103,"civil",{"$f":"IF(VLOOKUP(C3220,#REF!,2,0)>0,1,0)","v":{"$error":"#REF!"}},"文明的, 有礼貌的",null,0,0,1]
[3306,856208,"display",{"$f":"IF(VLOOKUP(C3272,#REF!,2,0)>0,1,0)","v":{"$error":"#REF!"}},"显示, 表现",null,0,1,1]
[3346,1174527,"witness",{"$f":"IF(VLOOKUP(C3312,#REF!,2,0)>0,1,0)","v":{"$error":"#REF!"}},"目击者, 见证人",null,0,1,1]
[3377,1093513,"slightly",{"$f":"IF(VLOOKUP(C3343,#REF!,2,0)>0,1,0)","v":{"$error":"#REF!"}},"稍稍, 轻微地",null,0,0,1]
[3429,978652,"maximum",{"$f":"IF(VLOOKUP(C3395,#REF!,2,0)>0,1,0)","v":{"$error":"#REF!"}},"最大值",null,0,0,1]
[3481,808734,"characteristic",{"$f":"IF(VLOOKUP(C3447,#REF!,2,0)>0,1,0)","v":{"$error":"#REF!"}},"特点, 特性, 特征",null,0,1,1]
[3500,872878,"ensure",{"$f":"IF(VLOOKUP(C3466,#REF!,2,0)>0,1,0)","v":{"$error":"#REF!"}},"确保, 保证",null,0,0,1]
[3558,876219,"essential",{"$f":"IF(VLOOKUP(C3524,#REF!,2,0)>0,1,0)","v":{"$error":"#REF!"}},"要素, 重要的",null,0,0,1]
[3587,991102,"mount",{"$f":"IF(VLOOKUP(C3553,#REF!,2,0)>0,1,0)","v":{"$error":"#REF!"}},"底座",null,0,0,0]
[3639,928317,"household",{"$f":"IF(VLOOKUP(C3605,#REF!,2,0)>0,1,0)","v":{"$error":"#REF!"}},"家庭的, 家族的",null,0,0,1]
[3693,833799,"county",{"$f":"IF(VLOOKUP(C3659,#REF!,2,0)>0,1,0)","v":{"$error":"#REF!"}},"县, 郡",null,0,0,1]
[3710,748395,"acquire",{"$f":"IF(VLOOKUP(C3676,#REF!,2,0)>0,1,0)","v":{"$error":"#REF!"}},"学到",null,0,0,1]
[3770,776329,"ban",{"$f":"IF(VLOOKUP(C3736,#REF!,2,0)>0,1,0)","v":{"$error":"#REF!"}},"禁止, 禁令",null,0,0,1]
[3797,1174590,"championship",{"$f":"IF(VLOOKUP(C3763,#REF!,2,0)>0,1,0)","v":{"$error":"#REF!"}},"优胜, 冠军",null,0,0,1]
[3849,877899,"evil",{"$f":"IF(VLOOKUP(C3815,#REF!,2,0)>0,1,0)","v":{"$error":"#REF!"}},"邪恶, 罪恶",null,0,0,1]
[3905,1045353,"property",{"$f":"IF(VLOOKUP(C3871,#REF!,2,0)>0,1,0)","v":{"$error":"#REF!"}},"财产, 地产",null,0,0,1]
[3920,935123,"implication",{"$f":"IF(VLOOKUP(C3886,#REF!,2,0)>0,1,0)","v":{"$error":"#REF!"}},"含蓄, 暗指",null,0,0,1]
[3982,1089801,"significant",{"$f":"IF(VLOOKUP(C3948,#REF!,2,0)>0,1,0)","v":{"$error":"#REF!"}},"有意义的, 重要的",null,0,0,1]
[4007,1112267,"stuff",{"$f":"IF(VLOOKUP(C3973,#REF!,2,0)>0,1,0)","v":{"$error":"#REF!"}},"原料, 材料, 资料",null,0,0,1]
[4043,1164572,"whoever",{"$f":"IF(VLOOKUP(C4009,#REF!,2,0)>0,1,0)","v":{"$error":"#REF!"}},"无论谁",null,0,1,1]
[4117,1113799,"substantial",{"$f":"IF(VLOOKUP(C4083,#REF!,2,0)>0,1,0)","v":{"$error":"#REF!"}},"大量的, 重大的",null,0,0,1]
[4130,847610,"depth",{"$f":"IF(VLOOKUP(C4096,#REF!,2,0)>0,1,0)","v":{"$error":"#REF!"}},"深(度), 纵深",null,0,0,1]
[4194,1174653,"grave",{"$f":"IF(VLOOKUP(C4160,#REF!,2,0)>0,1,0)","v":{"$error":"#REF!"}},"坟墓, 墓穴",null,0,0,1]
[4217,1174660,"penfriend",{"$f":"IF(VLOOKUP(C4183,#REF!,2,0)>0,1,0)","v":{"$error":"#REF!"}},"笔友",null,0,1,1]
[4253,1174669,"hunting",{"$f":"IF(VLOOKUP(C4219,#REF!,2,0)>0,1,0)","v":{"$error":"#REF!"}},"打猎, 搜索, 追寻",null,0,0,0]
[4329,1083106,"senate",{"$f":"IF(VLOOKUP(C4295,#REF!,2,0)>0,1,0)","v":{"$error":"#REF!"}},"参议院, 上院",null,0,0,0]
[4340,1104306,"stadium",{"$f":"IF(VLOOKUP(C4306,#REF!,2,0)>0,1,0)","v":{"$error":"#REF!"}},"体育场, 运动场",null,0,1,1]
[4406,1174687,"boost",{"$f":"IF(VLOOKUP(C4372,#REF!,2,0)>0,1,0)","v":{"$error":"#REF!"}},"激励, 提高, 促进",null,0,0,1]
[4427,993813,"mutual",{"$f":"IF(VLOOKUP(C4393,#REF!,2,0)>0,1,0)","v":{"$error":"#REF!"}},"相互的, 共同的, 共有的",null,0,0,1]
[4463,1174699,"PC",{"$f":"IF(VLOOKUP(C4429,#REF!,2,0)>0,1,0)","v":{"$error":"#REF!"}},"个人计算机",null,0,0,1]
[4541,983071,"meter",{"$f":"IF(VLOOKUP(C4507,#REF!,2,0)>0,1,0)","v":{"$error":"#REF!"}},"计量器, 计量仪",null,0,0,0]
[4550,1174718,"depending",{"$f":"IF(VLOOKUP(C4516,#REF!,2,0)>0,1,0)","v":{"$error":"#REF!"}},"取决于",null,0,0,0]
[4614,798946,"calendar",{"$f":"IF(VLOOKUP(C4580,#REF!,2,0)>0,1,0)","v":{"$error":"#REF!"}},"历法",null,0,0,0]
[4637,1054791,"rainbow",{"$f":"IF(VLOOKUP(C4603,#REF!,2,0)>0,1,0)","v":{"$error":"#REF!"}},"彩虹",null,0,1,1]
[4717,768203,"assignment",{"$f":"IF(VLOOKUP(C4682,#REF!,2,0)>0,1,0)","v":{"$error":"#REF!"}},"作业, 任务, 工作",null,0,0,1]
[4754,1174752,"heritage",{"$f":"IF(VLOOKUP(C4719,#REF!,2,0)>0,1,0)","v":{"$error":"#REF!"}},"传统",null,0,0,0]
[4804,1013398,"overlook",{"$f":"IF(VLOOKUP(C4769,#REF!,2,0)>0,1,0)","v":{"$error":"#REF!"}},"远眺",null,0,0,1]
[4840,839198,"curriculum",{"$f":"IF(VLOOKUP(C4805,#REF!,2,0)>0,1,0)","v":{"$error":"#REF!"}},"课程体系",null,0,0,1]
[4889,874310,"episode",{"$f":"IF(VLOOKUP(C4854,#REF!,2,0)>0,1,0)","v":{"$error":"#REF!"}},"一集, 插曲, 片段",null,0,0,1]
[4927,823385,"competitor",{"$f":"IF(VLOOKUP(C4892,#REF!,2,0)>0,1,0)","v":{"$error":"#REF!"}},"对手",null,0,0,1]
[4962,1026926,"physically",{"$f":"IF(VLOOKUP(C4927,#REF!,2,0)>0,1,0)","v":{"$error":"#REF!"}},"肉体上, 物质上",null,0,0,0]
[5014,1174808,"presidency",{"$f":"IF(VLOOKUP(C4979,#REF!,2,0)>0,1,0)","v":{"$error":"#REF!"}},"总统, 总统的任期",null,0,0,0]
[5050,1137518,"trader",{"$f":"IF(VLOOKUP(C5015,#REF!,2,0)>0,1,0)","v":{"$error":"#REF!"}},"商人",null,0,1,1]
[5101,1175353,"lighting",{"$f":"IF(VLOOKUP(C5066,#REF!,2,0)>0,1,0)","v":{"$error":"#REF!"}},"照明",null,0,0,0]
[5137,847547,"depress",{"$f":"IF(VLOOKUP(C5102,#REF!,2,0)>0,1,0)","v":{"$error":"#REF!"}},"使沮丧, 使消沉, 使萧条",null,0,0,1]
[5174,1180595,"unconsciously",{"$f":"IF(VLOOKUP(C5139,#REF!,2,0)>0,1,0)","v":{"$error":"#REF!"}},"无意中, 不知不觉",null,0,0,1]
[5224,847410,"deposit",{"$f":"IF(VLOOKUP(C5189,#REF!,2,0)>0,1,0)","v":{"$error":"#REF!"}},"存储, 存款",null,0,0,1]
[5260,1175192,"desperately",{"$f":"IF(VLOOKUP(C5225,#REF!,2,0)>0,1,0)","v":{"$error":"#REF!"}},"极度地",null,0,0,0]
[5320,951295,"jog",{"$f":"IF(VLOOKUP(C5278,#REF!,2,0)>0,1,0)","v":{"$error":"#REF!"}},"慢跑",null,0,0,1]
[5357,1117292,"surge",{"$f":"IF(VLOOKUP(C5312,#REF!,2,0)>0,1,0)","v":{"$error":"#REF!"}},"急剧上升",null,0,0,0]
[5402,1002425,"noticeable",{"$f":"IF(VLOOKUP(C5351,#REF!,2,0)>0,1,0)","v":{"$error":"#REF!"}},"显而易见的, 值得注意的",null,0,0,0]
[5459,1174662,"testimony",{"$f":"IF(VLOOKUP(C5399,#REF!,2,0)>0,1,0)","v":{"$error":"#REF!"}},"法庭证词",null,0,0,1]
[5503,798451,"cafeteria",{"$f":"IF(VLOOKUP(C5435,#REF!,2,0)>0,1,0)","v":{"$error":"#REF!"}},"小餐馆, 咖啡馆",null,0,0,1]
[5570,1174870,"harsh",{"$f":"IF(VLOOKUP(C5486,#REF!,2,0)>0,1,0)","v":{"$error":"#REF!"}},"粗糙的",null,0,0,1]
[5610,1174874,"divine",{"$f":"IF(VLOOKUP(C5522,#REF!,2,0)>0,1,0)","v":{"$error":"#REF!"}},"极好的, 神圣的",null,0,0,0]
[5661,1175920,"individually",{"$f":"IF(VLOOKUP(C5563,#REF!,2,0)>0,1,0)","v":{"$error":"#REF!"}},"分别地, 各自地",null,0,0,0]
[5711,860319,"downward",{"$f":"IF(VLOOKUP(C5609,#REF!,2,0)>0,1,0)","v":{"$error":"#REF!"}},"向下的",null,0,0,1]
[5749,1174891,"iranian",{"$f":"IF(VLOOKUP(C5645,#REF!,2,0)>0,1,0)","v":{"$error":"#REF!"}},"伊朗的",null,0,0,0]
[5803,1174894,"wilderness",{"$f":"IF(VLOOKUP(C5698,#REF!,2,0)>0,1,0)","v":{"$error":"#REF!"}},"荒野, 荒地",null,0,0,1]
[5837,1149730,"unity",{"$f":"IF(VLOOKUP(C5732,#REF!,2,0)>0,1,0)","v":{"$error":"#REF!"}},"团结, 一致",null,0,0,1]
[5881,1174903,"technological",{"$f":"IF(VLOOKUP(C5775,#REF!,2,0)>0,1,0)","v":{"$error":"#REF!"}},"技术上的, 工艺(学)的",null,0,0,0]
[5909,1174906,"cooperative",{"$f":"IF(VLOOKUP(C5803,#REF!,2,0)>0,1,0)","v":{"$error":"#REF!"}},"合作社, 联合体",null,0,0,0]
[5961,1098438,"southeast",{"$f":"IF(VLOOKUP(C5855,#REF!,2,0)>0,1,0)","v":{"$error":"#REF!"}},"东南, 东南方",null,1,1,1]
[6016,1017999,"parliament",{"$f":"IF(VLOOKUP(C5910,#REF!,2,0)>0,1,0)","v":{"$error":"#REF!"}},"议会, 国会",null,0,0,1]
[6048,1012398,"outward",{"$f":"IF(VLOOKUP(C5942,#REF!,2,0)>0,1,0)","v":{"$error":"#REF!"}},"向外的",null,0,0,1]
[6084,1110284,"straightforward",{"$f":"IF(VLOOKUP(C5978,#REF!,2,0)>0,1,0)","v":{"$error":"#REF!"}},"直截了当的, 坦率的",null,0,0,1]
[6151,982873,"metaphor",{"$f":"IF(VLOOKUP(C6045,#REF!,2,0)>0,1,0)","v":{"$error":"#REF!"}},"隐喻, 暗喻",null,0,1,1]
[6173,826216,"confidential",{"$f":"IF(VLOOKUP(C6065,#REF!,2,0)>0,1,0)","v":{"$error":"#REF!"}},"秘密的, 机密的",null,0,0,1]
[6230,928475,"howl",{"$f":"IF(VLOOKUP(C6122,#REF!,2,0)>0,1,0)","v":{"$error":"#REF!"}},"嚎叫, 嚎啕大哭",null,0,0,1]
[6260,967125,"loaf",{"$f":"IF(VLOOKUP(C6152,#REF!,2,0)>0,1,0)","v":{"$error":"#REF!"}},"一条（块）面包",null,0,1,1]
[6296,1174951,"blink",{"$f":"IF(VLOOKUP(C6188,#REF!,2,0)>0,1,0)","v":{"$error":"#REF!"}},"眨眼",null,0,0,0]
[6365,1179831,"underside",{"$f":"IF(VLOOKUP(C6257,#REF!,2,0)>0,1,0)","v":{"$error":"#REF!"}},"阴暗面",null,0,0,0]
[6383,981852,"merit",{"$f":"IF(VLOOKUP(C6275,#REF!,2,0)>0,1,0)","v":{"$error":"#REF!"}},"值得, 应得",null,0,0,0]
[6442,1174971,"minimize",{"$f":"IF(VLOOKUP(C6334,#REF!,2,0)>0,1,0)","v":{"$error":"#REF!"}},"极力贬低",null,0,0,0]
[6455,1174972,"clutch",{"$f":"IF(VLOOKUP(C6346,#REF!,2,0)>0,1,0)","v":{"$error":"#REF!"}},"紧要关头的",null,0,0,0]
[6508,900755,"full-time",{"$f":"IF(VLOOKUP(C6398,#REF!,2,0)>0,1,0)","v":{"$error":"#REF!"}},"全日（制）, 全职的",null,0,1,1]
[6581,1183973,"retrain",{"$f":"IF(VLOOKUP(C6469,#REF!,2,0)>0,1,0)","v":{"$error":"#REF!"}},"重新教育, 再教育",null,0,0,1]
[6597,1174992,"stride",{"$f":"IF(VLOOKUP(C6485,#REF!,2,0)>0,1,0)","v":{"$error":"#REF!"}},"跨过",null,0,0,0]
[6658,1175002,"casino",{"$f":"IF(VLOOKUP(C6546,#REF!,2,0)>0,1,0)","v":{"$error":"#REF!"}},"赌场, 娱乐场",null,0,0,0]
[6712,897995,"franchise",{"$f":"IF(VLOOKUP(C6599,#REF!,2,0)>0,1,0)","v":{"$error":"#REF!"}},"选举权",null,0,0,0]
[6721,1098834,"spade",{"$f":"IF(VLOOKUP(C6608,#REF!,2,0)>0,1,0)","v":{"$error":"#REF!"}},"纸牌中的黑桃",null,0,0,0]
[6795,913373,"grief",{"$f":"IF(VLOOKUP(C6681,#REF!,2,0)>0,1,0)","v":{"$error":"#REF!"}},"悲痛",null,0,0,1]
[6810,766721,"artificial",{"$f":"IF(VLOOKUP(C6695,#REF!,2,0)>0,1,0)","v":{"$error":"#REF!"}},"人造的",null,0,1,1]
[6873,1103336,"sprinkle",{"$f":"IF(VLOOKUP(C6758,#REF!,2,0)>0,1,0)","v":{"$error":"#REF!"}},"下小雨",null,0,0,0]
[6924,1142344,"tropical",{"$f":"IF(VLOOKUP(C6809,#REF!,2,0)>0,1,0)","v":{"$error":"#REF!"}},"热带的",null,0,0,1]
[6933,1175058,"closing",{"$f":"IF(VLOOKUP(C6818,#REF!,2,0)>0,1,0)","v":{"$error":"#REF!"}},"结尾辞",null,0,0,0]
[7009,1048852,"punctuation",{"$f":"IF(VLOOKUP(C6893,#REF!,2,0)>0,1,0)","v":{"$error":"#REF!"}},"标点符号",null,0,0,1]
[7049,1175094,"donation",{"$f":"IF(VLOOKUP(C6932,#REF!,2,0)>0,1,0)","v":{"$error":"#REF!"}},"捐款, 捐赠物",null,0,0,0]
[7087,1175104,"hop",{"$f":"IF(VLOOKUP(C6970,#REF!,2,0)>0,1,0)","v":{"$error":"#REF!"}},"换来换去, 不断更换",null,0,0,0]
[7136,1175120,"sneak",{"$f":"IF(VLOOKUP(C7019,#REF!,2,0)>0,1,0)","v":{"$error":"#REF!"}},"鬼鬼祟祟的",null,0,0,0]
[7145,1175121,"well-being",{"$f":"IF(VLOOKUP(C7028,#REF!,2,0)>0,1,0)","v":{"$error":"#REF!"}},"幸福, 生活安宁",null,0,0,1]
[7223,1175141,"aggression",{"$f":"IF(VLOOKUP(C7105,#REF!,2,0)>0,1,0)","v":{"$error":"#REF!"}},"攻击",null,0,0,0]
[7261,850956,"dictation",{"$f":"IF(VLOOKUP(C7142,#REF!,2,0)>0,1,0)","v":{"$error":"#REF!"}},"口授",null,0,0,1]
[7301,903884,"gasp",{"$f":"IF(VLOOKUP(C7182,#REF!,2,0)>0,1,0)","v":{"$error":"#REF!"}},"喘息, 气喘",null,0,0,0]
[7348,1107396,"steer",{"$f":"IF(VLOOKUP(C7229,#REF!,2,0)>0,1,0)","v":{"$error":"#REF!"}},"驾驶, 掌舵",null,0,0,0]
[7384,1185209,"stag",{"$f":"IF(VLOOKUP(C7265,#REF!,2,0)>0,1,0)","v":{"$error":"#REF!"}},"雄鹿, 阉过的雄畜（牛, 猪）",null,0,0,0]
[7436,1131775,"thunderstorm",{"$f":"IF(VLOOKUP(C7317,#REF!,2,0)>0,1,0)","v":{"$error":"#REF!"}},"雷暴, 雷雨",null,0,1,1]
[7471,1175196,"autonomy",{"$f":"IF(VLOOKUP(C7352,#REF!,2,0)>0,1,0)","v":{"$error":"#REF!"}},"自治, 自治权",null,0,0,1]
[7523,1175213,"jurisdiction",{"$f":"IF(VLOOKUP(C7404,#REF!,2,0)>0,1,0)","v":{"$error":"#REF!"}},"管辖范围",null,0,0,0]
[7573,1175226,"eligible",{"$f":"IF(VLOOKUP(C7452,#REF!,2,0)>0,1,0)","v":{"$error":"#REF!"}},"合格者",null,0,0,0]
[7596,793515,"bridegroom",{"$f":"IF(VLOOKUP(C7475,#REF!,2,0)>0,1,0)","v":{"$error":"#REF!"}},"新郎",null,0,0,1]
[7650,1062924,"removal",{"$f":"IF(VLOOKUP(C7529,#REF!,2,0)>0,1,0)","v":{"$error":"#REF!"}},"除去",null,0,0,0]
[7683,1008581,"opt",{"$f":"IF(VLOOKUP(C7562,#REF!,2,0)>0,1,0)","v":{"$error":"#REF!"}},"选择",null,0,0,1]
[7735,1175269,"intact",{"$f":"IF(VLOOKUP(C7614,#REF!,2,0)>0,1,0)","v":{"$error":"#REF!"}},"完整无缺的",null,0,0,1]
[7785,1175281,"transit",{"$f":"IF(VLOOKUP(C7664,#REF!,2,0)>0,1,0)","v":{"$error":"#REF!"}},"穿过, 经过",null,0,0,0]
[7806,1157571,"vinegar",{"$f":"IF(VLOOKUP(C7685,#REF!,2,0)>0,1,0)","v":{"$error":"#REF!"}},"醋",null,0,1,1]
[7862,1175304,"mansion",{"$f":"IF(VLOOKUP(C7741,#REF!,2,0)>0,1,0)","v":{"$error":"#REF!"}},"大厦",null,0,0,1]
[7894,1175312,"projection",{"$f":"IF(VLOOKUP(C7772,#REF!,2,0)>0,1,0)","v":{"$error":"#REF!"}},"预测",null,0,0,0]
[7930,1175324,"compost",{"$f":"IF(VLOOKUP(C7808,#REF!,2,0)>0,1,0)","v":{"$error":"#REF!"}},"混合",null,0,1,1]
[8000,808083,"challenging",{"$f":"IF(VLOOKUP(C7876,#REF!,2,0)>0,1,0)","v":{"$error":"#REF!"}},"挑战性的",null,0,0,0]
[8019,1160329,"warehouse",{"$f":"IF(VLOOKUP(C7895,#REF!,2,0)>0,1,0)","v":{"$error":"#REF!"}},"仓库, 货栈",null,0,0,1]
[8077,1175361,"restoration",{"$f":"IF(VLOOKUP(C7953,#REF!,2,0)>0,1,0)","v":{"$error":"#REF!"}},"（遗失等物的）归还原主",null,0,0,0]
[8106,1175366,"manifest",{"$f":"IF(VLOOKUP(C7982,#REF!,2,0)>0,1,0)","v":{"$error":"#REF!"}},"显示, 表明",null,0,0,0]
[8142,1175373,"marsh",{"$f":"IF(VLOOKUP(C8018,#REF!,2,0)>0,1,0)","v":{"$error":"#REF!"}},"沼泽, 湿地",null,0,0,1]
[8213,1175389,"spice",{"$f":"IF(VLOOKUP(C8088,#REF!,2,0)>0,1,0)","v":{"$error":"#REF!"}},"少许",null,0,0,0]
[8231,1175393,"stalk",{"$f":"IF(VLOOKUP(C8105,#REF!,2,0)>0,1,0)","v":{"$error":"#REF!"}},"[植]茎, 秆",null,0,0,1]
[8291,1029040,"pipeline",{"$f":"IF(VLOOKUP(C8165,#REF!,2,0)>0,1,0)","v":{"$error":"#REF!"}},"管道",null,0,0,0]
[8318,884665,"federation",{"$f":"IF(VLOOKUP(C8192,#REF!,2,0)>0,1,0)","v":{"$error":"#REF!"}},"联邦, 联合, 联盟",null,0,0,0]
[8355,1175418,"pirate",{"$f":"IF(VLOOKUP(C8228,#REF!,2,0)>0,1,0)","v":{"$error":"#REF!"}},"当海盗",null,0,0,0]
[8428,1175431,"imperial",{"$f":"IF(VLOOKUP(C8300,#REF!,2,0)>0,1,0)","v":{"$error":"#REF!"}},"特大号, 特级品",null,0,0,0]
[8443,1175434,"warfare",{"$f":"IF(VLOOKUP(C8315,#REF!,2,0)>0,1,0)","v":{"$error":"#REF!"}},"兵火",null,0,0,0]
[8501,1175446,"rising",{"$f":"IF(VLOOKUP(C8373,#REF!,2,0)>0,1,0)","v":{"$error":"#REF!"}},"增大的",null,0,0,0]
[8531,1175450,"morality",{"$f":"IF(VLOOKUP(C8402,#REF!,2,0)>0,1,0)","v":{"$error":"#REF!"}},"品德高尚的行为",null,0,0,0]
[8567,1175457,"prey",{"$f":"IF(VLOOKUP(C8438,#REF!,2,0)>0,1,0)","v":{"$error":"#REF!"}},"捕食",null,0,0,0]
[8642,1175469,"foul",{"$f":"IF(VLOOKUP(C8512,#REF!,2,0)>0,1,0)","v":{"$error":"#REF!"}},"邪恶的",null,0,0,0]
[8655,1175469,"foul",{"$f":"IF(VLOOKUP(C8525,#REF!,2,0)>0,1,0)","v":{"$error":"#REF!"}},"使阻塞",null,0,0,0]
[8737,1175485,"homicide",{"$f":"IF(VLOOKUP(C8604,#REF!,2,0)>0,1,0)","v":{"$error":"#REF!"}},"杀人犯",null,0,0,0]
[8738,1175485,"homicide",{"$f":"IF(VLOOKUP(C8605,#REF!,2,0)>0,1,0)","v":{"$error":"#REF!"}},"杀人罪",null,0,0,0]
[8781,1175496,"oyster",{"$f":"IF(VLOOKUP(C8648,#REF!,2,0)>0,1,0)","v":{"$error":"#REF!"}},"鸡背肉",null,0,0,0]
[8856,1175516,"tattoo",{"$f":"IF(VLOOKUP(C8720,#REF!,2,0)>0,1,0)","v":{"$error":"#REF!"}},"归营鼓",null,0,0,0]
[8871,1175519,"surgical",{"$f":"IF(VLOOKUP(C8735,#REF!,2,0)>0,1,0)","v":{"$error":"#REF!"}},"（服装）治疗用的",null,0,0,0]
[8950,1175534,"demon",{"$f":"IF(VLOOKUP(C8814,#REF!,2,0)>0,1,0)","v":{"$error":"#REF!"}},"精力过人的人",null,0,0,0]
[8998,1175543,"established",{"$f":"IF(VLOOKUP(C8859,#REF!,2,0)>0,1,0)","v":{"$error":"#REF!"}},"使成为",null,0,0,0]
[9041,1059724,"reel",{"$f":"IF(VLOOKUP(C8901,#REF!,2,0)>0,1,0)","v":{"$error":"#REF!"}},"摇摆",null,0,0,0]
[9073,1175559,"proceedings",{"$f":"IF(VLOOKUP(C8932,#REF!,2,0)>0,1,0)","v":{"$error":"#REF!"}},"诉讼",null,0,0,0]
[9086,1062600,"remains",{"$f":"IF(VLOOKUP(C8945,#REF!,2,0)>0,1,0)","v":{"$error":"#REF!"}},"仍然是",null,0,0,0]
[9168,1175576,"yank",{"$f":"IF(VLOOKUP(C9024,#REF!,2,0)>0,1,0)","v":{"$error":"#REF!"}},"突然的猛拉",null,0,0,0]
[9215,1175581,"disrupt",{"$f":"IF(VLOOKUP(C9071,#REF!,2,0)>0,1,0)","v":{"$error":"#REF!"}},"分裂的, 中断的",null,0,0,0]
[9255,1175589,"baseline",{"$f":"IF(VLOOKUP(C9111,#REF!,2,0)>0,1,0)","v":{"$error":"#REF!"}},"零位线",null,0,0,0]
[9290,1175594,"flick",{"$f":"IF(VLOOKUP(C9144,#REF!,2,0)>0,1,0)","v":{"$error":"#REF!"}},"忽然摇动",null,0,0,0]
[9346,1175603,"coefficient",{"$f":"IF(VLOOKUP(C9198,#REF!,2,0)>0,1,0)","v":{"$error":"#REF!"}},"系数",null,0,0,0]
[9382,1175609,"renaissance",{"$f":"IF(VLOOKUP(C9234,#REF!,2,0)>0,1,0)","v":{"$error":"#REF!"}},"(某一学科或艺术形式等衰落后的)复兴",null,0,0,1]
[9427,1175618,"mobility",{"$f":"IF(VLOOKUP(C9279,#REF!,2,0)>0,1,0)","v":{"$error":"#REF!"}},"流动性",null,0,0,1]
[9469,1175627,"fling",{"$f":"IF(VLOOKUP(C9321,#REF!,2,0)>0,1,0)","v":{"$error":"#REF!"}},"猛扑",null,0,0,0]
[9505,1175635,"incumbent",{"$f":"IF(VLOOKUP(C9356,#REF!,2,0)>0,1,0)","v":{"$error":"#REF!"}},"在职者",null,0,0,0]
[9559,1175645,"gen",{"$f":"IF(VLOOKUP(C9408,#REF!,2,0)>0,1,0)","v":{"$error":"#REF!"}},"<英俚>情报",null,0,0,0]
[9595,1175654,"reassure",{"$f":"IF(VLOOKUP(C9444,#REF!,2,0)>0,1,0)","v":{"$error":"#REF!"}},"再保证",null,0,0,0]
[9644,1175666,"repeated",{"$f":"IF(VLOOKUP(C9491,#REF!,2,0)>0,1,0)","v":{"$error":"#REF!"}},"反复的, 再三的, 重复的",null,0,0,0]
[9684,1175678,"moss",{"$f":"IF(VLOOKUP(C9531,#REF!,2,0)>0,1,0)","v":{"$error":"#REF!"}},"莫斯(男子名)",null,0,0,0]
[9722,1175684,"spa",{"$f":"IF(VLOOKUP(C9568,#REF!,2,0)>0,1,0)","v":{"$error":"#REF!"}},"矿泉疗养地",null,0,0,0]
[9757,1175695,"formally",{"$f":"IF(VLOOKUP(C9602,#REF!,2,0)>0,1,0)","v":{"$error":"#REF!"}},"拘泥形式地",null,0,0,0]
[9810,1175706,"reasoning",{"$f":"IF(VLOOKUP(C9654,#REF!,2,0)>0,1,0)","v":{"$error":"#REF!"}},"推理, 思考",null,0,0,0]
[9861,1175719,"heroin",{"$f":"IF(VLOOKUP(C9703,#REF!,2,0)>0,1,0)","v":{"$error":"#REF!"}},"吗啡",null,0,0,0]
[9901,1175726,"slick",{"$f":"IF(VLOOKUP(C9741,#REF!,2,0)>0,1,0)","v":{"$error":"#REF!"}},"占…的便宜",null,0,0,0]
[9941,1175739,"foil",{"$f":"IF(VLOOKUP(C9780,#REF!,2,0)>0,1,0)","v":{"$error":"#REF!"}},"（镜底的）银箔, （宝石等的）衬底",null,0,0,0]
[9973,984016,"microphone",{"$f":"IF(VLOOKUP(C9812,#REF!,2,0)>0,1,0)","v":{"$error":"#REF!"}},"话筒",null,0,0,1]
[10026,1175756,"awaken",{"$f":"IF(VLOOKUP(C9864,#REF!,2,0)>0,1,0)","v":{"$error":"#REF!"}},"激起",null,0,0,0]
[10077,1175765,"eclipse",{"$f":"IF(VLOOKUP(C9915,#REF!,2,0)>0,1,0)","v":{"$error":"#REF!"}},"漆黑",null,0,0,0]
[10117,1175774,"stabilize",{"$f":"IF(VLOOKUP(C9951,#REF!,2,0)>0,1,0)","v":{"$error":"#REF!"}},"（使）稳定, （使）稳固",null,0,0,0]
[10154,1175781,"poise",{"$f":"IF(VLOOKUP(C9987,#REF!,2,0)>0,1,0)","v":{"$error":"#REF!"}},"姿态",null,0,0,0]
[10219,1175793,"hiss",{"$f":"IF(VLOOKUP(C10050,#REF!,2,0)>0,1,0)","v":{"$error":"#REF!"}},"嘶嘶声",null,0,0,0]
[10244,1175799,"maximize",{"$f":"IF(VLOOKUP(C10074,#REF!,2,0)>0,1,0)","v":{"$error":"#REF!"}},"最大限度利用（某事物）",null,0,0,0]
[10297,1175814,"armor",{"$f":"IF(VLOOKUP(C10127,#REF!,2,0)>0,1,0)","v":{"$error":"#REF!"}},"为…提供防御",null,0,0,0]
[10316,1175820,"limp",{"$f":"IF(VLOOKUP(C10145,#REF!,2,0)>0,1,0)","v":{"$error":"#REF!"}},"无生气的",null,0,0,0]
[10369,1175829,"thesis",{"$f":"IF(VLOOKUP(C10197,#REF!,2,0)>0,1,0)","v":{"$error":"#REF!"}},"论文, 毕业论文",null,0,0,0]
[10436,1175844,"intake",{"$f":"IF(VLOOKUP(C10262,#REF!,2,0)>0,1,0)","v":{"$error":"#REF!"}},"吸入, 进气",null,0,0,1]
[10458,1175851,"founding",{"$f":"IF(VLOOKUP(C10284,#REF!,2,0)>0,1,0)","v":{"$error":"#REF!"}},"[机]铸造, 熔铸",null,0,0,0]
[10515,1175868,"prepared",{"$f":"IF(VLOOKUP(C10339,#REF!,2,0)>0,1,0)","v":{"$error":"#REF!"}},"期望的",null,0,0,0]
[10532,1175871,"squint",{"$f":"IF(VLOOKUP(C10355,#REF!,2,0)>0,1,0)","v":{"$error":"#REF!"}},"倾向",null,0,0,0]
[10585,1175882,"interim",{"$f":"IF(VLOOKUP(C10407,#REF!,2,0)>0,1,0)","v":{"$error":"#REF!"}},"暂时的, 临时的",null,0,0,0]
[10652,1175897,"quota",{"$f":"IF(VLOOKUP(C10474,#REF!,2,0)>0,1,0)","v":{"$error":"#REF!"}},"（正式限定的）定量, 定额",null,0,0,0]
[10674,1175902,"tract",{"$f":"IF(VLOOKUP(C10494,#REF!,2,0)>0,1,0)","v":{"$error":"#REF!"}},"（神经纤维的）束",null,0,0,0]
[10732,1175922,"anthropologist",{"$f":"IF(VLOOKUP(C10551,#REF!,2,0)>0,1,0)","v":{"$error":"#REF!"}},"人类学家",null,0,0,1]
[10747,1175926,"coffin",{"$f":"IF(VLOOKUP(C10565,#REF!,2,0)>0,1,0)","v":{"$error":"#REF!"}},"棺材",null,0,0,1]
[10801,827362,"console",{"$f":"IF(VLOOKUP(C10617,#REF!,2,0)>0,1,0)","v":{"$error":"#REF!"}},"控制台, 操纵台",null,0,0,0]
[10872,1175980,"lash",{"$f":"IF(VLOOKUP(C10686,#REF!,2,0)>0,1,0)","v":{"$error":"#REF!"}},"鞭挞, 鞭子",null,0,0,0]
[10919,1081852,"selective",{"$f":"IF(VLOOKUP(C10731,#REF!,2,0)>0,1,0)","v":{"$error":"#REF!"}},"选择的, 选择性的",null,0,0,0]
[10952,1176019,"dominance",{"$f":"IF(VLOOKUP(C10763,#REF!,2,0)>0,1,0)","v":{"$error":"#REF!"}},"支配, 统治",null,0,0,0]
[11007,1176038,"Chad",{"$f":"IF(VLOOKUP(C10818,#REF!,2,0)>0,1,0)","v":{"$error":"#REF!"}},"穿孔纸屑",null,0,0,0]
[11017,1176040,"descendant",{"$f":"IF(VLOOKUP(C10827,#REF!,2,0)>0,1,0)","v":{"$error":"#REF!"}},"后代, 后裔",null,0,0,1]
[11088,1176069,"lumber",{"$f":"IF(VLOOKUP(C10898,#REF!,2,0)>0,1,0)","v":{"$error":"#REF!"}},"废物",null,0,0,0]
[11135,1176090,"tow",{"$f":"IF(VLOOKUP(C10941,#REF!,2,0)>0,1,0)","v":{"$error":"#REF!"}},"牵引",null,0,0,0]
[11172,817744,"cock",{"$f":"IF(VLOOKUP(C10975,#REF!,2,0)>0,1,0)","v":{"$error":"#REF!"}},"翘起",null,0,0,0]
[11227,1176127,"tornado",{"$f":"IF(VLOOKUP(C11028,#REF!,2,0)>0,1,0)","v":{"$error":"#REF!"}},"大雷雨",null,0,0,0]
[11264,1068879,"ripple",{"$f":"IF(VLOOKUP(C11064,#REF!,2,0)>0,1,0)","v":{"$error":"#REF!"}},"波痕, 波及",null,0,0,0]
[11313,1176165,"hurdle",{"$f":"IF(VLOOKUP(C11110,#REF!,2,0)>0,1,0)","v":{"$error":"#REF!"}},"障碍",null,0,0,1]
[11355,1114171,"succession",{"$f":"IF(VLOOKUP(C11151,#REF!,2,0)>0,1,0)","v":{"$error":"#REF!"}},"一系列",null,0,0,0]
[11407,878079,"exaggerate",{"$f":"IF(VLOOKUP(C11203,#REF!,2,0)>0,1,0)","v":{"$error":"#REF!"}},"夸大, 夸张",null,0,0,1]
[11449,1176216,"whine",{"$f":"IF(VLOOKUP(C11245,#REF!,2,0)>0,1,0)","v":{"$error":"#REF!"}},"牢骚, 抱怨",null,0,0,0]
[11480,1176234,"interpersonal",{"$f":"IF(VLOOKUP(C11274,#REF!,2,0)>0,1,0)","v":{"$error":"#REF!"}},"人际的, 人际关系的",null,0,1,1]
[11534,1176267,"referendum",{"$f":"IF(VLOOKUP(C11322,#REF!,2,0)>0,1,0)","v":{"$error":"#REF!"}},"全民公决",null,0,0,0]
[11576,1032236,"pluck",{"$f":"IF(VLOOKUP(C11361,#REF!,2,0)>0,1,0)","v":{"$error":"#REF!"}},"勇气, 胆识",null,0,0,0]
[11630,1176304,"don",{"$f":"IF(VLOOKUP(C11413,#REF!,2,0)>0,1,0)","v":{"$error":"#REF!"}},"大学教师",null,0,0,0]
[11677,1176326,"outreach",{"$f":"IF(VLOOKUP(C11457,#REF!,2,0)>0,1,0)","v":{"$error":"#REF!"}},"到达顶端, 超越",null,0,0,0]
[11705,1176340,"folder",{"$f":"IF(VLOOKUP(C11484,#REF!,2,0)>0,1,0)","v":{"$error":"#REF!"}},"文件夹",null,0,0,0]
[11757,1142808,"trump",{"$f":"IF(VLOOKUP(C11534,#REF!,2,0)>0,1,0)","v":{"$error":"#REF!"}},"王牌, 法宝",null,0,0,0]
[11799,1176393,"paradox",{"$f":"IF(VLOOKUP(C11571,#REF!,2,0)>0,1,0)","v":{"$error":"#REF!"}},"自相矛盾的人或事",null,0,0,0]
[11836,855319,"discriminate",{"$f":"IF(VLOOKUP(C11607,#REF!,2,0)>0,1,0)","v":{"$error":"#REF!"}},"辨出",null,0,0,0]
[11901,1176446,"battered",{"$f":"IF(VLOOKUP(C11669,#REF!,2,0)>0,1,0)","v":{"$error":"#REF!"}},"破旧的, 磨损的",null,0,0,0]
[11927,1176465,"remainder",{"$f":"IF(VLOOKUP(C11694,#REF!,2,0)>0,1,0)","v":{"$error":"#REF!"}},"剩余物",null,0,0,0]
[11980,1176488,"nude",{"$f":"IF(VLOOKUP(C11746,#REF!,2,0)>0,1,0)","v":{"$error":"#REF!"}},"裸体的",null,0,0,0]
[12016,1176505,"leftover",{"$f":"IF(VLOOKUP(C11781,#REF!,2,0)>0,1,0)","v":{"$error":"#REF!"}},"吃剩的",null,0,0,1]
[12054,1176521,"comprehend",{"$f":"IF(VLOOKUP(C11817,#REF!,2,0)>0,1,0)","v":{"$error":"#REF!"}},"理解, 领会",null,0,0,0]
[12119,1176558,"platter",{"$f":"IF(VLOOKUP(C11881,#REF!,2,0)>0,1,0)","v":{"$error":"#REF!"}},"大浅盘",null,0,0,0]
[12142,1176571,"extensively",{"$f":"IF(VLOOKUP(C11904,#REF!,2,0)>0,1,0)","v":{"$error":"#REF!"}},"广大地, 广泛地",null,0,0,0]
[12195,1176602,"binding",{"$f":"IF(VLOOKUP(C11954,#REF!,2,0)>0,1,0)","v":{"$error":"#REF!"}},"捆绑的, 粘合的",null,0,0,0]
[12235,1176623,"intercept",{"$f":"IF(VLOOKUP(C11991,#REF!,2,0)>0,1,0)","v":{"$error":"#REF!"}},"截球",null,0,0,0]
[12272,1176645,"bulge",{"$f":"IF(VLOOKUP(C12027,#REF!,2,0)>0,1,0)","v":{"$error":"#REF!"}},"膨胀, 暴增",null,0,0,0]
[12343,1176681,"confederate",{"$f":"IF(VLOOKUP(C12093,#REF!,2,0)>0,1,0)","v":{"$error":"#REF!"}},"同伙, 同盟者",null,0,0,0]
[12366,1176693,"doctoral",{"$f":"IF(VLOOKUP(C12114,#REF!,2,0)>0,1,0)","v":{"$error":"#REF!"}},"博士的",null,0,0,0]
[12425,1176726,"harass",{"$f":"IF(VLOOKUP(C12166,#REF!,2,0)>0,1,0)","v":{"$error":"#REF!"}},"扰乱, 骚扰",null,0,0,0]
[12462,1048965,"puppet",{"$f":"IF(VLOOKUP(C12201,#REF!,2,0)>0,1,0)","v":{"$error":"#REF!"}},"受他人操纵的人",null,0,0,0]
[12498,1176760,"saga",{"$f":"IF(VLOOKUP(C12237,#REF!,2,0)>0,1,0)","v":{"$error":"#REF!"}},"长篇故事, 传说",null,0,0,0]
[12572,1176799,"token",{"$f":"IF(VLOOKUP(C12305,#REF!,2,0)>0,1,0)","v":{"$error":"#REF!"}},"代币",null,0,0,0]
[12596,1176813,"preventive",{"$f":"IF(VLOOKUP(C12324,#REF!,2,0)>0,1,0)","v":{"$error":"#REF!"}},"预防的, 防止的",null,0,0,0]
[12652,1176851,"raised",{"$f":"IF(VLOOKUP(C12378,#REF!,2,0)>0,1,0)","v":{"$error":"#REF!"}},"凸起的, 浮雕的",null,0,0,0]
[12687,1176873,"best-selling",{"$f":"IF(VLOOKUP(C12411,#REF!,2,0)>0,1,0)","v":{"$error":"#REF!"}},"最畅销的",null,0,0,1]
[12724,1176894,"genetics",{"$f":"IF(VLOOKUP(C12447,#REF!,2,0)>0,1,0)","v":{"$error":"#REF!"}},"遗传学",null,0,0,1]
[12795,901620,"furnish",{"$f":"IF(VLOOKUP(C12513,#REF!,2,0)>0,1,0)","v":{"$error":"#REF!"}},"提供, 供应",null,0,0,0]
[12816,1176943,"plight",{"$f":"IF(VLOOKUP(C12534,#REF!,2,0)>0,1,0)","v":{"$error":"#REF!"}},"保证, 约定",null,0,0,0]
[12855,1176965,"desperation",{"$f":"IF(VLOOKUP(C12570,#REF!,2,0)>0,1,0)","v":{"$error":"#REF!"}},"绝望",null,0,0,1]
[12898,1176987,"plank",{"$f":"IF(VLOOKUP(C12610,#REF!,2,0)>0,1,0)","v":{"$error":"#REF!"}},"在…上铺板",null,0,0,1]
[12946,1177011,"maverick",{"$f":"IF(VLOOKUP(C12657,#REF!,2,0)>0,1,0)","v":{"$error":"#REF!"}},"未烙印的小动物",null,0,0,0]
[13015,1177031,"gem",{"$f":"IF(VLOOKUP(C12725,#REF!,2,0)>0,1,0)","v":{"$error":"#REF!"}},"用宝石装饰",null,0,0,0]
[13035,1177040,"ceramic",{"$f":"IF(VLOOKUP(C12744,#REF!,2,0)>0,1,0)","v":{"$error":"#REF!"}},"制陶的",null,0,0,0]
[13071,1177049,"peril",{"$f":"IF(VLOOKUP(C12780,#REF!,2,0)>0,1,0)","v":{"$error":"#REF!"}},"危及",null,0,0,0]
[13156,1177075,"refined",{"$f":"IF(VLOOKUP(C12864,#REF!,2,0)>0,1,0)","v":{"$error":"#REF!"}},"使文雅高尚",null,0,0,0]
[13160,1177076,"revised",{"$f":"IF(VLOOKUP(C12867,#REF!,2,0)>0,1,0)","v":{"$error":"#REF!"}},"修正",null,0,0,0]
[13233,1177098,"collide",{"$f":"IF(VLOOKUP(C12937,#REF!,2,0)>0,1,0)","v":{"$error":"#REF!"}},"相撞",null,0,0,0]
[13250,1177100,"resemblance",{"$f":"IF(VLOOKUP(C12954,#REF!,2,0)>0,1,0)","v":{"$error":"#REF!"}},"相似物, 相似点",null,0,0,0]
[13332,1177123,"grouping",{"$f":"IF(VLOOKUP(C13033,#REF!,2,0)>0,1,0)","v":{"$error":"#REF!"}},"分类, 归类",null,0,0,0]
[13372,1177131,"valentine",{"$f":"IF(VLOOKUP(C13072,#REF!,2,0)>0,1,0)","v":{"$error":"#REF!"}},"在情人节（二月十四日）赠送给情人的礼物（或情人卡）",null,0,0,0]
[13422,1177143,"stellar",{"$f":"IF(VLOOKUP(C13120,#REF!,2,0)>0,1,0)","v":{"$error":"#REF!"}},"主角的",null,0,0,0]
[13452,1177149,"stint",{"$f":"IF(VLOOKUP(C13149,#REF!,2,0)>0,1,0)","v":{"$error":"#REF!"}},"限制, 节省",null,0,0,0]
[13467,1177153,"fallen",{"$f":"IF(VLOOKUP(C13164,#REF!,2,0)>0,1,0)","v":{"$error":"#REF!"}},"倒下的",null,0,0,0]
[13549,1177174,"rogue",{"$f":"IF(VLOOKUP(C13243,#REF!,2,0)>0,1,0)","v":{"$error":"#REF!"}},"离群的野兽",null,0,0,0]
[13591,1177184,"drizzle",{"$f":"IF(VLOOKUP(C13284,#REF!,2,0)>0,1,0)","v":{"$error":"#REF!"}},"下蒙蒙细雨, 下毛毛雨",null,0,0,1]
[13637,1177195,"disciplinary",{"$f":"IF(VLOOKUP(C13330,#REF!,2,0)>0,1,0)","v":{"$error":"#REF!"}},"惩罚的",null,0,0,0]
[13669,1177202,"akin",{"$f":"IF(VLOOKUP(C13361,#REF!,2,0)>0,1,0)","v":{"$error":"#REF!"}},"同源的",null,0,0,0]
[13711,1177212,"brag",{"$f":"IF(VLOOKUP(C13401,#REF!,2,0)>0,1,0)","v":{"$error":"#REF!"}},"自大, 吹嘘",null,0,0,0]
[13765,1177229,"erotic",{"$f":"IF(VLOOKUP(C13453,#REF!,2,0)>0,1,0)","v":{"$error":"#REF!"}},"引起性欲地",null,0,0,0]
[13808,1177241,"scalp",{"$f":"IF(VLOOKUP(C13496,#REF!,2,0)>0,1,0)","v":{"$error":"#REF!"}},"头皮",null,0,0,0]
[13852,1177252,"co-founder",{"$f":"IF(VLOOKUP(C13540,#REF!,2,0)>0,1,0)","v":{"$error":"#REF!"}},"（学说、组织学的）共同创立者",null,0,1,1]
[13885,1177259,"grumble",{"$f":"IF(VLOOKUP(C13573,#REF!,2,0)>0,1,0)","v":{"$error":"#REF!"}},"发牢骚",null,0,0,0]
[13925,1177271,"tar",{"$f":"IF(VLOOKUP(C13611,#REF!,2,0)>0,1,0)","v":{"$error":"#REF!"}},"焦油, 沥青, 柏油",null,0,0,0]
[13978,1177282,"scam",{"$f":"IF(VLOOKUP(C13663,#REF!,2,0)>0,1,0)","v":{"$error":"#REF!"}},"欺诈",null,0,0,0]
[14023,1177292,"unseen",{"$f":"IF(VLOOKUP(C13708,#REF!,2,0)>0,1,0)","v":{"$error":"#REF!"}},"未事先过目的",null,0,0,0]
[14066,1177304,"resurrection",{"$f":"IF(VLOOKUP(C13750,#REF!,2,0)>0,1,0)","v":{"$error":"#REF!"}},"使复活者",null,0,0,0]
[14102,1177314,"capitalize",{"$f":"IF(VLOOKUP(C13786,#REF!,2,0)>0,1,0)","v":{"$error":"#REF!"}},"积累资本",null,0,0,0]
[14160,1177332,"consortium",{"$f":"IF(VLOOKUP(C13843,#REF!,2,0)>0,1,0)","v":{"$error":"#REF!"}},"<美>大学联盟协定",null,0,0,0]
[14192,1177338,"norwegian",{"$f":"IF(VLOOKUP(C13873,#REF!,2,0)>0,1,0)","v":{"$error":"#REF!"}},"挪威的, 挪威语的",null,0,0,0]
[14239,1177348,"seep",{"$f":"IF(VLOOKUP(C13920,#REF!,2,0)>0,1,0)","v":{"$error":"#REF!"}},"渗透",null,0,0,0]
[14263,1177357,"recollection",{"$f":"IF(VLOOKUP(C13944,#REF!,2,0)>0,1,0)","v":{"$error":"#REF!"}},"回忆, 追忆",null,0,0,1]
[14316,1177370,"exquisite",{"$f":"IF(VLOOKUP(C13996,#REF!,2,0)>0,1,0)","v":{"$error":"#REF!"}},"精致的",null,0,0,1]
[14379,1177389,"avalanche",{"$f":"IF(VLOOKUP(C14055,#REF!,2,0)>0,1,0)","v":{"$error":"#REF!"}},"雪崩",null,0,0,1]
[14407,1177396,"beaver",{"$f":"IF(VLOOKUP(C14083,#REF!,2,0)>0,1,0)","v":{"$error":"#REF!"}},"[印]海狸绒布",null,0,0,0]
[14458,1177410,"vapor",{"$f":"IF(VLOOKUP(C14132,#REF!,2,0)>0,1,0)","v":{"$error":"#REF!"}},"幻想[药]吸入剂[古]忧郁(症)",null,0,0,0]
[14481,1177416,"liaison",{"$f":"IF(VLOOKUP(C14154,#REF!,2,0)>0,1,0)","v":{"$error":"#REF!"}},"（尤指一方或双方已婚的）私通",null,0,0,0]
[14535,1177429,"cleric",{"$f":"IF(VLOOKUP(C14206,#REF!,2,0)>0,1,0)","v":{"$error":"#REF!"}},"神职人员",null,0,0,0]
[14597,1177445,"all-purpose",{"$f":"IF(VLOOKUP(C14267,#REF!,2,0)>0,1,0)","v":{"$error":"#REF!"}},"万能",null,0,0,0]
[14624,1177451,"crooked",{"$f":"IF(VLOOKUP(C14293,#REF!,2,0)>0,1,0)","v":{"$error":"#REF!"}},"歪扭的",null,0,0,0]
[14678,1177464,"stash",{"$f":"IF(VLOOKUP(C14344,#REF!,2,0)>0,1,0)","v":{"$error":"#REF!"}},"隐藏, 藏匿",null,0,0,0]
[14698,1177470,"convoy",{"$f":"IF(VLOOKUP(C14364,#REF!,2,0)>0,1,0)","v":{"$error":"#REF!"}},"护航",null,0,0,0]
[14752,1177482,"grimace",{"$f":"IF(VLOOKUP(C14416,#REF!,2,0)>0,1,0)","v":{"$error":"#REF!"}},"扮怪相, 做鬼脸",null,0,0,0]
[14817,1177498,"stifle",{"$f":"IF(VLOOKUP(C14479,#REF!,2,0)>0,1,0)","v":{"$error":"#REF!"}},"扼杀",null,0,0,0]
[14825,1177501,"lending",{"$f":"IF(VLOOKUP(C14487,#REF!,2,0)>0,1,0)","v":{"$error":"#REF!"}},"出借",null,0,0,0]
[14897,1177520,"unconstitutional",{"$f":"IF(VLOOKUP(C14556,#REF!,2,0)>0,1,0)","v":{"$error":"#REF!"}},"违反宪法的, 不符合章程[法规]的",null,0,0,0]
[14915,1177525,"socialize",{"$f":"IF(VLOOKUP(C14574,#REF!,2,0)>0,1,0)","v":{"$error":"#REF!"}},"（与…）交往, 联谊",null,0,0,0]
[14967,1177534,"bacterial",{"$f":"IF(VLOOKUP(C14626,#REF!,2,0)>0,1,0)","v":{"$error":"#REF!"}},"细菌性的",null,0,0,0]
[15034,1177553,"funnel",{"$f":"IF(VLOOKUP(C14691,#REF!,2,0)>0,1,0)","v":{"$error":"#REF!"}},"漏斗状物",null,0,0,0]
[15040,1177554,"fluctuation",{"$f":"IF(VLOOKUP(C14697,#REF!,2,0)>0,1,0)","v":{"$error":"#REF!"}},"波动, 涨落, 起伏, [物]脉动",null,0,0,0]
[15112,1177569,"sentimental",{"$f":"IF(VLOOKUP(C14768,#REF!,2,0)>0,1,0)","v":{"$error":"#REF!"}},"多愁善感的",null,0,0,1]
[15129,1177574,"going",{"$f":"IF(VLOOKUP(C14784,#REF!,2,0)>0,1,0)","v":{"$error":"#REF!"}},"进行中的, 营业中的",null,0,0,0]
[15210,1177593,"herbal",{"$f":"IF(VLOOKUP(C14863,#REF!,2,0)>0,1,0)","v":{"$error":"#REF!"}},"植物标本",null,0,0,0]
[15251,1177605,"mixing",{"$f":"IF(VLOOKUP(C14903,#REF!,2,0)>0,1,0)","v":{"$error":"#REF!"}},"混合, 混频",null,0,0,0]
[15300,1177614,"thwart",{"$f":"IF(VLOOKUP(C14950,#REF!,2,0)>0,1,0)","v":{"$error":"#REF!"}},"<古>横跨, 横过",null,0,0,0]
[15331,1177621,"prominence",{"$f":"IF(VLOOKUP(C14980,#REF!,2,0)>0,1,0)","v":{"$error":"#REF!"}},"声望",null,0,0,0]
[15389,1177637,"acrylic",{"$f":"IF(VLOOKUP(C15037,#REF!,2,0)>0,1,0)","v":{"$error":"#REF!"}},"<化>丙烯酸的",null,0,0,0]
[15425,1177645,"asparagus",{"$f":"IF(VLOOKUP(C15073,#REF!,2,0)>0,1,0)","v":{"$error":"#REF!"}},"芦笋, 芦笋的茎",null,0,0,1]
[15468,1177658,"antiquity",{"$f":"IF(VLOOKUP(C15115,#REF!,2,0)>0,1,0)","v":{"$error":"#REF!"}},"古老, 古代",null,0,0,0]
[15513,1177669,"bog",{"$f":"IF(VLOOKUP(C15160,#REF!,2,0)>0,1,0)","v":{"$error":"#REF!"}},"（使）陷入泥沼",null,0,0,0]
[15522,1177672,"wig",{"$f":"IF(VLOOKUP(C15169,#REF!,2,0)>0,1,0)","v":{"$error":"#REF!"}},"给…装假发",null,0,0,0]
[15603,1177691,"entrepreneurial",{"$f":"IF(VLOOKUP(C15250,#REF!,2,0)>0,1,0)","v":{"$error":"#REF!"}},"创业的, 具有企业精神的",null,0,0,0]
[15636,1177699,"anguish",{"$f":"IF(VLOOKUP(C15283,#REF!,2,0)>0,1,0)","v":{"$error":"#REF!"}},"苦恼",null,0,0,0]
[15681,1177711,"nonstop",{"$f":"IF(VLOOKUP(C15327,#REF!,2,0)>0,1,0)","v":{"$error":"#REF!"}},"直达的",null,0,0,0]
[15725,1177722,"juicy",{"$f":"IF(VLOOKUP(C15370,#REF!,2,0)>0,1,0)","v":{"$error":"#REF!"}},"多汁的",null,0,1,1]
[15762,1177731,"diving",{"$f":"IF(VLOOKUP(C15406,#REF!,2,0)>0,1,0)","v":{"$error":"#REF!"}},"跳水, 潜水",null,0,0,0]
[15822,1177747,"vitality",{"$f":"IF(VLOOKUP(C15462,#REF!,2,0)>0,1,0)","v":{"$error":"#REF!"}},"活力",null,0,0,0]
[15853,1177754,"diffuse",{"$f":"IF(VLOOKUP(C15493,#REF!,2,0)>0,1,0)","v":{"$error":"#REF!"}},"漫射",null,0,0,0]
[15900,1177769,"tempting",{"$f":"IF(VLOOKUP(C15539,#REF!,2,0)>0,1,0)","v":{"$error":"#REF!"}},"吸引人的",null,0,0,0]
[15944,1177783,"dissertation",{"$f":"IF(VLOOKUP(C15580,#REF!,2,0)>0,1,0)","v":{"$error":"#REF!"}},"专题论文, 学位论文",null,0,0,0]
[15981,1177794,"clog",{"$f":"IF(VLOOKUP(C15616,#REF!,2,0)>0,1,0)","v":{"$error":"#REF!"}},"阻碍",null,0,0,0]
[16041,1177812,"tuberculosis",{"$f":"IF(VLOOKUP(C15674,#REF!,2,0)>0,1,0)","v":{"$error":"#REF!"}},"痨",null,0,0,0]
[16072,976032,"manure",{"$f":"IF(VLOOKUP(C15703,#REF!,2,0)>0,1,0)","v":{"$error":"#REF!"}},"肥料, 粪便",null,0,0,0]
[16116,1177835,"skeptic",{"$f":"IF(VLOOKUP(C15747,#REF!,2,0)>0,1,0)","v":{"$error":"#REF!"}},"无神论者",null,0,0,0]
[16160,1177850,"famously",{"$f":"IF(VLOOKUP(C15790,#REF!,2,0)>0,1,0)","v":{"$error":"#REF!"}},"著名地, 出名地",null,0,0,0]
[16197,1177860,"facet",{"$f":"IF(VLOOKUP(C15826,#REF!,2,0)>0,1,0)","v":{"$error":"#REF!"}},"[建]柱槽筋",null,0,0,0]
[16258,1177880,"scurry",{"$f":"IF(VLOOKUP(C15886,#REF!,2,0)>0,1,0)","v":{"$error":"#REF!"}},"仓皇奔跑声",null,0,0,0]
[16285,1177886,"postseason",{"$f":"IF(VLOOKUP(C15913,#REF!,2,0)>0,1,0)","v":{"$error":"#REF!"}},"赛季后",null,0,0,0]
[16332,1177900,"contentious",{"$f":"IF(VLOOKUP(C15959,#REF!,2,0)>0,1,0)","v":{"$error":"#REF!"}},"爱争论的",null,0,0,0]
[16373,1177910,"invasive",{"$f":"IF(VLOOKUP(C16000,#REF!,2,0)>0,1,0)","v":{"$error":"#REF!"}},"侵略性的, 侵害的",null,0,0,0]
[16411,1177921,"punitive",{"$f":"IF(VLOOKUP(C16036,#REF!,2,0)>0,1,0)","v":{"$error":"#REF!"}},"令人受苦的",null,0,0,0]
[16474,1177936,"endlessly",{"$f":"IF(VLOOKUP(C16098,#REF!,2,0)>0,1,0)","v":{"$error":"#REF!"}},"无穷地, 继续地, 永久地",null,0,0,0]
[16500,1177944,"rum",{"$f":"IF(VLOOKUP(C16123,#REF!,2,0)>0,1,0)","v":{"$error":"#REF!"}},"古怪的, 奇特的",null,0,0,0]
[16549,1177958,"gala",{"$f":"IF(VLOOKUP(C16171,#REF!,2,0)>0,1,0)","v":{"$error":"#REF!"}},"欢乐的",null,0,0,0]
[16590,1177969,"leftist",{"$f":"IF(VLOOKUP(C16210,#REF!,2,0)>0,1,0)","v":{"$error":"#REF!"}},"激进的",null,0,0,0]
[16628,1177980,"devastation",{"$f":"IF(VLOOKUP(C16246,#REF!,2,0)>0,1,0)","v":{"$error":"#REF!"}},"极度震惊或悲伤",null,0,0,0]
[16689,1178001,"symposium",{"$f":"IF(VLOOKUP(C16306,#REF!,2,0)>0,1,0)","v":{"$error":"#REF!"}},"专题论文集",null,0,0,0]
[16716,1178013,"bladder",{"$f":"IF(VLOOKUP(C16333,#REF!,2,0)>0,1,0)","v":{"$error":"#REF!"}},"膀胱",null,0,0,0]
[16767,1178025,"browser",{"$f":"IF(VLOOKUP(C16383,#REF!,2,0)>0,1,0)","v":{"$error":"#REF!"}},"逛商店的人",null,0,0,0]
[16805,1178038,"forefront",{"$f":"IF(VLOOKUP(C16420,#REF!,2,0)>0,1,0)","v":{"$error":"#REF!"}},"最前部",null,0,0,0]
[16841,1178046,"obsolete",{"$f":"IF(VLOOKUP(C16456,#REF!,2,0)>0,1,0)","v":{"$error":"#REF!"}},"废词",null,0,0,0]
[16906,1178062,"multilateral",{"$f":"IF(VLOOKUP(C16518,#REF!,2,0)>0,1,0)","v":{"$error":"#REF!"}},"多方面的, 多边的",null,0,0,1]
[16931,1178068,"gravitational",{"$f":"IF(VLOOKUP(C16543,#REF!,2,0)>0,1,0)","v":{"$error":"#REF!"}},"地心吸力的",null,0,0,0]
[16967,1178077,"crescent",{"$f":"IF(VLOOKUP(C16579,#REF!,2,0)>0,1,0)","v":{"$error":"#REF!"}},"新月形的",null,0,0,0]
[17004,1178087,"motherhood",{"$f":"IF(VLOOKUP(C16615,#REF!,2,0)>0,1,0)","v":{"$error":"#REF!"}},"母性",null,0,0,1]
[17056,1178100,"sod",{"$f":"IF(VLOOKUP(C16666,#REF!,2,0)>0,1,0)","v":{"$error":"#REF!"}},"故乡, 本国",null,0,0,0]
[17121,1178117,"by-product",{"$f":"IF(VLOOKUP(C16730,#REF!,2,0)>0,1,0)","v":{"$error":"#REF!"}},"副作用",null,0,0,0]
[17144,1178122,"energize",{"$f":"IF(VLOOKUP(C16753,#REF!,2,0)>0,1,0)","v":{"$error":"#REF!"}},"加强, 给与…以活力",null,0,0,0]
[17180,1178134,"quartet",{"$f":"IF(VLOOKUP(C16789,#REF!,2,0)>0,1,0)","v":{"$error":"#REF!"}},"四件一套",null,0,0,0]
[17260,1178161,"discredit",{"$f":"IF(VLOOKUP(C16865,#REF!,2,0)>0,1,0)","v":{"$error":"#REF!"}},"耻辱",null,0,0,0]
[17271,1178165,"craftsman",{"$f":"IF(VLOOKUP(C16876,#REF!,2,0)>0,1,0)","v":{"$error":"#REF!"}},"名匠",null,0,0,1]
[17338,1178183,"satin",{"$f":"IF(VLOOKUP(C16942,#REF!,2,0)>0,1,0)","v":{"$error":"#REF!"}},"缎, 缎子",null,0,0,0]
[17359,976695,"maritime",{"$f":"IF(VLOOKUP(C16963,#REF!,2,0)>0,1,0)","v":{"$error":"#REF!"}},"海事的",null,0,0,1]
[17395,1178195,"reflex",{"$f":"IF(VLOOKUP(C16999,#REF!,2,0)>0,1,0)","v":{"$error":"#REF!"}},"反省的, 回想的",null,0,0,0]
[17474,1178212,"barefoot",{"$f":"IF(VLOOKUP(C17077,#REF!,2,0)>0,1,0)","v":{"$error":"#REF!"}},"赤脚的",null,0,0,0]
[17483,1178213,"murky",{"$f":"IF(VLOOKUP(C17086,#REF!,2,0)>0,1,0)","v":{"$error":"#REF!"}},"昏暗",null,0,0,0]
[17552,1178232,"unsafe",{"$f":"IF(VLOOKUP(C17154,#REF!,2,0)>0,1,0)","v":{"$error":"#REF!"}},"不安全的",null,0,0,0]
[17601,1178247,"incarnation",{"$f":"IF(VLOOKUP(C17200,#REF!,2,0)>0,1,0)","v":{"$error":"#REF!"}},"化身",null,0,0,0]
[17655,1178265,"depressing",{"$f":"IF(VLOOKUP(C17252,#REF!,2,0)>0,1,0)","v":{"$error":"#REF!"}},"使情绪低落的",null,0,0,0]
[17694,1178275,"gloom",{"$f":"IF(VLOOKUP(C17289,#REF!,2,0)>0,1,0)","v":{"$error":"#REF!"}},"变黑, 变暗",null,0,0,0]
[17701,1178277,"riverside",{"$f":"IF(VLOOKUP(C17296,#REF!,2,0)>0,1,0)","v":{"$error":"#REF!"}},"河边的, 河畔的",null,0,0,0]
[17773,1178298,"belongings",{"$f":"IF(VLOOKUP(C17366,#REF!,2,0)>0,1,0)","v":{"$error":"#REF!"}},"亲属",null,0,0,0]
[17817,1178314,"purge",{"$f":"IF(VLOOKUP(C17410,#REF!,2,0)>0,1,0)","v":{"$error":"#REF!"}},"净化",null,0,0,0]
[17871,1178329,"cooling",{"$f":"IF(VLOOKUP(C17462,#REF!,2,0)>0,1,0)","v":{"$error":"#REF!"}},"凉的, 凉爽的",null,0,0,0]
[17913,1178339,"advancing",{"$f":"IF(VLOOKUP(C17501,#REF!,2,0)>0,1,0)","v":{"$error":"#REF!"}},"促进",null,0,0,0]
[17962,1178354,"breaking",{"$f":"IF(VLOOKUP(C17549,#REF!,2,0)>0,1,0)","v":{"$error":"#REF!"}},"打破(纪录)",null,0,0,0]
[17992,1178360,"clockwise",{"$f":"IF(VLOOKUP(C17578,#REF!,2,0)>0,1,0)","v":{"$error":"#REF!"}},"正转的",null,0,0,0]
[18034,1178369,"inauguration",{"$f":"IF(VLOOKUP(C17620,#REF!,2,0)>0,1,0)","v":{"$error":"#REF!"}},"开创",null,0,0,0]
[18090,1178384,"revealing",{"$f":"IF(VLOOKUP(C17672,#REF!,2,0)>0,1,0)","v":{"$error":"#REF!"}},"揭示, 揭露",null,0,0,0]
[18132,1178395,"tinker",{"$f":"IF(VLOOKUP(C17713,#REF!,2,0)>0,1,0)","v":{"$error":"#REF!"}},"吉普赛人",null,0,0,0]
[18165,1178402,"electrode",{"$f":"IF(VLOOKUP(C17743,#REF!,2,0)>0,1,0)","v":{"$error":"#REF!"}},"电焊条",null,0,0,0]
[18217,1178413,"lining",{"$f":"IF(VLOOKUP(C17795,#REF!,2,0)>0,1,0)","v":{"$error":"#REF!"}},"衬里, 里子",null,0,0,0]
[18272,1178429,"prophecy",{"$f":"IF(VLOOKUP(C17848,#REF!,2,0)>0,1,0)","v":{"$error":"#REF!"}},"预言书",null,0,0,0]
[18306,1178439,"monarchy",{"$f":"IF(VLOOKUP(C17882,#REF!,2,0)>0,1,0)","v":{"$error":"#REF!"}},"君主国",null,0,0,0]
[18350,1178452,"precursor",{"$f":"IF(VLOOKUP(C17925,#REF!,2,0)>0,1,0)","v":{"$error":"#REF!"}},"预报器",null,0,0,0]
[18379,1178466,"miraculous",{"$f":"IF(VLOOKUP(C17953,#REF!,2,0)>0,1,0)","v":{"$error":"#REF!"}},"不可思议的",null,0,0,0]
[18432,1178481,"carcass",{"$f":"IF(VLOOKUP(C18005,#REF!,2,0)>0,1,0)","v":{"$error":"#REF!"}},"骨架, 遗骸、残迹等",null,0,0,0]
[18488,1178497,"dope",{"$f":"IF(VLOOKUP(C18060,#REF!,2,0)>0,1,0)","v":{"$error":"#REF!"}},"在…中加入麻醉剂",null,0,0,0]
[18521,1178507,"kitten",{"$f":"IF(VLOOKUP(C18092,#REF!,2,0)>0,1,0)","v":{"$error":"#REF!"}},"小猫",null,1,1,1]
[18569,1178520,"ultraviolet",{"$f":"IF(VLOOKUP(C18137,#REF!,2,0)>0,1,0)","v":{"$error":"#REF!"}},"紫外光",null,0,0,0]
[18598,1178531,"flurry",{"$f":"IF(VLOOKUP(C18163,#REF!,2,0)>0,1,0)","v":{"$error":"#REF!"}},"使迷乱",null,0,0,0]
[18650,1178544,"luminous",{"$f":"IF(VLOOKUP(C18215,#REF!,2,0)>0,1,0)","v":{"$error":"#REF!"}},"清楚的",null,0,0,0]
[18708,1178564,"hesitant",{"$f":"IF(VLOOKUP(C18272,#REF!,2,0)>0,1,0)","v":{"$error":"#REF!"}},"吞吞吐吐的",null,0,0,0]
[18722,1178569,"divinity",{"$f":"IF(VLOOKUP(C18286,#REF!,2,0)>0,1,0)","v":{"$error":"#REF!"}},"神, 上帝",null,0,0,0]
[18787,1178585,"prescribed",{"$f":"IF(VLOOKUP(C18349,#REF!,2,0)>0,1,0)","v":{"$error":"#REF!"}},"指示",null,0,0,0]
[18812,1178590,"perish",{"$f":"IF(VLOOKUP(C18373,#REF!,2,0)>0,1,0)","v":{"$error":"#REF!"}},"使毁坏",null,0,0,0]
[18865,1178603,"photon",{"$f":"IF(VLOOKUP(C18425,#REF!,2,0)>0,1,0)","v":{"$error":"#REF!"}},"<物>光子, 光量子",null,0,0,0]
[18926,1178619,"vicinity",{"$f":"IF(VLOOKUP(C18484,#REF!,2,0)>0,1,0)","v":{"$error":"#REF!"}},"大约的程度或者数量",null,0,0,0]
[18939,833991,"coupon",{"$f":"IF(VLOOKUP(C18496,#REF!,2,0)>0,1,0)","v":{"$error":"#REF!"}},"息票, 票券, 礼券",null,0,0,0]
[19007,1178645,"analog",{"$f":"IF(VLOOKUP(C18561,#REF!,2,0)>0,1,0)","v":{"$error":"#REF!"}},"（钟表）有长短针的",null,0,0,0]
[19031,1178650,"pitching",{"$f":"IF(VLOOKUP(C18583,#REF!,2,0)>0,1,0)","v":{"$error":"#REF!"}},"排列",null,0,0,0]
[19069,1178661,"apiece",{"$f":"IF(VLOOKUP(C18619,#REF!,2,0)>0,1,0)","v":{"$error":"#REF!"}},"各自地",null,0,0,0]
[19149,1178686,"pictorial",{"$f":"IF(VLOOKUP(C18696,#REF!,2,0)>0,1,0)","v":{"$error":"#REF!"}},"画刊",null,0,0,0]
[19159,1178689,"riches",{"$f":"IF(VLOOKUP(C18706,#REF!,2,0)>0,1,0)","v":{"$error":"#REF!"}},"财富",null,0,0,0]
[19230,1178709,"adept",{"$f":"IF(VLOOKUP(C18773,#REF!,2,0)>0,1,0)","v":{"$error":"#REF!"}},"巧妙的",null,0,0,0]
[19250,1178713,"abdomen",{"$f":"IF(VLOOKUP(C18793,#REF!,2,0)>0,1,0)","v":{"$error":"#REF!"}},"腹腔",null,0,0,0]
[19331,1052947,"racket",{"$f":"IF(VLOOKUP(C18872,#REF!,2,0)>0,1,0)","v":{"$error":"#REF!"}},"喧闹纷乱, 吵闹",null,0,0,0]
[19369,1178749,"converse",{"$f":"IF(VLOOKUP(C18908,#REF!,2,0)>0,1,0)","v":{"$error":"#REF!"}},"[计]对话, 会话",null,0,0,0]
[19377,1178752,"derrick",{"$f":"IF(VLOOKUP(C18916,#REF!,2,0)>0,1,0)","v":{"$error":"#REF!"}},"起重机",null,0,0,0]
[19448,1178768,"gush",{"$f":"IF(VLOOKUP(C18985,#REF!,2,0)>0,1,0)","v":{"$error":"#REF!"}},"迸出",null,0,0,0]
[19466,1178772,"finishing",{"$f":"IF(VLOOKUP(C19003,#REF!,2,0)>0,1,0)","v":{"$error":"#REF!"}},"完成",null,0,0,0]
[19546,913379,"grieve",{"$f":"IF(VLOOKUP(C19082,#REF!,2,0)>0,1,0)","v":{"$error":"#REF!"}},"(使)悲痛, (使)伤心",null,0,0,1]
[19585,1178808,"bidding",{"$f":"IF(VLOOKUP(C19120,#REF!,2,0)>0,1,0)","v":{"$error":"#REF!"}},"<非正>请求",null,0,0,0]
[19635,1178822,"cosmetics",{"$f":"IF(VLOOKUP(C19169,#REF!,2,0)>0,1,0)","v":{"$error":"#REF!"}},"美容品",null,0,0,0]
[19673,1178829,"revel",{"$f":"IF(VLOOKUP(C19205,#REF!,2,0)>0,1,0)","v":{"$error":"#REF!"}},"陶醉",null,0,0,0]
[19724,1178847,"festive",{"$f":"IF(VLOOKUP(C19255,#REF!,2,0)>0,1,0)","v":{"$error":"#REF!"}},"节日的, 过节似的",null,0,0,0]
[19762,1178854,"flatter",{"$f":"IF(VLOOKUP(C19292,#REF!,2,0)>0,1,0)","v":{"$error":"#REF!"}},"使显得更漂亮",null,0,0,0]
[19804,1178864,"sharing",{"$f":"IF(VLOOKUP(C19332,#REF!,2,0)>0,1,0)","v":{"$error":"#REF!"}},"均分",null,0,0,0]
[19852,1178878,"straddle",{"$f":"IF(VLOOKUP(C19379,#REF!,2,0)>0,1,0)","v":{"$error":"#REF!"}},"跨坐",null,0,0,0]
[19889,1178889,"unmistakable",{"$f":"IF(VLOOKUP(C19415,#REF!,2,0)>0,1,0)","v":{"$error":"#REF!"}},"不会弄错的, 不会误解的",null,0,0,1]
[19942,1178901,"swipe",{"$f":"IF(VLOOKUP(C19467,#REF!,2,0)>0,1,0)","v":{"$error":"#REF!"}},"重击",null,0,0,0]
[19978,1178908,"blare",{"$f":"IF(VLOOKUP(C19502,#REF!,2,0)>0,1,0)","v":{"$error":"#REF!"}},"高声宣布",null,0,0,0]
[20016,1178919,"strew",{"$f":"IF(VLOOKUP(C19540,#REF!,2,0)>0,1,0)","v":{"$error":"#REF!"}},"散落于",null,0,0,0]
[20067,1178929,"sublime",{"$f":"IF(VLOOKUP(C19589,#REF!,2,0)>0,1,0)","v":{"$error":"#REF!"}},"庄严, 崇高",null,0,0,0]
[20104,1178939,"pantry",{"$f":"IF(VLOOKUP(C19625,#REF!,2,0)>0,1,0)","v":{"$error":"#REF!"}},"餐具室, 食品储存室",null,0,0,0]
[20160,1178951,"promised",{"$f":"IF(VLOOKUP(C19679,#REF!,2,0)>0,1,0)","v":{"$error":"#REF!"}},"答应",null,0,0,0]
[20196,1178962,"seventeenth",{"$f":"IF(VLOOKUP(C19712,#REF!,2,0)>0,1,0)","v":{"$error":"#REF!"}},"第十七的",null,0,0,0]
[20237,1178975,"tempo",{"$f":"IF(VLOOKUP(C19752,#REF!,2,0)>0,1,0)","v":{"$error":"#REF!"}},"（运动或活动的）速度, 进度",null,0,0,0]
[20289,1178991,"skewer",{"$f":"IF(VLOOKUP(C19799,#REF!,2,0)>0,1,0)","v":{"$error":"#REF!"}},"串肉杆",null,0,0,0]
[20327,1179002,"patriarchal",{"$f":"IF(VLOOKUP(C19835,#REF!,2,0)>0,1,0)","v":{"$error":"#REF!"}},"父权的",null,0,0,0]
[20386,1179016,"puree",{"$f":"IF(VLOOKUP(C19891,#REF!,2,0)>0,1,0)","v":{"$error":"#REF!"}},"浓汤",null,0,0,0]
[20419,1179024,"plaid",{"$f":"IF(VLOOKUP(C19922,#REF!,2,0)>0,1,0)","v":{"$error":"#REF!"}},"格子图案",null,0,0,0]
[20463,1179039,"grazing",{"$f":"IF(VLOOKUP(C19964,#REF!,2,0)>0,1,0)","v":{"$error":"#REF!"}},"掠过",null,0,0,0]
[20508,1179051,"misdemeanor",{"$f":"IF(VLOOKUP(C20009,#REF!,2,0)>0,1,0)","v":{"$error":"#REF!"}},"（相对于重罪的）轻罪, 小罪",null,0,0,0]
[20544,1150450,"unpaid",{"$f":"IF(VLOOKUP(C20045,#REF!,2,0)>0,1,0)","v":{"$error":"#REF!"}},"未付款的, 不受报酬的",null,0,0,1]
[20600,1179078,"addictive",{"$f":"IF(VLOOKUP(C20099,#REF!,2,0)>0,1,0)","v":{"$error":"#REF!"}},"使成瘾的",null,0,0,0]
[20635,1179086,"brutally",{"$f":"IF(VLOOKUP(C20132,#REF!,2,0)>0,1,0)","v":{"$error":"#REF!"}},"残忍地, 野蛮地",null,0,0,0]
[20680,1179096,"triumphant",{"$f":"IF(VLOOKUP(C20176,#REF!,2,0)>0,1,0)","v":{"$error":"#REF!"}},"得意洋洋的",null,0,0,0]
[20725,1179106,"gambler",{"$f":"IF(VLOOKUP(C20219,#REF!,2,0)>0,1,0)","v":{"$error":"#REF!"}},"赌徒",null,0,0,0]
[20763,1179121,"embryonic",{"$f":"IF(VLOOKUP(C20255,#REF!,2,0)>0,1,0)","v":{"$error":"#REF!"}},"胚芽的, 胎儿的",null,0,0,0]
[20820,1004981,"odyssey",{"$f":"IF(VLOOKUP(C20311,#REF!,2,0)>0,1,0)","v":{"$error":"#REF!"}},"奥赛德",null,0,0,0]
[20852,1179146,"overload",{"$f":"IF(VLOOKUP(C20342,#REF!,2,0)>0,1,0)","v":{"$error":"#REF!"}},"超过负荷",null,0,0,0]
[20888,1179160,"deplete",{"$f":"IF(VLOOKUP(C20378,#REF!,2,0)>0,1,0)","v":{"$error":"#REF!"}},"[医]减液, 放血",null,0,0,0]
[20918,1179171,"immortal",{"$f":"IF(VLOOKUP(C20408,#REF!,2,0)>0,1,0)","v":{"$error":"#REF!"}},"不朽的作家",null,0,0,0]
[20977,1179186,"unresolved",{"$f":"IF(VLOOKUP(C20465,#REF!,2,0)>0,1,0)","v":{"$error":"#REF!"}},"无决断力的",null,0,0,0]
[21036,1179208,"pullout",{"$f":"IF(VLOOKUP(C20523,#REF!,2,0)>0,1,0)","v":{"$error":"#REF!"}},"撤退",null,0,0,0]
[21066,1179218,"hydraulic",{"$f":"IF(VLOOKUP(C20552,#REF!,2,0)>0,1,0)","v":{"$error":"#REF!"}},"水力的, 水压的",null,0,0,0]
[21103,1179228,"storefront",{"$f":"IF(VLOOKUP(C20588,#REF!,2,0)>0,1,0)","v":{"$error":"#REF!"}},"在一楼工作的",null,0,0,0]
[21173,1179247,"cutback",{"$f":"IF(VLOOKUP(C20658,#REF!,2,0)>0,1,0)","v":{"$error":"#REF!"}},"[园]剪枝",null,0,0,0]
[21190,1179252,"perverse",{"$f":"IF(VLOOKUP(C20675,#REF!,2,0)>0,1,0)","v":{"$error":"#REF!"}},"不正当的, 堕落的",null,0,0,0]
[21250,1179265,"resurgence",{"$f":"IF(VLOOKUP(C20735,#REF!,2,0)>0,1,0)","v":{"$error":"#REF!"}},"中断之后的继续",null,0,0,0]
[21279,1179272,"queer",{"$f":"IF(VLOOKUP(C20762,#REF!,2,0)>0,1,0)","v":{"$error":"#REF!"}},"使陷于不利地位",null,0,0,0]
[21315,1179282,"magistrate",{"$f":"IF(VLOOKUP(C20798,#REF!,2,0)>0,1,0)","v":{"$error":"#REF!"}},"治安推事",null,0,0,0]
[21388,1179304,"reorganization",{"$f":"IF(VLOOKUP(C20870,#REF!,2,0)>0,1,0)","v":{"$error":"#REF!"}},"重新制定",null,0,0,0]
[21403,1179309,"duel",{"$f":"IF(VLOOKUP(C20885,#REF!,2,0)>0,1,0)","v":{"$error":"#REF!"}},"竞争, 斗争",null,0,0,0]
[21466,1179327,"welsh",{"$f":"IF(VLOOKUP(C20947,#REF!,2,0)>0,1,0)","v":{"$error":"#REF!"}},"威尔士人",null,0,0,0]
[21519,1179341,"anew",{"$f":"IF(VLOOKUP(C20999,#REF!,2,0)>0,1,0)","v":{"$error":"#REF!"}},"再, 重新",null,0,0,0]
[21528,1179343,"thrash",{"$f":"IF(VLOOKUP(C21008,#REF!,2,0)>0,1,0)","v":{"$error":"#REF!"}},"打谷, 脱粒",null,0,0,0]
[21605,1179366,"induction",{"$f":"IF(VLOOKUP(C21082,#REF!,2,0)>0,1,0)","v":{"$error":"#REF!"}},"归纳（法）",null,0,0,0]
[21618,1179370,"binge",{"$f":"IF(VLOOKUP(C21095,#REF!,2,0)>0,1,0)","v":{"$error":"#REF!"}},"饮酒作乐",null,0,0,0]
[21683,1179387,"boiler",{"$f":"IF(VLOOKUP(C21159,#REF!,2,0)>0,1,0)","v":{"$error":"#REF!"}},"热水器",null,0,0,0]
[21734,1179406,"thrilling",{"$f":"IF(VLOOKUP(C21209,#REF!,2,0)>0,1,0)","v":{"$error":"#REF!"}},"毛骨悚然的",null,0,0,0]
[21744,1179408,"parchment",{"$f":"IF(VLOOKUP(C21218,#REF!,2,0)>0,1,0)","v":{"$error":"#REF!"}},"羊皮纸古文稿",null,0,0,0]
[21823,1179437,"harp",{"$f":"IF(VLOOKUP(C21294,#REF!,2,0)>0,1,0)","v":{"$error":"#REF!"}},"唠叨, 喋喋不休",null,0,0,0]
[21834,1179439,"reptile",{"$f":"IF(VLOOKUP(C21305,#REF!,2,0)>0,1,0)","v":{"$error":"#REF!"}},"爬行动物",null,0,0,1]
[21902,1179462,"disco",{"$f":"IF(VLOOKUP(C21371,#REF!,2,0)>0,1,0)","v":{"$error":"#REF!"}},"的士高",null,0,0,0]
[21952,1179475,"masculinity",{"$f":"IF(VLOOKUP(C21419,#REF!,2,0)>0,1,0)","v":{"$error":"#REF!"}},"男性",null,0,0,0]
[22004,1179490,"provisional",{"$f":"IF(VLOOKUP(C21471,#REF!,2,0)>0,1,0)","v":{"$error":"#REF!"}},"临时性",null,0,0,0]
[22042,1179497,"iconic",{"$f":"IF(VLOOKUP(C21506,#REF!,2,0)>0,1,0)","v":{"$error":"#REF!"}},"偶像的",null,0,0,0]
[22080,1179504,"impediment",{"$f":"IF(VLOOKUP(C21542,#REF!,2,0)>0,1,0)","v":{"$error":"#REF!"}},"法定婚姻的障碍",null,0,0,0]
[22121,1179518,"incorporation",{"$f":"IF(VLOOKUP(C21583,#REF!,2,0)>0,1,0)","v":{"$error":"#REF!"}},"法人组织",null,0,0,0]
[22168,1179536,"clinch",{"$f":"IF(VLOOKUP(C21629,#REF!,2,0)>0,1,0)","v":{"$error":"#REF!"}},"敲弯",null,0,0,0]
[22224,1179557,"dumbbell",{"$f":"IF(VLOOKUP(C21681,#REF!,2,0)>0,1,0)","v":{"$error":"#REF!"}},"哑铃",null,0,0,0]
[22261,928812,"humid",{"$f":"IF(VLOOKUP(C21718,#REF!,2,0)>0,1,0)","v":{"$error":"#REF!"}},"温湿",null,0,0,0]
[22296,1179579,"obliterate",{"$f":"IF(VLOOKUP(C21752,#REF!,2,0)>0,1,0)","v":{"$error":"#REF!"}},"使被忘却",null,0,0,0]
[22349,1179597,"expend",{"$f":"IF(VLOOKUP(C21804,#REF!,2,0)>0,1,0)","v":{"$error":"#REF!"}},"花费",null,0,0,0]
[22400,1179608,"pronouncement",{"$f":"IF(VLOOKUP(C21853,#REF!,2,0)>0,1,0)","v":{"$error":"#REF!"}},"判决",null,0,0,0]
[22422,1179617,"treasurer",{"$f":"IF(VLOOKUP(C21875,#REF!,2,0)>0,1,0)","v":{"$error":"#REF!"}},"司库",null,0,0,0]
[22479,1179635,"turbulence",{"$f":"IF(VLOOKUP(C21930,#REF!,2,0)>0,1,0)","v":{"$error":"#REF!"}},"动荡",null,0,0,0]
[22512,1179646,"trimming",{"$f":"IF(VLOOKUP(C21962,#REF!,2,0)>0,1,0)","v":{"$error":"#REF!"}},"修剪",null,0,0,0]
[22565,1179665,"windrow",{"$f":"IF(VLOOKUP(C22014,#REF!,2,0)>0,1,0)","v":{"$error":"#REF!"}},"将…进行排列",null,0,0,0]
[22618,1179682,"spree",{"$f":"IF(VLOOKUP(C22065,#REF!,2,0)>0,1,0)","v":{"$error":"#REF!"}},"欢闹",null,0,0,0]
[22638,1179687,"improbable",{"$f":"IF(VLOOKUP(C22085,#REF!,2,0)>0,1,0)","v":{"$error":"#REF!"}},"非概然",null,0,0,0]
[22695,1179704,"marinade",{"$f":"IF(VLOOKUP(C22142,#REF!,2,0)>0,1,0)","v":{"$error":"#REF!"}},"在腌泡汁里泡的肉[鱼]",null,0,0,0]
[22726,1179714,"synonymous",{"$f":"IF(VLOOKUP(C22172,#REF!,2,0)>0,1,0)","v":{"$error":"#REF!"}},"同义的, 类义的",null,0,0,0]
[22780,1179728,"muzzle",{"$f":"IF(VLOOKUP(C22224,#REF!,2,0)>0,1,0)","v":{"$error":"#REF!"}},"〈美俚〉亲嘴",null,0,0,0]
[22834,1179740,"steaming",{"$f":"IF(VLOOKUP(C22277,#REF!,2,0)>0,1,0)","v":{"$error":"#REF!"}},"(靠蒸汽)行驶",null,0,0,0]
[22852,715318,"Arabian",{"$f":"IF(VLOOKUP(C22295,#REF!,2,0)>0,1,0)","v":{"$error":"#REF!"}},"阿拉伯人",null,0,0,0]
[22912,1179765,"strained",{"$f":"IF(VLOOKUP(C22354,#REF!,2,0)>0,1,0)","v":{"$error":"#REF!"}},"过滤, 滤去",null,0,0,0]
[22940,1179773,"optimum",{"$f":"IF(VLOOKUP(C22382,#REF!,2,0)>0,1,0)","v":{"$error":"#REF!"}},"最适宜的",null,0,0,0]
[22977,1179785,"emphatically",{"$f":"IF(VLOOKUP(C22418,#REF!,2,0)>0,1,0)","v":{"$error":"#REF!"}},"强调地, 断然地, 明显地",null,0,0,1]
[23051,1179809,"devout",{"$f":"IF(VLOOKUP(C22489,#REF!,2,0)>0,1,0)","v":{"$error":"#REF!"}},"虔诚的",null,0,0,0]
[23067,1179813,"borrowing",{"$f":"IF(VLOOKUP(C22505,#REF!,2,0)>0,1,0)","v":{"$error":"#REF!"}},"借用的言语（或思想等）",null,0,0,0]
[23130,1179832,"precipitation",{"$f":"IF(VLOOKUP(C22566,#REF!,2,0)>0,1,0)","v":{"$error":"#REF!"}},"（雨等）降落",null,0,0,0]
[23157,1179839,"stricken",{"$f":"IF(VLOOKUP(C22592,#REF!,2,0)>0,1,0)","v":{"$error":"#REF!"}},"患病的",null,0,0,0]
[23195,1108890,"stipulate",{"$f":"IF(VLOOKUP(C22628,#REF!,2,0)>0,1,0)","v":{"$error":"#REF!"}},"规定",null,0,0,0]
[23269,1179875,"escalating",{"$f":"IF(VLOOKUP(C22701,#REF!,2,0)>0,1,0)","v":{"$error":"#REF!"}},"(使)逐步扩大",null,0,0,0]
[23283,1179880,"solace",{"$f":"IF(VLOOKUP(C22715,#REF!,2,0)>0,1,0)","v":{"$error":"#REF!"}},"安慰, 安慰物",null,0,0,0]
[23346,1179899,"dominion",{"$f":"IF(VLOOKUP(C22778,#REF!,2,0)>0,1,0)","v":{"$error":"#REF!"}},"领土, 疆土",null,0,0,0]
[23370,1179906,"unprepared",{"$f":"IF(VLOOKUP(C22802,#REF!,2,0)>0,1,0)","v":{"$error":"#REF!"}},"即兴的",null,0,0,0]
[23407,1179915,"relieved",{"$f":"IF(VLOOKUP(C22838,#REF!,2,0)>0,1,0)","v":{"$error":"#REF!"}},"放心的",null,0,0,0]
[23488,1179937,"stewardship",{"$f":"IF(VLOOKUP(C22913,#REF!,2,0)>0,1,0)","v":{"$error":"#REF!"}},"管事人之职位及职责",null,0,0,0]
[23500,1179942,"prowess",{"$f":"IF(VLOOKUP(C22925,#REF!,2,0)>0,1,0)","v":{"$error":"#REF!"}},"英勇",null,0,0,0]
[23582,1179967,"animate",{"$f":"IF(VLOOKUP(C23004,#REF!,2,0)>0,1,0)","v":{"$error":"#REF!"}},"活的",null,0,0,0]
[23584,1179967,"animate",{"$f":"IF(VLOOKUP(C23006,#REF!,2,0)>0,1,0)","v":{"$error":"#REF!"}},"生气勃勃的",null,0,0,0]
[23626,1179981,"cad",{"$f":"IF(VLOOKUP(C23048,#REF!,2,0)>0,1,0)","v":{"$error":"#REF!"}},"下流男子",null,0,0,0]
[23704,1180005,"skew",{"$f":"IF(VLOOKUP(C23125,#REF!,2,0)>0,1,0)","v":{"$error":"#REF!"}},"[统计学]歪斜, 扭曲",null,0,0,0]
[23714,1180006,"temp",{"$f":"IF(VLOOKUP(C23135,#REF!,2,0)>0,1,0)","v":{"$error":"#REF!"}},"打临时工, 做临时工作, 打零工",null,0,0,0]
[23794,1180029,"barley",{"$f":"IF(VLOOKUP(C23214,#REF!,2,0)>0,1,0)","v":{"$error":"#REF!"}},"麦子",null,0,0,0]
[23842,1180041,"bustling",{"$f":"IF(VLOOKUP(C23260,#REF!,2,0)>0,1,0)","v":{"$error":"#REF!"}},"繁忙的, 熙熙攘攘的",null,0,0,0]
[23886,1180052,"deference",{"$f":"IF(VLOOKUP(C23301,#REF!,2,0)>0,1,0)","v":{"$error":"#REF!"}},"敬重",null,0,0,0]
[23919,1180062,"termite",{"$f":"IF(VLOOKUP(C23333,#REF!,2,0)>0,1,0)","v":{"$error":"#REF!"}},"白蚁",null,0,0,1]
[23974,1180080,"hindsight",{"$f":"IF(VLOOKUP(C23388,#REF!,2,0)>0,1,0)","v":{"$error":"#REF!"}},"后见之明",null,0,0,0]
[24012,1180093,"milieu",{"$f":"IF(VLOOKUP(C23424,#REF!,2,0)>0,1,0)","v":{"$error":"#REF!"}},"环境",null,0,0,0]
[24060,1180105,"superstition",{"$f":"IF(VLOOKUP(C23472,#REF!,2,0)>0,1,0)","v":{"$error":"#REF!"}},"迷信行为",null,0,0,0]
[24101,1180115,"manpower",{"$f":"IF(VLOOKUP(C23511,#REF!,2,0)>0,1,0)","v":{"$error":"#REF!"}},"人力资源",null,0,0,0]
[24135,1180127,"ferocious",{"$f":"IF(VLOOKUP(C23545,#REF!,2,0)>0,1,0)","v":{"$error":"#REF!"}},"极度的",null,0,0,0]
[24188,1180143,"uptown",{"$f":"IF(VLOOKUP(C23598,#REF!,2,0)>0,1,0)","v":{"$error":"#REF!"}},"在住宅区",null,0,0,0]
[24224,1180149,"delicacy",{"$f":"IF(VLOOKUP(C23634,#REF!,2,0)>0,1,0)","v":{"$error":"#REF!"}},"世故, 圆滑",null,0,0,0]
[24275,1180162,"tether",{"$f":"IF(VLOOKUP(C23684,#REF!,2,0)>0,1,0)","v":{"$error":"#REF!"}},"用绳拴住",null,0,0,0]
[24312,1180174,"totalitarian",{"$f":"IF(VLOOKUP(C23721,#REF!,2,0)>0,1,0)","v":{"$error":"#REF!"}},"极权主义的",null,0,0,0]
[24350,1180183,"toad",{"$f":"IF(VLOOKUP(C23757,#REF!,2,0)>0,1,0)","v":{"$error":"#REF!"}},"蟾蜍, 癞蛤蟆",null,0,0,0]
[24403,1180201,"adamant",{"$f":"IF(VLOOKUP(C23808,#REF!,2,0)>0,1,0)","v":{"$error":"#REF!"}},"坚硬的物质",null,0,0,0]
[24441,1180214,"recourse",{"$f":"IF(VLOOKUP(C23844,#REF!,2,0)>0,1,0)","v":{"$error":"#REF!"}},"求援",null,0,0,0]
[24493,1180228,"hind",{"$f":"IF(VLOOKUP(C23892,#REF!,2,0)>0,1,0)","v":{"$error":"#REF!"}},"在后的",null,0,0,0]
[24533,1180235,"budding",{"$f":"IF(VLOOKUP(C23931,#REF!,2,0)>0,1,0)","v":{"$error":"#REF!"}},"发芽, 含苞",null,0,0,0]
[24573,1180247,"seventy-five",{"$f":"IF(VLOOKUP(C23969,#REF!,2,0)>0,1,0)","v":{"$error":"#REF!"}},"七十五",null,0,0,0]
[24623,1180260,"eucalyptus",{"$f":"IF(VLOOKUP(C24018,#REF!,2,0)>0,1,0)","v":{"$error":"#REF!"}},"桉属植物",null,0,0,0]
[24660,1180273,"postcolonial",{"$f":"IF(VLOOKUP(C24054,#REF!,2,0)>0,1,0)","v":{"$error":"#REF!"}},"殖民地时期之后的",null,0,0,0]
[24715,1180290,"occupancy",{"$f":"IF(VLOOKUP(C24104,#REF!,2,0)>0,1,0)","v":{"$error":"#REF!"}},"[物]占有率",null,0,0,0]
[24753,1180298,"starch",{"$f":"IF(VLOOKUP(C24141,#REF!,2,0)>0,1,0)","v":{"$error":"#REF!"}},"给…上浆",null,0,0,0]
[24795,1180312,"mounting",{"$f":"IF(VLOOKUP(C24181,#REF!,2,0)>0,1,0)","v":{"$error":"#REF!"}},"衬托纸",null,0,0,0]
[24844,1180326,"borough",{"$f":"IF(VLOOKUP(C24228,#REF!,2,0)>0,1,0)","v":{"$error":"#REF!"}},"有议员选举权的市镇",null,0,0,0]
[24880,1180337,"prodigy",{"$f":"IF(VLOOKUP(C24264,#REF!,2,0)>0,1,0)","v":{"$error":"#REF!"}},"奇才, 天才（尤指神童）",null,0,0,0]
[24934,1180352,"weeping",{"$f":"IF(VLOOKUP(C24316,#REF!,2,0)>0,1,0)","v":{"$error":"#REF!"}},"哀悼",null,0,0,0]
[24969,1180364,"artificially",{"$f":"IF(VLOOKUP(C24351,#REF!,2,0)>0,1,0)","v":{"$error":"#REF!"}},"人为地",null,0,0,0]
[25005,1180376,"egalitarian",{"$f":"IF(VLOOKUP(C24387,#REF!,2,0)>0,1,0)","v":{"$error":"#REF!"}},"主张平等的",null,0,0,0]
[25070,1180390,"candlelight",{"$f":"IF(VLOOKUP(C24451,#REF!,2,0)>0,1,0)","v":{"$error":"#REF!"}},"暗淡的人造光",null,0,0,0]
[25095,1180398,"warship",{"$f":"IF(VLOOKUP(C24474,#REF!,2,0)>0,1,0)","v":{"$error":"#REF!"}},"军舰, 战舰",null,0,0,0]
[25152,1180418,"puncture",{"$f":"IF(VLOOKUP(C24528,#REF!,2,0)>0,1,0)","v":{"$error":"#REF!"}},"贬低, 削弱",null,0,0,0]
[25186,1180432,"heath",{"$f":"IF(VLOOKUP(C24561,#REF!,2,0)>0,1,0)","v":{"$error":"#REF!"}},"荒地, 荒野",null,0,0,0]
[25223,1180445,"primal",{"$f":"IF(VLOOKUP(C24597,#REF!,2,0)>0,1,0)","v":{"$error":"#REF!"}},"第一的, 最初的",null,0,0,0]
[25291,1180463,"viola",{"$f":"IF(VLOOKUP(C24663,#REF!,2,0)>0,1,0)","v":{"$error":"#REF!"}},"[女名]维奥拉",null,0,0,0]
[25313,1180472,"populace",{"$f":"IF(VLOOKUP(C24684,#REF!,2,0)>0,1,0)","v":{"$error":"#REF!"}},"百姓",null,0,0,0]
[25371,1180490,"nip",{"$f":"IF(VLOOKUP(C24740,#REF!,2,0)>0,1,0)","v":{"$error":"#REF!"}},"寒意",null,0,0,0]
[25386,1180492,"endemic",{"$f":"IF(VLOOKUP(C24755,#REF!,2,0)>0,1,0)","v":{"$error":"#REF!"}},"（动, 植物）某些特产的",null,0,0,0]
[25440,1180508,"vernacular",{"$f":"IF(VLOOKUP(C24807,#REF!,2,0)>0,1,0)","v":{"$error":"#REF!"}},"方言的",null,0,0,0]
[25514,1180532,"amputation",{"$f":"IF(VLOOKUP(C24875,#REF!,2,0)>0,1,0)","v":{"$error":"#REF!"}},"切除",null,0,0,0]
[25533,1180539,"malignant",{"$f":"IF(VLOOKUP(C24894,#REF!,2,0)>0,1,0)","v":{"$error":"#REF!"}},"恶意的, 恶毒的",null,0,0,0]
[25593,1180559,"wherein",{"$f":"IF(VLOOKUP(C24952,#REF!,2,0)>0,1,0)","v":{"$error":"#REF!"}},"在那里, 在哪方面",null,0,0,0]
[25607,1180565,"overrule",{"$f":"IF(VLOOKUP(C24965,#REF!,2,0)>0,1,0)","v":{"$error":"#REF!"}},"统治, 支配",null,0,0,0]
[25661,1180585,"explanatory",{"$f":"IF(VLOOKUP(C25017,#REF!,2,0)>0,1,0)","v":{"$error":"#REF!"}},"解释的",null,0,0,0]
[25732,1180605,"incidental",{"$f":"IF(VLOOKUP(C25087,#REF!,2,0)>0,1,0)","v":{"$error":"#REF!"}},"易发生的, 偶然发生的",null,0,0,0]
[25751,1180610,"squirt",{"$f":"IF(VLOOKUP(C25104,#REF!,2,0)>0,1,0)","v":{"$error":"#REF!"}},"喷, 细的喷流",null,0,0,0]
[25811,1180628,"enclosed",{"$f":"IF(VLOOKUP(C25164,#REF!,2,0)>0,1,0)","v":{"$error":"#REF!"}},"(用墙等)围住的",null,0,0,0]
[25867,1180643,"munch",{"$f":"IF(VLOOKUP(C25218,#REF!,2,0)>0,1,0)","v":{"$error":"#REF!"}},"用力咀嚼（某物）",null,0,0,1]
[25876,1180646,"consummate",{"$f":"IF(VLOOKUP(C25227,#REF!,2,0)>0,1,0)","v":{"$error":"#REF!"}},"无比的",null,0,0,0]
[25953,1180668,"neutrality",{"$f":"IF(VLOOKUP(C25299,#REF!,2,0)>0,1,0)","v":{"$error":"#REF!"}},"中立, 中立地位",null,0,0,0]
[25996,1180680,"accrue",{"$f":"IF(VLOOKUP(C25341,#REF!,2,0)>0,1,0)","v":{"$error":"#REF!"}},"获得",null,0,0,0]
[26032,1180689,"whoop",{"$f":"IF(VLOOKUP(C25376,#REF!,2,0)>0,1,0)","v":{"$error":"#REF!"}},"呐喊",null,0,0,0]
[26084,884683,"feeble",{"$f":"IF(VLOOKUP(C25428,#REF!,2,0)>0,1,0)","v":{"$error":"#REF!"}},"虚弱的, 衰弱的",null,0,0,0]
[26094,1180709,"jade",{"$f":"IF(VLOOKUP(C25437,#REF!,2,0)>0,1,0)","v":{"$error":"#REF!"}},"翡翠色",null,0,0,0]
[26170,1180733,"idealistic",{"$f":"IF(VLOOKUP(C25511,#REF!,2,0)>0,1,0)","v":{"$error":"#REF!"}},"唯心论的",null,0,0,0]
[26212,1180748,"polio",{"$f":"IF(VLOOKUP(C25551,#REF!,2,0)>0,1,0)","v":{"$error":"#REF!"}},"<医>脊髓灰质炎（等于poliomyelitis）",null,0,0,0]
[26265,1180765,"prophetic",{"$f":"IF(VLOOKUP(C25603,#REF!,2,0)>0,1,0)","v":{"$error":"#REF!"}},"预言的, 先知的",null,0,0,0]
[26308,1180776,"lapel",{"$f":"IF(VLOOKUP(C25646,#REF!,2,0)>0,1,0)","v":{"$error":"#REF!"}},"（西服上衣或夹克的）翻领",null,0,0,0]
[26340,1180784,"serenity",{"$f":"IF(VLOOKUP(C25674,#REF!,2,0)>0,1,0)","v":{"$error":"#REF!"}},"平静",null,0,0,0]
[26392,1180804,"sandstone",{"$f":"IF(VLOOKUP(C25723,#REF!,2,0)>0,1,0)","v":{"$error":"#REF!"}},"砂石",null,0,0,0]
[26431,1180816,"bravo",{"$f":"IF(VLOOKUP(C25761,#REF!,2,0)>0,1,0)","v":{"$error":"#REF!"}},"亡命徒",null,0,0,0]
[26484,1180832,"taxable",{"$f":"IF(VLOOKUP(C25813,#REF!,2,0)>0,1,0)","v":{"$error":"#REF!"}},"应纳税的",null,0,0,0]
[26529,1180846,"jus",{"$f":"IF(VLOOKUP(C25858,#REF!,2,0)>0,1,0)","v":{"$error":"#REF!"}},"<拉>法, 法律的原则, 法律认可的权利（或权力）",null,0,0,0]
[26558,1180860,"quarantine",{"$f":"IF(VLOOKUP(C25884,#REF!,2,0)>0,1,0)","v":{"$error":"#REF!"}},"检疫期, 隔离期",null,0,0,0]
[26611,1180880,"prerogative",{"$f":"IF(VLOOKUP(C25935,#REF!,2,0)>0,1,0)","v":{"$error":"#REF!"}},"有特权的",null,0,0,0]
[26648,1180893,"coveted",{"$f":"IF(VLOOKUP(C25971,#REF!,2,0)>0,1,0)","v":{"$error":"#REF!"}},"令人垂涎的",null,0,0,0]
[26702,1180907,"roost",{"$f":"IF(VLOOKUP(C26023,#REF!,2,0)>0,1,0)","v":{"$error":"#REF!"}},"得到报应",null,0,0,0]
[26753,1180922,"snare",{"$f":"IF(VLOOKUP(C26070,#REF!,2,0)>0,1,0)","v":{"$error":"#REF!"}},"诱惑",null,0,0,0]
[26777,1180926,"inhibition",{"$f":"IF(VLOOKUP(C26094,#REF!,2,0)>0,1,0)","v":{"$error":"#REF!"}},"压抑",null,0,0,0]
[26830,1180941,"shank",{"$f":"IF(VLOOKUP(C26147,#REF!,2,0)>0,1,0)","v":{"$error":"#REF!"}},"钥匙柄",null,0,0,0]
[26865,1180953,"trance",{"$f":"IF(VLOOKUP(C26181,#REF!,2,0)>0,1,0)","v":{"$error":"#REF!"}},"使出神",null,0,0,0]
[26901,1180962,"aperture",{"$f":"IF(VLOOKUP(C26217,#REF!,2,0)>0,1,0)","v":{"$error":"#REF!"}},"孔, 洞",null,0,0,0]
[26968,1180980,"computation",{"$f":"IF(VLOOKUP(C26282,#REF!,2,0)>0,1,0)","v":{"$error":"#REF!"}},"计算, 估计",null,0,0,0]
[26990,1180989,"pounce",{"$f":"IF(VLOOKUP(C26304,#REF!,2,0)>0,1,0)","v":{"$error":"#REF!"}},"扑过去抓住",null,0,0,0]
[27046,1181006,"piracy",{"$f":"IF(VLOOKUP(C26359,#REF!,2,0)>0,1,0)","v":{"$error":"#REF!"}},"海上抢劫",null,0,0,1]
[27080,1181016,"regularity",{"$f":"IF(VLOOKUP(C26391,#REF!,2,0)>0,1,0)","v":{"$error":"#REF!"}},"整齐",null,0,0,0]
[27120,1181027,"compressed",{"$f":"IF(VLOOKUP(C26427,#REF!,2,0)>0,1,0)","v":{"$error":"#REF!"}},"<生>扁长形的",null,0,0,0]
[27189,1181051,"vaginal",{"$f":"IF(VLOOKUP(C26494,#REF!,2,0)>0,1,0)","v":{"$error":"#REF!"}},"<植>叶鞘的",null,0,0,0]
[27209,1181059,"gnaw",{"$f":"IF(VLOOKUP(C26514,#REF!,2,0)>0,1,0)","v":{"$error":"#REF!"}},"折磨",null,0,0,0]
[27269,1181077,"clipper",{"$f":"IF(VLOOKUP(C26571,#REF!,2,0)>0,1,0)","v":{"$error":"#REF!"}},"快马, 移动很快的人或物",null,0,0,0]
[27300,1181086,"up-front",{"$f":"IF(VLOOKUP(C26601,#REF!,2,0)>0,1,0)","v":{"$error":"#REF!"}},"预付的",null,0,0,0]
[27336,1181098,"gratification",{"$f":"IF(VLOOKUP(C26637,#REF!,2,0)>0,1,0)","v":{"$error":"#REF!"}},"使人满意之事",null,0,0,0]
[27406,1181128,"uncomfortably",{"$f":"IF(VLOOKUP(C26706,#REF!,2,0)>0,1,0)","v":{"$error":"#REF!"}},"不舒适地, 不自在地, 令人不快地",null,0,0,1]
[27425,1181135,"calculated",{"$f":"IF(VLOOKUP(C26724,#REF!,2,0)>0,1,0)","v":{"$error":"#REF!"}},"计算出的",null,0,0,0]
[27481,1181151,"hoax",{"$f":"IF(VLOOKUP(C26779,#REF!,2,0)>0,1,0)","v":{"$error":"#REF!"}},"骗局",null,0,1,1]
[27515,1181158,"fleece",{"$f":"IF(VLOOKUP(C26811,#REF!,2,0)>0,1,0)","v":{"$error":"#REF!"}},"（羊毛般）盖满",null,0,0,0]
[27552,1181167,"fright",{"$f":"IF(VLOOKUP(C26847,#REF!,2,0)>0,1,0)","v":{"$error":"#REF!"}},"可怕的东西, 难看的人",null,0,0,0]
[27624,1181194,"penthouse",{"$f":"IF(VLOOKUP(C26918,#REF!,2,0)>0,1,0)","v":{"$error":"#REF!"}},"（大楼平顶上的）楼顶房屋, 遮篷",null,0,0,0]
[27640,1181201,"snowball",{"$f":"IF(VLOOKUP(C26934,#REF!,2,0)>0,1,0)","v":{"$error":"#REF!"}},"雪球",null,0,1,1]
[27678,1181212,"watchful",{"$f":"IF(VLOOKUP(C26970,#REF!,2,0)>0,1,0)","v":{"$error":"#REF!"}},"<古>不眠的",null,0,0,0]
[27719,1181225,"redress",{"$f":"IF(VLOOKUP(C27011,#REF!,2,0)>0,1,0)","v":{"$error":"#REF!"}},"缓解",null,0,0,0]
[27768,1181238,"roaring",{"$f":"IF(VLOOKUP(C27057,#REF!,2,0)>0,1,0)","v":{"$error":"#REF!"}},"风哮雨嚎的",null,0,0,0]
[27839,1181257,"fluff",{"$f":"IF(VLOOKUP(C27126,#REF!,2,0)>0,1,0)","v":{"$error":"#REF!"}},"变得松软",null,0,0,0]
[27859,1181265,"erroneous",{"$f":"IF(VLOOKUP(C27144,#REF!,2,0)>0,1,0)","v":{"$error":"#REF!"}},"错误的",null,0,0,0]
[27939,1181290,"saver",{"$f":"IF(VLOOKUP(C27223,#REF!,2,0)>0,1,0)","v":{"$error":"#REF!"}},"节约装置",null,0,0,0]
[27981,1181303,"rebuke",{"$f":"IF(VLOOKUP(C27265,#REF!,2,0)>0,1,0)","v":{"$error":"#REF!"}},"制止, 阻止",null,0,0,0]
[27983,1181303,"rebuke",{"$f":"IF(VLOOKUP(C27267,#REF!,2,0)>0,1,0)","v":{"$error":"#REF!"}},"惩戒",null,0,0,0]
[28057,1181328,"broil",{"$f":"IF(VLOOKUP(C27338,#REF!,2,0)>0,1,0)","v":{"$error":"#REF!"}},"激动",null,0,0,0]
[28074,1181331,"rambling",{"$f":"IF(VLOOKUP(C27354,#REF!,2,0)>0,1,0)","v":{"$error":"#REF!"}},"(喻)漫谈",null,0,0,0]
[28154,1181355,"erection",{"$f":"IF(VLOOKUP(C27433,#REF!,2,0)>0,1,0)","v":{"$error":"#REF!"}},"直立, 竖立",null,0,0,0]
[28201,1181367,"sidestep",{"$f":"IF(VLOOKUP(C27477,#REF!,2,0)>0,1,0)","v":{"$error":"#REF!"}},"让开…的路",null,0,0,0]
[28245,1181378,"covet",{"$f":"IF(VLOOKUP(C27520,#REF!,2,0)>0,1,0)","v":{"$error":"#REF!"}},"值得渴望的",null,0,0,0]
[28275,1181386,"permissible",{"$f":"IF(VLOOKUP(C27550,#REF!,2,0)>0,1,0)","v":{"$error":"#REF!"}},"不碍事的",null,0,0,0]
[28289,1181389,"underwrite",{"$f":"IF(VLOOKUP(C27564,#REF!,2,0)>0,1,0)","v":{"$error":"#REF!"}},"在…下面写",null,0,0,0]
[28371,1181415,"harmonic",{"$f":"IF(VLOOKUP(C27643,#REF!,2,0)>0,1,0)","v":{"$error":"#REF!"}},"[数]谐函数, 调和函数",null,0,0,0]
[28413,1181427,"fester",{"$f":"IF(VLOOKUP(C27685,#REF!,2,0)>0,1,0)","v":{"$error":"#REF!"}},"脓疮",null,0,0,0]
[28459,1181440,"hormonal",{"$f":"IF(VLOOKUP(C27730,#REF!,2,0)>0,1,0)","v":{"$error":"#REF!"}},"生理的",null,0,0,0]
[28491,1181452,"poach",{"$f":"IF(VLOOKUP(C27762,#REF!,2,0)>0,1,0)","v":{"$error":"#REF!"}},"水煮",null,0,0,0]
[28547,1181470,"full-blown",{"$f":"IF(VLOOKUP(C27817,#REF!,2,0)>0,1,0)","v":{"$error":"#REF!"}},"（花）盛开的",null,0,0,0]
[28585,1181478,"defuse",{"$f":"IF(VLOOKUP(C27853,#REF!,2,0)>0,1,0)","v":{"$error":"#REF!"}},"使变为无害",null,0,0,0]
[28630,1181495,"drench",{"$f":"IF(VLOOKUP(C27897,#REF!,2,0)>0,1,0)","v":{"$error":"#REF!"}},"使充满, 使洋溢",null,0,0,0]
[28675,1181507,"counterfeit",{"$f":"IF(VLOOKUP(C27940,#REF!,2,0)>0,1,0)","v":{"$error":"#REF!"}},"仿制品, 伪造物",null,0,0,0]
[28709,1181520,"coloring",{"$f":"IF(VLOOKUP(C27974,#REF!,2,0)>0,1,0)","v":{"$error":"#REF!"}},"色调",null,0,0,0]
[28748,1181537,"configure",{"$f":"IF(VLOOKUP(C28011,#REF!,2,0)>0,1,0)","v":{"$error":"#REF!"}},"设定",null,0,0,0]
[28800,1181550,"periodical",{"$f":"IF(VLOOKUP(C28063,#REF!,2,0)>0,1,0)","v":{"$error":"#REF!"}},"期刊",null,0,0,0]
[28849,1181566,"overture",{"$f":"IF(VLOOKUP(C28109,#REF!,2,0)>0,1,0)","v":{"$error":"#REF!"}},"序曲, 序乐",null,0,0,0]
[28893,1181577,"stripper",{"$f":"IF(VLOOKUP(C28150,#REF!,2,0)>0,1,0)","v":{"$error":"#REF!"}},"低产井",null,0,0,0]
[28929,1181585,"whimsical",{"$f":"IF(VLOOKUP(C28186,#REF!,2,0)>0,1,0)","v":{"$error":"#REF!"}},"古怪的, 奇形怪状的",null,0,0,0]
[28965,1181600,"egregious",{"$f":"IF(VLOOKUP(C28221,#REF!,2,0)>0,1,0)","v":{"$error":"#REF!"}},"极坏的, 异乎寻常的",null,0,0,0]
[29019,1181616,"spire",{"$f":"IF(VLOOKUP(C28273,#REF!,2,0)>0,1,0)","v":{"$error":"#REF!"}},"螺旋",null,0,0,0]
[29071,1181627,"agitated",{"$f":"IF(VLOOKUP(C28321,#REF!,2,0)>0,1,0)","v":{"$error":"#REF!"}},"激怒",null,0,0,0]
[29111,1181638,"deviant",{"$f":"IF(VLOOKUP(C28360,#REF!,2,0)>0,1,0)","v":{"$error":"#REF!"}},"不正常的, 异常的",null,0,0,0]
[29149,1181648,"chassis",{"$f":"IF(VLOOKUP(C28396,#REF!,2,0)>0,1,0)","v":{"$error":"#REF!"}},"（无线电、电视等的）底架",null,0,0,0]
[29213,1181672,"inescapable",{"$f":"IF(VLOOKUP(C28456,#REF!,2,0)>0,1,0)","v":{"$error":"#REF!"}},"不可避免的, 逃避不了的",null,0,0,1]
[29240,1181679,"recur",{"$f":"IF(VLOOKUP(C28483,#REF!,2,0)>0,1,0)","v":{"$error":"#REF!"}},"回想",null,0,0,0]
[29292,1181706,"shipyard",{"$f":"IF(VLOOKUP(C28533,#REF!,2,0)>0,1,0)","v":{"$error":"#REF!"}},"船坞",null,0,0,1]
[29316,1181717,"vertebrate",{"$f":"IF(VLOOKUP(C28554,#REF!,2,0)>0,1,0)","v":{"$error":"#REF!"}},"有脊椎的, 脊椎动物的",null,0,0,0]
[29368,1181736,"wharf",{"$f":"IF(VLOOKUP(C28606,#REF!,2,0)>0,1,0)","v":{"$error":"#REF!"}},"把货卸在码头上",null,0,0,0]
[29431,1181755,"inexplicable",{"$f":"IF(VLOOKUP(C28668,#REF!,2,0)>0,1,0)","v":{"$error":"#REF!"}},"费解的",null,0,0,0]
[29457,1181765,"swish",{"$f":"IF(VLOOKUP(C28693,#REF!,2,0)>0,1,0)","v":{"$error":"#REF!"}},"时髦的",null,0,0,0]
[29512,1181781,"archaic",{"$f":"IF(VLOOKUP(C28745,#REF!,2,0)>0,1,0)","v":{"$error":"#REF!"}},"古代的",null,0,0,0]
[29532,1181787,"impressionist",{"$f":"IF(VLOOKUP(C28764,#REF!,2,0)>0,1,0)","v":{"$error":"#REF!"}},"印象派画家",null,0,0,1]
[29586,1181801,"financier",{"$f":"IF(VLOOKUP(C28816,#REF!,2,0)>0,1,0)","v":{"$error":"#REF!"}},"资本家",null,0,0,0]
[29651,1181822,"allot",{"$f":"IF(VLOOKUP(C28880,#REF!,2,0)>0,1,0)","v":{"$error":"#REF!"}},"分配, 摊派给",null,0,0,0]
[29674,1181828,"lilac",{"$f":"IF(VLOOKUP(C28903,#REF!,2,0)>0,1,0)","v":{"$error":"#REF!"}},"丁香紫的淡紫色的",null,0,0,0]
[29733,1181851,"lymph",{"$f":"IF(VLOOKUP(C28957,#REF!,2,0)>0,1,0)","v":{"$error":"#REF!"}},"淋巴（液）",null,0,0,0]
[29750,1181854,"cultivated",{"$f":"IF(VLOOKUP(C28974,#REF!,2,0)>0,1,0)","v":{"$error":"#REF!"}},"耕种的",null,0,0,0]
[29804,1181871,"inundate",{"$f":"IF(VLOOKUP(C29026,#REF!,2,0)>0,1,0)","v":{"$error":"#REF!"}},"淹没",null,0,0,0]
[29871,1181890,"effluent",{"$f":"IF(VLOOKUP(C29092,#REF!,2,0)>0,1,0)","v":{"$error":"#REF!"}},"（注入河里等的）污水, 工业废水",null,0,0,0]
[29922,1181907,"banned",{"$f":"IF(VLOOKUP(C29140,#REF!,2,0)>0,1,0)","v":{"$error":"#REF!"}},"禁止",null,0,0,0]
[29951,1181916,"drool",{"$f":"IF(VLOOKUP(C29169,#REF!,2,0)>0,1,0)","v":{"$error":"#REF!"}},"对某人或某物流露出痴迷的神情",null,0,0,0]
[29966,1181922,"celtic",{"$f":"IF(VLOOKUP(C29184,#REF!,2,0)>0,1,0)","v":{"$error":"#REF!"}},"凯尔特人的",null,0,0,1]
[30020,1181944,"rebuff",{"$f":"IF(VLOOKUP(C29236,#REF!,2,0)>0,1,0)","v":{"$error":"#REF!"}},"挫败",null,0,0,0]
[30089,1181967,"know-how",{"$f":"IF(VLOOKUP(C29304,#REF!,2,0)>0,1,0)","v":{"$error":"#REF!"}},"诀窍",null,0,0,0]
[30138,1181984,"tang",{"$f":"IF(VLOOKUP(C29350,#REF!,2,0)>0,1,0)","v":{"$error":"#REF!"}},"发出铿锵声",null,0,0,0]
[30169,1181998,"dill",{"$f":"IF(VLOOKUP(C29381,#REF!,2,0)>0,1,0)","v":{"$error":"#REF!"}},"<园艺>莳萝, 莳萝的种子",null,0,0,0]
[30227,1182017,"interchange",{"$f":"IF(VLOOKUP(C29437,#REF!,2,0)>0,1,0)","v":{"$error":"#REF!"}},"互换, 交换",null,0,0,0]
[30265,1182033,"attune",{"$f":"IF(VLOOKUP(C29473,#REF!,2,0)>0,1,0)","v":{"$error":"#REF!"}},"使协调",null,0,0,0]
[30309,1182045,"landscaping",{"$f":"IF(VLOOKUP(C29516,#REF!,2,0)>0,1,0)","v":{"$error":"#REF!"}},"造园林",null,0,0,0]
[30353,1182063,"unmanned",{"$f":"IF(VLOOKUP(C29560,#REF!,2,0)>0,1,0)","v":{"$error":"#REF!"}},"怯懦的",null,0,0,0]
[30364,1182065,"choosing",{"$f":"IF(VLOOKUP(C29569,#REF!,2,0)>0,1,0)","v":{"$error":"#REF!"}},"选定",null,0,0,0]
[30451,1182092,"sedentary",{"$f":"IF(VLOOKUP(C29651,#REF!,2,0)>0,1,0)","v":{"$error":"#REF!"}},"案头的",null,0,0,0]
[30484,1182103,"cholera",{"$f":"IF(VLOOKUP(C29683,#REF!,2,0)>0,1,0)","v":{"$error":"#REF!"}},"[医]霍乱",null,0,0,1]
[30531,1182117,"lark",{"$f":"IF(VLOOKUP(C29728,#REF!,2,0)>0,1,0)","v":{"$error":"#REF!"}},"嬉戏",null,0,0,0]
[30573,1182132,"plunder",{"$f":"IF(VLOOKUP(C29770,#REF!,2,0)>0,1,0)","v":{"$error":"#REF!"}},"私吞",null,0,0,0]
[30626,1182153,"radon",{"$f":"IF(VLOOKUP(C29822,#REF!,2,0)>0,1,0)","v":{"$error":"#REF!"}},"<化>氡（元素符号Rn）",null,0,0,0]
[30669,1182174,"scion",{"$f":"IF(VLOOKUP(C29863,#REF!,2,0)>0,1,0)","v":{"$error":"#REF!"}},"接穗, 幼枝",null,0,0,0]
[30699,1182183,"blinking",{"$f":"IF(VLOOKUP(C29893,#REF!,2,0)>0,1,0)","v":{"$error":"#REF!"}},"闪光的, 一眨眼的",null,0,0,0]
[30750,1182195,"unbroken",{"$f":"IF(VLOOKUP(C29940,#REF!,2,0)>0,1,0)","v":{"$error":"#REF!"}},"（马等）未驯服的",null,0,0,0]
[30794,1182210,"innuendo",{"$f":"IF(VLOOKUP(C29980,#REF!,2,0)>0,1,0)","v":{"$error":"#REF!"}},"暗示",null,0,0,0]
[30830,1182221,"fluke",{"$f":"IF(VLOOKUP(C30016,#REF!,2,0)>0,1,0)","v":{"$error":"#REF!"}},"侥幸",null,0,0,0]
[30891,1182242,"vigilance",{"$f":"IF(VLOOKUP(C30075,#REF!,2,0)>0,1,0)","v":{"$error":"#REF!"}},"<正>警觉",null,0,0,0]
[30920,1182252,"balm",{"$f":"IF(VLOOKUP(C30103,#REF!,2,0)>0,1,0)","v":{"$error":"#REF!"}},"镇痛软膏",null,0,0,0]
[30969,1182273,"husk",{"$f":"IF(VLOOKUP(C30152,#REF!,2,0)>0,1,0)","v":{"$error":"#REF!"}},"外皮, 荚, 壳",null,0,0,0]
[31010,1182285,"categorical",{"$f":"IF(VLOOKUP(C30190,#REF!,2,0)>0,1,0)","v":{"$error":"#REF!"}},"确信无疑的",null,0,0,0]
[31047,1182297,"locust",{"$f":"IF(VLOOKUP(C30226,#REF!,2,0)>0,1,0)","v":{"$error":"#REF!"}},"[植]角豆树",null,0,0,0]
[31110,1182311,"recoup",{"$f":"IF(VLOOKUP(C30287,#REF!,2,0)>0,1,0)","v":{"$error":"#REF!"}},"恢复",null,0,0,0]
[31137,1182320,"t-test",{"$f":"IF(VLOOKUP(C30313,#REF!,2,0)>0,1,0)","v":{"$error":"#REF!"}},"t检验",null,0,0,0]
[31191,1182341,"tummy",{"$f":"IF(VLOOKUP(C30364,#REF!,2,0)>0,1,0)","v":{"$error":"#REF!"}},"<非正>胃, 肚子",null,0,0,0]
[31228,1182354,"filament",{"$f":"IF(VLOOKUP(C30400,#REF!,2,0)>0,1,0)","v":{"$error":"#REF!"}},"细丝, 丝状体",null,0,0,0]
[31265,1182368,"affliction",{"$f":"IF(VLOOKUP(C30436,#REF!,2,0)>0,1,0)","v":{"$error":"#REF!"}},"哀伤, 忧伤",null,0,0,0]
[31330,1182394,"relativism",{"$f":"IF(VLOOKUP(C30499,#REF!,2,0)>0,1,0)","v":{"$error":"#REF!"}},"相对论, 相对主义",null,0,0,0]
[31354,1182402,"distaste",{"$f":"IF(VLOOKUP(C30523,#REF!,2,0)>0,1,0)","v":{"$error":"#REF!"}},"不喜欢",null,0,0,0]
[31403,1182420,"summons",{"$f":"IF(VLOOKUP(C30572,#REF!,2,0)>0,1,0)","v":{"$error":"#REF!"}},"召唤",null,0,0,0]
[31442,1182434,"glorify",{"$f":"IF(VLOOKUP(C30610,#REF!,2,0)>0,1,0)","v":{"$error":"#REF!"}},"颂扬",null,0,0,0]
[31480,1182450,"moot",{"$f":"IF(VLOOKUP(C30646,#REF!,2,0)>0,1,0)","v":{"$error":"#REF!"}},"未决议的",null,0,0,0]
[31545,1182474,"divulge",{"$f":"IF(VLOOKUP(C30711,#REF!,2,0)>0,1,0)","v":{"$error":"#REF!"}},"暴露",null,0,0,0]
[31568,1182480,"looking",{"$f":"IF(VLOOKUP(C30733,#REF!,2,0)>0,1,0)","v":{"$error":"#REF!"}},"寻找",null,0,0,0]
[31621,1182497,"penetrating",{"$f":"IF(VLOOKUP(C30784,#REF!,2,0)>0,1,0)","v":{"$error":"#REF!"}},"响亮的",null,0,0,0]
[31659,1182504,"completeness",{"$f":"IF(VLOOKUP(C30820,#REF!,2,0)>0,1,0)","v":{"$error":"#REF!"}},"完整性",null,0,0,0]
[31695,1182518,"monograph",{"$f":"IF(VLOOKUP(C30856,#REF!,2,0)>0,1,0)","v":{"$error":"#REF!"}},"专著, 专论",null,0,0,0]
[31761,1182542,"underfoot",{"$f":"IF(VLOOKUP(C30919,#REF!,2,0)>0,1,0)","v":{"$error":"#REF!"}},"挡路地",null,0,0,0]
[31787,1182552,"alarmed",{"$f":"IF(VLOOKUP(C30943,#REF!,2,0)>0,1,0)","v":{"$error":"#REF!"}},"张皇",null,0,0,0]
[31826,1182567,"caddy",{"$f":"IF(VLOOKUP(C30979,#REF!,2,0)>0,1,0)","v":{"$error":"#REF!"}},"小盒子",null,0,0,0]
[31864,1182582,"pedigree",{"$f":"IF(VLOOKUP(C31016,#REF!,2,0)>0,1,0)","v":{"$error":"#REF!"}},"有血统来源的",null,0,0,0]
[31916,1182596,"elemental",{"$f":"IF(VLOOKUP(C31066,#REF!,2,0)>0,1,0)","v":{"$error":"#REF!"}},"强大的, 可怕的",null,0,0,0]
[31982,1182620,"backlog",{"$f":"IF(VLOOKUP(C31131,#REF!,2,0)>0,1,0)","v":{"$error":"#REF!"}},"（使）积压",null,0,0,0]
[32004,1182630,"cranky",{"$f":"IF(VLOOKUP(C31153,#REF!,2,0)>0,1,0)","v":{"$error":"#REF!"}},"（机器）不稳的",null,0,0,0]
[32044,1182647,"mockery",{"$f":"IF(VLOOKUP(C31189,#REF!,2,0)>0,1,0)","v":{"$error":"#REF!"}},"笑柄",null,0,0,0]
[32126,1182676,"stampede",{"$f":"IF(VLOOKUP(C31270,#REF!,2,0)>0,1,0)","v":{"$error":"#REF!"}},"军队溃败",null,0,0,0]
[32132,1182677,"unsuspecting",{"$f":"IF(VLOOKUP(C31276,#REF!,2,0)>0,1,0)","v":{"$error":"#REF!"}},"可信任的",null,0,0,0]
[32200,1182699,"nameless",{"$f":"IF(VLOOKUP(C31343,#REF!,2,0)>0,1,0)","v":{"$error":"#REF!"}},"无名的",null,0,0,0]
[32222,1182708,"stubble",{"$f":"IF(VLOOKUP(C31363,#REF!,2,0)>0,1,0)","v":{"$error":"#REF!"}},"楂",null,0,0,0]
[32260,1182723,"bastion",{"$f":"IF(VLOOKUP(C31399,#REF!,2,0)>0,1,0)","v":{"$error":"#REF!"}},"设防地区, 阵地工事",null,0,0,0]
[32342,1182751,"speedway",{"$f":"IF(VLOOKUP(C31478,#REF!,2,0)>0,1,0)","v":{"$error":"#REF!"}},"赛车跑道",null,0,0,0]
[32351,1182754,"detriment",{"$f":"IF(VLOOKUP(C31486,#REF!,2,0)>0,1,0)","v":{"$error":"#REF!"}},"造成损害的事物",null,0,0,0]
[32421,1182775,"blip",{"$f":"IF(VLOOKUP(C31555,#REF!,2,0)>0,1,0)","v":{"$error":"#REF!"}},"雷达的可视信号",null,0,0,0]
[32440,1182781,"indebted",{"$f":"IF(VLOOKUP(C31573,#REF!,2,0)>0,1,0)","v":{"$error":"#REF!"}},"受惠的",null,0,0,0]
[32521,1182805,"regroup",{"$f":"IF(VLOOKUP(C31652,#REF!,2,0)>0,1,0)","v":{"$error":"#REF!"}},"重新分类",null,0,0,0]
[32560,1182821,"dissuade",{"$f":"IF(VLOOKUP(C31690,#REF!,2,0)>0,1,0)","v":{"$error":"#REF!"}},"劝止",null,0,0,0]
[32610,1182838,"skunk",{"$f":"IF(VLOOKUP(C31739,#REF!,2,0)>0,1,0)","v":{"$error":"#REF!"}},"可恶的人",null,0,0,0]
[32639,1182848,"multidisciplinary",{"$f":"IF(VLOOKUP(C31767,#REF!,2,0)>0,1,0)","v":{"$error":"#REF!"}},"多学科",null,0,0,0]
[32685,1182866,"instantaneous",{"$f":"IF(VLOOKUP(C31810,#REF!,2,0)>0,1,0)","v":{"$error":"#REF!"}},"猝发的",null,0,0,0]
[32737,1182889,"debit",{"$f":"IF(VLOOKUP(C31862,#REF!,2,0)>0,1,0)","v":{"$error":"#REF!"}},"借方",null,0,0,0]
[32778,1182901,"payload",{"$f":"IF(VLOOKUP(C31902,#REF!,2,0)>0,1,0)","v":{"$error":"#REF!"}},"（炸弹、导弹的）爆炸力",null,0,0,0]
[32826,1182922,"pentecostal",{"$f":"IF(VLOOKUP(C31949,#REF!,2,0)>0,1,0)","v":{"$error":"#REF!"}},"五旬节的",null,0,0,0]
[32860,1182937,"soot",{"$f":"IF(VLOOKUP(C31979,#REF!,2,0)>0,1,0)","v":{"$error":"#REF!"}},"油烟",null,0,0,0]
[32904,1182950,"agile",{"$f":"IF(VLOOKUP(C32020,#REF!,2,0)>0,1,0)","v":{"$error":"#REF!"}},"灵活的",null,0,0,1]
[32957,831389,"cordial",{"$f":"IF(VLOOKUP(C32072,#REF!,2,0)>0,1,0)","v":{"$error":"#REF!"}},"兴奋剂",null,0,0,0]
[33000,1182981,"molasses",{"$f":"IF(VLOOKUP(C32114,#REF!,2,0)>0,1,0)","v":{"$error":"#REF!"}},"废蜜",null,0,0,0]
[33050,1182997,"brunette",{"$f":"IF(VLOOKUP(C32159,#REF!,2,0)>0,1,0)","v":{"$error":"#REF!"}},"具有黑色或深褐色头发和浅黑色皮肤的",null,0,0,0]
[33088,1183010,"squatter",{"$f":"IF(VLOOKUP(C32195,#REF!,2,0)>0,1,0)","v":{"$error":"#REF!"}},"涉水而过",null,0,0,0]
[33145,1183028,"grading",{"$f":"IF(VLOOKUP(C32249,#REF!,2,0)>0,1,0)","v":{"$error":"#REF!"}},"<尤美>（考试或作业的）分数",null,0,0,0]
[33181,1183039,"tacky",{"$f":"IF(VLOOKUP(C32282,#REF!,2,0)>0,1,0)","v":{"$error":"#REF!"}},"缺乏教养或风度的",null,0,0,0]
[33225,1183060,"detract",{"$f":"IF(VLOOKUP(C32326,#REF!,2,0)>0,1,0)","v":{"$error":"#REF!"}},"转移（注意等）",null,0,0,0]
[33253,1183071,"serotonin",{"$f":"IF(VLOOKUP(C32353,#REF!,2,0)>0,1,0)","v":{"$error":"#REF!"}},"[医]5-羟色胺",null,0,0,0]
[33308,1183089,"altruism",{"$f":"IF(VLOOKUP(C32405,#REF!,2,0)>0,1,0)","v":{"$error":"#REF!"}},"利人主义",null,0,0,0]
[33365,1183107,"launching",{"$f":"IF(VLOOKUP(C32461,#REF!,2,0)>0,1,0)","v":{"$error":"#REF!"}},"发行",null,0,0,0]
[33398,1183120,"modular",{"$f":"IF(VLOOKUP(C32492,#REF!,2,0)>0,1,0)","v":{"$error":"#REF!"}},"(尤指英国大学里的课程)分单元的(由独立单元组成, 学生可选修)",null,0,0,0]
[33446,1183142,"talon",{"$f":"IF(VLOOKUP(C32538,#REF!,2,0)>0,1,0)","v":{"$error":"#REF!"}},"锁簧尖状突出部",null,0,0,0]
[33472,1183150,"antiquated",{"$f":"IF(VLOOKUP(C32563,#REF!,2,0)>0,1,0)","v":{"$error":"#REF!"}},"年老的",null,0,0,0]
[33526,1183169,"pique",{"$f":"IF(VLOOKUP(C32615,#REF!,2,0)>0,1,0)","v":{"$error":"#REF!"}},"使恼怒",null,0,0,0]
[33586,1183197,"fart",{"$f":"IF(VLOOKUP(C32673,#REF!,2,0)>0,1,0)","v":{"$error":"#REF!"}},"<讳>放屁",null,0,0,0]
[33617,1183209,"karate",{"$f":"IF(VLOOKUP(C32702,#REF!,2,0)>0,1,0)","v":{"$error":"#REF!"}},"<日>空手道（日本的一种徒手自卫武术）",null,1,1,1]
[33667,1183225,"sorority",{"$f":"IF(VLOOKUP(C32750,#REF!,2,0)>0,1,0)","v":{"$error":"#REF!"}},"妇女联谊会, 女学生联谊会",null,0,0,0]
[33694,1183231,"nondescript",{"$f":"IF(VLOOKUP(C32773,#REF!,2,0)>0,1,0)","v":{"$error":"#REF!"}},"无明显特征的, 难以归类的, 难以形容的",null,0,0,0]
[33747,1183242,"autistic",{"$f":"IF(VLOOKUP(C32825,#REF!,2,0)>0,1,0)","v":{"$error":"#REF!"}},"患自闭症的",null,0,0,0]
[33810,1183266,"obedient",{"$f":"IF(VLOOKUP(C32885,#REF!,2,0)>0,1,0)","v":{"$error":"#REF!"}},"忠顺的",null,0,0,0]
[33821,1183269,"shorthand",{"$f":"IF(VLOOKUP(C32896,#REF!,2,0)>0,1,0)","v":{"$error":"#REF!"}},"简略的表达方式",null,0,0,0]
[33890,1183293,"responder",{"$f":"IF(VLOOKUP(C32962,#REF!,2,0)>0,1,0)","v":{"$error":"#REF!"}},"响应器",null,0,0,0]
[33911,1183301,"awry",{"$f":"IF(VLOOKUP(C32983,#REF!,2,0)>0,1,0)","v":{"$error":"#REF!"}},"歪斜地",null,0,0,0]
[33967,1183321,"decadent",{"$f":"IF(VLOOKUP(C33035,#REF!,2,0)>0,1,0)","v":{"$error":"#REF!"}},"堕落者",null,0,0,0]
[34029,1183346,"confederation",{"$f":"IF(VLOOKUP(C33097,#REF!,2,0)>0,1,0)","v":{"$error":"#REF!"}},"结盟",null,0,0,1]
[34039,1183350,"slime",{"$f":"IF(VLOOKUP(C33106,#REF!,2,0)>0,1,0)","v":{"$error":"#REF!"}},"黏液",null,0,0,0]
[34110,1183370,"pummel",{"$f":"IF(VLOOKUP(C33174,#REF!,2,0)>0,1,0)","v":{"$error":"#REF!"}},"（尤指用拳头）连续打",null,0,0,0]
[34129,1183376,"sidekick",{"$f":"IF(VLOOKUP(C33193,#REF!,2,0)>0,1,0)","v":{"$error":"#REF!"}},"好友",null,0,0,0]
[34211,1183408,"botanist",{"$f":"IF(VLOOKUP(C33272,#REF!,2,0)>0,1,0)","v":{"$error":"#REF!"}},"植物学家, 研究植物的人",null,0,0,1]
[34249,1183423,"discord",{"$f":"IF(VLOOKUP(C33309,#REF!,2,0)>0,1,0)","v":{"$error":"#REF!"}},"不和",null,0,0,0]
[34256,1183425,"incarnate",{"$f":"IF(VLOOKUP(C33316,#REF!,2,0)>0,1,0)","v":{"$error":"#REF!"}},"拟人化的",null,0,0,0]
[34329,1183451,"trusting",{"$f":"IF(VLOOKUP(C33386,#REF!,2,0)>0,1,0)","v":{"$error":"#REF!"}},"轻信的",null,0,0,0]
[34347,1183457,"gondola",{"$f":"IF(VLOOKUP(C33403,#REF!,2,0)>0,1,0)","v":{"$error":"#REF!"}},"货架（一般指商店, 例如化妆品店）",null,0,0,0]
[34428,1183486,"lattice",{"$f":"IF(VLOOKUP(C33482,#REF!,2,0)>0,1,0)","v":{"$error":"#REF!"}},"用格子覆盖或装饰",null,0,0,0]
[34467,1183501,"junta",{"$f":"IF(VLOOKUP(C33521,#REF!,2,0)>0,1,0)","v":{"$error":"#REF!"}},"小集团",null,0,0,0]
[34519,1183522,"cylindrical",{"$f":"IF(VLOOKUP(C33569,#REF!,2,0)>0,1,0)","v":{"$error":"#REF!"}},"圆柱形的, 圆筒状的, 气缸（或滚筒）的",null,0,0,0]
[34528,1183526,"intuitively",{"$f":"IF(VLOOKUP(C33578,#REF!,2,0)>0,1,0)","v":{"$error":"#REF!"}},"直觉地, 直观地",null,0,0,0]
[34611,1183552,"nomadic",{"$f":"IF(VLOOKUP(C33656,#REF!,2,0)>0,1,0)","v":{"$error":"#REF!"}},"游牧的",null,0,0,0]
[34649,1183563,"shaking",{"$f":"IF(VLOOKUP(C33692,#REF!,2,0)>0,1,0)","v":{"$error":"#REF!"}},"震惊",null,0,0,0]
[34692,1183577,"photocopy",{"$f":"IF(VLOOKUP(C33733,#REF!,2,0)>0,1,0)","v":{"$error":"#REF!"}},"影印本",null,0,0,0]
[34738,1183597,"broach",{"$f":"IF(VLOOKUP(C33779,#REF!,2,0)>0,1,0)","v":{"$error":"#REF!"}},"<海>（船）突然横转",null,0,0,0]
[34775,1183611,"jumpsuit",{"$f":"IF(VLOOKUP(C33815,#REF!,2,0)>0,1,0)","v":{"$error":"#REF!"}},"连衣裤, （尤指女式）连衣裤",null,0,0,0]
[34829,1183631,"radial",{"$f":"IF(VLOOKUP(C33868,#REF!,2,0)>0,1,0)","v":{"$error":"#REF!"}},"径向的",null,0,0,0]
[34866,1183641,"discouraging",{"$f":"IF(VLOOKUP(C33902,#REF!,2,0)>0,1,0)","v":{"$error":"#REF!"}},"使沮丧",null,0,0,0]
[34912,1183656,"marketable",{"$f":"IF(VLOOKUP(C33945,#REF!,2,0)>0,1,0)","v":{"$error":"#REF!"}},"有销路的",null,0,0,0]
[34959,1183670,"exhausting",{"$f":"IF(VLOOKUP(C33989,#REF!,2,0)>0,1,0)","v":{"$error":"#REF!"}},"使耗尽的, 使人精疲力竭的",null,0,0,0]
[35000,1183684,"chimera",{"$f":"IF(VLOOKUP(C34025,#REF!,2,0)>0,1,0)","v":{"$error":"#REF!"}},"妄想",null,0,0,0]
[35060,1183702,"reprisal",{"$f":"IF(VLOOKUP(C34080,#REF!,2,0)>0,1,0)","v":{"$error":"#REF!"}},"〈罕〉赔偿, 赔款",null,0,0,0]
[35093,1183712,"thoroughfare",{"$f":"IF(VLOOKUP(C34112,#REF!,2,0)>0,1,0)","v":{"$error":"#REF!"}},"大道, 大街",null,0,0,0]
[35140,1183728,"affront",{"$f":"IF(VLOOKUP(C34157,#REF!,2,0)>0,1,0)","v":{"$error":"#REF!"}},"冒犯",null,0,0,0]
[35183,1183740,"errant",{"$f":"IF(VLOOKUP(C34199,#REF!,2,0)>0,1,0)","v":{"$error":"#REF!"}},"出格的（仅用于名词前正式用语）",null,0,0,0]
[35220,1183751,"belch",{"$f":"IF(VLOOKUP(C34235,#REF!,2,0)>0,1,0)","v":{"$error":"#REF!"}},"打嗝, 嗳气",null,0,0,0]
[35282,1183770,"wart",{"$f":"IF(VLOOKUP(C34292,#REF!,2,0)>0,1,0)","v":{"$error":"#REF!"}},"疣, 肉赘",null,0,0,0]
[35315,1183778,"acquiesce",{"$f":"IF(VLOOKUP(C34322,#REF!,2,0)>0,1,0)","v":{"$error":"#REF!"}},"默认, 默许",null,0,0,0]
[35361,1183793,"foreclose",{"$f":"IF(VLOOKUP(C34365,#REF!,2,0)>0,1,0)","v":{"$error":"#REF!"}},"取消（抵押品）赎回权",null,0,0,0]
[35406,1183805,"encore",{"$f":"IF(VLOOKUP(C34409,#REF!,2,0)>0,1,0)","v":{"$error":"#REF!"}},"加演节目",null,0,0,0]
[35443,1183818,"pulley",{"$f":"IF(VLOOKUP(C34445,#REF!,2,0)>0,1,0)","v":{"$error":"#REF!"}},"皮带轮",null,0,0,0]
[35503,1183842,"libel",{"$f":"IF(VLOOKUP(C34504,#REF!,2,0)>0,1,0)","v":{"$error":"#REF!"}},"诋毁",null,0,0,0]
[35531,1183852,"liquidity",{"$f":"IF(VLOOKUP(C34532,#REF!,2,0)>0,1,0)","v":{"$error":"#REF!"}},"<财>资产折现力",null,0,0,0]
[35578,1183869,"flunk",{"$f":"IF(VLOOKUP(C34577,#REF!,2,0)>0,1,0)","v":{"$error":"#REF!"}},"（使）（考试、某学科的成绩等）不及格",null,0,0,0]
[35622,1183884,"boob",{"$f":"IF(VLOOKUP(C34619,#REF!,2,0)>0,1,0)","v":{"$error":"#REF!"}},"蠢材",null,0,0,0]
[35659,1183900,"year-end",{"$f":"IF(VLOOKUP(C34655,#REF!,2,0)>0,1,0)","v":{"$error":"#REF!"}},"年终的",null,0,0,0]
[35717,1183923,"sternly",{"$f":"IF(VLOOKUP(C34712,#REF!,2,0)>0,1,0)","v":{"$error":"#REF!"}},"严厉地",null,0,0,0]
[35749,1183933,"speckled",{"$f":"IF(VLOOKUP(C34742,#REF!,2,0)>0,1,0)","v":{"$error":"#REF!"}},"有斑点的",null,0,0,0]
[35790,1183948,"pander",{"$f":"IF(VLOOKUP(C34778,#REF!,2,0)>0,1,0)","v":{"$error":"#REF!"}},"勾引, （为…）拉皮条",null,0,0,0]
[35824,1183962,"slut",{"$f":"IF(VLOOKUP(C34809,#REF!,2,0)>0,1,0)","v":{"$error":"#REF!"}},"荡妇, 懒妇, 母狗",null,0,0,0]
[35882,1183987,"goof",{"$f":"IF(VLOOKUP(C34865,#REF!,2,0)>0,1,0)","v":{"$error":"#REF!"}},"呆瓜",null,0,0,0]
[35943,1184010,"scandalous",{"$f":"IF(VLOOKUP(C34924,#REF!,2,0)>0,1,0)","v":{"$error":"#REF!"}},"诽谤性的",null,0,0,0]
[35971,1184021,"mace",{"$f":"IF(VLOOKUP(C34952,#REF!,2,0)>0,1,0)","v":{"$error":"#REF!"}},"肉豆蔻种衣（用作香料）",null,0,0,0]
[36009,1184034,"received",{"$f":"IF(VLOOKUP(C34988,#REF!,2,0)>0,1,0)","v":{"$error":"#REF!"}},"接纳",null,0,0,0]
[36044,1184049,"rascal",{"$f":"IF(VLOOKUP(C35021,#REF!,2,0)>0,1,0)","v":{"$error":"#REF!"}},"恶作剧的人",null,0,0,0]
[36103,1184068,"innocently",{"$f":"IF(VLOOKUP(C35075,#REF!,2,0)>0,1,0)","v":{"$error":"#REF!"}},"无罪地",null,0,0,0]
[36166,1184090,"cracking",{"$f":"IF(VLOOKUP(C35136,#REF!,2,0)>0,1,0)","v":{"$error":"#REF!"}},"极其",null,0,0,0]
[36193,1184097,"spacing",{"$f":"IF(VLOOKUP(C35162,#REF!,2,0)>0,1,0)","v":{"$error":"#REF!"}},"跨距",null,0,0,0]
[36231,1184109,"disinterested",{"$f":"IF(VLOOKUP(C35198,#REF!,2,0)>0,1,0)","v":{"$error":"#REF!"}},"无私的",null,0,0,0]
[36308,1184131,"entanglement",{"$f":"IF(VLOOKUP(C35271,#REF!,2,0)>0,1,0)","v":{"$error":"#REF!"}},"牵连",null,0,0,0]
[36323,1184137,"tailback",{"$f":"IF(VLOOKUP(C35285,#REF!,2,0)>0,1,0)","v":{"$error":"#REF!"}},"<英>交通堵塞",null,0,0,0]
[36388,1184158,"ill-fated",{"$f":"IF(VLOOKUP(C35348,#REF!,2,0)>0,1,0)","v":{"$error":"#REF!"}},"恶运的",null,0,0,0]
[36412,1184167,"indelible",{"$f":"IF(VLOOKUP(C35372,#REF!,2,0)>0,1,0)","v":{"$error":"#REF!"}},"擦不掉的",null,0,0,0]
[36448,1184182,"hilly",{"$f":"IF(VLOOKUP(C35408,#REF!,2,0)>0,1,0)","v":{"$error":"#REF!"}},"峭峻的",null,0,0,0]
[36525,1184208,"do-it-yourself",{"$f":"IF(VLOOKUP(C35483,#REF!,2,0)>0,1,0)","v":{"$error":"#REF!"}},"为业余爱好者设计成的",null,0,0,0]
[36538,1184212,"perplex",{"$f":"IF(VLOOKUP(C35495,#REF!,2,0)>0,1,0)","v":{"$error":"#REF!"}},"使迷惑, 使混乱",null,0,0,0]
[36604,1184233,"degeneration",{"$f":"IF(VLOOKUP(C35560,#REF!,2,0)>0,1,0)","v":{"$error":"#REF!"}},"变质",null,0,0,0]
[36656,1184255,"proffer",{"$f":"IF(VLOOKUP(C35609,#REF!,2,0)>0,1,0)","v":{"$error":"#REF!"}},"贡献",null,0,0,0]
[36665,1184257,"steadfast",{"$f":"IF(VLOOKUP(C35618,#REF!,2,0)>0,1,0)","v":{"$error":"#REF!"}},"不动摇的",null,0,0,0]
[36744,1184292,"roil",{"$f":"IF(VLOOKUP(C35695,#REF!,2,0)>0,1,0)","v":{"$error":"#REF!"}},"使不安",null,0,0,0]
[36754,1184294,"twitter",{"$f":"IF(VLOOKUP(C35705,#REF!,2,0)>0,1,0)","v":{"$error":"#REF!"}},"（鸟等）吱吱叫",null,0,0,0]
[36823,1184319,"hitherto",{"$f":"IF(VLOOKUP(C35772,#REF!,2,0)>0,1,0)","v":{"$error":"#REF!"}},"到目前为止",null,0,0,0]
[36871,1184336,"abiding",{"$f":"IF(VLOOKUP(C35819,#REF!,2,0)>0,1,0)","v":{"$error":"#REF!"}},"不变的",null,0,0,0]
[36925,1184355,"morbid",{"$f":"IF(VLOOKUP(C35871,#REF!,2,0)>0,1,0)","v":{"$error":"#REF!"}},"（兴趣、精神、思想等）病态的",null,0,0,0]
[36962,1184369,"scuffle",{"$f":"IF(VLOOKUP(C35907,#REF!,2,0)>0,1,0)","v":{"$error":"#REF!"}},"拖着脚走的声音",null,0,0,0]
[36971,1184374,"nativity",{"$f":"IF(VLOOKUP(C35915,#REF!,2,0)>0,1,0)","v":{"$error":"#REF!"}},"（尤指）基督的诞生, 圣诞节",null,0,0,0]
[37042,1184401,"communicating",{"$f":"IF(VLOOKUP(C35984,#REF!,2,0)>0,1,0)","v":{"$error":"#REF!"}},"通讯",null,0,0,0]
[37090,1184415,"insinuate",{"$f":"IF(VLOOKUP(C36029,#REF!,2,0)>0,1,0)","v":{"$error":"#REF!"}},"巧妙或迂回地潜入",null,0,0,0]
[37142,1184439,"nothingness",{"$f":"IF(VLOOKUP(C36081,#REF!,2,0)>0,1,0)","v":{"$error":"#REF!"}},"无生命",null,0,0,0]
[37184,1184455,"uncompromising",{"$f":"IF(VLOOKUP(C36119,#REF!,2,0)>0,1,0)","v":{"$error":"#REF!"}},"不妥协的, 坚定的",null,0,0,0]
[37218,1184469,"halter",{"$f":"IF(VLOOKUP(C36152,#REF!,2,0)>0,1,0)","v":{"$error":"#REF!"}},"（马的）笼头, 缰绳",null,0,0,0]
[37271,1184494,"dank",{"$f":"IF(VLOOKUP(C36204,#REF!,2,0)>0,1,0)","v":{"$error":"#REF!"}},"阴湿的, 阴冷的",null,0,0,0]
[37322,1184508,"depositor",{"$f":"IF(VLOOKUP(C36254,#REF!,2,0)>0,1,0)","v":{"$error":"#REF!"}},"存放人, 存款人",null,0,0,0]
[37360,1184521,"convection",{"$f":"IF(VLOOKUP(C36291,#REF!,2,0)>0,1,0)","v":{"$error":"#REF!"}},"传送, 对流",null,0,0,0]
[37401,1184537,"soundly",{"$f":"IF(VLOOKUP(C36331,#REF!,2,0)>0,1,0)","v":{"$error":"#REF!"}},"严厉地",null,0,0,0]
[37432,1184552,"enshrine",{"$f":"IF(VLOOKUP(C36362,#REF!,2,0)>0,1,0)","v":{"$error":"#REF!"}},"珍藏, 铭记",null,0,0,0]
[37487,1184569,"retake",{"$f":"IF(VLOOKUP(C36414,#REF!,2,0)>0,1,0)","v":{"$error":"#REF!"}},"再取",null,0,0,0]
[37539,1184590,"assumed",{"$f":"IF(VLOOKUP(C36466,#REF!,2,0)>0,1,0)","v":{"$error":"#REF!"}},"假装的",null,0,0,0]
[37575,1184605,"repulsive",{"$f":"IF(VLOOKUP(C36501,#REF!,2,0)>0,1,0)","v":{"$error":"#REF!"}},"令人厌恶的",null,0,0,1]
[37619,1184620,"unanticipated",{"$f":"IF(VLOOKUP(C36543,#REF!,2,0)>0,1,0)","v":{"$error":"#REF!"}},"不曾预料到的",null,0,0,0]
[37654,1184635,"grating",{"$f":"IF(VLOOKUP(C36572,#REF!,2,0)>0,1,0)","v":{"$error":"#REF!"}},"使人烦恼难受",null,0,0,0]
[37710,1184653,"eccentricity",{"$f":"IF(VLOOKUP(C36624,#REF!,2,0)>0,1,0)","v":{"$error":"#REF!"}},"反常, 怪癖",null,0,0,0]
[37765,1184673,"abundantly",{"$f":"IF(VLOOKUP(C36678,#REF!,2,0)>0,1,0)","v":{"$error":"#REF!"}},"非常明白",null,0,0,0]
[37783,1184680,"sycamore",{"$f":"IF(VLOOKUP(C36695,#REF!,2,0)>0,1,0)","v":{"$error":"#REF!"}},"<美>悬铃木（指树及木头）, 西克莫无花果",null,0,0,0]
[37845,1184709,"ditto",{"$f":"IF(VLOOKUP(C36755,#REF!,2,0)>0,1,0)","v":{"$error":"#REF!"}},"与前同地",null,0,0,0]
[37874,1184721,"fab",{"$f":"IF(VLOOKUP(C36782,#REF!,2,0)>0,1,0)","v":{"$error":"#REF!"}},"奇妙的",null,0,0,0]
[37928,1184746,"annal",{"$f":"IF(VLOOKUP(C36834,#REF!,2,0)>0,1,0)","v":{"$error":"#REF!"}},"记录",null,0,0,0]
[37988,1184768,"hesitantly",{"$f":"IF(VLOOKUP(C36890,#REF!,2,0)>0,1,0)","v":{"$error":"#REF!"}},"迟疑地, 踌躇地",null,0,0,0]
[38003,1184772,"second-class",{"$f":"IF(VLOOKUP(C36905,#REF!,2,0)>0,1,0)","v":{"$error":"#REF!"}},"第二流的",null,0,0,0]
[38067,1184792,"audacity",{"$f":"IF(VLOOKUP(C36967,#REF!,2,0)>0,1,0)","v":{"$error":"#REF!"}},"鲁莽行为",null,0,0,0]
[38094,1184804,"unstoppable",{"$f":"IF(VLOOKUP(C36992,#REF!,2,0)>0,1,0)","v":{"$error":"#REF!"}},"无法停止的, 不可阻碍的",null,0,0,0]
[38132,1184819,"sketchy",{"$f":"IF(VLOOKUP(C37028,#REF!,2,0)>0,1,0)","v":{"$error":"#REF!"}},"写生风格的",null,0,0,0]
[38208,1184852,"numbness",{"$f":"IF(VLOOKUP(C37102,#REF!,2,0)>0,1,0)","v":{"$error":"#REF!"}},"无感觉, 麻木, 惊呆",null,0,0,0]
[38221,1184858,"valiant",{"$f":"IF(VLOOKUP(C37115,#REF!,2,0)>0,1,0)","v":{"$error":"#REF!"}},"坚定的",null,0,0,0]
[38287,1184881,"dike",{"$f":"IF(VLOOKUP(C37179,#REF!,2,0)>0,1,0)","v":{"$error":"#REF!"}},"女同性恋者",null,0,0,0]
[38310,1184888,"topless",{"$f":"IF(VLOOKUP(C37202,#REF!,2,0)>0,1,0)","v":{"$error":"#REF!"}},"袒胸的",null,0,0,0]
[38346,1184903,"womanhood",{"$f":"IF(VLOOKUP(C37238,#REF!,2,0)>0,1,0)","v":{"$error":"#REF!"}},"成年女子状态, 女子特征",null,0,0,0]
[38424,1184937,"heartily",{"$f":"IF(VLOOKUP(C37314,#REF!,2,0)>0,1,0)","v":{"$error":"#REF!"}},"极为",null,0,0,0]
[38436,1184944,"ouster",{"$f":"IF(VLOOKUP(C37325,#REF!,2,0)>0,1,0)","v":{"$error":"#REF!"}},"罢免, 废黜, 革职",null,0,0,0]
[38490,1184966,"fizzle",{"$f":"IF(VLOOKUP(C37377,#REF!,2,0)>0,1,0)","v":{"$error":"#REF!"}},"嘶嘶声, 微弱的结束, 失败",null,0,0,0]
[38520,1184972,"quill",{"$f":"IF(VLOOKUP(C37407,#REF!,2,0)>0,1,0)","v":{"$error":"#REF!"}},"<鸟>翮",null,0,0,0]
[38605,1184996,"haphazard",{"$f":"IF(VLOOKUP(C37491,#REF!,2,0)>0,1,0)","v":{"$error":"#REF!"}},"随意地",null,0,0,0]
[38640,1185011,"step-by-step",{"$f":"IF(VLOOKUP(C37526,#REF!,2,0)>0,1,0)","v":{"$error":"#REF!"}},"按部就班的",null,0,0,0]
[38649,1185015,"adjourn",{"$f":"IF(VLOOKUP(C37535,#REF!,2,0)>0,1,0)","v":{"$error":"#REF!"}},"（使）休会, （使）休庭",null,0,0,0]
[38731,1185044,"congenial",{"$f":"IF(VLOOKUP(C37614,#REF!,2,0)>0,1,0)","v":{"$error":"#REF!"}},"意气相投的",null,0,0,0]
[38780,1185061,"gawk",{"$f":"IF(VLOOKUP(C37661,#REF!,2,0)>0,1,0)","v":{"$error":"#REF!"}},"呆呆地看着",null,0,0,0]
[38821,1185077,"clank",{"$f":"IF(VLOOKUP(C37701,#REF!,2,0)>0,1,0)","v":{"$error":"#REF!"}},"低沉的金属声, 叮当声",null,0,0,1]
[38860,1185090,"assay",{"$f":"IF(VLOOKUP(C37738,#REF!,2,0)>0,1,0)","v":{"$error":"#REF!"}},"化验",null,0,0,0]
[38911,1185107,"decrepit",{"$f":"IF(VLOOKUP(C37788,#REF!,2,0)>0,1,0)","v":{"$error":"#REF!"}},"头童齿豁",null,0,0,0]
[38947,1185123,"east-west",{"$f":"IF(VLOOKUP(C37824,#REF!,2,0)>0,1,0)","v":{"$error":"#REF!"}},"东方西方（电影名称）",null,0,0,0]
[38999,1185140,"knitting",{"$f":"IF(VLOOKUP(C37873,#REF!,2,0)>0,1,0)","v":{"$error":"#REF!"}},"接合, 联合",null,0,0,0]
[39038,1185156,"forgery",{"$f":"IF(VLOOKUP(C37911,#REF!,2,0)>0,1,0)","v":{"$error":"#REF!"}},"伪造罪",null,0,0,0]
[39077,1185170,"blackjack",{"$f":"IF(VLOOKUP(C37946,#REF!,2,0)>0,1,0)","v":{"$error":"#REF!"}},"以棒打, 胁迫",null,0,0,0]
[39130,1185197,"bullish",{"$f":"IF(VLOOKUP(C37998,#REF!,2,0)>0,1,0)","v":{"$error":"#REF!"}},"顽固的",null,0,0,0]
[39169,1185212,"temperance",{"$f":"IF(VLOOKUP(C38034,#REF!,2,0)>0,1,0)","v":{"$error":"#REF!"}},"戒酒",null,0,0,0]
[39222,1185227,"newsprint",{"$f":"IF(VLOOKUP(C38085,#REF!,2,0)>0,1,0)","v":{"$error":"#REF!"}},"新闻纸",null,0,0,0]
[39258,1185244,"cleanser",{"$f":"IF(VLOOKUP(C38121,#REF!,2,0)>0,1,0)","v":{"$error":"#REF!"}},"清洁工",null,0,0,0]
[39297,1185260,"projecting",{"$f":"IF(VLOOKUP(C38158,#REF!,2,0)>0,1,0)","v":{"$error":"#REF!"}},"展现",null,0,0,0]
[39348,1185283,"ottoman",{"$f":"IF(VLOOKUP(C38208,#REF!,2,0)>0,1,0)","v":{"$error":"#REF!"}},"（装有厚垫靠背的）褥榻",null,0,0,0]
[39384,1185299,"petitioner",{"$f":"IF(VLOOKUP(C38244,#REF!,2,0)>0,1,0)","v":{"$error":"#REF!"}},"<英>离婚案原告",null,0,0,0]
[39443,1185320,"televise",{"$f":"IF(VLOOKUP(C38297,#REF!,2,0)>0,1,0)","v":{"$error":"#REF!"}},"电视播放",null,0,0,0]
[39479,1185333,"craggy",{"$f":"IF(VLOOKUP(C38331,#REF!,2,0)>0,1,0)","v":{"$error":"#REF!"}},"嶙峋",null,0,0,0]
[39518,1185351,"indentation",{"$f":"IF(VLOOKUP(C38370,#REF!,2,0)>0,1,0)","v":{"$error":"#REF!"}},"缩格",null,0,0,0]
[39568,1185370,"poly",{"$f":"IF(VLOOKUP(C38418,#REF!,2,0)>0,1,0)","v":{"$error":"#REF!"}},"工艺学校",null,0,0,0]
[39606,1185392,"superhero",{"$f":"IF(VLOOKUP(C38454,#REF!,2,0)>0,1,0)","v":{"$error":"#REF!"}},"超级英雄",null,0,1,1]
[39659,1185416,"frock",{"$f":"IF(VLOOKUP(C38505,#REF!,2,0)>0,1,0)","v":{"$error":"#REF!"}},"女装, 连衣裙",null,0,0,0]
[39697,1185434,"pickled",{"$f":"IF(VLOOKUP(C38541,#REF!,2,0)>0,1,0)","v":{"$error":"#REF!"}},"盐渍的",null,0,0,0]
[39739,1185450,"rev",{"$f":"IF(VLOOKUP(C38582,#REF!,2,0)>0,1,0)","v":{"$error":"#REF!"}},"（使发动机）快速旋转",null,0,0,0]
[39787,1185469,"jest",{"$f":"IF(VLOOKUP(C38628,#REF!,2,0)>0,1,0)","v":{"$error":"#REF!"}},"戏谑, 诙谐",null,0,0,0]
[39823,1185485,"exalted",{"$f":"IF(VLOOKUP(C38664,#REF!,2,0)>0,1,0)","v":{"$error":"#REF!"}},"意气风发的",null,0,0,0]
[39877,1185508,"treasured",{"$f":"IF(VLOOKUP(C38717,#REF!,2,0)>0,1,0)","v":{"$error":"#REF!"}},"宝贵的, 珍贵的",null,0,0,0]
[39913,1185519,"incendiary",{"$f":"IF(VLOOKUP(C38751,#REF!,2,0)>0,1,0)","v":{"$error":"#REF!"}},"煽动的",null,0,0,0]
[39950,1185535,"deleterious",{"$f":"IF(VLOOKUP(C38787,#REF!,2,0)>0,1,0)","v":{"$error":"#REF!"}},"有害的",null,0,0,0]
[39978,1185547,"thrilled",{"$f":"IF(VLOOKUP(C38814,#REF!,2,0)>0,1,0)","v":{"$error":"#REF!"}},"极为激动的",null,0,0,0]
[40040,1185573,"disinfectant",{"$f":"IF(VLOOKUP(C38874,#REF!,2,0)>0,1,0)","v":{"$error":"#REF!"}},"消毒剂, 杀菌剂",null,0,0,0]
[40096,1185594,"tiller",{"$f":"IF(VLOOKUP(C38929,#REF!,2,0)>0,1,0)","v":{"$error":"#REF!"}},"（小船的）舵柄",null,0,0,0]
[40128,1185609,"unsavory",{"$f":"IF(VLOOKUP(C38961,#REF!,2,0)>0,1,0)","v":{"$error":"#REF!"}},"（道德上）名誉不好的",null,0,0,0]
[40169,1185623,"afoot",{"$f":"IF(VLOOKUP(C38997,#REF!,2,0)>0,1,0)","v":{"$error":"#REF!"}},"活动着的（地）",null,0,0,0]
[40240,1185651,"patter",{"$f":"IF(VLOOKUP(C39064,#REF!,2,0)>0,1,0)","v":{"$error":"#REF!"}},"喋喋不休",null,0,0,0]
[40261,1185659,"jeer",{"$f":"IF(VLOOKUP(C39084,#REF!,2,0)>0,1,0)","v":{"$error":"#REF!"}},"讥笑的言语",null,0,0,0]
[40324,1185682,"bruising",{"$f":"IF(VLOOKUP(C39141,#REF!,2,0)>0,1,0)","v":{"$error":"#REF!"}},"殊死的",null,0,0,0]
[40357,1185696,"accretion",{"$f":"IF(VLOOKUP(C39171,#REF!,2,0)>0,1,0)","v":{"$error":"#REF!"}},"添加生长",null,0,0,0]
[40395,1185707,"sizzling",{"$f":"IF(VLOOKUP(C39207,#REF!,2,0)>0,1,0)","v":{"$error":"#REF!"}},"把…烧得哧哧响, 烧焦",null,0,0,0]
[40464,1185731,"inquisitive",{"$f":"IF(VLOOKUP(C39276,#REF!,2,0)>0,1,0)","v":{"$error":"#REF!"}},"好询问的人",null,0,0,0]
[40484,1185737,"yea",{"$f":"IF(VLOOKUP(C39294,#REF!,2,0)>0,1,0)","v":{"$error":"#REF!"}},"肯定, 赞成",null,0,0,0]
[40544,1185765,"filtering",{"$f":"IF(VLOOKUP(C39353,#REF!,2,0)>0,1,0)","v":{"$error":"#REF!"}},"过滤, 滤除, 滤清",null,0,0,0]
[40602,1185789,"exhortation",{"$f":"IF(VLOOKUP(C39408,#REF!,2,0)>0,1,0)","v":{"$error":"#REF!"}},"（正式的）演讲",null,0,0,0]
[40611,1185795,"midget",{"$f":"IF(VLOOKUP(C39417,#REF!,2,0)>0,1,0)","v":{"$error":"#REF!"}},"极小的, 微型的",null,0,0,0]
[40686,1185827,"mammy",{"$f":"IF(VLOOKUP(C39488,#REF!,2,0)>0,1,0)","v":{"$error":"#REF!"}},"<非正><英>妈妈（用于英国部分地区）",null,0,0,0]
[40702,1185833,"beholder",{"$f":"IF(VLOOKUP(C39504,#REF!,2,0)>0,1,0)","v":{"$error":"#REF!"}},"观看者, 旁观者",null,0,0,1]
[40765,1185858,"sameness",{"$f":"IF(VLOOKUP(C39565,#REF!,2,0)>0,1,0)","v":{"$error":"#REF!"}},"千篇一律",null,0,0,0]
[40820,1185877,"pariah",{"$f":"IF(VLOOKUP(C39618,#REF!,2,0)>0,1,0)","v":{"$error":"#REF!"}},"被社会遗弃者",null,0,0,0]
[40830,1185882,"formalize",{"$f":"IF(VLOOKUP(C39627,#REF!,2,0)>0,1,0)","v":{"$error":"#REF!"}},"拘泥于形式",null,0,0,0]
[40905,1185917,"exponential",{"$f":"IF(VLOOKUP(C39700,#REF!,2,0)>0,1,0)","v":{"$error":"#REF!"}},"指数",null,0,0,0]
[40919,1185922,"neoconservative",{"$f":"IF(VLOOKUP(C39714,#REF!,2,0)>0,1,0)","v":{"$error":"#REF!"}},"美&gt",null,0,0,0]
[40985,1185947,"enchantment",{"$f":"IF(VLOOKUP(C39777,#REF!,2,0)>0,1,0)","v":{"$error":"#REF!"}},"迷人之处",null,0,0,0]
[41037,1185974,"henceforth",{"$f":"IF(VLOOKUP(C39828,#REF!,2,0)>0,1,0)","v":{"$error":"#REF!"}},"从今以后, 今后",null,0,0,0]
[41046,1185979,"theologically",{"$f":"IF(VLOOKUP(C39837,#REF!,2,0)>0,1,0)","v":{"$error":"#REF!"}},"神学地, 神学上地",null,0,0,0]
[41123,1186013,"pinhead",{"$f":"IF(VLOOKUP(C39912,#REF!,2,0)>0,1,0)","v":{"$error":"#REF!"}},"没有头脑的人",null,0,0,0]
[41166,1186031,"spoof",{"$f":"IF(VLOOKUP(C39951,#REF!,2,0)>0,1,0)","v":{"$error":"#REF!"}},"戏弄",null,0,0,0]
[41207,1186049,"blown",{"$f":"IF(VLOOKUP(C39989,#REF!,2,0)>0,1,0)","v":{"$error":"#REF!"}},"炸开",null,0,0,0]
[41256,1186071,"disparage",{"$f":"IF(VLOOKUP(C40038,#REF!,2,0)>0,1,0)","v":{"$error":"#REF!"}},"批评",null,0,0,0]
[41310,1186091,"latency",{"$f":"IF(VLOOKUP(C40090,#REF!,2,0)>0,1,0)","v":{"$error":"#REF!"}},"潜在因素",null,0,0,0]
[41345,1186107,"offshoot",{"$f":"IF(VLOOKUP(C40124,#REF!,2,0)>0,1,0)","v":{"$error":"#REF!"}},"支流",null,0,0,0]
[41384,1186126,"germinate",{"$f":"IF(VLOOKUP(C40161,#REF!,2,0)>0,1,0)","v":{"$error":"#REF!"}},"发芽",null,0,0,0]
[41438,1186144,"serpentine",{"$f":"IF(VLOOKUP(C40213,#REF!,2,0)>0,1,0)","v":{"$error":"#REF!"}},"像蛇般行进",null,0,0,0]
[41487,1186163,"paving",{"$f":"IF(VLOOKUP(C40259,#REF!,2,0)>0,1,0)","v":{"$error":"#REF!"}},"为…铺平道路",null,0,0,0]
[41531,1186179,"shoals",{"$f":"IF(VLOOKUP(C40300,#REF!,2,0)>0,1,0)","v":{"$error":"#REF!"}},"鱼群",null,0,0,0]
[41567,1186197,"stratification",{"$f":"IF(VLOOKUP(C40336,#REF!,2,0)>0,1,0)","v":{"$error":"#REF!"}},"成层",null,0,0,0]
[41603,1186211,"strum",{"$f":"IF(VLOOKUP(C40371,#REF!,2,0)>0,1,0)","v":{"$error":"#REF!"}},"轻轻弹奏声",null,0,0,0]
[41659,1186230,"boogie",{"$f":"IF(VLOOKUP(C40423,#REF!,2,0)>0,1,0)","v":{"$error":"#REF!"}},"摆动身体",null,0,0,0]
[41709,1186257,"unexplored",{"$f":"IF(VLOOKUP(C40471,#REF!,2,0)>0,1,0)","v":{"$error":"#REF!"}},"未经勘探的",null,0,0,0]
[41732,1186268,"toot",{"$f":"IF(VLOOKUP(C40494,#REF!,2,0)>0,1,0)","v":{"$error":"#REF!"}},"嘟嘟声",null,0,1,1]
[41790,1186290,"downed",{"$f":"IF(VLOOKUP(C40548,#REF!,2,0)>0,1,0)","v":{"$error":"#REF!"}},"击落(敌机等)",null,0,0,0]
[41826,1186310,"pimple",{"$f":"IF(VLOOKUP(C40581,#REF!,2,0)>0,1,0)","v":{"$error":"#REF!"}},"丘疹, 粉刺, 小脓疱",null,0,0,0]
[41880,1186336,"habitually",{"$f":"IF(VLOOKUP(C40633,#REF!,2,0)>0,1,0)","v":{"$error":"#REF!"}},"素常",null,0,0,0]
[41933,1186359,"matter-of-fact",{"$f":"IF(VLOOKUP(C40683,#REF!,2,0)>0,1,0)","v":{"$error":"#REF!"}},"讲求实际的",null,0,0,0]
[41956,1186367,"trinket",{"$f":"IF(VLOOKUP(C40704,#REF!,2,0)>0,1,0)","v":{"$error":"#REF!"}},"小装饰品",null,0,0,0]
[42014,1186388,"buckeye",{"$f":"IF(VLOOKUP(C40760,#REF!,2,0)>0,1,0)","v":{"$error":"#REF!"}},"七叶树之类, 美国俄亥俄(Ohio)州人",null,0,0,0]
[42045,1186402,"antiseptic",{"$f":"IF(VLOOKUP(C40791,#REF!,2,0)>0,1,0)","v":{"$error":"#REF!"}},"诚实无欺的",null,0,0,0]
[42082,1186421,"bequest",{"$f":"IF(VLOOKUP(C40827,#REF!,2,0)>0,1,0)","v":{"$error":"#REF!"}},"遗产, 遗赠物",null,0,0,0]
[42152,1186452,"fishy",{"$f":"IF(VLOOKUP(C40895,#REF!,2,0)>0,1,0)","v":{"$error":"#REF!"}},"腥味儿",null,0,0,0]
[42173,1186461,"plagiarism",{"$f":"IF(VLOOKUP(C40914,#REF!,2,0)>0,1,0)","v":{"$error":"#REF!"}},"抄袭",null,0,0,0]
[42234,1186485,"halting",{"$f":"IF(VLOOKUP(C40972,#REF!,2,0)>0,1,0)","v":{"$error":"#REF!"}},"跛的",null,0,0,0]
[42266,1186499,"drooping",{"$f":"IF(VLOOKUP(C41001,#REF!,2,0)>0,1,0)","v":{"$error":"#REF!"}},"下垂的, 无力的",null,0,0,0]
[42304,1186517,"obsessively",{"$f":"IF(VLOOKUP(C41037,#REF!,2,0)>0,1,0)","v":{"$error":"#REF!"}},"着魔地",null,0,0,0]
[42376,1186545,"ransack",{"$f":"IF(VLOOKUP(C41107,#REF!,2,0)>0,1,0)","v":{"$error":"#REF!"}},"彻底搜查",null,0,0,0]
[42393,1186555,"infertile",{"$f":"IF(VLOOKUP(C41124,#REF!,2,0)>0,1,0)","v":{"$error":"#REF!"}},"贫瘠的, 不毛的",null,0,0,0]
[42453,1186580,"wily",{"$f":"IF(VLOOKUP(C41184,#REF!,2,0)>0,1,0)","v":{"$error":"#REF!"}},"足智多谋的",null,0,0,0]
[42480,1186591,"light-hearted",{"$f":"IF(VLOOKUP(C41211,#REF!,2,0)>0,1,0)","v":{"$error":"#REF!"}},"无忧无虑的",null,0,0,0]
[42517,1186608,"wrack",{"$f":"IF(VLOOKUP(C41247,#REF!,2,0)>0,1,0)","v":{"$error":"#REF!"}},"（在海岸上长的或冲到海岸上的）海草（用作肥料等）",null,0,0,0]
[42595,1186642,"sportsmanship",{"$f":"IF(VLOOKUP(C41319,#REF!,2,0)>0,1,0)","v":{"$error":"#REF!"}},"光明正大",null,0,0,0]
[42610,1186649,"melatonin",{"$f":"IF(VLOOKUP(C41334,#REF!,2,0)>0,1,0)","v":{"$error":"#REF!"}},"褪黑激素, N-乙酰-5-甲氧基色胺",null,0,0,0]
[42648,1186662,"bountiful",{"$f":"IF(VLOOKUP(C41370,#REF!,2,0)>0,1,0)","v":{"$error":"#REF!"}},"慷慨给予的",null,0,0,0]
[42692,1186679,"above-ground",{"$f":"IF(VLOOKUP(C41412,#REF!,2,0)>0,1,0)","v":{"$error":"#REF!"}},"在地表以上的",null,0,0,0]
[42741,1186698,"freshen",{"$f":"IF(VLOOKUP(C41457,#REF!,2,0)>0,1,0)","v":{"$error":"#REF!"}},"淡化",null,0,0,0]
[42818,1186728,"alertness",{"$f":"IF(VLOOKUP(C41531,#REF!,2,0)>0,1,0)","v":{"$error":"#REF!"}},"戒心",null,0,0,0]
[42831,1186737,"sisterhood",{"$f":"IF(VLOOKUP(C41544,#REF!,2,0)>0,1,0)","v":{"$error":"#REF!"}},"姐妹关系, 姐妹之谊, 妇女团体",null,0,0,0]
[42919,1186785,"abrasion",{"$f":"IF(VLOOKUP(C41623,#REF!,2,0)>0,1,0)","v":{"$error":"#REF!"}},"<喻>摩擦",null,0,0,0]
[42963,1186807,"ugh",{"$f":"IF(VLOOKUP(C41666,#REF!,2,0)>0,1,0)","v":{"$error":"#REF!"}},"（表示厌恶等）呸",null,0,0,0]
[42964,1186807,"ugh",{"$f":"IF(VLOOKUP(C41667,#REF!,2,0)>0,1,0)","v":{"$error":"#REF!"}},"啊, 嘿",null,0,1,1]
[43041,1186837,"powerlessness",{"$f":"IF(VLOOKUP(C41739,#REF!,2,0)>0,1,0)","v":{"$error":"#REF!"}},"无力, 无能为力",null,0,0,0]
[43059,1186844,"anti-communist",{"$f":"IF(VLOOKUP(C41754,#REF!,2,0)>0,1,0)","v":{"$error":"#REF!"}},"反共分子[亦作anticommunist]",null,0,0,0]
[43144,1186873,"eye-catching",{"$f":"IF(VLOOKUP(C41833,#REF!,2,0)>0,1,0)","v":{"$error":"#REF!"}},"引人注目的",null,0,0,1]
[43189,1186892,"dilate",{"$f":"IF(VLOOKUP(C41878,#REF!,2,0)>0,1,0)","v":{"$error":"#REF!"}},"使扩大",null,0,0,0]
[43233,1186915,"marigold",{"$f":"IF(VLOOKUP(C41920,#REF!,2,0)>0,1,0)","v":{"$error":"#REF!"}},"金盏花",null,0,0,0]
[43264,1186929,"ninety-nine",{"$f":"IF(VLOOKUP(C41951,#REF!,2,0)>0,1,0)","v":{"$error":"#REF!"}},"九十九",null,0,0,0]
[43321,1186958,"mestizo",{"$f":"IF(VLOOKUP(C42007,#REF!,2,0)>0,1,0)","v":{"$error":"#REF!"}},"混血儿",null,0,0,0]
[43360,1186978,"regionally",{"$f":"IF(VLOOKUP(C42043,#REF!,2,0)>0,1,0)","v":{"$error":"#REF!"}},"地方地",null,0,0,0]
[43410,1186999,"tabulate",{"$f":"IF(VLOOKUP(C42090,#REF!,2,0)>0,1,0)","v":{"$error":"#REF!"}},"使成板[片]状, 使成平面",null,0,0,0]
[43452,1187018,"twang",{"$f":"IF(VLOOKUP(C42130,#REF!,2,0)>0,1,0)","v":{"$error":"#REF!"}},"弦声",null,0,0,0]
[43486,1187029,"parlay",{"$f":"IF(VLOOKUP(C42163,#REF!,2,0)>0,1,0)","v":{"$error":"#REF!"}},"连本带利的赌博",null,0,0,0]
[43540,1187056,"payable",{"$f":"IF(VLOOKUP(C42217,#REF!,2,0)>0,1,0)","v":{"$error":"#REF!"}},"可获利的",null,0,0,0]
[43577,1187068,"flack",{"$f":"IF(VLOOKUP(C42253,#REF!,2,0)>0,1,0)","v":{"$error":"#REF!"}},"广告",null,0,0,0]
[43625,1187088,"suspenders",{"$f":"IF(VLOOKUP(C42298,#REF!,2,0)>0,1,0)","v":{"$error":"#REF!"}},"袜吊",null,0,0,0]
[43668,1187107,"stretching",{"$f":"IF(VLOOKUP(C42340,#REF!,2,0)>0,1,0)","v":{"$error":"#REF!"}},"延伸",null,0,0,0]
[43706,1187122,"smoothness",{"$f":"IF(VLOOKUP(C42375,#REF!,2,0)>0,1,0)","v":{"$error":"#REF!"}},"流畅",null,0,0,0]
[43761,1187143,"mic",{"$f":"IF(VLOOKUP(C42427,#REF!,2,0)>0,1,0)","v":{"$error":"#REF!"}},"扩音器",null,0,0,0]
[43797,1187155,"agitator",{"$f":"IF(VLOOKUP(C42463,#REF!,2,0)>0,1,0)","v":{"$error":"#REF!"}},"煽动者",null,0,0,0]
[43846,1187173,"sardonic",{"$f":"IF(VLOOKUP(C42510,#REF!,2,0)>0,1,0)","v":{"$error":"#REF!"}},"讽刺的",null,0,0,0]
[43887,1187192,"preconception",{"$f":"IF(VLOOKUP(C42550,#REF!,2,0)>0,1,0)","v":{"$error":"#REF!"}},"事先形成的观点或思想",null,0,0,0]
[43925,1187208,"immunize",{"$f":"IF(VLOOKUP(C42587,#REF!,2,0)>0,1,0)","v":{"$error":"#REF!"}},"使免除",null,0,0,0]
[43978,1187231,"laissez-faire",{"$f":"IF(VLOOKUP(C42637,#REF!,2,0)>0,1,0)","v":{"$error":"#REF!"}},"[法]放任主义的, 自由放任的",null,0,0,0]
[44014,1187247,"sabre",{"$f":"IF(VLOOKUP(C42673,#REF!,2,0)>0,1,0)","v":{"$error":"#REF!"}},"军刀",null,0,0,0]
[44065,1187268,"checked",{"$f":"IF(VLOOKUP(C42722,#REF!,2,0)>0,1,0)","v":{"$error":"#REF!"}},"受阻的",null,0,0,0]
[44108,1187287,"burned-out",{"$f":"IF(VLOOKUP(C42760,#REF!,2,0)>0,1,0)","v":{"$error":"#REF!"}},"烧坏的, 疲倦不堪的",null,0,0,0]
[44146,1187305,"salvo",{"$f":"IF(VLOOKUP(C42796,#REF!,2,0)>0,1,0)","v":{"$error":"#REF!"}},"齐鸣, 齐射",null,0,0,0]
[44210,1187335,"picking",{"$f":"IF(VLOOKUP(C42857,#REF!,2,0)>0,1,0)","v":{"$error":"#REF!"}},"采摘",null,0,0,0]
[44238,1187345,"caustic",{"$f":"IF(VLOOKUP(C42883,#REF!,2,0)>0,1,0)","v":{"$error":"#REF!"}},"[物]焦散的",null,0,0,0]
[44294,1187365,"curvature",{"$f":"IF(VLOOKUP(C42934,#REF!,2,0)>0,1,0)","v":{"$error":"#REF!"}},"曲率",null,0,0,0]
[44332,1187381,"scone",{"$f":"IF(VLOOKUP(C42970,#REF!,2,0)>0,1,0)","v":{"$error":"#REF!"}},"司康饼",null,0,0,0]
[44369,1187399,"cataclysmic",{"$f":"IF(VLOOKUP(C43006,#REF!,2,0)>0,1,0)","v":{"$error":"#REF!"}},"洪水的, 大变动的",null,0,0,0]
[44436,1187424,"codex",{"$f":"IF(VLOOKUP(C43069,#REF!,2,0)>0,1,0)","v":{"$error":"#REF!"}},"规则",null,0,0,0]
[44461,1187439,"slayer",{"$f":"IF(VLOOKUP(C43093,#REF!,2,0)>0,1,0)","v":{"$error":"#REF!"}},"屠宰者",null,0,0,0]
[44515,1187464,"endear",{"$f":"IF(VLOOKUP(C43146,#REF!,2,0)>0,1,0)","v":{"$error":"#REF!"}},"使亲密",null,0,0,0]
[44533,1187473,"bide",{"$f":"IF(VLOOKUP(C43164,#REF!,2,0)>0,1,0)","v":{"$error":"#REF!"}},"等待时机",null,0,0,0]
[44587,1187494,"attentively",{"$f":"IF(VLOOKUP(C43216,#REF!,2,0)>0,1,0)","v":{"$error":"#REF!"}},"周到地",null,0,0,0]
[44654,1187524,"neurology",{"$f":"IF(VLOOKUP(C43281,#REF!,2,0)>0,1,0)","v":{"$error":"#REF!"}},"<医>神经病学家",null,0,0,0]
[44676,1187530,"upstage",{"$f":"IF(VLOOKUP(C43303,#REF!,2,0)>0,1,0)","v":{"$error":"#REF!"}},"傲慢地对待",null,0,0,0]
[44732,1187559,"cremate",{"$f":"IF(VLOOKUP(C43358,#REF!,2,0)>0,1,0)","v":{"$error":"#REF!"}},"火葬, 火化",null,0,0,0]
[44748,1187568,"searchlight",{"$f":"IF(VLOOKUP(C43374,#REF!,2,0)>0,1,0)","v":{"$error":"#REF!"}},"探照灯",null,0,0,0]
[44802,1187593,"shearer",{"$f":"IF(VLOOKUP(C43426,#REF!,2,0)>0,1,0)","v":{"$error":"#REF!"}},"剪切机",null,0,0,0]
[44875,1187622,"faltering",{"$f":"IF(VLOOKUP(C43493,#REF!,2,0)>0,1,0)","v":{"$error":"#REF!"}},"蹒跚",null,0,0,0]
[44896,1187632,"promiscuity",{"$f":"IF(VLOOKUP(C43513,#REF!,2,0)>0,1,0)","v":{"$error":"#REF!"}},"（男女的）乱交",null,0,0,0]
[44957,1187659,"undergrowth",{"$f":"IF(VLOOKUP(C43570,#REF!,2,0)>0,1,0)","v":{"$error":"#REF!"}},"发育不全",null,0,0,0]
[44971,1187667,"immutable",{"$f":"IF(VLOOKUP(C43584,#REF!,2,0)>0,1,0)","v":{"$error":"#REF!"}},"不可改变的",null,0,0,0]
[45025,1187693,"subsection",{"$f":"IF(VLOOKUP(C43636,#REF!,2,0)>0,1,0)","v":{"$error":"#REF!"}},"分段",null,0,0,0]
[45098,1187724,"gestapo",{"$f":"IF(VLOOKUP(C43705,#REF!,2,0)>0,1,0)","v":{"$error":"#REF!"}},"盖世太保",null,0,0,0]
[45144,1187744,"middleman",{"$f":"IF(VLOOKUP(C43750,#REF!,2,0)>0,1,0)","v":{"$error":"#REF!"}},"经纪人",null,0,0,0]
[45178,1187759,"shamelessly",{"$f":"IF(VLOOKUP(C43782,#REF!,2,0)>0,1,0)","v":{"$error":"#REF!"}},"厚着脸皮地, 无耻地",null,0,0,0]
[45235,1187777,"carelessness",{"$f":"IF(VLOOKUP(C43837,#REF!,2,0)>0,1,0)","v":{"$error":"#REF!"}},"淡漠",null,0,0,0]
[45245,1187782,"howdy",{"$f":"IF(VLOOKUP(C43846,#REF!,2,0)>0,1,0)","v":{"$error":"#REF!"}},"你好",null,0,0,0]
[45323,1187814,"slovak",{"$f":"IF(VLOOKUP(C43917,#REF!,2,0)>0,1,0)","v":{"$error":"#REF!"}},"斯洛伐克人（语）",null,0,0,0]
[45367,1187834,"stinger",{"$f":"IF(VLOOKUP(C43960,#REF!,2,0)>0,1,0)","v":{"$error":"#REF!"}},"蜇针",null,0,0,0]
[45377,1187840,"docile",{"$f":"IF(VLOOKUP(C43969,#REF!,2,0)>0,1,0)","v":{"$error":"#REF!"}},"易驾驭的",null,0,0,0]
[45464,1187882,"wanton",{"$f":"IF(VLOOKUP(C44052,#REF!,2,0)>0,1,0)","v":{"$error":"#REF!"}},"生活奢侈",null,0,0,0]
[45468,1187883,"whippy",{"$f":"IF(VLOOKUP(C44056,#REF!,2,0)>0,1,0)","v":{"$error":"#REF!"}},"鞭子一样",null,0,0,0]
[45543,1187920,"unwashed",{"$f":"IF(VLOOKUP(C44129,#REF!,2,0)>0,1,0)","v":{"$error":"#REF!"}},"没有洗的, 不清洁的, 无知的",null,0,0,0]
[45585,1187944,"unanimity",{"$f":"IF(VLOOKUP(C44170,#REF!,2,0)>0,1,0)","v":{"$error":"#REF!"}},"一致同意, 全体一致",null,0,0,0]
[45638,1187964,"unreported",{"$f":"IF(VLOOKUP(C44222,#REF!,2,0)>0,1,0)","v":{"$error":"#REF!"}},"未报告的, 没有报道的, 未经报道的",null,0,0,0]
[45682,1187991,"escaping",{"$f":"IF(VLOOKUP(C44264,#REF!,2,0)>0,1,0)","v":{"$error":"#REF!"}},"声音(不自觉地)由…发出",null,0,0,0]
[45713,1188006,"togetherness",{"$f":"IF(VLOOKUP(C44293,#REF!,2,0)>0,1,0)","v":{"$error":"#REF!"}},"团结",null,0,0,0]
[45764,1188032,"retraining",{"$f":"IF(VLOOKUP(C44341,#REF!,2,0)>0,1,0)","v":{"$error":"#REF!"}},"再训练",null,0,0,0]
[45807,1188052,"beaming",{"$f":"IF(VLOOKUP(C44380,#REF!,2,0)>0,1,0)","v":{"$error":"#REF!"}},"照耀的",null,0,0,0]
[45860,1188072,"abdicate",{"$f":"IF(VLOOKUP(C44432,#REF!,2,0)>0,1,0)","v":{"$error":"#REF!"}},"放弃（职责、权力等）",null,0,0,0]
[45906,1188094,"possessive",{"$f":"IF(VLOOKUP(C44476,#REF!,2,0)>0,1,0)","v":{"$error":"#REF!"}},"所有（权）的",null,0,0,0]
[45934,1188098,"spoiler",{"$f":"IF(VLOOKUP(C44503,#REF!,2,0)>0,1,0)","v":{"$error":"#REF!"}},"气流偏导器",null,0,0,0]
[45987,1188114,"infuriating",{"$f":"IF(VLOOKUP(C44553,#REF!,2,0)>0,1,0)","v":{"$error":"#REF!"}},"令人大怒的",null,0,0,0]
[46025,1188127,"chalet",{"$f":"IF(VLOOKUP(C44590,#REF!,2,0)>0,1,0)","v":{"$error":"#REF!"}},"（街道）公厕",null,0,0,0]
[46064,1188151,"countervailing",{"$f":"IF(VLOOKUP(C44626,#REF!,2,0)>0,1,0)","v":{"$error":"#REF!"}},"补偿的, 弥补的, 抵消的",null,0,0,0]
[46128,1188176,"hark",{"$f":"IF(VLOOKUP(C44688,#REF!,2,0)>0,1,0)","v":{"$error":"#REF!"}},"<文>听",null,0,0,0]
[46154,1188193,"elitism",{"$f":"IF(VLOOKUP(C44713,#REF!,2,0)>0,1,0)","v":{"$error":"#REF!"}},"高人一等的优越感",null,0,0,0]
[46208,1188214,"first-aid",{"$f":"IF(VLOOKUP(C44765,#REF!,2,0)>0,1,0)","v":{"$error":"#REF!"}},"急救的, 急救用的",null,0,0,0]
[46245,1188230,"protestor",{"$f":"IF(VLOOKUP(C44800,#REF!,2,0)>0,1,0)","v":{"$error":"#REF!"}},"抗议者, 反对者",null,0,0,0]
[46282,1188251,"grooming",{"$f":"IF(VLOOKUP(C44836,#REF!,2,0)>0,1,0)","v":{"$error":"#REF!"}},"修饰",null,0,0,0]
[46349,1188280,"musicianship",{"$f":"IF(VLOOKUP(C44900,#REF!,2,0)>0,1,0)","v":{"$error":"#REF!"}},"音乐修养",null,0,0,0]
[46375,1188290,"unjustified",{"$f":"IF(VLOOKUP(C44923,#REF!,2,0)>0,1,0)","v":{"$error":"#REF!"}},"未对齐的",null,0,0,0]
[46431,1188319,"bevy",{"$f":"IF(VLOOKUP(C44977,#REF!,2,0)>0,1,0)","v":{"$error":"#REF!"}},"（鸟类的）一群",null,0,0,0]
[46467,1188333,"insufficiently",{"$f":"IF(VLOOKUP(C45010,#REF!,2,0)>0,1,0)","v":{"$error":"#REF!"}},"不够地, 不能胜任地",null,0,0,0]
[46505,1188354,"fete",{"$f":"IF(VLOOKUP(C45046,#REF!,2,0)>0,1,0)","v":{"$error":"#REF!"}},"宴请（某人）, 款待",null,0,0,0]
[46577,1188393,"chartreuse",{"$f":"IF(VLOOKUP(C45112,#REF!,2,0)>0,1,0)","v":{"$error":"#REF!"}},"<法>查特酒（法国查特修道院僧侣酿制的黄绿色甜酒巴）, 黄绿色",null,0,0,0]
[46598,1188401,"overpass",{"$f":"IF(VLOOKUP(C45133,#REF!,2,0)>0,1,0)","v":{"$error":"#REF!"}},"忽视",null,0,0,0]
[46654,1188426,"stabbing",{"$f":"IF(VLOOKUP(C45185,#REF!,2,0)>0,1,0)","v":{"$error":"#REF!"}},"刺伤",null,0,0,0]
[46690,1188440,"skeet",{"$f":"IF(VLOOKUP(C45220,#REF!,2,0)>0,1,0)","v":{"$error":"#REF!"}},"双向飞碟",null,0,0,0]
[46729,1188457,"plating",{"$f":"IF(VLOOKUP(C45256,#REF!,2,0)>0,1,0)","v":{"$error":"#REF!"}},"给…制铅版(或电铸版)",null,0,0,0]
[46802,1188490,"volition",{"$f":"IF(VLOOKUP(C45324,#REF!,2,0)>0,1,0)","v":{"$error":"#REF!"}},"意志",null,0,0,0]
[46821,1188497,"biodiesel",{"$f":"IF(VLOOKUP(C45343,#REF!,2,0)>0,1,0)","v":{"$error":"#REF!"}},"生物柴油",null,0,0,0]
[46860,1188515,"totter",{"$f":"IF(VLOOKUP(C45379,#REF!,2,0)>0,1,0)","v":{"$error":"#REF!"}},"摇摇欲坠",null,0,0,0]
[46899,1188534,"sorrowful",{"$f":"IF(VLOOKUP(C45417,#REF!,2,0)>0,1,0)","v":{"$error":"#REF!"}},"凄恻",null,0,0,0]
[46951,1188559,"pandemonium",{"$f":"IF(VLOOKUP(C45466,#REF!,2,0)>0,1,0)","v":{"$error":"#REF!"}},"喧嚣",null,0,0,0]
[47018,1188592,"presumptuous",{"$f":"IF(VLOOKUP(C45532,#REF!,2,0)>0,1,0)","v":{"$error":"#REF!"}},"自以为是地, 专横地, 冒失地",null,0,0,0]
[47039,1188602,"blackwater",{"$f":"IF(VLOOKUP(C45553,#REF!,2,0)>0,1,0)","v":{"$error":"#REF!"}},"黑尿病",null,0,0,0]
[47077,1188622,"viscous",{"$f":"IF(VLOOKUP(C45589,#REF!,2,0)>0,1,0)","v":{"$error":"#REF!"}},"半流体的",null,0,0,0]
[47165,1188667,"undoing",{"$f":"IF(VLOOKUP(C45671,#REF!,2,0)>0,1,0)","v":{"$error":"#REF!"}},"解开",null,0,0,0]
[47170,1188670,"workweek",{"$f":"IF(VLOOKUP(C45676,#REF!,2,0)>0,1,0)","v":{"$error":"#REF!"}},"一星期工作时间",null,0,0,0]
[47243,1188709,"occupier",{"$f":"IF(VLOOKUP(C45744,#REF!,2,0)>0,1,0)","v":{"$error":"#REF!"}},"居住人",null,0,0,0]
[47262,1188719,"backswing",{"$f":"IF(VLOOKUP(C45763,#REF!,2,0)>0,1,0)","v":{"$error":"#REF!"}},"回摆",null,0,0,0]
[47345,1188756,"roux",{"$f":"IF(VLOOKUP(C45842,#REF!,2,0)>0,1,0)","v":{"$error":"#REF!"}},"<法>掺油面粉糊（用于做浓羹汤）",null,0,0,0]
[47389,1188773,"point-blank",{"$f":"IF(VLOOKUP(C45883,#REF!,2,0)>0,1,0)","v":{"$error":"#REF!"}},"接近目标的",null,0,0,0]
[47392,1188773,"point-blank",{"$f":"IF(VLOOKUP(C45886,#REF!,2,0)>0,1,0)","v":{"$error":"#REF!"}},"断然地",null,0,0,0]
[47466,1188816,"out-group",{"$f":"IF(VLOOKUP(C45956,#REF!,2,0)>0,1,0)","v":{"$error":"#REF!"}},"外群体",null,0,0,0]
[47486,1188825,"browsing",{"$f":"IF(VLOOKUP(C45973,#REF!,2,0)>0,1,0)","v":{"$error":"#REF!"}},"(在计算机上)浏览信息",null,0,0,0]
[47566,1188869,"cavort",{"$f":"IF(VLOOKUP(C46052,#REF!,2,0)>0,1,0)","v":{"$error":"#REF!"}},"嬉戏",null,0,0,0]
[47608,1188889,"toner",{"$f":"IF(VLOOKUP(C46091,#REF!,2,0)>0,1,0)","v":{"$error":"#REF!"}},"色粉",null,0,0,0]
[47659,1188918,"whispering",{"$f":"IF(VLOOKUP(C46139,#REF!,2,0)>0,1,0)","v":{"$error":"#REF!"}},"私下说",null,0,0,0]
[47689,1188933,"hindi",{"$f":"IF(VLOOKUP(C46168,#REF!,2,0)>0,1,0)","v":{"$error":"#REF!"}},"印地语",null,0,1,1]
[47704,1188942,"top-level",{"$f":"IF(VLOOKUP(C46183,#REF!,2,0)>0,1,0)","v":{"$error":"#REF!"}},"显赫的",null,0,0,0]
[47787,1188986,"localization",{"$f":"IF(VLOOKUP(C46262,#REF!,2,0)>0,1,0)","v":{"$error":"#REF!"}},"定域",null,0,0,0]
[47830,1189013,"pantsuit",{"$f":"IF(VLOOKUP(C46303,#REF!,2,0)>0,1,0)","v":{"$error":"#REF!"}},"长裤与衣相配成套的便服",null,0,0,0]
[47878,1189032,"humorist",{"$f":"IF(VLOOKUP(C46349,#REF!,2,0)>0,1,0)","v":{"$error":"#REF!"}},"谈吐诙谐者",null,0,0,0]
[47910,1189046,"defile",{"$f":"IF(VLOOKUP(C46380,#REF!,2,0)>0,1,0)","v":{"$error":"#REF!"}},"纵列行进",null,0,0,0]
[47967,1189080,"progesterone",{"$f":"IF(VLOOKUP(C46436,#REF!,2,0)>0,1,0)","v":{"$error":"#REF!"}},"孕甾酮",null,0,0,0]
[48005,1189099,"marmalade",{"$f":"IF(VLOOKUP(C46472,#REF!,2,0)>0,1,0)","v":{"$error":"#REF!"}},"涂橘子或柠檬酱于…",null,0,0,0]
[48048,1189116,"disorganize",{"$f":"IF(VLOOKUP(C46515,#REF!,2,0)>0,1,0)","v":{"$error":"#REF!"}},"计划混乱",null,0,0,0]
[48094,1189143,"loch",{"$f":"IF(VLOOKUP(C46559,#REF!,2,0)>0,1,0)","v":{"$error":"#REF!"}},"狭长的海湾",null,0,0,1]
[48132,1189164,"integrator",{"$f":"IF(VLOOKUP(C46595,#REF!,2,0)>0,1,0)","v":{"$error":"#REF!"}},"综合者",null,0,0,0]
[48190,1189190,"tannin",{"$f":"IF(VLOOKUP(C46650,#REF!,2,0)>0,1,0)","v":{"$error":"#REF!"}},"鞣质",null,0,0,0]
[48224,1189204,"mettle",{"$f":"IF(VLOOKUP(C46682,#REF!,2,0)>0,1,0)","v":{"$error":"#REF!"}},"内在的气质",null,0,0,0]
[48271,1189232,"tamp",{"$f":"IF(VLOOKUP(C46727,#REF!,2,0)>0,1,0)","v":{"$error":"#REF!"}},"捣固",null,0,0,0]
[48316,1189257,"pantomime",{"$f":"IF(VLOOKUP(C46769,#REF!,2,0)>0,1,0)","v":{"$error":"#REF!"}},"童话剧",null,0,0,0]
[48354,1189270,"collectible",{"$f":"IF(VLOOKUP(C46805,#REF!,2,0)>0,1,0)","v":{"$error":"#REF!"}},"适宜收藏的东西, 业余爱好的收藏物",null,0,0,0]
[48413,1189297,"bloat",{"$f":"IF(VLOOKUP(C46862,#REF!,2,0)>0,1,0)","v":{"$error":"#REF!"}},"使肿起",null,0,0,0]
[48443,1189312,"prehistory",{"$f":"IF(VLOOKUP(C46892,#REF!,2,0)>0,1,0)","v":{"$error":"#REF!"}},"史前时期",null,0,0,0]
[48492,1189329,"last-ditch",{"$f":"IF(VLOOKUP(C46939,#REF!,2,0)>0,1,0)","v":{"$error":"#REF!"}},"最后防线的",null,0,0,0]
[48516,1189340,"swag",{"$f":"IF(VLOOKUP(C46963,#REF!,2,0)>0,1,0)","v":{"$error":"#REF!"}},"摇晃",null,0,0,0]
[48573,1189367,"tinny",{"$f":"IF(VLOOKUP(C47015,#REF!,2,0)>0,1,0)","v":{"$error":"#REF!"}},"声音不悦耳、尖细的",null,0,0,0]
[48633,1189393,"floodlight",{"$f":"IF(VLOOKUP(C47074,#REF!,2,0)>0,1,0)","v":{"$error":"#REF!"}},"用泛光灯照亮",null,0,0,0]
[48662,1189412,"communitarian",{"$f":"IF(VLOOKUP(C47102,#REF!,2,0)>0,1,0)","v":{"$error":"#REF!"}},"共产主义社会的成员, 提倡共产主义社会者",null,0,0,0]
[48712,1189433,"terraced",{"$f":"IF(VLOOKUP(C47151,#REF!,2,0)>0,1,0)","v":{"$error":"#REF!"}},"使成梯田",null,0,0,0]
[48737,1189442,"devilish",{"$f":"IF(VLOOKUP(C47173,#REF!,2,0)>0,1,0)","v":{"$error":"#REF!"}},"邪恶的",null,0,0,0]
[48792,1189469,"circumspect",{"$f":"IF(VLOOKUP(C47225,#REF!,2,0)>0,1,0)","v":{"$error":"#REF!"}},"谨慎小心的, 周到的",null,0,0,1]
[48856,1189519,"coachman",{"$f":"IF(VLOOKUP(C47286,#REF!,2,0)>0,1,0)","v":{"$error":"#REF!"}},"马车夫",null,0,0,1]
[48884,1189536,"disallow",{"$f":"IF(VLOOKUP(C47312,#REF!,2,0)>0,1,0)","v":{"$error":"#REF!"}},"不接受",null,0,0,1]
[48936,1189562,"fuchsia",{"$f":"IF(VLOOKUP(C47363,#REF!,2,0)>0,1,0)","v":{"$error":"#REF!"}},"灯笼海棠",null,0,0,0]
[48957,1189571,"traipse",{"$f":"IF(VLOOKUP(C47383,#REF!,2,0)>0,1,0)","v":{"$error":"#REF!"}},"漫步",null,0,0,0]
[49013,1189591,"randy",{"$f":"IF(VLOOKUP(C47435,#REF!,2,0)>0,1,0)","v":{"$error":"#REF!"}},"性欲冲动的",null,0,0,0]
[49077,1189627,"desertification",{"$f":"IF(VLOOKUP(C47498,#REF!,2,0)>0,1,0)","v":{"$error":"#REF!"}},"沙漠化",null,0,0,1]
[49085,1189633,"obsolescence",{"$f":"IF(VLOOKUP(C47506,#REF!,2,0)>0,1,0)","v":{"$error":"#REF!"}},"废弃",null,0,0,0]
[49158,1189660,"non-specific",{"$f":"IF(VLOOKUP(C47575,#REF!,2,0)>0,1,0)","v":{"$error":"#REF!"}},"不明确的, 非特定的",null,0,0,0]
[49176,1189668,"watching",{"$f":"IF(VLOOKUP(C47593,#REF!,2,0)>0,1,0)","v":{"$error":"#REF!"}},"监视",null,0,0,0]
[49232,1189695,"bigoted",{"$f":"IF(VLOOKUP(C47645,#REF!,2,0)>0,1,0)","v":{"$error":"#REF!"}},"泥",null,0,0,0]
[49298,1189721,"brotherly",{"$f":"IF(VLOOKUP(C47710,#REF!,2,0)>0,1,0)","v":{"$error":"#REF!"}},"兄弟般的",null,0,0,0]
[49351,1189738,"smorgasbord",{"$f":"IF(VLOOKUP(C47759,#REF!,2,0)>0,1,0)","v":{"$error":"#REF!"}},"大杂烩",null,0,0,0]
[49380,1189756,"foxy",{"$f":"IF(VLOOKUP(C47787,#REF!,2,0)>0,1,0)","v":{"$error":"#REF!"}},"狐媚的（非正式美式英语）",null,0,0,0]
[49396,1189764,"undertaker",{"$f":"IF(VLOOKUP(C47803,#REF!,2,0)>0,1,0)","v":{"$error":"#REF!"}},"殡仪业人员",null,0,0,0]
[49477,1189802,"depravity",{"$f":"IF(VLOOKUP(C47882,#REF!,2,0)>0,1,0)","v":{"$error":"#REF!"}},"恶行",null,0,0,0]
[49520,1189824,"tatters",{"$f":"IF(VLOOKUP(C47922,#REF!,2,0)>0,1,0)","v":{"$error":"#REF!"}},"破旧的衣服",null,0,0,0]
[49570,1189850,"serenely",{"$f":"IF(VLOOKUP(C47969,#REF!,2,0)>0,1,0)","v":{"$error":"#REF!"}},"安详地, 沉着地, 宁静地",null,0,0,0]
[49580,1189855,"unplug",{"$f":"IF(VLOOKUP(C47978,#REF!,2,0)>0,1,0)","v":{"$error":"#REF!"}},"拔去…的塞子",null,0,0,0]
[49662,1189896,"helix",{"$f":"IF(VLOOKUP(C48057,#REF!,2,0)>0,1,0)","v":{"$error":"#REF!"}},"螺旋结构",null,0,0,0]
[49698,1189910,"walkout",{"$f":"IF(VLOOKUP(C48092,#REF!,2,0)>0,1,0)","v":{"$error":"#REF!"}},"退席（以示抗议）",null,0,0,0]
[49744,1189928,"placing",{"$f":"IF(VLOOKUP(C48134,#REF!,2,0)>0,1,0)","v":{"$error":"#REF!"}},"名次",null,0,0,0]
[49790,1189950,"cleverness",{"$f":"IF(VLOOKUP(C48179,#REF!,2,0)>0,1,0)","v":{"$error":"#REF!"}},"聪明",null,0,0,0]
[49799,1189955,"floodgate",{"$f":"IF(VLOOKUP(C48188,#REF!,2,0)>0,1,0)","v":{"$error":"#REF!"}},"（江河或湖泊的）防洪闸（门）, （泄）水闸门",null,0,0,0]
[49884,1190002,"truncated",{"$f":"IF(VLOOKUP(C48269,#REF!,2,0)>0,1,0)","v":{"$error":"#REF!"}},"切去顶端的, 缩短了的, 被删节的",null,0,0,0]
[49919,1190017,"fashioned",{"$f":"IF(VLOOKUP(C48302,#REF!,2,0)>0,1,0)","v":{"$error":"#REF!"}},"…式的, …风的",null,0,0,0]
[49967,1190041,"biweekly",{"$f":"IF(VLOOKUP(C48346,#REF!,2,0)>0,1,0)","v":{"$error":"#REF!"}},"两周一次地",null,0,0,0]
[50012,1190060,"acrimonious",{"$f":"IF(VLOOKUP(C48389,#REF!,2,0)>0,1,0)","v":{"$error":"#REF!"}},"剧烈的",null,0,0,0]
[50050,1190077,"mirth",{"$f":"IF(VLOOKUP(C48425,#REF!,2,0)>0,1,0)","v":{"$error":"#REF!"}},"<书>欢乐, 欢笑",null,0,0,0]
[50109,1190110,"longingly",{"$f":"IF(VLOOKUP(C48481,#REF!,2,0)>0,1,0)","v":{"$error":"#REF!"}},"渴望地, 切望地",null,0,0,0]
[50140,1190129,"concurrence",{"$f":"IF(VLOOKUP(C48512,#REF!,2,0)>0,1,0)","v":{"$error":"#REF!"}},"同时发生或出现",null,0,0,0]
[50191,1190152,"tortuous",{"$f":"IF(VLOOKUP(C48558,#REF!,2,0)>0,1,0)","v":{"$error":"#REF!"}},"转弯抹角的",null,0,0,0]
[50232,1190174,"insubstantial",{"$f":"IF(VLOOKUP(C48599,#REF!,2,0)>0,1,0)","v":{"$error":"#REF!"}},"无实体的, 无实质的",null,0,0,0]
[50269,1190197,"free-for-all",{"$f":"IF(VLOOKUP(C48635,#REF!,2,0)>0,1,0)","v":{"$error":"#REF!"}},"可自由参加的竞赛[争], 混战",null,0,0,0]
[50332,1190230,"slippage",{"$f":"IF(VLOOKUP(C48693,#REF!,2,0)>0,1,0)","v":{"$error":"#REF!"}},"滑动量",null,0,0,0]
[50361,1190245,"duckling",{"$f":"IF(VLOOKUP(C48722,#REF!,2,0)>0,1,0)","v":{"$error":"#REF!"}},"丑小鸭（初似平庸后来出众的人或事物）",null,0,0,0]
[50411,1190274,"attacking",{"$f":"IF(VLOOKUP(C48770,#REF!,2,0)>0,1,0)","v":{"$error":"#REF!"}},"损害",null,0,0,0]
[50451,1190297,"quintessentially",{"$f":"IF(VLOOKUP(C48809,#REF!,2,0)>0,1,0)","v":{"$error":"#REF!"}},"典型地, 标准地",null,0,0,0]
[50487,1190312,"boggle",{"$f":"IF(VLOOKUP(C48845,#REF!,2,0)>0,1,0)","v":{"$error":"#REF!"}},"弄坏, 搞糟",null,0,0,0]
[50551,1190338,"unimpeded",{"$f":"IF(VLOOKUP(C48905,#REF!,2,0)>0,1,0)","v":{"$error":"#REF!"}},"无障碍的, 无阻挡的",null,0,0,0]
[50579,1190351,"freckled",{"$f":"IF(VLOOKUP(C48932,#REF!,2,0)>0,1,0)","v":{"$error":"#REF!"}},"(使)生雀斑",null,0,0,0]
[50629,1190380,"high-heeled",{"$f":"IF(VLOOKUP(C48978,#REF!,2,0)>0,1,0)","v":{"$error":"#REF!"}},"高跟的",null,0,0,0]
[50674,1190398,"tiff",{"$f":"IF(VLOOKUP(C49019,#REF!,2,0)>0,1,0)","v":{"$error":"#REF!"}},"小饮",null,0,0,0]
[50711,1190426,"out-of-control",{"$f":"IF(VLOOKUP(C49055,#REF!,2,0)>0,1,0)","v":{"$error":"#REF!"}},"无法控制",null,0,0,0]
[50775,1190458,"baldness",{"$f":"IF(VLOOKUP(C49117,#REF!,2,0)>0,1,0)","v":{"$error":"#REF!"}},"秃发",null,0,0,0]
[50800,1190473,"mulatto",{"$f":"IF(VLOOKUP(C49142,#REF!,2,0)>0,1,0)","v":{"$error":"#REF!"}},"白黑混血儿的, 黄褐色的",null,0,0,0]
[50837,1190494,"gaelic",{"$f":"IF(VLOOKUP(C49178,#REF!,2,0)>0,1,0)","v":{"$error":"#REF!"}},"盖尔语",null,0,0,0]
[50873,1190510,"wickedness",{"$f":"IF(VLOOKUP(C49210,#REF!,2,0)>0,1,0)","v":{"$error":"#REF!"}},"邪恶, 恶事, 恶毒",null,0,0,0]
[50929,1190543,"unattached",{"$f":"IF(VLOOKUP(C49265,#REF!,2,0)>0,1,0)","v":{"$error":"#REF!"}},"<律>未被查封的",null,0,0,0]
[50992,1190574,"scorching",{"$f":"IF(VLOOKUP(C49325,#REF!,2,0)>0,1,0)","v":{"$error":"#REF!"}},"严厉批评",null,0,0,0]
[51020,1190592,"disorganized",{"$f":"IF(VLOOKUP(C49352,#REF!,2,0)>0,1,0)","v":{"$error":"#REF!"}},"混乱的, 没有条理的",null,0,0,0]
[51060,1190608,"unsound",{"$f":"IF(VLOOKUP(C49388,#REF!,2,0)>0,1,0)","v":{"$error":"#REF!"}},"不健全地",null,0,0,0]
[51095,1190631,"oligarchy",{"$f":"IF(VLOOKUP(C49422,#REF!,2,0)>0,1,0)","v":{"$error":"#REF!"}},"寡头政治的执政集团",null,0,0,0]
[51150,1190657,"huntsman",{"$f":"IF(VLOOKUP(C49475,#REF!,2,0)>0,1,0)","v":{"$error":"#REF!"}},"管猎犬的人",null,0,0,0]
[51214,1190693,"consular",{"$f":"IF(VLOOKUP(C49537,#REF!,2,0)>0,1,0)","v":{"$error":"#REF!"}},"领事的",null,0,0,0]
[51242,1190707,"requested",{"$f":"IF(VLOOKUP(C49562,#REF!,2,0)>0,1,0)","v":{"$error":"#REF!"}},"索取",null,0,0,0]
[51279,1190726,"ineffable",{"$f":"IF(VLOOKUP(C49598,#REF!,2,0)>0,1,0)","v":{"$error":"#REF!"}},"妙不可言的",null,0,0,0]
[51363,1190770,"seesaw",{"$f":"IF(VLOOKUP(C49676,#REF!,2,0)>0,1,0)","v":{"$error":"#REF!"}},"玩跷跷板, 上下（来回）摇动",null,0,0,0]
[51373,1190775,"amicable",{"$f":"IF(VLOOKUP(C49685,#REF!,2,0)>0,1,0)","v":{"$error":"#REF!"}},"友好的, 温和的",null,0,0,0]
[51442,1190814,"elongation",{"$f":"IF(VLOOKUP(C49749,#REF!,2,0)>0,1,0)","v":{"$error":"#REF!"}},"<天>距（角）",null,0,0,0]
[51467,1190826,"pitched",{"$f":"IF(VLOOKUP(C49772,#REF!,2,0)>0,1,0)","v":{"$error":"#REF!"}},"把…定于特定角度",null,0,0,0]
[51505,1190848,"marinara",{"$f":"IF(VLOOKUP(C49808,#REF!,2,0)>0,1,0)","v":{"$error":"#REF!"}},"<意>杂菜的",null,0,0,0]
[51586,1190891,"schmooze",{"$f":"IF(VLOOKUP(C49884,#REF!,2,0)>0,1,0)","v":{"$error":"#REF!"}},"扯皮, 搬弄是非",null,0,0,0]
[51598,1190897,"unapologetic",{"$f":"IF(VLOOKUP(C49895,#REF!,2,0)>0,1,0)","v":{"$error":"#REF!"}},"不道歉的, 不认错的",null,0,0,0]
[51668,1190932,"two-by-four",{"$f":"IF(VLOOKUP(C49961,#REF!,2,0)>0,1,0)","v":{"$error":"#REF!"}},"长宽为二寸与四寸的, 不大的, 窄条的",null,0,0,0]
[51691,1190941,"forgettable",{"$f":"IF(VLOOKUP(C49982,#REF!,2,0)>0,1,0)","v":{"$error":"#REF!"}},"容易被忘的, 可忘记的",null,0,0,0]
[51728,1190966,"incisive",{"$f":"IF(VLOOKUP(C50018,#REF!,2,0)>0,1,0)","v":{"$error":"#REF!"}},"深刻的",null,0,0,0]
[51808,1191006,"radicalize",{"$f":"IF(VLOOKUP(C50096,#REF!,2,0)>0,1,0)","v":{"$error":"#REF!"}},"使激进",null,0,0,0]
[51817,1191011,"snide",{"$f":"IF(VLOOKUP(C50105,#REF!,2,0)>0,1,0)","v":{"$error":"#REF!"}},"低劣的",null,0,0,0]
[51886,1191052,"trounce",{"$f":"IF(VLOOKUP(C50173,#REF!,2,0)>0,1,0)","v":{"$error":"#REF!"}},"使大败",null,0,0,0]
[51905,1191057,"wizardry",{"$f":"IF(VLOOKUP(C50192,#REF!,2,0)>0,1,0)","v":{"$error":"#REF!"}},"魔法",null,0,0,0]
[51988,1191102,"prosthetics",{"$f":"IF(VLOOKUP(C50271,#REF!,2,0)>0,1,0)","v":{"$error":"#REF!"}},"修复学",null,0,0,0]
[52028,1191119,"cytokine",{"$f":"IF(VLOOKUP(C50308,#REF!,2,0)>0,1,0)","v":{"$error":"#REF!"}},"细胞活素",null,0,0,0]
[52080,1191154,"merged",{"$f":"IF(VLOOKUP(C50358,#REF!,2,0)>0,1,0)","v":{"$error":"#REF!"}},"相融",null,0,0,0]
[52108,1191168,"wide-screen",{"$f":"IF(VLOOKUP(C50385,#REF!,2,0)>0,1,0)","v":{"$error":"#REF!"}},"画面宽阔的, 宽银幕的",null,0,0,0]
[52155,1191194,"tapping",{"$f":"IF(VLOOKUP(C50429,#REF!,2,0)>0,1,0)","v":{"$error":"#REF!"}},"(从容器等)汲取(液体)",null,0,0,0]
[52208,1191225,"regenerative",{"$f":"IF(VLOOKUP(C50481,#REF!,2,0)>0,1,0)","v":{"$error":"#REF!"}},"恢复的",null,0,0,0]
[52248,1191241,"cartesian",{"$f":"IF(VLOOKUP(C50520,#REF!,2,0)>0,1,0)","v":{"$error":"#REF!"}},"笛卡尔信徒",null,0,0,0]
[52298,1191261,"quickening",{"$f":"IF(VLOOKUP(C50568,#REF!,2,0)>0,1,0)","v":{"$error":"#REF!"}},"兴奋",null,0,0,0]
[52337,1191275,"determinedly",{"$f":"IF(VLOOKUP(C50604,#REF!,2,0)>0,1,0)","v":{"$error":"#REF!"}},"断然地",null,0,0,0]
[52392,1191300,"chipmunk",{"$f":"IF(VLOOKUP(C50655,#REF!,2,0)>0,1,0)","v":{"$error":"#REF!"}},"花栗鼠",null,0,0,0]
[52430,1191318,"opportune",{"$f":"IF(VLOOKUP(C50691,#REF!,2,0)>0,1,0)","v":{"$error":"#REF!"}},"恰好地, 适时地",null,0,0,0]
[52476,1191347,"jealously",{"$f":"IF(VLOOKUP(C50732,#REF!,2,0)>0,1,0)","v":{"$error":"#REF!"}},"妒忌地, 猜疑地",null,0,0,0]
[52509,1191360,"shifty",{"$f":"IF(VLOOKUP(C50762,#REF!,2,0)>0,1,0)","v":{"$error":"#REF!"}},"<非正>看着不可靠的, 贼眉鼠眼的, 显得心里有鬼的",null,0,0,0]
[52562,1191399,"busload",{"$f":"IF(VLOOKUP(C50814,#REF!,2,0)>0,1,0)","v":{"$error":"#REF!"}},"公共汽车运载量",null,0,0,0]
[52618,1191428,"antiterrorism",{"$f":"IF(VLOOKUP(C50867,#REF!,2,0)>0,1,0)","v":{"$error":"#REF!"}},"反恐怖主义",null,0,0,0]
[52654,1191450,"opossum",{"$f":"IF(VLOOKUP(C50901,#REF!,2,0)>0,1,0)","v":{"$error":"#REF!"}},"装蒜",null,0,0,0]
[52700,1191476,"leotard",{"$f":"IF(VLOOKUP(C50944,#REF!,2,0)>0,1,0)","v":{"$error":"#REF!"}},"（杂技、舞蹈等演员穿的）紧身连衣裤",null,0,0,0]
[52728,1191489,"tangent",{"$f":"IF(VLOOKUP(C50972,#REF!,2,0)>0,1,0)","v":{"$error":"#REF!"}},"<数>正切",null,0,0,0]
[52783,1191518,"investigating",{"$f":"IF(VLOOKUP(C51024,#REF!,2,0)>0,1,0)","v":{"$error":"#REF!"}},"侦查",null,0,0,0]
[52840,1191550,"fob",{"$f":"IF(VLOOKUP(C51079,#REF!,2,0)>0,1,0)","v":{"$error":"#REF!"}},"(用不实之词)搪塞",null,0,0,0]
[52873,1191562,"refining",{"$f":"IF(VLOOKUP(C51111,#REF!,2,0)>0,1,0)","v":{"$error":"#REF!"}},"精炼",null,0,0,0]
[52919,1191580,"decided",{"$f":"IF(VLOOKUP(C51156,#REF!,2,0)>0,1,0)","v":{"$error":"#REF!"}},"坚决的",null,0,0,0]
[52948,1191594,"positional",{"$f":"IF(VLOOKUP(C51182,#REF!,2,0)>0,1,0)","v":{"$error":"#REF!"}},"按位",null,0,0,0]
[53001,1191618,"lambast",{"$f":"IF(VLOOKUP(C51234,#REF!,2,0)>0,1,0)","v":{"$error":"#REF!"}},"不断地狠打某人, 鞭打",null,0,0,0]
[53059,1191644,"fixative",{"$f":"IF(VLOOKUP(C51291,#REF!,2,0)>0,1,0)","v":{"$error":"#REF!"}},"固定剂",null,0,0,0]
[53073,1191652,"self-examination",{"$f":"IF(VLOOKUP(C51305,#REF!,2,0)>0,1,0)","v":{"$error":"#REF!"}},"自我反省",null,0,0,0]
[53142,1191687,"skulk",{"$f":"IF(VLOOKUP(C51368,#REF!,2,0)>0,1,0)","v":{"$error":"#REF!"}},"<贬>潜伏, 偷偷摸摸地走动, 鬼鬼祟祟地活动",null,0,0,0]
[53167,1191701,"cheesecloth",{"$f":"IF(VLOOKUP(C51392,#REF!,2,0)>0,1,0)","v":{"$error":"#REF!"}},"一种粗棉布",null,0,0,0]
[53222,1191732,"becoming",{"$f":"IF(VLOOKUP(C51444,#REF!,2,0)>0,1,0)","v":{"$error":"#REF!"}},"与…相称的",null,0,0,0]
[53285,1191768,"endearment",{"$f":"IF(VLOOKUP(C51503,#REF!,2,0)>0,1,0)","v":{"$error":"#REF!"}},"表示爱慕的话语, 亲热的表示",null,0,0,0]
[53297,1191776,"infirmity",{"$f":"IF(VLOOKUP(C51515,#REF!,2,0)>0,1,0)","v":{"$error":"#REF!"}},"疾病",null,0,0,0]
[53364,1191813,"deceleration",{"$f":"IF(VLOOKUP(C51580,#REF!,2,0)>0,1,0)","v":{"$error":"#REF!"}},"减速",null,0,0,0]
[53388,1191826,"onyx",{"$f":"IF(VLOOKUP(C51602,#REF!,2,0)>0,1,0)","v":{"$error":"#REF!"}},"石华",null,0,0,0]
[53426,1191850,"chorizo",{"$f":"IF(VLOOKUP(C51638,#REF!,2,0)>0,1,0)","v":{"$error":"#REF!"}},"西班牙加调料的口利左香肠",null,0,0,0]
[53506,1191898,"crackpot",{"$f":"IF(VLOOKUP(C51715,#REF!,2,0)>0,1,0)","v":{"$error":"#REF!"}},"古怪的, 离奇的",null,0,0,0]
[53516,1191902,"give-and-take",{"$f":"IF(VLOOKUP(C51725,#REF!,2,0)>0,1,0)","v":{"$error":"#REF!"}},"有来有往",null,0,0,0]
[53586,1191934,"cheated",{"$f":"IF(VLOOKUP(C51792,#REF!,2,0)>0,1,0)","v":{"$error":"#REF!"}},"已婚或有固定性伙伴的人与他人有秘密性关系",null,0,0,0]
[53608,1191948,"jungian",{"$f":"IF(VLOOKUP(C51812,#REF!,2,0)>0,1,0)","v":{"$error":"#REF!"}},"支持易雍的人, 研究易雍学说的人",null,0,0,0]
[53690,1191999,"dietetic",{"$f":"IF(VLOOKUP(C51891,#REF!,2,0)>0,1,0)","v":{"$error":"#REF!"}},"饮食的, 营养的",null,0,0,0]
[53728,1192011,"punjabi",{"$f":"IF(VLOOKUP(C51927,#REF!,2,0)>0,1,0)","v":{"$error":"#REF!"}},"旁遮普语",null,0,0,0]
[53736,1192018,"unrivaled",{"$f":"IF(VLOOKUP(C51935,#REF!,2,0)>0,1,0)","v":{"$error":"#REF!"}},"无敌的",null,0,0,0]
[53793,1192047,"physiologic",{"$f":"IF(VLOOKUP(C51987,#REF!,2,0)>0,1,0)","v":{"$error":"#REF!"}},"生理学的",null,0,0,0]
[53874,1192086,"symmetric",{"$f":"IF(VLOOKUP(C52062,#REF!,2,0)>0,1,0)","v":{"$error":"#REF!"}},"相称性的, 均衡的",null,0,0,0]
[53917,1192114,"psychosomatic",{"$f":"IF(VLOOKUP(C52101,#REF!,2,0)>0,1,0)","v":{"$error":"#REF!"}},"受心理影响的, 精神身体相关的",null,0,0,0]
[53957,1192136,"macroscopic",{"$f":"IF(VLOOKUP(C52139,#REF!,2,0)>0,1,0)","v":{"$error":"#REF!"}},"宏观的",null,0,0,0]
[54012,1192167,"chastened",{"$f":"IF(VLOOKUP(C52188,#REF!,2,0)>0,1,0)","v":{"$error":"#REF!"}},"制止",null,0,0,0]
[54049,1192191,"piglet",{"$f":"IF(VLOOKUP(C52224,#REF!,2,0)>0,1,0)","v":{"$error":"#REF!"}},"小猪",null,0,0,0]
[54101,1192219,"patristic",{"$f":"IF(VLOOKUP(C52274,#REF!,2,0)>0,1,0)","v":{"$error":"#REF!"}},"教父的, 教父遗书的",null,0,0,0]
[54139,1192239,"unilateralism",{"$f":"IF(VLOOKUP(C52311,#REF!,2,0)>0,1,0)","v":{"$error":"#REF!"}},"单方, 片面",null,0,0,0]
[54181,1192263,"loosening",{"$f":"IF(VLOOKUP(C52351,#REF!,2,0)>0,1,0)","v":{"$error":"#REF!"}},"松弛",null,0,0,0]
[54230,1192287,"handpick",{"$f":"IF(VLOOKUP(C52398,#REF!,2,0)>0,1,0)","v":{"$error":"#REF!"}},"精选",null,0,0,0]
[54266,1192309,"aeronautical",{"$f":"IF(VLOOKUP(C52434,#REF!,2,0)>0,1,0)","v":{"$error":"#REF!"}},"航空（学）的",null,0,0,0]
[54320,1192335,"willy-nilly",{"$f":"IF(VLOOKUP(C52486,#REF!,2,0)>0,1,0)","v":{"$error":"#REF!"}},"慌张的",null,0,0,0]
[54357,1192344,"inhibited",{"$f":"IF(VLOOKUP(C52521,#REF!,2,0)>0,1,0)","v":{"$error":"#REF!"}},"阻止",null,0,0,0]
[54401,1192367,"tabulation",{"$f":"IF(VLOOKUP(C52563,#REF!,2,0)>0,1,0)","v":{"$error":"#REF!"}},"表列结果",null,0,0,0]
[54449,1192391,"health-food",{"$f":"IF(VLOOKUP(C52608,#REF!,2,0)>0,1,0)","v":{"$error":"#REF!"}},"保健食品的",null,0,0,0]
[54487,1192412,"raunchy",{"$f":"IF(VLOOKUP(C52644,#REF!,2,0)>0,1,0)","v":{"$error":"#REF!"}},"质量不好的",null,0,0,0]
[54541,1192446,"inlay",{"$f":"IF(VLOOKUP(C52698,#REF!,2,0)>0,1,0)","v":{"$error":"#REF!"}},"嵌入, 镶嵌, 插入",null,0,0,0]
[54575,1192468,"alizarin",{"$f":"IF(VLOOKUP(C52731,#REF!,2,0)>0,1,0)","v":{"$error":"#REF!"}},"茜素（用于制造染料和红色颜色）",null,0,0,0]
[54618,1192484,"indomitable",{"$f":"IF(VLOOKUP(C52771,#REF!,2,0)>0,1,0)","v":{"$error":"#REF!"}},"不屈服地, 不气馁地, 不可战胜地",null,0,0,0]
[54671,1192515,"capacious",{"$f":"IF(VLOOKUP(C52818,#REF!,2,0)>0,1,0)","v":{"$error":"#REF!"}},"宽敞的, 气度宏大的",null,0,0,0]
[54709,1192538,"wrecking",{"$f":"IF(VLOOKUP(C52854,#REF!,2,0)>0,1,0)","v":{"$error":"#REF!"}},"失事, 遇难船, 打捞(或援救)业",null,0,0,0]
[54769,1192568,"welter",{"$f":"IF(VLOOKUP(C52910,#REF!,2,0)>0,1,0)","v":{"$error":"#REF!"}},"打滚",null,0,0,0]
[54802,1192579,"distill",{"$f":"IF(VLOOKUP(C52941,#REF!,2,0)>0,1,0)","v":{"$error":"#REF!"}},"抽出…的精华",null,0,0,0]
[54847,1192603,"slaver",{"$f":"IF(VLOOKUP(C52983,#REF!,2,0)>0,1,0)","v":{"$error":"#REF!"}},"奉承",null,0,0,0]
[54893,1192629,"manioc",{"$f":"IF(VLOOKUP(C53028,#REF!,2,0)>0,1,0)","v":{"$error":"#REF!"}},"树薯, 树薯粉",null,0,0,0]
[54931,1192653,"billfish",{"$f":"IF(VLOOKUP(C53064,#REF!,2,0)>0,1,0)","v":{"$error":"#REF!"}},"长嘴鱼（颚狭长如喙的鱼, 如雀鳝等）, 尖嘴鱼（具有剑状长嘴及上颚的鱼, 如旗鱼、枪鱼等）",null,0,0,0]
[54989,1192684,"short-run",{"$f":"IF(VLOOKUP(C53118,#REF!,2,0)>0,1,0)","v":{"$error":"#REF!"}},"[化]短期运转",null,0,0,0]
[55022,1192707,"joining",{"$f":"IF(VLOOKUP(C53151,#REF!,2,0)>0,1,0)","v":{"$error":"#REF!"}},"连接, 接缝, 连接物",null,0,0,0]
[55060,1192730,"all-around",{"$f":"IF(VLOOKUP(C53187,#REF!,2,0)>0,1,0)","v":{"$error":"#REF!"}},"全面的, 综合性的",null,0,0,0]
[55088,1192749,"phonetic",{"$f":"IF(VLOOKUP(C53215,#REF!,2,0)>0,1,0)","v":{"$error":"#REF!"}},"语音的",null,0,0,0]
[55149,1192784,"sea-level",{"$f":"IF(VLOOKUP(C53274,#REF!,2,0)>0,1,0)","v":{"$error":"#REF!"}},"海平面",null,0,0,0]
[55207,1192819,"riddance",{"$f":"IF(VLOOKUP(C53330,#REF!,2,0)>0,1,0)","v":{"$error":"#REF!"}},"（用以表示庆幸的感叹）谢天谢地, 总算摆脱了",null,0,0,0]
[55241,1192840,"conclave",{"$f":"IF(VLOOKUP(C53361,#REF!,2,0)>0,1,0)","v":{"$error":"#REF!"}},"秘密会议, 教皇选举会议, 红衣主教团",null,0,0,0]
[55279,1192866,"underweight",{"$f":"IF(VLOOKUP(C53397,#REF!,2,0)>0,1,0)","v":{"$error":"#REF!"}},"低于一般重量的, 重量不足的",null,0,0,0]
[55309,1192888,"naturalize",{"$f":"IF(VLOOKUP(C53427,#REF!,2,0)>0,1,0)","v":{"$error":"#REF!"}},"接收（外国人）入籍",null,0,0,0]
[55369,1192915,"hatching",{"$f":"IF(VLOOKUP(C53484,#REF!,2,0)>0,1,0)","v":{"$error":"#REF!"}},"孵出, 破壳而出",null,0,0,0]
[55433,1192955,"icebreaker",{"$f":"IF(VLOOKUP(C53542,#REF!,2,0)>0,1,0)","v":{"$error":"#REF!"}},"破冰船",null,0,0,0]
[55462,1192976,"ventilate",{"$f":"IF(VLOOKUP(C53571,#REF!,2,0)>0,1,0)","v":{"$error":"#REF!"}},"公开",null,0,0,0]
[55499,1192990,"dawning",{"$f":"IF(VLOOKUP(C53607,#REF!,2,0)>0,1,0)","v":{"$error":"#REF!"}},"开始出现",null,0,0,0]
[55571,1193034,"ceramist",{"$f":"IF(VLOOKUP(C53677,#REF!,2,0)>0,1,0)","v":{"$error":"#REF!"}},"陶艺家",null,0,0,0]
[55588,1193044,"hyper",{"$f":"IF(VLOOKUP(C53694,#REF!,2,0)>0,1,0)","v":{"$error":"#REF!"}},"亢奋的",null,0,0,0]
[55654,1193079,"jawbone",{"$f":"IF(VLOOKUP(C53754,#REF!,2,0)>0,1,0)","v":{"$error":"#REF!"}},"下颌骨",null,0,0,0]
[55682,1193091,"perinatal",{"$f":"IF(VLOOKUP(C53781,#REF!,2,0)>0,1,0)","v":{"$error":"#REF!"}},"围产期的",null,0,0,0]
[55721,1193109,"argon",{"$f":"IF(VLOOKUP(C53817,#REF!,2,0)>0,1,0)","v":{"$error":"#REF!"}},"氩",null,0,0,0]
[55795,1193150,"windward",{"$f":"IF(VLOOKUP(C53889,#REF!,2,0)>0,1,0)","v":{"$error":"#REF!"}},"迎风的（地）, 上风的（地）, 向风的（地）",null,0,0,0]
[55810,1193159,"competently",{"$f":"IF(VLOOKUP(C53904,#REF!,2,0)>0,1,0)","v":{"$error":"#REF!"}},"胜任地, 适合地",null,0,0,0]
[55875,1193204,"feeler",{"$f":"IF(VLOOKUP(C53966,#REF!,2,0)>0,1,0)","v":{"$error":"#REF!"}},"（昆虫的）触须, 对他人观点或反应的试探",null,0,0,0]
[55931,1193232,"rubbing",{"$f":"IF(VLOOKUP(C54018,#REF!,2,0)>0,1,0)","v":{"$error":"#REF!"}},"拓本, 拓印",null,0,0,0]
[55941,1193237,"swarthy",{"$f":"IF(VLOOKUP(C54027,#REF!,2,0)>0,1,0)","v":{"$error":"#REF!"}},"（肤色）黝黑的",null,0,0,0]
[56019,1193275,"up-and-down",{"$f":"IF(VLOOKUP(C54101,#REF!,2,0)>0,1,0)","v":{"$error":"#REF!"}},"变动的",null,0,0,0]
[56032,1193282,"cookery",{"$f":"IF(VLOOKUP(C54114,#REF!,2,0)>0,1,0)","v":{"$error":"#REF!"}},"烹饪学, 烹饪术",null,0,0,1]
[56100,1193324,"tensile",{"$f":"IF(VLOOKUP(C54178,#REF!,2,0)>0,1,0)","v":{"$error":"#REF!"}},"拉力的",null,0,0,0]
[56155,1193360,"unflappable",{"$f":"IF(VLOOKUP(C54228,#REF!,2,0)>0,1,0)","v":{"$error":"#REF!"}},"<口>不易惊慌的, 镇定的",null,0,0,0]
[56164,1193365,"arbitrariness",{"$f":"IF(VLOOKUP(C54237,#REF!,2,0)>0,1,0)","v":{"$error":"#REF!"}},"任意, 霸道, 恣意",null,0,0,0]
[56242,1193405,"varmint",{"$f":"IF(VLOOKUP(C54313,#REF!,2,0)>0,1,0)","v":{"$error":"#REF!"}},"淘气鬼",null,0,0,0]
[56253,1193412,"chock-full",{"$f":"IF(VLOOKUP(C54324,#REF!,2,0)>0,1,0)","v":{"$error":"#REF!"}},"塞满了的",null,0,0,0]
[56323,1193453,"appetizing",{"$f":"IF(VLOOKUP(C54390,#REF!,2,0)>0,1,0)","v":{"$error":"#REF!"}},"开胃的",null,0,0,0]
[56373,1193482,"sponsoring",{"$f":"IF(VLOOKUP(C54438,#REF!,2,0)>0,1,0)","v":{"$error":"#REF!"}},"倡议",null,0,0,0]
[56427,1193507,"incontrovertible",{"$f":"IF(VLOOKUP(C54490,#REF!,2,0)>0,1,0)","v":{"$error":"#REF!"}},"无可争辩",null,0,0,0]
[56464,1193525,"stoicism",{"$f":"IF(VLOOKUP(C54525,#REF!,2,0)>0,1,0)","v":{"$error":"#REF!"}},"淡泊",null,0,0,0]
[56502,1193545,"finial",{"$f":"IF(VLOOKUP(C54561,#REF!,2,0)>0,1,0)","v":{"$error":"#REF!"}},"尖顶饰",null,0,0,0]
[56555,1193578,"taffy",{"$f":"IF(VLOOKUP(C54613,#REF!,2,0)>0,1,0)","v":{"$error":"#REF!"}},"太妃糖, 乳脂糖",null,0,0,0]
[56607,1193606,"gusty",{"$f":"IF(VLOOKUP(C54660,#REF!,2,0)>0,1,0)","v":{"$error":"#REF!"}},"多阵风的",null,0,0,0]
[56648,1193633,"vanquish",{"$f":"IF(VLOOKUP(C54700,#REF!,2,0)>0,1,0)","v":{"$error":"#REF!"}},"<文>征服",null,0,0,0]
[56686,1193655,"herbaceous",{"$f":"IF(VLOOKUP(C54737,#REF!,2,0)>0,1,0)","v":{"$error":"#REF!"}},"草本的",null,0,0,0]
[56723,1193675,"settling",{"$f":"IF(VLOOKUP(C54771,#REF!,2,0)>0,1,0)","v":{"$error":"#REF!"}},"安放",null,0,0,0]
[56778,1193706,"pillory",{"$f":"IF(VLOOKUP(C54823,#REF!,2,0)>0,1,0)","v":{"$error":"#REF!"}},"<史>给…上颈手枷",null,0,0,0]
[56828,1193736,"lumberjack",{"$f":"IF(VLOOKUP(C54872,#REF!,2,0)>0,1,0)","v":{"$error":"#REF!"}},"伐木工人, 木材商的佣工, 短茄克衫",null,0,0,0]
[56866,1193766,"doubtfully",{"$f":"IF(VLOOKUP(C54910,#REF!,2,0)>0,1,0)","v":{"$error":"#REF!"}},"含糊地",null,0,0,0]
[56907,1193795,"unfashionable",{"$f":"IF(VLOOKUP(C54949,#REF!,2,0)>0,1,0)","v":{"$error":"#REF!"}},"过时的, 旧式的",null,0,0,0]
[56942,1193819,"insipid",{"$f":"IF(VLOOKUP(C54981,#REF!,2,0)>0,1,0)","v":{"$error":"#REF!"}},"枯燥的, 无生气的, 乏味的",null,0,0,0]
[56994,1193853,"constabulary",{"$f":"IF(VLOOKUP(C55033,#REF!,2,0)>0,1,0)","v":{"$error":"#REF!"}},"（某地区、国家的）警察部队（或警察机构）",null,0,0,0]
[57046,1193879,"streaming",{"$f":"IF(VLOOKUP(C55084,#REF!,2,0)>0,1,0)","v":{"$error":"#REF!"}},"滂沱",null,0,0,0]
[57067,1193884,"unbounded",{"$f":"IF(VLOOKUP(C55104,#REF!,2,0)>0,1,0)","v":{"$error":"#REF!"}},"无限地, 极大地",null,0,0,0]
[57126,1193913,"muley",{"$f":"IF(VLOOKUP(C55161,#REF!,2,0)>0,1,0)","v":{"$error":"#REF!"}},"无角动物, 母牛",null,0,0,0]
[57158,1193929,"timepiece",{"$f":"IF(VLOOKUP(C55191,#REF!,2,0)>0,1,0)","v":{"$error":"#REF!"}},"时钟, 座钟",null,0,0,1]
[57212,1193958,"half-light",{"$f":"IF(VLOOKUP(C55243,#REF!,2,0)>0,1,0)","v":{"$error":"#REF!"}},"暗光",null,0,0,0]
[57269,1193988,"blogosphere",{"$f":"IF(VLOOKUP(C55296,#REF!,2,0)>0,1,0)","v":{"$error":"#REF!"}},"博客世界",null,0,0,0]
[57287,1194001,"hammerhead",{"$f":"IF(VLOOKUP(C55314,#REF!,2,0)>0,1,0)","v":{"$error":"#REF!"}},"锤头状的, 鲁钝的",null,0,0,0]
[57350,1194033,"athletically",{"$f":"IF(VLOOKUP(C55373,#REF!,2,0)>0,1,0)","v":{"$error":"#REF!"}},"竞赛地, 运动比赛地, 具运动员风范地",null,0,0,0]
[57381,1194052,"orwellian",{"$f":"IF(VLOOKUP(C55401,#REF!,2,0)>0,1,0)","v":{"$error":"#REF!"}},"GeorgeOrwell的笔调或用字的",null,0,0,0]
[57419,1194072,"aerie",{"$f":"IF(VLOOKUP(C55437,#REF!,2,0)>0,1,0)","v":{"$error":"#REF!"}},"猛禽的窝, 高处的房子或城堡",null,0,0,0]
[57498,1194111,"stakeout",{"$f":"IF(VLOOKUP(C55508,#REF!,2,0)>0,1,0)","v":{"$error":"#REF!"}},"监视",null,0,0,0]
[57514,1194116,"wood-paneled",{"$f":"IF(VLOOKUP(C55524,#REF!,2,0)>0,1,0)","v":{"$error":"#REF!"}},"选定陪审员[团]",null,0,0,0]
[57579,1194151,"yodel",{"$f":"IF(VLOOKUP(C55585,#REF!,2,0)>0,1,0)","v":{"$error":"#REF!"}},"用真假嗓音陡然互换地唱",null,0,0,0]
[57607,1194175,"redoubt",{"$f":"IF(VLOOKUP(C55611,#REF!,2,0)>0,1,0)","v":{"$error":"#REF!"}},"孤立的前哨站",null,0,0,0]
[57647,1194192,"composter",{"$f":"IF(VLOOKUP(C55647,#REF!,2,0)>0,1,0)","v":{"$error":"#REF!"}},"堆肥(compost的变形)",null,0,0,0]
[57724,1194236,"unhurt",{"$f":"IF(VLOOKUP(C55720,#REF!,2,0)>0,1,0)","v":{"$error":"#REF!"}},"没有受伤的",null,0,0,0]
[57740,1194246,"cavalryman",{"$f":"IF(VLOOKUP(C55734,#REF!,2,0)>0,1,0)","v":{"$error":"#REF!"}},"骑兵",null,0,0,0]
[57795,1194276,"pitifully",{"$f":"IF(VLOOKUP(C55786,#REF!,2,0)>0,1,0)","v":{"$error":"#REF!"}},"哀",null,0,0,0]
[57823,1194295,"acculturate",{"$f":"IF(VLOOKUP(C55813,#REF!,2,0)>0,1,0)","v":{"$error":"#REF!"}},"适应文化使适应文化",null,0,0,0]
[57867,1194321,"largess",{"$f":"IF(VLOOKUP(C55857,#REF!,2,0)>0,1,0)","v":{"$error":"#REF!"}},"赠送",null,0,0,0]
[57948,1194369,"falsity",{"$f":"IF(VLOOKUP(C55932,#REF!,2,0)>0,1,0)","v":{"$error":"#REF!"}},"虚假",null,0,0,0]
[57960,1194375,"hysterics",{"$f":"IF(VLOOKUP(C55944,#REF!,2,0)>0,1,0)","v":{"$error":"#REF!"}},"歇斯底里发作, 大笑大哭",null,0,0,0]
[58041,1194415,"dalliance",{"$f":"IF(VLOOKUP(C56023,#REF!,2,0)>0,1,0)","v":{"$error":"#REF!"}},"调情",null,0,0,0]
[58087,1194439,"playtime",{"$f":"IF(VLOOKUP(C56067,#REF!,2,0)>0,1,0)","v":{"$error":"#REF!"}},"游戏时间, 娱乐时间",null,0,0,0]
[58132,1194469,"cured",{"$f":"IF(VLOOKUP(C56110,#REF!,2,0)>0,1,0)","v":{"$error":"#REF!"}},"治愈的",null,0,0,0]
[58167,1194490,"lead-in",{"$f":"IF(VLOOKUP(C56144,#REF!,2,0)>0,1,0)","v":{"$error":"#REF!"}},"引入的",null,0,0,0]
[58178,1194502,"retinue",{"$f":"IF(VLOOKUP(C56154,#REF!,2,0)>0,1,0)","v":{"$error":"#REF!"}},"一批随员",null,0,0,0]
[58263,1194551,"ophthalmology",{"$f":"IF(VLOOKUP(C56233,#REF!,2,0)>0,1,0)","v":{"$error":"#REF!"}},"眼科学",null,0,0,0]
[58313,1194588,"gasification",{"$f":"IF(VLOOKUP(C56279,#REF!,2,0)>0,1,0)","v":{"$error":"#REF!"}},"气化",null,0,0,0]
[58355,1194609,"self-administered",{"$f":"IF(VLOOKUP(C56320,#REF!,2,0)>0,1,0)","v":{"$error":"#REF!"}},"[法]自治的, 自己管理的",null,0,0,0]
[58393,1194623,"arabesque",{"$f":"IF(VLOOKUP(C56356,#REF!,2,0)>0,1,0)","v":{"$error":"#REF!"}},"阿拉伯图案",null,0,0,0]
[58446,1194653,"refit",{"$f":"IF(VLOOKUP(C56407,#REF!,2,0)>0,1,0)","v":{"$error":"#REF!"}},"整修",null,0,0,0]
[58482,1194676,"copulate",{"$f":"IF(VLOOKUP(C56443,#REF!,2,0)>0,1,0)","v":{"$error":"#REF!"}},"性交, 交配, 交尾",null,0,0,0]
[58532,1194709,"subnational",{"$f":"IF(VLOOKUP(C56491,#REF!,2,0)>0,1,0)","v":{"$error":"#REF!"}},"低于国家的/地方的",null,0,0,0]
[58574,1194736,"hanky",{"$f":"IF(VLOOKUP(C56530,#REF!,2,0)>0,1,0)","v":{"$error":"#REF!"}},"<口>手帕",null,0,0,0]
[58611,1194754,"satiric",{"$f":"IF(VLOOKUP(C56564,#REF!,2,0)>0,1,0)","v":{"$error":"#REF!"}},"俳谐",null,0,0,0]
[58668,1194790,"huckster",{"$f":"IF(VLOOKUP(C56617,#REF!,2,0)>0,1,0)","v":{"$error":"#REF!"}},"讨价还价, 没完没了地争论",null,0,0,0]
[58707,1194814,"sump",{"$f":"IF(VLOOKUP(C56653,#REF!,2,0)>0,1,0)","v":{"$error":"#REF!"}},"污水坑",null,0,0,0]
[58759,1194850,"mayday",{"$f":"IF(VLOOKUP(C56703,#REF!,2,0)>0,1,0)","v":{"$error":"#REF!"}},"（船只或飞机发出的）无线电求救呼号",null,0,0,0]
[58799,1194877,"topside",{"$f":"IF(VLOOKUP(C56740,#REF!,2,0)>0,1,0)","v":{"$error":"#REF!"}},"在甲板上, 在首席",null,0,0,0]
[58836,1194896,"expandable",{"$f":"IF(VLOOKUP(C56776,#REF!,2,0)>0,1,0)","v":{"$error":"#REF!"}},"可张开的, 可扩大的",null,0,0,0]
[58890,1194923,"reconvene",{"$f":"IF(VLOOKUP(C56827,#REF!,2,0)>0,1,0)","v":{"$error":"#REF!"}},"再聚会, 再集会",null,0,0,0]
[58927,1194944,"castaway",{"$f":"IF(VLOOKUP(C56863,#REF!,2,0)>0,1,0)","v":{"$error":"#REF!"}},"被抛弃的, 无价值的, 遭难的",null,0,0,0]
[58980,1194973,"kiddy",{"$f":"IF(VLOOKUP(C56911,#REF!,2,0)>0,1,0)","v":{"$error":"#REF!"}},"小山羊",null,0,0,0]
[59021,1194999,"splutter",{"$f":"IF(VLOOKUP(C56950,#REF!,2,0)>0,1,0)","v":{"$error":"#REF!"}},"语无伦次地说",null,0,0,0]
[59062,1195021,"eighty-six",{"$f":"IF(VLOOKUP(C56988,#REF!,2,0)>0,1,0)","v":{"$error":"#REF!"}},"缺货",null,0,0,0]
[59116,1195045,"unmade",{"$f":"IF(VLOOKUP(C57037,#REF!,2,0)>0,1,0)","v":{"$error":"#REF!"}},"撤回",null,0,0,0]
[59155,1195067,"overcrowding",{"$f":"IF(VLOOKUP(C57073,#REF!,2,0)>0,1,0)","v":{"$error":"#REF!"}},"把…塞得太满",null,0,0,0]
[59208,1195095,"exasperating",{"$f":"IF(VLOOKUP(C57123,#REF!,2,0)>0,1,0)","v":{"$error":"#REF!"}},"使人恼怒的",null,0,0,0]
[59248,1195125,"v-neck",{"$f":"IF(VLOOKUP(C57160,#REF!,2,0)>0,1,0)","v":{"$error":"#REF!"}},"V型领",null,0,0,0]
[59285,1195148,"phlegm",{"$f":"IF(VLOOKUP(C57196,#REF!,2,0)>0,1,0)","v":{"$error":"#REF!"}},"迟钝",null,0,0,0]
[59310,1195163,"telomere",{"$f":"IF(VLOOKUP(C57220,#REF!,2,0)>0,1,0)","v":{"$error":"#REF!"}},"端粒（在染色体端位上的着丝点）",null,0,0,0]
[59378,1195192,"existentialist",{"$f":"IF(VLOOKUP(C57283,#REF!,2,0)>0,1,0)","v":{"$error":"#REF!"}},"存在主义者",null,0,0,0]
[59430,1195223,"adios",{"$f":"IF(VLOOKUP(C57335,#REF!,2,0)>0,1,0)","v":{"$error":"#REF!"}},"再见, 一路平安",null,0,0,0]
[59469,1195244,"health-conscious",{"$f":"IF(VLOOKUP(C57370,#REF!,2,0)>0,1,0)","v":{"$error":"#REF!"}},"注意身体的, 关注健康的",null,0,0,0]
[59506,1195274,"chickadee",{"$f":"IF(VLOOKUP(C57406,#REF!,2,0)>0,1,0)","v":{"$error":"#REF!"}},"（美洲所产的）山雀",null,0,0,0]
[59574,1195313,"teleological",{"$f":"IF(VLOOKUP(C57470,#REF!,2,0)>0,1,0)","v":{"$error":"#REF!"}},"目的论的",null,0,0,0]
[59598,1195333,"maser",{"$f":"IF(VLOOKUP(C57493,#REF!,2,0)>0,1,0)","v":{"$error":"#REF!"}},"微波激射器",null,0,0,0]
[59653,1195365,"cakewalk",{"$f":"IF(VLOOKUP(C57547,#REF!,2,0)>0,1,0)","v":{"$error":"#REF!"}},"步态竞赛",null,0,0,0]
[59688,1195382,"injectable",{"$f":"IF(VLOOKUP(C57580,#REF!,2,0)>0,1,0)","v":{"$error":"#REF!"}},"可注射的",null,0,0,0]
[59728,1195403,"tracheotomy",{"$f":"IF(VLOOKUP(C57616,#REF!,2,0)>0,1,0)","v":{"$error":"#REF!"}},"气管切开术",null,0,0,0]
[59796,1195453,"spiderweb",{"$f":"IF(VLOOKUP(C57682,#REF!,2,0)>0,1,0)","v":{"$error":"#REF!"}},"蜘蛛网",null,0,0,0]
[59818,1195466,"abbess",{"$f":"IF(VLOOKUP(C57703,#REF!,2,0)>0,1,0)","v":{"$error":"#REF!"}},"女修道院院长",null,0,0,0]
[59876,1195500,"nonconformist",{"$f":"IF(VLOOKUP(C57759,#REF!,2,0)>0,1,0)","v":{"$error":"#REF!"}},"（不信奉英国国教的）新教徒",null,0,0,0]
[59892,1195507,"servile",{"$f":"IF(VLOOKUP(C57774,#REF!,2,0)>0,1,0)","v":{"$error":"#REF!"}},"缺乏独立性的",null,0,0,0]
[59944,1195537,"infanticide",{"$f":"IF(VLOOKUP(C57826,#REF!,2,0)>0,1,0)","v":{"$error":"#REF!"}},"杀孑",null,0,0,0]
[60016,1195578,"unceasing",{"$f":"IF(VLOOKUP(C57894,#REF!,2,0)>0,1,0)","v":{"$error":"#REF!"}},"不停的, 不断的, 持续的",null,0,0,0]
[60039,1195590,"composed",{"$f":"IF(VLOOKUP(C57913,#REF!,2,0)>0,1,0)","v":{"$error":"#REF!"}},"调解",null,0,0,0]
[60100,1195629,"statesmanship",{"$f":"IF(VLOOKUP(C57971,#REF!,2,0)>0,1,0)","v":{"$error":"#REF!"}},"经纶",null,0,0,0]
[60160,1195657,"escapist",{"$f":"IF(VLOOKUP(C58027,#REF!,2,0)>0,1,0)","v":{"$error":"#REF!"}},"逃避现实者",null,0,0,0]
[60170,1195664,"henna",{"$f":"IF(VLOOKUP(C58036,#REF!,2,0)>0,1,0)","v":{"$error":"#REF!"}},"用散沫花染剂染（指甲等）",null,0,0,0]
[60248,1195706,"frisson",{"$f":"IF(VLOOKUP(C58106,#REF!,2,0)>0,1,0)","v":{"$error":"#REF!"}},"<法>（因激动, 恐惧等产生的）颤抖",null,0,0,0]
[60267,1195718,"limping",{"$f":"IF(VLOOKUP(C58123,#REF!,2,0)>0,1,0)","v":{"$error":"#REF!"}},"跛行",null,0,0,0]
[60331,1195765,"old-world",{"$f":"IF(VLOOKUP(C58183,#REF!,2,0)>0,1,0)","v":{"$error":"#REF!"}},"以前的, 古代世界的",null,0,0,0]
[60391,1195796,"convivial",{"$f":"IF(VLOOKUP(C58237,#REF!,2,0)>0,1,0)","v":{"$error":"#REF!"}},"好交际的",null,0,0,0]
[60400,1195802,"denigration",{"$f":"IF(VLOOKUP(C58246,#REF!,2,0)>0,1,0)","v":{"$error":"#REF!"}},"诋毁",null,0,0,0]
[60477,1195844,"sloppily",{"$f":"IF(VLOOKUP(C58318,#REF!,2,0)>0,1,0)","v":{"$error":"#REF!"}},"马虎地, 草率地",null,0,0,0]
[60524,1195867,"codeine",{"$f":"IF(VLOOKUP(C58360,#REF!,2,0)>0,1,0)","v":{"$error":"#REF!"}},"可待因（自鸦片中提取的碱质）",null,0,0,0]
[60533,1195872,"encoding",{"$f":"IF(VLOOKUP(C58369,#REF!,2,0)>0,1,0)","v":{"$error":"#REF!"}},"编码, 译码",null,0,0,0]
[60622,1195923,"eastbound",{"$f":"IF(VLOOKUP(C58453,#REF!,2,0)>0,1,0)","v":{"$error":"#REF!"}},"东行的, 向东的",null,0,0,0]
[60626,1195927,"fire-fighting",{"$f":"IF(VLOOKUP(C58456,#REF!,2,0)>0,1,0)","v":{"$error":"#REF!"}},"消防的",null,0,0,0]
[60702,1195973,"crabapple",{"$f":"IF(VLOOKUP(C58530,#REF!,2,0)>0,1,0)","v":{"$error":"#REF!"}},"野苹果",null,0,0,0]
[60746,1195996,"orgasmic",{"$f":"IF(VLOOKUP(C58570,#REF!,2,0)>0,1,0)","v":{"$error":"#REF!"}},"性高潮的",null,0,0,0]
[60801,1196024,"avuncular",{"$f":"IF(VLOOKUP(C58622,#REF!,2,0)>0,1,0)","v":{"$error":"#REF!"}},"谆谆长辈风范的",null,0,0,0]
[60852,1196050,"legibility",{"$f":"IF(VLOOKUP(C58665,#REF!,2,0)>0,1,0)","v":{"$error":"#REF!"}},"清晰度",null,0,0,0]
[60898,1196081,"widowhood",{"$f":"IF(VLOOKUP(C58709,#REF!,2,0)>0,1,0)","v":{"$error":"#REF!"}},"寡居(期), 鳏居(期)",null,0,0,0]
[60932,1196107,"gallantry",{"$f":"IF(VLOOKUP(C58742,#REF!,2,0)>0,1,0)","v":{"$error":"#REF!"}},"勇敢",null,0,0,0]
[60971,1196134,"redline",{"$f":"IF(VLOOKUP(C58780,#REF!,2,0)>0,1,0)","v":{"$error":"#REF!"}},"按安全飞行速度驾驶飞机",null,0,0,0]
[61025,1196168,"emplacement",{"$f":"IF(VLOOKUP(C58832,#REF!,2,0)>0,1,0)","v":{"$error":"#REF!"}},"炮位",null,0,0,0]
[61074,1196201,"unerring",{"$f":"IF(VLOOKUP(C58877,#REF!,2,0)>0,1,0)","v":{"$error":"#REF!"}},"一贯正确的",null,0,0,0]
[61100,1196214,"basmati",{"$f":"IF(VLOOKUP(C58903,#REF!,2,0)>0,1,0)","v":{"$error":"#REF!"}},"米形细长",null,0,0,0]
[61158,1196252,"off-label",{"$f":"IF(VLOOKUP(C58954,#REF!,2,0)>0,1,0)","v":{"$error":"#REF!"}},"用于未标志用途地",null,0,0,0]
[61195,1196270,"unfailing",{"$f":"IF(VLOOKUP(C58990,#REF!,2,0)>0,1,0)","v":{"$error":"#REF!"}},"无穷的",null,0,0,0]
[61249,1196305,"maliciously",{"$f":"IF(VLOOKUP(C59042,#REF!,2,0)>0,1,0)","v":{"$error":"#REF!"}},"有敌意地",null,0,0,0]
[61300,1196338,"brogue",{"$f":"IF(VLOOKUP(C59089,#REF!,2,0)>0,1,0)","v":{"$error":"#REF!"}},"土音（尤指爱尔兰人讲英语时的土腔）, （旧时爱尔兰人穿的）粗革皮鞋",null,0,0,0]
[61325,1196353,"flashpoint",{"$f":"IF(VLOOKUP(C59113,#REF!,2,0)>0,1,0)","v":{"$error":"#REF!"}},"政治动乱地区",null,0,0,0]
[61380,1196393,"toning",{"$f":"IF(VLOOKUP(C59166,#REF!,2,0)>0,1,0)","v":{"$error":"#REF!"}},"调色（法）, 相片调色, 调匀颜色",null,0,0,0]
[61414,1196417,"disastrously",{"$f":"IF(VLOOKUP(C59200,#REF!,2,0)>0,1,0)","v":{"$error":"#REF!"}},"悲惨地",null,0,0,0]
[61450,1196441,"resonator",{"$f":"IF(VLOOKUP(C59236,#REF!,2,0)>0,1,0)","v":{"$error":"#REF!"}},"共振腔",null,0,0,0]
[61519,1196488,"miasma",{"$f":"IF(VLOOKUP(C59301,#REF!,2,0)>0,1,0)","v":{"$error":"#REF!"}},"瘴气",null,0,0,0]
[61542,1196502,"self-love",{"$f":"IF(VLOOKUP(C59323,#REF!,2,0)>0,1,0)","v":{"$error":"#REF!"}},"自恋, 自爱, 利己主义",null,0,0,0]
[61599,1196530,"dulcimer",{"$f":"IF(VLOOKUP(C59378,#REF!,2,0)>0,1,0)","v":{"$error":"#REF!"}},"扬琴",null,0,0,0]
[61634,1196547,"knave",{"$f":"IF(VLOOKUP(C59410,#REF!,2,0)>0,1,0)","v":{"$error":"#REF!"}},"（纸牌中的）杰克",null,0,0,0]
[61672,1196565,"seamy",{"$f":"IF(VLOOKUP(C59446,#REF!,2,0)>0,1,0)","v":{"$error":"#REF!"}},"丑恶的",null,0,0,0]
[61739,1196596,"flapper",{"$f":"IF(VLOOKUP(C59513,#REF!,2,0)>0,1,0)","v":{"$error":"#REF!"}},"（打苍蝇等的）拍子, 蝇拍",null,0,0,0]
[61760,1196609,"lapsed",{"$f":"IF(VLOOKUP(C59533,#REF!,2,0)>0,1,0)","v":{"$error":"#REF!"}},"倒退",null,0,0,0]
[61823,1196642,"zag",{"$f":"IF(VLOOKUP(C59590,#REF!,2,0)>0,1,0)","v":{"$error":"#REF!"}},"急转, 急变",null,0,0,0]
[61854,1196661,"flinty",{"$f":"IF(VLOOKUP(C59620,#REF!,2,0)>0,1,0)","v":{"$error":"#REF!"}},"燧石的",null,0,0,0]
[61890,1196683,"squashed",{"$f":"IF(VLOOKUP(C59656,#REF!,2,0)>0,1,0)","v":{"$error":"#REF!"}},"压碎的, 压扁的",null,0,0,0]
[61964,1196723,"nonlinearity",{"$f":"IF(VLOOKUP(C59725,#REF!,2,0)>0,1,0)","v":{"$error":"#REF!"}},"非（直）线性（特性）",null,0,0,0]
[61983,1196729,"profuse",{"$f":"IF(VLOOKUP(C59743,#REF!,2,0)>0,1,0)","v":{"$error":"#REF!"}},"很多的",null,0,0,0]
[62023,1196752,"anti-hero",{"$f":"IF(VLOOKUP(C59779,#REF!,2,0)>0,1,0)","v":{"$error":"#REF!"}},"平凡的主角",null,0,0,0]
[62064,1196774,"face-saving",{"$f":"IF(VLOOKUP(C59818,#REF!,2,0)>0,1,0)","v":{"$error":"#REF!"}},"情面",null,0,0,0]
[62115,1196801,"orthodontist",{"$f":"IF(VLOOKUP(C59866,#REF!,2,0)>0,1,0)","v":{"$error":"#REF!"}},"正齿医生",null,0,0,0]
[62190,1196844,"cost-efficient",{"$f":"IF(VLOOKUP(C59937,#REF!,2,0)>0,1,0)","v":{"$error":"#REF!"}},"合算的",null,0,0,0]
[62207,1196853,"hallucinogenic",{"$f":"IF(VLOOKUP(C59953,#REF!,2,0)>0,1,0)","v":{"$error":"#REF!"}},"迷幻药",null,0,0,0]
[62243,1196876,"rondo",{"$f":"IF(VLOOKUP(C59989,#REF!,2,0)>0,1,0)","v":{"$error":"#REF!"}},"回旋曲",null,0,0,0]
[62331,1196938,"social-emotional",{"$f":"IF(VLOOKUP(C60072,#REF!,2,0)>0,1,0)","v":{"$error":"#REF!"}},"社会情感",null,0,0,0]
[62336,1196942,"stanch",{"$f":"IF(VLOOKUP(C60076,#REF!,2,0)>0,1,0)","v":{"$error":"#REF!"}},"坚定的",null,0,0,0]
[62413,1196987,"gunsmith",{"$f":"IF(VLOOKUP(C60149,#REF!,2,0)>0,1,0)","v":{"$error":"#REF!"}},"军械工人",null,0,0,0]
[62428,1196997,"offhandedly",{"$f":"IF(VLOOKUP(C60163,#REF!,2,0)>0,1,0)","v":{"$error":"#REF!"}},"即席地",null,0,0,0]
[62511,1197061,"manacle",{"$f":"IF(VLOOKUP(C60242,#REF!,2,0)>0,1,0)","v":{"$error":"#REF!"}},"手铐",null,0,0,0]
[62555,1197083,"aah",{"$f":"IF(VLOOKUP(C60284,#REF!,2,0)>0,1,0)","v":{"$error":"#REF!"}},"（因兴奋, 惊讶, 困惑）发啧啧声, 惊呼",null,1,1,1]
[62557,1197085,"alliteration",{"$f":"IF(VLOOKUP(C60286,#REF!,2,0)>0,1,0)","v":{"$error":"#REF!"}},"头韵",null,0,0,0]
[62633,1197128,"sanitarium",{"$f":"IF(VLOOKUP(C60357,#REF!,2,0)>0,1,0)","v":{"$error":"#REF!"}},"<美>疗养院",null,0,0,0]
[62650,1197142,"unprocessed",{"$f":"IF(VLOOKUP(C60373,#REF!,2,0)>0,1,0)","v":{"$error":"#REF!"}},"原",null,0,0,0]
[62731,1197187,"prosecuting",{"$f":"IF(VLOOKUP(C60452,#REF!,2,0)>0,1,0)","v":{"$error":"#REF!"}},"继续从事(某事物)",null,0,0,0]
[62776,1197214,"bare-chested",{"$f":"IF(VLOOKUP(C60496,#REF!,2,0)>0,1,0)","v":{"$error":"#REF!"}},"坦胸露腹",null,0,0,0]
[62824,1197253,"propositional",{"$f":"IF(VLOOKUP(C60539,#REF!,2,0)>0,1,0)","v":{"$error":"#REF!"}},"命题的",null,0,0,0]
[62857,1197277,"angiosperm",{"$f":"IF(VLOOKUP(C60569,#REF!,2,0)>0,1,0)","v":{"$error":"#REF!"}},"被子植物",null,0,0,0]
[62916,1197313,"netherworld",{"$f":"IF(VLOOKUP(C60626,#REF!,2,0)>0,1,0)","v":{"$error":"#REF!"}},"黄泉",null,0,0,0]
[62953,1197335,"torpor",{"$f":"IF(VLOOKUP(C60662,#REF!,2,0)>0,1,0)","v":{"$error":"#REF!"}},"麻木",null,0,0,0]
[62997,1197363,"clapping",{"$f":"IF(VLOOKUP(C60704,#REF!,2,0)>0,1,0)","v":{"$error":"#REF!"}},"拍手",null,0,0,0]
[63045,1197396,"pro-independence",{"$f":"IF(VLOOKUP(C60749,#REF!,2,0)>0,1,0)","v":{"$error":"#REF!"}},"支持独立, 台独分子",null,0,0,0]
[63079,1197411,"tongue-tied",{"$f":"IF(VLOOKUP(C60781,#REF!,2,0)>0,1,0)","v":{"$error":"#REF!"}},"语塞",null,0,0,0]
[63137,1197443,"gawky",{"$f":"IF(VLOOKUP(C60836,#REF!,2,0)>0,1,0)","v":{"$error":"#REF!"}},"迟钝的, 笨拙的",null,0,0,0]
[63176,1197472,"privateer",{"$f":"IF(VLOOKUP(C60872,#REF!,2,0)>0,1,0)","v":{"$error":"#REF!"}},"（战时特准攻击敌方商船的）武装民船, 私掠船",null,0,0,0]
[63225,1197499,"crit",{"$f":"IF(VLOOKUP(C60916,#REF!,2,0)>0,1,0)","v":{"$error":"#REF!"}},"[指环王Online]criticalhitorcast, 重击.游戏人物都有自己的重击率, 每次魔法攻击或者物理攻击都有一定的几率造成比平常更高的伤害.",null,0,0,0]
[63270,1197524,"indenture",{"$f":"IF(VLOOKUP(C60959,#REF!,2,0)>0,1,0)","v":{"$error":"#REF!"}},"合同",null,0,0,0]
[63312,1197549,"sweet-smelling",{"$f":"IF(VLOOKUP(C60995,#REF!,2,0)>0,1,0)","v":{"$error":"#REF!"}},"香",null,0,0,0]
[63331,1197558,"abscond",{"$f":"IF(VLOOKUP(C61013,#REF!,2,0)>0,1,0)","v":{"$error":"#REF!"}},"（尤指逃避逮捕）潜逃, 逃跑",null,0,0,0]
[63406,1197612,"speedster",{"$f":"IF(VLOOKUP(C61082,#REF!,2,0)>0,1,0)","v":{"$error":"#REF!"}},"高速行进的人, 高速汽车, 超速驾驶者",null,0,0,0]
[63456,1197638,"guidepost",{"$f":"IF(VLOOKUP(C61128,#REF!,2,0)>0,1,0)","v":{"$error":"#REF!"}},"路标, 路牌",null,0,0,0]
[63498,1197660,"solon",{"$f":"IF(VLOOKUP(C61169,#REF!,2,0)>0,1,0)","v":{"$error":"#REF!"}},"梭伦（古雅典政治家和立法家）, 贤人, <美口>议员",null,0,0,0]
[63537,1197686,"dander",{"$f":"IF(VLOOKUP(C61205,#REF!,2,0)>0,1,0)","v":{"$error":"#REF!"}},"激怒某人",null,0,0,0]
[63599,1197722,"shielding",{"$f":"IF(VLOOKUP(C61263,#REF!,2,0)>0,1,0)","v":{"$error":"#REF!"}},"给…加防护罩",null,0,0,0]
[63629,1197738,"anti-trust",{"$f":"IF(VLOOKUP(C61292,#REF!,2,0)>0,1,0)","v":{"$error":"#REF!"}},"反托拉斯",null,0,0,0]
[63679,1197769,"penumbra",{"$f":"IF(VLOOKUP(C61340,#REF!,2,0)>0,1,0)","v":{"$error":"#REF!"}},"边缘",null,0,0,0]
[63718,1197785,"tripling",{"$f":"IF(VLOOKUP(C61379,#REF!,2,0)>0,1,0)","v":{"$error":"#REF!"}},"三重",null,0,0,0]
[63757,1197808,"gabled",{"$f":"IF(VLOOKUP(C61415,#REF!,2,0)>0,1,0)","v":{"$error":"#REF!"}},"有山形墙的, 有人形墙的",null,0,0,0]
[63823,1197850,"turboprop",{"$f":"IF(VLOOKUP(C61475,#REF!,2,0)>0,1,0)","v":{"$error":"#REF!"}},"涡轮螺旋桨发动机",null,0,0,0]
[63851,1197875,"guano",{"$f":"IF(VLOOKUP(C61502,#REF!,2,0)>0,1,0)","v":{"$error":"#REF!"}},"在…上施鸟粪或肥料",null,0,0,0]
[63903,1197904,"stuffer",{"$f":"IF(VLOOKUP(C61552,#REF!,2,0)>0,1,0)","v":{"$error":"#REF!"}},"填充者",null,0,0,0]
[63927,1197921,"ballyhoo",{"$f":"IF(VLOOKUP(C61573,#REF!,2,0)>0,1,0)","v":{"$error":"#REF!"}},"喧闹",null,0,0,0]
[63982,1197949,"flippant",{"$f":"IF(VLOOKUP(C61625,#REF!,2,0)>0,1,0)","v":{"$error":"#REF!"}},"油头滑脑",null,0,0,0]
[64045,1197986,"attracted",{"$f":"IF(VLOOKUP(C61687,#REF!,2,0)>0,1,0)","v":{"$error":"#REF!"}},"具有吸引力",null,0,0,0]
[64072,1197997,"corpulent",{"$f":"IF(VLOOKUP(C61712,#REF!,2,0)>0,1,0)","v":{"$error":"#REF!"}},"便便",null,0,0,0]
[64130,1198032,"ranting",{"$f":"IF(VLOOKUP(C61764,#REF!,2,0)>0,1,0)","v":{"$error":"#REF!"}},"不停地大声抱怨",null,0,0,0]
[64150,1198044,"unipolar",{"$f":"IF(VLOOKUP(C61783,#REF!,2,0)>0,1,0)","v":{"$error":"#REF!"}},"单极的",null,0,0,0]
[64206,1198081,"motoring",{"$f":"IF(VLOOKUP(C61835,#REF!,2,0)>0,1,0)","v":{"$error":"#REF!"}},"驾驶汽车",null,0,0,0]
[64273,1198133,"chummy",{"$f":"IF(VLOOKUP(C61899,#REF!,2,0)>0,1,0)","v":{"$error":"#REF!"}},"非常友好的",null,0,0,0]
[64298,1198147,"flared",{"$f":"IF(VLOOKUP(C61922,#REF!,2,0)>0,1,0)","v":{"$error":"#REF!"}},"(使)(船舷)外倾",null,0,0,0]
[64357,1198185,"unpromising",{"$f":"IF(VLOOKUP(C61976,#REF!,2,0)>0,1,0)","v":{"$error":"#REF!"}},"无前途的, 没有希望的",null,0,0,0]
[64374,1198193,"beneficence",{"$f":"IF(VLOOKUP(C61993,#REF!,2,0)>0,1,0)","v":{"$error":"#REF!"}},"行善",null,0,0,0]
[64431,1198230,"monosyllabic",{"$f":"IF(VLOOKUP(C62045,#REF!,2,0)>0,1,0)","v":{"$error":"#REF!"}},"（言语）简短而粗鲁的",null,0,0,0]
[64501,1198275,"boo-boo",{"$f":"IF(VLOOKUP(C62111,#REF!,2,0)>0,1,0)","v":{"$error":"#REF!"}},"<俚>愚蠢的错误, 轻伤",null,0,0,0]
[64551,1198312,"poultice",{"$f":"IF(VLOOKUP(C62159,#REF!,2,0)>0,1,0)","v":{"$error":"#REF!"}},"膏状药",null,0,0,0]
[64582,1198333,"anaphylaxis",{"$f":"IF(VLOOKUP(C62188,#REF!,2,0)>0,1,0)","v":{"$error":"#REF!"}},"过敏性",null,0,0,0]
[64598,1198344,"collegian",{"$f":"IF(VLOOKUP(C62203,#REF!,2,0)>0,1,0)","v":{"$error":"#REF!"}},"学院的一员, 学院的学生",null,0,0,0]
[64654,1198384,"self-perceived",{"$f":"IF(VLOOKUP(C62255,#REF!,2,0)>0,1,0)","v":{"$error":"#REF!"}},"自我感知",null,0,0,0]
[64728,1198429,"dipole",{"$f":"IF(VLOOKUP(C62323,#REF!,2,0)>0,1,0)","v":{"$error":"#REF!"}},"振子",null,0,0,0]
[64779,1198454,"mutated",{"$f":"IF(VLOOKUP(C62369,#REF!,2,0)>0,1,0)","v":{"$error":"#REF!"}},"变异",null,0,0,0]
[64788,1198462,"procrastinator",{"$f":"IF(VLOOKUP(C62378,#REF!,2,0)>0,1,0)","v":{"$error":"#REF!"}},"拖延者, 拖拉者, 因循者",null,0,0,0]
[64873,1198511,"helmeted",{"$f":"IF(VLOOKUP(C62458,#REF!,2,0)>0,1,0)","v":{"$error":"#REF!"}},"头盔状的",null,0,0,0]
[64880,1198515,"infliction",{"$f":"IF(VLOOKUP(C62465,#REF!,2,0)>0,1,0)","v":{"$error":"#REF!"}},"施加的事物",null,0,0,0]
[64956,1198563,"vexed",{"$f":"IF(VLOOKUP(C62535,#REF!,2,0)>0,1,0)","v":{"$error":"#REF!"}},"(指问题等)棘手的",null,0,0,0]
[65006,1198592,"hard-to-reach",{"$f":"IF(VLOOKUP(C62579,#REF!,2,0)>0,1,0)","v":{"$error":"#REF!"}},"难接触",null,0,0,0]
[65016,1198595,"idiomatic",{"$f":"IF(VLOOKUP(C62588,#REF!,2,0)>0,1,0)","v":{"$error":"#REF!"}},"含有习语的",null,0,0,0]
[65103,1198666,"sadomasochistic",{"$f":"IF(VLOOKUP(C62670,#REF!,2,0)>0,1,0)","v":{"$error":"#REF!"}},"[医]施虐受虐狂的",null,0,0,0]
[65138,1198690,"baccarat",{"$f":"IF(VLOOKUP(C62702,#REF!,2,0)>0,1,0)","v":{"$error":"#REF!"}},"（流行于欧洲赌场, 通常由三人玩的）巴卡拉纸牌游戏",null,0,0,0]
[65186,1198719,"glancing",{"$f":"IF(VLOOKUP(C62747,#REF!,2,0)>0,1,0)","v":{"$error":"#REF!"}},"闪耀",null,0,0,0]
[65232,1198755,"stonewall",{"$f":"IF(VLOOKUP(C62789,#REF!,2,0)>0,1,0)","v":{"$error":"#REF!"}},"（用冗长发言或拒绝回答问题等）拖延[阻碍]议事, 设置障碍",null,0,0,0]
[65286,1198785,"cited",{"$f":"IF(VLOOKUP(C62841,#REF!,2,0)>0,1,0)","v":{"$error":"#REF!"}},"记起",null,0,0,0]
[65333,1198814,"kickball",{"$f":"IF(VLOOKUP(C62882,#REF!,2,0)>0,1,0)","v":{"$error":"#REF!"}},"儿童足球",null,0,0,0]
[65363,1198833,"pick-me-up",{"$f":"IF(VLOOKUP(C62912,#REF!,2,0)>0,1,0)","v":{"$error":"#REF!"}},"含酒精的饮料, 提神的酒",null,0,0,0]
[65413,1198866,"bagger",{"$f":"IF(VLOOKUP(C62959,#REF!,2,0)>0,1,0)","v":{"$error":"#REF!"}},"杓斗",null,0,0,0]
[65453,1198894,"jib",{"$f":"IF(VLOOKUP(C62999,#REF!,2,0)>0,1,0)","v":{"$error":"#REF!"}},"（起重机的）悬臂",null,0,0,0]
[65491,1198912,"scruff",{"$f":"IF(VLOOKUP(C63035,#REF!,2,0)>0,1,0)","v":{"$error":"#REF!"}},"<英, 非正>邋遢人",null,0,0,0]
[65556,1198962,"mediastinal",{"$f":"IF(VLOOKUP(C63094,#REF!,2,0)>0,1,0)","v":{"$error":"#REF!"}},"[医]纵隔的",null,0,0,0]
[65586,1198984,"self-propelled",{"$f":"IF(VLOOKUP(C63122,#REF!,2,0)>0,1,0)","v":{"$error":"#REF!"}},"自走式",null,0,0,0]
[65638,1199017,"giddiness",{"$f":"IF(VLOOKUP(C63171,#REF!,2,0)>0,1,0)","v":{"$error":"#REF!"}},"眩晕",null,0,0,0]
[65679,1199058,"twitchy",{"$f":"IF(VLOOKUP(C63209,#REF!,2,0)>0,1,0)","v":{"$error":"#REF!"}},"焦躁不安的",null,0,0,0]
[65720,1199089,"flutist",{"$f":"IF(VLOOKUP(C63245,#REF!,2,0)>0,1,0)","v":{"$error":"#REF!"}},"横笛吹奏者, 笛手",null,0,0,0]
[65782,1199136,"titled",{"$f":"IF(VLOOKUP(C63306,#REF!,2,0)>0,1,0)","v":{"$error":"#REF!"}},"有称号的",null,0,0,0]
[65812,1199148,"blowback",{"$f":"IF(VLOOKUP(C63332,#REF!,2,0)>0,1,0)","v":{"$error":"#REF!"}},"后座, 后座力",null,0,0,0]
[65867,1199186,"indicated",{"$f":"IF(VLOOKUP(C63383,#REF!,2,0)>0,1,0)","v":{"$error":"#REF!"}},"象征",null,0,0,0]
[65906,1199205,"sidecar",{"$f":"IF(VLOOKUP(C63419,#REF!,2,0)>0,1,0)","v":{"$error":"#REF!"}},"轻快的双轮马车, （附于摩托车旁的）边车, 跨斗",null,0,0,0]
[65946,1199230,"chicanery",{"$f":"IF(VLOOKUP(C63455,#REF!,2,0)>0,1,0)","v":{"$error":"#REF!"}},"耍花招哄骗别人（尤指于法律事务中）",null,0,0,0]
[66014,1199273,"prescribing",{"$f":"IF(VLOOKUP(C63518,#REF!,2,0)>0,1,0)","v":{"$error":"#REF!"}},"规定",null,0,0,0]
[66038,1199289,"unavailability",{"$f":"IF(VLOOKUP(C63542,#REF!,2,0)>0,1,0)","v":{"$error":"#REF!"}},"无效, 没有利用率",null,0,0,0]
[66091,1199330,"incoherently",{"$f":"IF(VLOOKUP(C63591,#REF!,2,0)>0,1,0)","v":{"$error":"#REF!"}},"无条理地",null,0,0,0]
[66129,1199355,"sheepdog",{"$f":"IF(VLOOKUP(C63629,#REF!,2,0)>0,1,0)","v":{"$error":"#REF!"}},"牧羊犬",null,0,0,0]
[66168,1199380,"administered",{"$f":"IF(VLOOKUP(C63665,#REF!,2,0)>0,1,0)","v":{"$error":"#REF!"}},"给予",null,0,0,0]
[66236,1199437,"pneumatology",{"$f":"IF(VLOOKUP(C63730,#REF!,2,0)>0,1,0)","v":{"$error":"#REF!"}},"灵物学, 圣灵学, 气体（治疗）学",null,0,0,0]
[66260,1199451,"sleepwalker",{"$f":"IF(VLOOKUP(C63752,#REF!,2,0)>0,1,0)","v":{"$error":"#REF!"}},"梦游者",null,0,0,0]
[66298,1199479,"deliverer",{"$f":"IF(VLOOKUP(C63788,#REF!,2,0)>0,1,0)","v":{"$error":"#REF!"}},"递送人",null,0,0,0]
[66334,1199500,"leaker",{"$f":"IF(VLOOKUP(C63823,#REF!,2,0)>0,1,0)","v":{"$error":"#REF!"}},"漏钢",null,0,0,0]
[66389,1199529,"stockroom",{"$f":"IF(VLOOKUP(C63875,#REF!,2,0)>0,1,0)","v":{"$error":"#REF!"}},"仓库, 储藏室",null,0,0,0]
[66455,1199575,"galosh",{"$f":"IF(VLOOKUP(C63938,#REF!,2,0)>0,1,0)","v":{"$error":"#REF!"}},"橡胶套鞋",null,0,0,0]
[66479,1199590,"kabob",{"$f":"IF(VLOOKUP(C63962,#REF!,2,0)>0,1,0)","v":{"$error":"#REF!"}},"烤肉串",null,0,0,0]
[66517,1199613,"regrow",{"$f":"IF(VLOOKUP(C63998,#REF!,2,0)>0,1,0)","v":{"$error":"#REF!"}},"再生, 继续生长",null,0,0,0]
[66600,1199674,"metalworking",{"$f":"IF(VLOOKUP(C64077,#REF!,2,0)>0,1,0)","v":{"$error":"#REF!"}},"金工",null,0,0,0]
[66608,1199679,"off-color",{"$f":"IF(VLOOKUP(C64085,#REF!,2,0)>0,1,0)","v":{"$error":"#REF!"}},"脸色不好的",null,0,0,0]
[66681,1199721,"abridged",{"$f":"IF(VLOOKUP(C64150,#REF!,2,0)>0,1,0)","v":{"$error":"#REF!"}},"<古>剥夺（某人的）权利（或特权等）",null,0,0,0]
[66709,1199736,"chignon",{"$f":"IF(VLOOKUP(C64172,#REF!,2,0)>0,1,0)","v":{"$error":"#REF!"}},"假髻",null,0,0,0]
[66745,1199763,"hyoid",{"$f":"IF(VLOOKUP(C64208,#REF!,2,0)>0,1,0)","v":{"$error":"#REF!"}},"U字形的, 舌骨的",null,0,0,0]
[66835,1199812,"wiggly",{"$f":"IF(VLOOKUP(C64289,#REF!,2,0)>0,1,0)","v":{"$error":"#REF!"}},"扭动的",null,0,0,0]
[66842,1199816,"arriving",{"$f":"IF(VLOOKUP(C64295,#REF!,2,0)>0,1,0)","v":{"$error":"#REF!"}},"发生",null,0,0,0]
[66916,1199869,"oxbow",{"$f":"IF(VLOOKUP(C64362,#REF!,2,0)>0,1,0)","v":{"$error":"#REF!"}},"牛轭U字形部分, U字形弯曲",null,0,0,0]
[66937,1199881,"sepulchre",{"$f":"IF(VLOOKUP(C64382,#REF!,2,0)>0,1,0)","v":{"$error":"#REF!"}},"埋葬",null,0,0,0]
[67022,1199943,"gizzard",{"$f":"IF(VLOOKUP(C64461,#REF!,2,0)>0,1,0)","v":{"$error":"#REF!"}},"（鸟的）砂囊",null,0,0,0]
[67059,1199974,"person-to-person",{"$f":"IF(VLOOKUP(C64497,#REF!,2,0)>0,1,0)","v":{"$error":"#REF!"}},"私人间的, 个人的",null,0,0,0]
[67067,1199980,"pubertal",{"$f":"IF(VLOOKUP(C64505,#REF!,2,0)>0,1,0)","v":{"$error":"#REF!"}},"青春期的, 发育期的",null,0,0,0]
[67141,1200033,"interoperability",{"$f":"IF(VLOOKUP(C64574,#REF!,2,0)>0,1,0)","v":{"$error":"#REF!"}},"互用性, 协同工作的能力",null,0,0,0]
[67159,1200045,"nepali",{"$f":"IF(VLOOKUP(C64592,#REF!,2,0)>0,1,0)","v":{"$error":"#REF!"}},"尼泊尔语",null,0,0,0]
[67244,1200115,"intellectualism",{"$f":"IF(VLOOKUP(C64671,#REF!,2,0)>0,1,0)","v":{"$error":"#REF!"}},"知性主义, 对理智的偏重, 理智主义",null,0,0,0]
[67283,1200143,"runabout",{"$f":"IF(VLOOKUP(C64709,#REF!,2,0)>0,1,0)","v":{"$error":"#REF!"}},"流浪的",null,0,0,0]
[67335,1200178,"balkanization",{"$f":"IF(VLOOKUP(C64758,#REF!,2,0)>0,1,0)","v":{"$error":"#REF!"}},"分割成小国, 使割据",null,0,0,0]
[67367,1200197,"dissolute",{"$f":"IF(VLOOKUP(C64786,#REF!,2,0)>0,1,0)","v":{"$error":"#REF!"}},"风流",null,0,0,0]
[67383,1200209,"high-fashion",{"$f":"IF(VLOOKUP(C64802,#REF!,2,0)>0,1,0)","v":{"$error":"#REF!"}},"（尤指女式服装）最新款式的, 最新式样的",null,0,0,0]
[67468,1200257,"washed-up",{"$f":"IF(VLOOKUP(C64881,#REF!,2,0)>0,1,0)","v":{"$error":"#REF!"}},"输了的",null,0,0,0]
[67510,1200277,"churlish",{"$f":"IF(VLOOKUP(C64921,#REF!,2,0)>0,1,0)","v":{"$error":"#REF!"}},"无礼的",null,0,0,0]
[67561,1200309,"looper",{"$f":"IF(VLOOKUP(C64968,#REF!,2,0)>0,1,0)","v":{"$error":"#REF!"}},"作线环的人, 作线环的装置",null,0,0,0]
[67597,1200337,"redbud",{"$f":"IF(VLOOKUP(C65004,#REF!,2,0)>0,1,0)","v":{"$error":"#REF!"}},"紫荆属植物, 美国紫荆",null,0,0,0]
[67654,1200371,"comandante",{"$f":"IF(VLOOKUP(C65056,#REF!,2,0)>0,1,0)","v":{"$error":"#REF!"}},"司令官, 指挥官",null,0,0,0]
[67690,1200398,"hypotension",{"$f":"IF(VLOOKUP(C65091,#REF!,2,0)>0,1,0)","v":{"$error":"#REF!"}},"血压过低",null,0,0,0]
[67734,1200425,"psychophysical",{"$f":"IF(VLOOKUP(C65133,#REF!,2,0)>0,1,0)","v":{"$error":"#REF!"}},"[医]精神物理学的",null,0,0,0]
[67782,1200459,"astigmatism",{"$f":"IF(VLOOKUP(C65178,#REF!,2,0)>0,1,0)","v":{"$error":"#REF!"}},"散光",null,0,0,0]
[67820,1200488,"gratuitously",{"$f":"IF(VLOOKUP(C65214,#REF!,2,0)>0,1,0)","v":{"$error":"#REF!"}},"平白",null,0,0,0]
[67876,1200534,"slipping",{"$f":"IF(VLOOKUP(C65268,#REF!,2,0)>0,1,0)","v":{"$error":"#REF!"}},"<美俚>渐渐松驰的, 渐渐不行了的, 渐渐变懒的",null,0,0,0]
[67914,1200558,"bleaching",{"$f":"IF(VLOOKUP(C65301,#REF!,2,0)>0,1,0)","v":{"$error":"#REF!"}},"漂白的",null,0,0,0]
[67961,1200588,"grandstanding",{"$f":"IF(VLOOKUP(C65345,#REF!,2,0)>0,1,0)","v":{"$error":"#REF!"}},"作秀",null,0,0,0]
[67990,1200606,"microtubule",{"$f":"IF(VLOOKUP(C65372,#REF!,2,0)>0,1,0)","v":{"$error":"#REF!"}},"微管",null,0,0,0]
[68046,1200638,"sunbather",{"$f":"IF(VLOOKUP(C65424,#REF!,2,0)>0,1,0)","v":{"$error":"#REF!"}},"晒太阳的人",null,0,0,0]
[68106,1200678,"dally",{"$f":"IF(VLOOKUP(C65480,#REF!,2,0)>0,1,0)","v":{"$error":"#REF!"}},"调情",null,0,0,0]
[68138,1200707,"nitroglycerin",{"$f":"IF(VLOOKUP(C65511,#REF!,2,0)>0,1,0)","v":{"$error":"#REF!"}},"硝化甘油, 炸药",null,0,0,0]
[68188,1200743,"turnkey",{"$f":"IF(VLOOKUP(C65557,#REF!,2,0)>0,1,0)","v":{"$error":"#REF!"}},"监狱的看守",null,0,0,0]
[68215,1200761,"bewitched",{"$f":"IF(VLOOKUP(C65582,#REF!,2,0)>0,1,0)","v":{"$error":"#REF!"}},"令(某人)心醉, 入迷",null,0,0,0]
[68269,1200803,"intrusiveness",{"$f":"IF(VLOOKUP(C65634,#REF!,2,0)>0,1,0)","v":{"$error":"#REF!"}},"侵扰性",null,0,0,0]
[68331,1200838,"street-smart",{"$f":"IF(VLOOKUP(C65692,#REF!,2,0)>0,1,0)","v":{"$error":"#REF!"}},{"$error":"#NAME?"},null,0,0,0]
[68362,1200862,"banked",{"$f":"IF(VLOOKUP(C65721,#REF!,2,0)>0,1,0)","v":{"$error":"#REF!"}},"筑(堤)",null,0,0,0]
[68415,1200905,"lantana",{"$f":"IF(VLOOKUP(C65769,#REF!,2,0)>0,1,0)","v":{"$error":"#REF!"}},"马樱丹属",null,0,0,0]
[68439,1200923,"nary",{"$f":"IF(VLOOKUP(C65792,#REF!,2,0)>0,1,0)","v":{"$error":"#REF!"}},"连…也没有的",null,0,0,0]
[68494,1200959,"truncheon",{"$f":"IF(VLOOKUP(C65844,#REF!,2,0)>0,1,0)","v":{"$error":"#REF!"}},"<古>用棍子打, 用警棍打",null,0,0,0]
[68555,1201006,"imputation",{"$f":"IF(VLOOKUP(C65904,#REF!,2,0)>0,1,0)","v":{"$error":"#REF!"}},"归罪",null,0,0,0]
[68567,1201010,"invested",{"$f":"IF(VLOOKUP(C65915,#REF!,2,0)>0,1,0)","v":{"$error":"#REF!"}},"投入(时间、精力等)",null,0,0,0]
[68635,1201062,"barrenness",{"$f":"IF(VLOOKUP(C65981,#REF!,2,0)>0,1,0)","v":{"$error":"#REF!"}},"不育症, 不孕症",null,0,0,0]
[68656,1201086,"hopping",{"$f":"IF(VLOOKUP(C66002,#REF!,2,0)>0,1,0)","v":{"$error":"#REF!"}},"卖力的, 忙碌的",null,0,0,0]
[68712,1201125,"razzle-dazzle",{"$f":"IF(VLOOKUP(C66054,#REF!,2,0)>0,1,0)","v":{"$error":"#REF!"}},"<俚>哄闹, 狂饮喧闹",null,0,0,0]
[68775,1201159,"accouterments",{"$f":"IF(VLOOKUP(C66116,#REF!,2,0)>0,1,0)","v":{"$error":"#REF!"}},"常规",null,0,0,0]
[68785,1201167,"breathlessness",{"$f":"IF(VLOOKUP(C66125,#REF!,2,0)>0,1,0)","v":{"$error":"#REF!"}},"气绝",null,0,0,0]
[68860,1201220,"pampas",{"$f":"IF(VLOOKUP(C66193,#REF!,2,0)>0,1,0)","v":{"$error":"#REF!"}},"南美无树木的大草原",null,0,0,0]
[68880,1201235,"resolved",{"$f":"IF(VLOOKUP(C66212,#REF!,2,0)>0,1,0)","v":{"$error":"#REF!"}},"已解决的",null,0,0,0]
[68938,1201271,"amputated",{"$f":"IF(VLOOKUP(C66264,#REF!,2,0)>0,1,0)","v":{"$error":"#REF!"}},"删除",null,0,0,0]
[69006,1201318,"nervy",{"$f":"IF(VLOOKUP(C66328,#REF!,2,0)>0,1,0)","v":{"$error":"#REF!"}},"<美><俚>有勇气的",null,0,0,0]
[69058,1201346,"swashbuckling",{"$f":"IF(VLOOKUP(C66378,#REF!,2,0)>0,1,0)","v":{"$error":"#REF!"}},"虚张声势",null,0,0,0]
[69067,1201353,"unasked",{"$f":"IF(VLOOKUP(C66387,#REF!,2,0)>0,1,0)","v":{"$error":"#REF!"}},"未被问及的, 未经邀请的",null,0,0,0]
[69148,1201404,"hogwash",{"$f":"IF(VLOOKUP(C66463,#REF!,2,0)>0,1,0)","v":{"$error":"#REF!"}},"泔水",null,0,0,0]
[69188,1201434,"privet",{"$f":"IF(VLOOKUP(C66501,#REF!,2,0)>0,1,0)","v":{"$error":"#REF!"}},"女贞",null,0,0,0]
[69228,1201462,"undercarriage",{"$f":"IF(VLOOKUP(C66540,#REF!,2,0)>0,1,0)","v":{"$error":"#REF!"}},"（飞机的）起落架, 车盘, 着陆装置",null,0,0,0]
[69280,1201492,"crossly",{"$f":"IF(VLOOKUP(C66588,#REF!,2,0)>0,1,0)","v":{"$error":"#REF!"}},"相反地",null,0,0,0]
[69290,1201499,"duro",{"$f":"IF(VLOOKUP(C66597,#REF!,2,0)>0,1,0)","v":{"$error":"#REF!"}},"杜罗（西班牙及通用西班牙语美洲国家值1比索的银元）",null,0,0,0]
[69371,1201555,"pimply",{"$f":"IF(VLOOKUP(C66675,#REF!,2,0)>0,1,0)","v":{"$error":"#REF!"}},"有疙瘩的",null,0,0,0]
[69410,1201579,"tamer",{"$f":"IF(VLOOKUP(C66711,#REF!,2,0)>0,1,0)","v":{"$error":"#REF!"}},"温顺的",null,0,0,0]
[69454,1201608,"blistered",{"$f":"IF(VLOOKUP(C66752,#REF!,2,0)>0,1,0)","v":{"$error":"#REF!"}},"水疮状的, 泡状的",null,0,0,0]
[69505,1201636,"internee",{"$f":"IF(VLOOKUP(C66798,#REF!,2,0)>0,1,0)","v":{"$error":"#REF!"}},"（被看作战俘的人）被拘留者",null,0,0,0]
[69545,1201658,"paperboy",{"$f":"IF(VLOOKUP(C66834,#REF!,2,0)>0,1,0)","v":{"$error":"#REF!"}},"报童, 送报人",null,0,0,0]
[69602,1201703,"airily",{"$f":"IF(VLOOKUP(C66887,#REF!,2,0)>0,1,0)","v":{"$error":"#REF!"}},"轻率地",null,0,0,0]
[69638,1201731,"erotically",{"$f":"IF(VLOOKUP(C66921,#REF!,2,0)>0,1,0)","v":{"$error":"#REF!"}},"引起性欲地",null,0,0,0]
[69684,1201769,"nutcase",{"$f":"IF(VLOOKUP(C66964,#REF!,2,0)>0,1,0)","v":{"$error":"#REF!"}},"疯子",null,0,0,0]
[69734,1201807,"tempura",{"$f":"IF(VLOOKUP(C67008,#REF!,2,0)>0,1,0)","v":{"$error":"#REF!"}},"<日>天麸罗（日本菜肴）",null,0,0,0]
[69773,1201837,"broadsword",{"$f":"IF(VLOOKUP(C67044,#REF!,2,0)>0,1,0)","v":{"$error":"#REF!"}},"（宽刃）大砍刀",null,0,0,0]
[69831,1201886,"nearsightedness",{"$f":"IF(VLOOKUP(C67099,#REF!,2,0)>0,1,0)","v":{"$error":"#REF!"}},"目光短浅",null,0,0,0]
[69867,1201902,"repugnance",{"$f":"IF(VLOOKUP(C67131,#REF!,2,0)>0,1,0)","v":{"$error":"#REF!"}},"不一致",null,0,0,0]
[69913,1201941,"aurally",{"$f":"IF(VLOOKUP(C67176,#REF!,2,0)>0,1,0)","v":{"$error":"#REF!"}},"听觉上",null,0,0,0]
[69959,1201977,"intensifying",{"$f":"IF(VLOOKUP(C67218,#REF!,2,0)>0,1,0)","v":{"$error":"#REF!"}},"增辉",null,0,0,0]
[69996,1201998,"quaff",{"$f":"IF(VLOOKUP(C67254,#REF!,2,0)>0,1,0)","v":{"$error":"#REF!"}},"大口大口将…喝干",null,0,0,0]
[70055,1202032,"anti-intellectual",{"$f":"IF(VLOOKUP(C67311,#REF!,2,0)>0,1,0)","v":{"$error":"#REF!"}},"反对（或敌视）知识分子的人, 反对（或敌视）知识分子观点（或方法）的人",null,0,0,0]
[70085,1202053,"disparagingly",{"$f":"IF(VLOOKUP(C67341,#REF!,2,0)>0,1,0)","v":{"$error":"#REF!"}},"以贬抑的口吻, 以轻视的态度",null,0,0,0]
[70128,1202086,"multimodal",{"$f":"IF(VLOOKUP(C67384,#REF!,2,0)>0,1,0)","v":{"$error":"#REF!"}},"多峰",null,0,0,0]
[70176,1202118,"stickleback",{"$f":"IF(VLOOKUP(C67428,#REF!,2,0)>0,1,0)","v":{"$error":"#REF!"}},"棘鱼",null,0,0,0]
[70214,1202136,"adulterate",{"$f":"IF(VLOOKUP(C67464,#REF!,2,0)>0,1,0)","v":{"$error":"#REF!"}},"（尤指食物）掺假",null,0,0,0]
[70275,1202173,"enigmatically",{"$f":"IF(VLOOKUP(C67523,#REF!,2,0)>0,1,0)","v":{"$error":"#REF!"}},"莫名其妙地, 难以理解地",null,0,0,0]
[70304,1202196,"maharishi",{"$f":"IF(VLOOKUP(C67551,#REF!,2,0)>0,1,0)","v":{"$error":"#REF!"}},"（印度的）智者, 圣贤",null,0,0,0]
[70345,1202233,"sunless",{"$f":"IF(VLOOKUP(C67587,#REF!,2,0)>0,1,0)","v":{"$error":"#REF!"}},"阳光照射不到的, 阴暗的",null,0,0,0]
[70376,1202247,"unstuck",{"$f":"IF(VLOOKUP(C67616,#REF!,2,0)>0,1,0)","v":{"$error":"#REF!"}},"失败",null,0,0,0]
[70438,1202291,"end-use",{"$f":"IF(VLOOKUP(C67674,#REF!,2,0)>0,1,0)","v":{"$error":"#REF!"}},"[计]使用端, 最终使用（户）",null,0,0,0]
[70496,1202332,"overextended",{"$f":"IF(VLOOKUP(C67731,#REF!,2,0)>0,1,0)","v":{"$error":"#REF!"}},"冒过多风险的, 放账过多的",null,0,0,0]
[70528,1202353,"sifter",{"$f":"IF(VLOOKUP(C67761,#REF!,2,0)>0,1,0)","v":{"$error":"#REF!"}},"罗",null,0,0,0]
[70565,1202387,"clothed",{"$f":"IF(VLOOKUP(C67797,#REF!,2,0)>0,1,0)","v":{"$error":"#REF!"}},"覆盖著…的",null,0,0,0]
[70599,1202404,"franchisor",{"$f":"IF(VLOOKUP(C67828,#REF!,2,0)>0,1,0)","v":{"$error":"#REF!"}},"授予特许者",null,0,0,0]
[70658,1202459,"singlet",{"$f":"IF(VLOOKUP(C67884,#REF!,2,0)>0,1,0)","v":{"$error":"#REF!"}},"汗衫, 单衬衣",null,0,0,0]
[70721,1202498,"choked",{"$f":"IF(VLOOKUP(C67943,#REF!,2,0)>0,1,0)","v":{"$error":"#REF!"}},"(使)窒息",null,0,0,0]
[70753,1202523,"highwayman",{"$f":"IF(VLOOKUP(C67971,#REF!,2,0)>0,1,0)","v":{"$error":"#REF!"}},"（旧时）拦路抢劫的强盗（通常骑马持械）",null,0,0,0]
[70791,1202555,"planer",{"$f":"IF(VLOOKUP(C68007,#REF!,2,0)>0,1,0)","v":{"$error":"#REF!"}},"刨路机",null,0,0,0]
[70869,1202612,"altiplano",{"$f":"IF(VLOOKUP(C68082,#REF!,2,0)>0,1,0)","v":{"$error":"#REF!"}},"高原",null,0,0,0]
[70883,1202623,"bottlenose",{"$f":"IF(VLOOKUP(C68094,#REF!,2,0)>0,1,0)","v":{"$error":"#REF!"}},"宽吻海豚",null,0,0,0]
[70947,1202672,"marchese",{"$f":"IF(VLOOKUP(C68155,#REF!,2,0)>0,1,0)","v":{"$error":"#REF!"}},"<意>侯爵",null,0,0,0]
[70974,1202699,"revamping",{"$f":"IF(VLOOKUP(C68181,#REF!,2,0)>0,1,0)","v":{"$error":"#REF!"}},"翻新",null,0,0,0]
[71012,1202727,"accelerant",{"$f":"IF(VLOOKUP(C68217,#REF!,2,0)>0,1,0)","v":{"$error":"#REF!"}},"促进剂",null,0,0,0]
[71091,1202785,"hooting",{"$f":"IF(VLOOKUP(C68290,#REF!,2,0)>0,1,0)","v":{"$error":"#REF!"}},"倒彩",null,0,0,0]
[71105,1202799,"macaque",{"$f":"IF(VLOOKUP(C68304,#REF!,2,0)>0,1,0)","v":{"$error":"#REF!"}},"狙",null,0,0,0]
[71175,1202858,"attestation",{"$f":"IF(VLOOKUP(C68367,#REF!,2,0)>0,1,0)","v":{"$error":"#REF!"}},"证词",null,0,0,0]
[71201,1202881,"epigenetic",{"$f":"IF(VLOOKUP(C68391,#REF!,2,0)>0,1,0)","v":{"$error":"#REF!"}},"外成的, 具有外成性质的",null,0,0,0]
[71241,1202910,"loosened",{"$f":"IF(VLOOKUP(C68427,#REF!,2,0)>0,1,0)","v":{"$error":"#REF!"}},"(使)放松",null,0,0,0]
[71318,1202961,"undigested",{"$f":"IF(VLOOKUP(C68502,#REF!,2,0)>0,1,0)","v":{"$error":"#REF!"}},"（尤指信息、事实等）没有整理好的",null,0,0,0]
[71331,1202971,"whiskered",{"$f":"IF(VLOOKUP(C68514,#REF!,2,0)>0,1,0)","v":{"$error":"#REF!"}},"有须的",null,0,0,0]
[71396,1203027,"individuate",{"$f":"IF(VLOOKUP(C68579,#REF!,2,0)>0,1,0)","v":{"$error":"#REF!"}},"赋予个性, 使个体化",null,0,0,0]
[71418,1203041,"milled",{"$f":"IF(VLOOKUP(C68601,#REF!,2,0)>0,1,0)","v":{"$error":"#REF!"}},"铣过的",null,0,0,0]
[71457,1203062,"rent-seeking",{"$f":"IF(VLOOKUP(C68637,#REF!,2,0)>0,1,0)","v":{"$error":"#REF!"}},"寻租",null,0,0,0]
[71539,1203116,"Argentinean",{"$f":"IF(VLOOKUP(C68714,#REF!,2,0)>0,1,0)","v":{"$error":"#REF!"}},"阿根廷的, 阿根廷人的",null,0,0,0]
[71551,1203123,"cetacean",{"$f":"IF(VLOOKUP(C68724,#REF!,2,0)>0,1,0)","v":{"$error":"#REF!"}},"鲸目动物的",null,0,0,0]
[71623,1203181,"quartier",{"$f":"IF(VLOOKUP(C68791,#REF!,2,0)>0,1,0)","v":{"$error":"#REF!"}},"夸脱",null,0,0,0]
[71671,1203206,"trivialization",{"$f":"IF(VLOOKUP(C68838,#REF!,2,0)>0,1,0)","v":{"$error":"#REF!"}},"平凡化",null,0,0,0]
[71728,1203234,"conniving",{"$f":"IF(VLOOKUP(C68890,#REF!,2,0)>0,1,0)","v":{"$error":"#REF!"}},"搞阴谋",null,0,0,0]
[71768,1203260,"graven",{"$f":"IF(VLOOKUP(C68926,#REF!,2,0)>0,1,0)","v":{"$error":"#REF!"}},"沉音符",null,0,0,0]
[71823,1203297,"parastatal",{"$f":"IF(VLOOKUP(C68977,#REF!,2,0)>0,1,0)","v":{"$error":"#REF!"}},"半国营集团",null,0,0,0]
[71865,1203327,"swimmingly",{"$f":"IF(VLOOKUP(C69013,#REF!,2,0)>0,1,0)","v":{"$error":"#REF!"}},"顺畅地, 轻易地",null,0,0,0]
[71915,1203360,"clade",{"$f":"IF(VLOOKUP(C69061,#REF!,2,0)>0,1,0)","v":{"$error":"#REF!"}},"进化枝, 分化枝",null,0,0,0]
[71958,1203389,"fact-based",{"$f":"IF(VLOOKUP(C69100,#REF!,2,0)>0,1,0)","v":{"$error":"#REF!"}},"基于事实",null,0,0,0]
[72000,1203431,"offal",{"$f":"IF(VLOOKUP(C69138,#REF!,2,0)>0,1,0)","v":{"$error":"#REF!"}},"废弃物",null,0,0,0]
[72037,1203457,"snippy",{"$f":"IF(VLOOKUP(C69171,#REF!,2,0)>0,1,0)","v":{"$error":"#REF!"}},"急躁的",null,0,0,0]
[72093,1203499,"batsman",{"$f":"IF(VLOOKUP(C69223,#REF!,2,0)>0,1,0)","v":{"$error":"#REF!"}},"击球手",null,0,0,0]
[72145,1203545,"harebrained",{"$f":"IF(VLOOKUP(C69273,#REF!,2,0)>0,1,0)","v":{"$error":"#REF!"}},"轻率的",null,0,0,0]
[72187,1203585,"referred",{"$f":"IF(VLOOKUP(C69310,#REF!,2,0)>0,1,0)","v":{"$error":"#REF!"}},"请教",null,0,0,0]
[72231,1203614,"trapezoidal",{"$f":"IF(VLOOKUP(C69350,#REF!,2,0)>0,1,0)","v":{"$error":"#REF!"}},"梯形的",null,0,0,0]
[72264,1203651,"copper-colored",{"$f":"IF(VLOOKUP(C69381,#REF!,2,0)>0,1,0)","v":{"$error":"#REF!"}},"铜色的, 赤褐色的",null,0,0,0]
[72322,1203690,"insouciant",{"$f":"IF(VLOOKUP(C69433,#REF!,2,0)>0,1,0)","v":{"$error":"#REF!"}},"无忧无虑的, 漠不关心的",null,0,0,0]
[72377,1203729,"punch-card",{"$f":"IF(VLOOKUP(C69485,#REF!,2,0)>0,1,0)","v":{"$error":"#REF!"}},"穿孔卡片",null,0,0,0]
[72415,1203760,"top-shelf",{"$f":"IF(VLOOKUP(C69520,#REF!,2,0)>0,1,0)","v":{"$error":"#REF!"}},"<澳>最新设计的",null,0,0,0]
[72458,1203789,"cadaverous",{"$f":"IF(VLOOKUP(C69562,#REF!,2,0)>0,1,0)","v":{"$error":"#REF!"}},"枯槁的",null,0,0,0]
[72491,1203815,"farmworker",{"$f":"IF(VLOOKUP(C69591,#REF!,2,0)>0,1,0)","v":{"$error":"#REF!"}},"农业工人, 雇农",null,0,0,0]
[72545,1203862,"mother-to-be",{"$f":"IF(VLOOKUP(C69643,#REF!,2,0)>0,1,0)","v":{"$error":"#REF!"}},"准妈妈",null,0,0,0]
[72602,1203902,"towpath",{"$f":"IF(VLOOKUP(C69697,#REF!,2,0)>0,1,0)","v":{"$error":"#REF!"}},"拉船路, 牵道",null,0,0,0]
[72621,1203916,"writerly",{"$f":"IF(VLOOKUP(C69714,#REF!,2,0)>0,1,0)","v":{"$error":"#REF!"}},"写作艺术的",null,0,0,0]
[72684,1203963,"flattening",{"$f":"IF(VLOOKUP(C69774,#REF!,2,0)>0,1,0)","v":{"$error":"#REF!"}},"(把身体或身体部位)紧贴…",null,0,0,0]
[72711,1203976,"indelicate",{"$f":"IF(VLOOKUP(C69801,#REF!,2,0)>0,1,0)","v":{"$error":"#REF!"}},"不得体地",null,0,0,0]
[72766,1204017,"precocity",{"$f":"IF(VLOOKUP(C69853,#REF!,2,0)>0,1,0)","v":{"$error":"#REF!"}},"早熟, 早成",null,0,0,0]
[72829,1204058,"unnoticeable",{"$f":"IF(VLOOKUP(C69909,#REF!,2,0)>0,1,0)","v":{"$error":"#REF!"}},"不显明[显著]的",null,0,0,0]
[72846,1204069,"atrazine",{"$f":"IF(VLOOKUP(C69924,#REF!,2,0)>0,1,0)","v":{"$error":"#REF!"}},"阿特拉津, 莠去津（一种除草剂）",null,0,0,0]
[72914,1204115,"intolerably",{"$f":"IF(VLOOKUP(C69986,#REF!,2,0)>0,1,0)","v":{"$error":"#REF!"}},"无法忍受的程度",null,0,0,0]
[72940,1204143,"phosphoric",{"$f":"IF(VLOOKUP(C70011,#REF!,2,0)>0,1,0)","v":{"$error":"#REF!"}},"磷的（尤指含五价磷的）, 含磷的",null,0,0,0]
[72978,1204168,"single-handed",{"$f":"IF(VLOOKUP(C70047,#REF!,2,0)>0,1,0)","v":{"$error":"#REF!"}},"适于单手使用的",null,0,0,0]
[73055,1204210,"agonist",{"$f":"IF(VLOOKUP(C70121,#REF!,2,0)>0,1,0)","v":{"$error":"#REF!"}},"促效药",null,0,0,0]
[73068,1204217,"catnap",{"$f":"IF(VLOOKUP(C70134,#REF!,2,0)>0,1,0)","v":{"$error":"#REF!"}},"打瞌睡, 假寐",null,0,0,0]
[73125,1204262,"icehouse",{"$f":"IF(VLOOKUP(C70186,#REF!,2,0)>0,1,0)","v":{"$error":"#REF!"}},"冰库, 冰室",null,0,0,0]
[73153,1204286,"noblewoman",{"$f":"IF(VLOOKUP(C70214,#REF!,2,0)>0,1,0)","v":{"$error":"#REF!"}},"贵族的妇女, 贵妇人",null,0,0,0]
[73201,1204336,"telecommute",{"$f":"IF(VLOOKUP(C70257,#REF!,2,0)>0,1,0)","v":{"$error":"#REF!"}},"（在家里通过使用与工作单位连接的计算机终端）远距离工作",null,0,0,0]
[73280,1204405,"gentian",{"$f":"IF(VLOOKUP(C70333,#REF!,2,0)>0,1,0)","v":{"$error":"#REF!"}},"龙胆属的植物, 龙胆根",null,0,0,0]
[73292,1204415,"immunocompromised",{"$f":"IF(VLOOKUP(C70344,#REF!,2,0)>0,1,0)","v":{"$error":"#REF!"}},"免疫系统受损伤[削弱]的",null,0,0,0]
[73345,1204464,"sharp-tongued",{"$f":"IF(VLOOKUP(C70396,#REF!,2,0)>0,1,0)","v":{"$error":"#REF!"}},"说话尖酸的, 刻薄嘴的",null,0,0,0]
[73424,1204529,"capably",{"$f":"IF(VLOOKUP(C70468,#REF!,2,0)>0,1,0)","v":{"$error":"#REF!"}},"能干地",null,0,0,0]
[73470,1204556,"endogamous",{"$f":"IF(VLOOKUP(C70510,#REF!,2,0)>0,1,0)","v":{"$error":"#REF!"}},"同族结婚的, 同系交配的",null,0,0,0]
[73510,1204584,"heavy-set",{"$f":"IF(VLOOKUP(C70545,#REF!,2,0)>0,1,0)","v":{"$error":"#REF!"}},"（体格）粗壮的, 敦实的",null,0,0,0]
[73519,1204589,"indisposed",{"$f":"IF(VLOOKUP(C70554,#REF!,2,0)>0,1,0)","v":{"$error":"#REF!"}},"不乐意的",null,0,0,0]
[73604,1204659,"unconditioned",{"$f":"IF(VLOOKUP(C70633,#REF!,2,0)>0,1,0)","v":{"$error":"#REF!"}},"（反射）无条件的, 先天的",null,0,0,0]
[73651,1204697,"countertenor",{"$f":"IF(VLOOKUP(C70680,#REF!,2,0)>0,1,0)","v":{"$error":"#REF!"}},"高男高音",null,0,0,0]
[73696,1204733,"heterozygous",{"$f":"IF(VLOOKUP(C70720,#REF!,2,0)>0,1,0)","v":{"$error":"#REF!"}},"杂合的",null,0,0,0]
[73735,1204767,"panga",{"$f":"IF(VLOOKUP(C70757,#REF!,2,0)>0,1,0)","v":{"$error":"#REF!"}},"大砍刀",null,0,0,0]
[73789,1204809,"wave-like",{"$f":"IF(VLOOKUP(C70807,#REF!,2,0)>0,1,0)","v":{"$error":"#REF!"}},"波浪式的",null,0,0,0]
[73829,1204833,"clarifying",{"$f":"IF(VLOOKUP(C70843,#REF!,2,0)>0,1,0)","v":{"$error":"#REF!"}},"说明",null,0,0,0]
[73878,1204876,"imprecation",{"$f":"IF(VLOOKUP(C70892,#REF!,2,0)>0,1,0)","v":{"$error":"#REF!"}},"<正>诅咒",null,0,0,0]
[73918,1204910,"oblate",{"$f":"IF(VLOOKUP(C70930,#REF!,2,0)>0,1,0)","v":{"$error":"#REF!"}},"献身于修道院生活的人",null,0,0,0]
[73959,1204938,"retread",{"$f":"IF(VLOOKUP(C70969,#REF!,2,0)>0,1,0)","v":{"$error":"#REF!"}},"翻新",null,0,0,0]
[74008,1204963,"stemware",{"$f":"IF(VLOOKUP(C71017,#REF!,2,0)>0,1,0)","v":{"$error":"#REF!"}},"有脚的器皿",null,0,0,0]
[74044,1204985,"vaunt",{"$f":"IF(VLOOKUP(C71053,#REF!,2,0)>0,1,0)","v":{"$error":"#REF!"}},"<文>吹嘘, 自夸",null,0,0,0]
[74098,1205028,"crotchety",{"$f":"IF(VLOOKUP(C71104,#REF!,2,0)>0,1,0)","v":{"$error":"#REF!"}},"有怪想的, 反复无常的, 想入非非的",null,0,0,0]
[74137,1205063,"inseparability",{"$f":"IF(VLOOKUP(C71140,#REF!,2,0)>0,1,0)","v":{"$error":"#REF!"}},"不可分离性",null,0,0,0]
[74175,1205098,"palm-sized",{"$f":"IF(VLOOKUP(C71177,#REF!,2,0)>0,1,0)","v":{"$error":"#REF!"}},"手掌大小",null,0,0,0]
[74230,1205135,"stutterer",{"$f":"IF(VLOOKUP(C71227,#REF!,2,0)>0,1,0)","v":{"$error":"#REF!"}},"口吃（的人）",null,0,0,0]
[74271,1205159,"acetylene",{"$f":"IF(VLOOKUP(C71263,#REF!,2,0)>0,1,0)","v":{"$error":"#REF!"}},"乙炔, 电石气",null,0,0,0]
[74329,1205208,"extortionist",{"$f":"IF(VLOOKUP(C71316,#REF!,2,0)>0,1,0)","v":{"$error":"#REF!"}},"勒索者",null,0,0,0]
[74364,1205234,"methotrexate",{"$f":"IF(VLOOKUP(C71350,#REF!,2,0)>0,1,0)","v":{"$error":"#REF!"}},"甲氨蝶呤, 氨甲蝶呤, 氨甲叶酸（一种抗肿瘤药）",null,0,0,0]
[74406,1205270,"pulmonologist",{"$f":"IF(VLOOKUP(C71389,#REF!,2,0)>0,1,0)","v":{"$error":"#REF!"}},"胸腔科医师",null,0,0,0]
[74460,1205305,"wainscoting",{"$f":"IF(VLOOKUP(C71437,#REF!,2,0)>0,1,0)","v":{"$error":"#REF!"}},"壁板料, 壁板",null,0,0,0]
[74500,1205345,"embalmer",{"$f":"IF(VLOOKUP(C71473,#REF!,2,0)>0,1,0)","v":{"$error":"#REF!"}},"尸体防腐者",null,0,0,0]
[74555,1205401,"precook",{"$f":"IF(VLOOKUP(C71524,#REF!,2,0)>0,1,0)","v":{"$error":"#REF!"}},"预煮, 预先烹调（食物）",null,0,0,0]
[74597,1205429,"suss",{"$f":"IF(VLOOKUP(C71560,#REF!,2,0)>0,1,0)","v":{"$error":"#REF!"}},"调查",null,0,0,0]
[74635,1205452,"wolfish",{"$f":"IF(VLOOKUP(C71596,#REF!,2,0)>0,1,0)","v":{"$error":"#REF!"}},"爱情不专",null,0,0,0]
[74660,1205471,"caries",{"$f":"IF(VLOOKUP(C71621,#REF!,2,0)>0,1,0)","v":{"$error":"#REF!"}},"龋齿, 骨疡",null,0,0,0]
[74729,1205520,"grooved",{"$f":"IF(VLOOKUP(C71683,#REF!,2,0)>0,1,0)","v":{"$error":"#REF!"}},"槽",null,0,0,0]
[74783,1205568,"peevishly",{"$f":"IF(VLOOKUP(C71736,#REF!,2,0)>0,1,0)","v":{"$error":"#REF!"}},"动不动就发脾气地, 急躁地",null,0,0,0]
[74819,1205603,"snowdrop",{"$f":"IF(VLOOKUP(C71770,#REF!,2,0)>0,1,0)","v":{"$error":"#REF!"}},"雪花莲（春天开白花）",null,0,0,0]
[74856,1205636,"atopic",{"$f":"IF(VLOOKUP(C71806,#REF!,2,0)>0,1,0)","v":{"$error":"#REF!"}},"遗传性过敏症的",null,0,0,0]
[74885,1205657,"copolymer",{"$f":"IF(VLOOKUP(C71833,#REF!,2,0)>0,1,0)","v":{"$error":"#REF!"}},"共聚物",null,0,0,0]
[74950,1205711,"mending",{"$f":"IF(VLOOKUP(C71893,#REF!,2,0)>0,1,0)","v":{"$error":"#REF!"}},"改[纠]正",null,0,0,0]
[75010,1205762,"touristic",{"$f":"IF(VLOOKUP(C71948,#REF!,2,0)>0,1,0)","v":{"$error":"#REF!"}},"观光的, 旅游者的",null,0,0,0]
[75043,1205793,"borax",{"$f":"IF(VLOOKUP(C71980,#REF!,2,0)>0,1,0)","v":{"$error":"#REF!"}},"月石",null,0,0,0]
[75084,1205821,"ductile",{"$f":"IF(VLOOKUP(C72016,#REF!,2,0)>0,1,0)","v":{"$error":"#REF!"}},"顺从的",null,0,0,0]
[75153,1205885,"owner-occupied",{"$f":"IF(VLOOKUP(C72083,#REF!,2,0)>0,1,0)","v":{"$error":"#REF!"}},"自己住的, 不出租的",null,0,0,0]
[75175,1205905,"roominess",{"$f":"IF(VLOOKUP(C72103,#REF!,2,0)>0,1,0)","v":{"$error":"#REF!"}},"广阔",null,0,0,0]
[75236,1205954,"ambidextrous",{"$f":"IF(VLOOKUP(C72160,#REF!,2,0)>0,1,0)","v":{"$error":"#REF!"}},"左右手都灵的",null,0,0,0]
[75267,1205981,"demitasse",{"$f":"IF(VLOOKUP(C72190,#REF!,2,0)>0,1,0)","v":{"$error":"#REF!"}},"小型咖啡杯, 小杯清咖啡",null,0,0,0]
[75305,1206007,"flyweight",{"$f":"IF(VLOOKUP(C72226,#REF!,2,0)>0,1,0)","v":{"$error":"#REF!"}},"次最轻量级的拳击选手",null,0,0,0]
[75378,1206061,"pharmacologic",{"$f":"IF(VLOOKUP(C72295,#REF!,2,0)>0,1,0)","v":{"$error":"#REF!"}},"药理学, 药物学",null,0,0,0]
[75397,1206083,"senselessly",{"$f":"IF(VLOOKUP(C72313,#REF!,2,0)>0,1,0)","v":{"$error":"#REF!"}},"毫无知觉地",null,0,0,0]
[75459,1206132,"viburnum",{"$f":"IF(VLOOKUP(C72372,#REF!,2,0)>0,1,0)","v":{"$error":"#REF!"}},"荚莲属的植物",null,0,0,0]
[75488,1206157,"basting",{"$f":"IF(VLOOKUP(C72400,#REF!,2,0)>0,1,0)","v":{"$error":"#REF!"}},"疏缝的针脚",null,0,0,0]
[75529,1206188,"enclosing",{"$f":"IF(VLOOKUP(C72436,#REF!,2,0)>0,1,0)","v":{"$error":"#REF!"}},"把…装入信封",null,0,0,0]
[75603,1206265,"pigsty",{"$f":"IF(VLOOKUP(C72507,#REF!,2,0)>0,1,0)","v":{"$error":"#REF!"}},"猪圈, 脏房间",null,0,0,0]
[75620,1206277,"punky",{"$f":"IF(VLOOKUP(C72523,#REF!,2,0)>0,1,0)","v":{"$error":"#REF!"}},"松软的",null,0,0,0]
[75687,1206332,"well-advised",{"$f":"IF(VLOOKUP(C72584,#REF!,2,0)>0,1,0)","v":{"$error":"#REF!"}},"谨慎的, 稳妥的",null,0,0,0]
[75744,1206372,"cordiality",{"$f":"IF(VLOOKUP(C72637,#REF!,2,0)>0,1,0)","v":{"$error":"#REF!"}},"热诚的行为（或言辞）",null,0,0,0]
[75755,1206379,"denuded",{"$f":"IF(VLOOKUP(C72646,#REF!,2,0)>0,1,0)","v":{"$error":"#REF!"}},"剥光覆盖物",null,0,0,0]
[75838,1206446,"nought",{"$f":"IF(VLOOKUP(C72719,#REF!,2,0)>0,1,0)","v":{"$error":"#REF!"}},"没有",null,0,0,0]
[75853,1206465,"punch-drunk",{"$f":"IF(VLOOKUP(C72733,#REF!,2,0)>0,1,0)","v":{"$error":"#REF!"}},"被打得头晕眼花的, 东倒西歪的",null,0,0,0]
[75937,1206530,"cannister",{"$f":"IF(VLOOKUP(C72812,#REF!,2,0)>0,1,0)","v":{"$error":"#REF!"}},"（放咖啡、茶叶、烟等的）小罐, 筒, （防毒面具的）滤毒罐",null,0,0,0]
[75984,1206573,"headcount",{"$f":"IF(VLOOKUP(C72854,#REF!,2,0)>0,1,0)","v":{"$error":"#REF!"}},"点人头数总人数, 职员总数",null,0,0,0]
[75986,1206575,"hokum",{"$f":"IF(VLOOKUP(C72856,#REF!,2,0)>0,1,0)","v":{"$error":"#REF!"}},"废话",null,0,0,0]
[76064,1206633,"psychoanalyze",{"$f":"IF(VLOOKUP(C72931,#REF!,2,0)>0,1,0)","v":{"$error":"#REF!"}},"给…进行精神分析, 用精神分析疗法治疗分析",null,0,0,0]
[76105,1206664,"trailblazing",{"$f":"IF(VLOOKUP(C72970,#REF!,2,0)>0,1,0)","v":{"$error":"#REF!"}},"领导性的, 带头的",null,0,0,0]
[76158,1206707,"blowhole",{"$f":"IF(VLOOKUP(C73022,#REF!,2,0)>0,1,0)","v":{"$error":"#REF!"}},"（鲸头顶的）呼吸孔",null,0,0,0]
[76205,1206739,"ebbing",{"$f":"IF(VLOOKUP(C73066,#REF!,2,0)>0,1,0)","v":{"$error":"#REF!"}},"落",null,0,0,0]
[76248,1206778,"irritatingly",{"$f":"IF(VLOOKUP(C73109,#REF!,2,0)>0,1,0)","v":{"$error":"#REF!"}},"刺激地, 使愤怒地",null,0,0,0]
[76284,1206813,"overturning",{"$f":"IF(VLOOKUP(C73143,#REF!,2,0)>0,1,0)","v":{"$error":"#REF!"}},"撤销(判决等)",null,0,0,0]
[76325,1206848,"stop-motion",{"$f":"IF(VLOOKUP(C73180,#REF!,2,0)>0,1,0)","v":{"$error":"#REF!"}},"单格拍制",null,0,0,0]
[76379,1206889,"backed",{"$f":"IF(VLOOKUP(C73232,#REF!,2,0)>0,1,0)","v":{"$error":"#REF!"}},"有背的, 有财力支持的",null,0,0,0]
[76430,1206922,"compounding",{"$f":"IF(VLOOKUP(C73278,#REF!,2,0)>0,1,0)","v":{"$error":"#REF!"}},"调停",null,0,0,0]
[76477,1206972,"hawser",{"$f":"IF(VLOOKUP(C73319,#REF!,2,0)>0,1,0)","v":{"$error":"#REF!"}},"（供系船或下锚用的）缆索, 锚链",null,0,0,0]
[76515,1207004,"microsurgery",{"$f":"IF(VLOOKUP(C73355,#REF!,2,0)>0,1,0)","v":{"$error":"#REF!"}},"显微外科",null,0,0,0]
[76553,1207036,"purl",{"$f":"IF(VLOOKUP(C73390,#REF!,2,0)>0,1,0)","v":{"$error":"#REF!"}},"倒针",null,0,0,0]
[76608,1207084,"thighbone",{"$f":"IF(VLOOKUP(C73442,#REF!,2,0)>0,1,0)","v":{"$error":"#REF!"}},"股骨, 大腿骨",null,0,0,0]
[76659,1207133,"chilli",{"$f":"IF(VLOOKUP(C73490,#REF!,2,0)>0,1,0)","v":{"$error":"#REF!"}},"chili的英式拼写",null,0,0,0]
[76686,1207152,"engrossed",{"$f":"IF(VLOOKUP(C73513,#REF!,2,0)>0,1,0)","v":{"$error":"#REF!"}},"全神贯注的, 专心致志的",null,0,0,0]
[76746,1207211,"metier",{"$f":"IF(VLOOKUP(C73567,#REF!,2,0)>0,1,0)","v":{"$error":"#REF!"}},"职业, 工作",null,0,0,0]
[76780,1207245,"rah-rah",{"$f":"IF(VLOOKUP(C73600,#REF!,2,0)>0,1,0)","v":{"$error":"#REF!"}},"<美口>（大学生体育比赛中的）为己方大声叫好的",null,0,0,0]
[76838,1207295,"whap",{"$f":"IF(VLOOKUP(C73652,#REF!,2,0)>0,1,0)","v":{"$error":"#REF!"}},"征服",null,0,0,0]
[76892,1207333,"deviancy",{"$f":"IF(VLOOKUP(C73702,#REF!,2,0)>0,1,0)","v":{"$error":"#REF!"}},"不正常",null,0,0,0]
[76914,1207352,"fumarole",{"$f":"IF(VLOOKUP(C73723,#REF!,2,0)>0,1,0)","v":{"$error":"#REF!"}},"（火山区的）喷气孔, 气孔",null,0,0,0]
[76973,1207402,"multi-state",{"$f":"IF(VLOOKUP(C73779,#REF!,2,0)>0,1,0)","v":{"$error":"#REF!"}},"多级的",null,0,0,0]
[77005,1207438,"right-click",{"$f":"IF(VLOOKUP(C73810,#REF!,2,0)>0,1,0)","v":{"$error":"#REF!"}},"右击",null,0,0,0]
[77042,1207467,"tatty",{"$f":"IF(VLOOKUP(C73846,#REF!,2,0)>0,1,0)","v":{"$error":"#REF!"}},"<口>破烂的",null,0,0,0]
[77111,1207513,"best-of-seven",{"$f":"IF(VLOOKUP(C73914,#REF!,2,0)>0,1,0)","v":{"$error":"#REF!"}},"(棒球等)七场四胜为赢的, 七场决胜负的",null,0,0,0]
[77131,1207528,"cocking",{"$f":"IF(VLOOKUP(C73933,#REF!,2,0)>0,1,0)","v":{"$error":"#REF!"}},"拉紧",null,0,0,0]
[77193,1207573,"forswear",{"$f":"IF(VLOOKUP(C73991,#REF!,2,0)>0,1,0)","v":{"$error":"#REF!"}},"坚决放弃",null,0,0,0]
[77225,1207601,"keister",{"$f":"IF(VLOOKUP(C74020,#REF!,2,0)>0,1,0)","v":{"$error":"#REF!"}},"<美俚>小提包, 手提皮箱, 屁股",null,0,0,0]
[77263,1207635,"orientate",{"$f":"IF(VLOOKUP(C74056,#REF!,2,0)>0,1,0)","v":{"$error":"#REF!"}},"朝向",null,0,0,0]
[77339,1207687,"synthetically",{"$f":"IF(VLOOKUP(C74126,#REF!,2,0)>0,1,0)","v":{"$error":"#REF!"}},"以合成方法",null,0,0,0]
[77357,1207700,"uncompressed",{"$f":"IF(VLOOKUP(C74143,#REF!,2,0)>0,1,0)","v":{"$error":"#REF!"}},"[计][修]未压缩",null,0,0,0]
[77412,1207752,"coprocessor",{"$f":"IF(VLOOKUP(C74195,#REF!,2,0)>0,1,0)","v":{"$error":"#REF!"}},"协处理器",null,0,0,0]
[77438,1207770,"excusable",{"$f":"IF(VLOOKUP(C74219,#REF!,2,0)>0,1,0)","v":{"$error":"#REF!"}},"言之有理的",null,0,0,0]
[77489,1207807,"interpreting",{"$f":"IF(VLOOKUP(C74266,#REF!,2,0)>0,1,0)","v":{"$error":"#REF!"}},"把…理解为",null,0,0,0]
[77569,1207879,"shuttlecock",{"$f":"IF(VLOOKUP(C74338,#REF!,2,0)>0,1,0)","v":{"$error":"#REF!"}},"往返移动",null,0,0,0]
[77584,1207885,"sombre",{"$f":"IF(VLOOKUP(C74353,#REF!,2,0)>0,1,0)","v":{"$error":"#REF!"}},"昏暗的, 阴沉的",null,0,0,0]
[77623,1207925,"barrier-free",{"$f":"IF(VLOOKUP(C74389,#REF!,2,0)>0,1,0)","v":{"$error":"#REF!"}},"无障碍",null,0,0,0]
[77718,1208005,"hellcat",{"$f":"IF(VLOOKUP(C74473,#REF!,2,0)>0,1,0)","v":{"$error":"#REF!"}},"悍妇, 巫婆, 泼妇",null,0,0,0]
[77722,1208007,"hitching",{"$f":"IF(VLOOKUP(C74476,#REF!,2,0)>0,1,0)","v":{"$error":"#REF!"}},"搭便车",null,0,0,0]
[77803,1208079,"rotifer",{"$f":"IF(VLOOKUP(C74550,#REF!,2,0)>0,1,0)","v":{"$error":"#REF!"}},"轮虫",null,0,0,0]
[77816,1208095,"soldering",{"$f":"IF(VLOOKUP(C74563,#REF!,2,0)>0,1,0)","v":{"$error":"#REF!"}},"锡焊",null,0,0,0]
[77901,1208166,"comedown",{"$f":"IF(VLOOKUP(C74642,#REF!,2,0)>0,1,0)","v":{"$error":"#REF!"}},"衰落",null,0,0,0]
[77949,1208206,"gen-xer",{"$f":"IF(VLOOKUP(C74685,#REF!,2,0)>0,1,0)","v":{"$error":"#REF!"}},"memberofGenerationX第X代成员",null,0,0,0]
[77993,1208244,"massager",{"$f":"IF(VLOOKUP(C74729,#REF!,2,0)>0,1,0)","v":{"$error":"#REF!"}},"按摩器",null,0,0,0]
[78028,1208280,"pycnogenol",{"$f":"IF(VLOOKUP(C74762,#REF!,2,0)>0,1,0)","v":{"$error":"#REF!"}},"[商标]碧容健",null,0,0,0]
[78039,1208286,"revolving-door",{"$f":"IF(VLOOKUP(C74773,#REF!,2,0)>0,1,0)","v":{"$error":"#REF!"}},"（公司、机构等）有人员可周转的",null,0,0,0]
[78129,1208367,"catsup",{"$f":"IF(VLOOKUP(C74852,#REF!,2,0)>0,1,0)","v":{"$error":"#REF!"}},"<美>调味番茄酱",null,0,0,0]
[78177,1208404,"earworm",{"$f":"IF(VLOOKUP(C74897,#REF!,2,0)>0,1,0)","v":{"$error":"#REF!"}},"一种有害幼虫",null,0,0,0]
[78222,1208443,"hospital-acquired",{"$f":"IF(VLOOKUP(C74939,#REF!,2,0)>0,1,0)","v":{"$error":"#REF!"}},"院内",null,0,0,0]
[78256,1208467,"madding",{"$f":"IF(VLOOKUP(C74970,#REF!,2,0)>0,1,0)","v":{"$error":"#REF!"}},"发狂的, 狂乱的",null,0,0,0]
[78314,1208519,"self-obsessed",{"$f":"IF(VLOOKUP(C75026,#REF!,2,0)>0,1,0)","v":{"$error":"#REF!"}},"自我沉醉的",null,0,0,0]
[78352,1208554,"throw-away",{"$f":"IF(VLOOKUP(C75062,#REF!,2,0)>0,1,0)","v":{"$error":"#REF!"}},"废品",null,0,0,0]
[78403,1208606,"capsular",{"$f":"IF(VLOOKUP(C75109,#REF!,2,0)>0,1,0)","v":{"$error":"#REF!"}},"被膜的[医]",null,0,0,0]
[78448,1208649,"feedthrough",{"$f":"IF(VLOOKUP(C75149,#REF!,2,0)>0,1,0)","v":{"$error":"#REF!"}},"[电]馈穿",null,0,0,0]
[78482,1208688,"marrying",{"$f":"IF(VLOOKUP(C75182,#REF!,2,0)>0,1,0)","v":{"$error":"#REF!"}},"结合",null,0,0,0]
[78541,1208752,"springwater",{"$f":"IF(VLOOKUP(C75236,#REF!,2,0)>0,1,0)","v":{"$error":"#REF!"}},"天然泉水",null,0,0,0]
[78582,1208790,"yippee",{"$f":"IF(VLOOKUP(C75272,#REF!,2,0)>0,1,0)","v":{"$error":"#REF!"}},"开心, 快乐等时叫起来的感叹词",null,0,0,0]
[78633,1208836,"debauched",{"$f":"IF(VLOOKUP(C75317,#REF!,2,0)>0,1,0)","v":{"$error":"#REF!"}},"放荡的",null,0,0,0]
[78679,1208880,"heartwood",{"$f":"IF(VLOOKUP(C75359,#REF!,2,0)>0,1,0)","v":{"$error":"#REF!"}},"赤木质, 心材",null,0,0,0]
[78717,1208906,"licentiousness",{"$f":"IF(VLOOKUP(C75394,#REF!,2,0)>0,1,0)","v":{"$error":"#REF!"}},"放肆",null,0,0,0]
[78774,1208959,"run-on",{"$f":"IF(VLOOKUP(C75446,#REF!,2,0)>0,1,0)","v":{"$error":"#REF!"}},"词意连贯的",null,0,0,0]
[78812,1208991,"sunyata",{"$f":"IF(VLOOKUP(C75482,#REF!,2,0)>0,1,0)","v":{"$error":"#REF!"}},"[佛]空",null,0,0,0]
[78862,1209035,"atlantean",{"$f":"IF(VLOOKUP(C75529,#REF!,2,0)>0,1,0)","v":{"$error":"#REF!"}},"（像）巨人阿特拉斯的, 力大无双的",null,0,0,0]
[78908,1209067,"cryptographer",{"$f":"IF(VLOOKUP(C75569,#REF!,2,0)>0,1,0)","v":{"$error":"#REF!"}},"译解密码者",null,0,0,0]
[78946,1209088,"etic",{"$f":"IF(VLOOKUP(C75605,#REF!,2,0)>0,1,0)","v":{"$error":"#REF!"}},"非位的, 素的, 语音学的",null,0,0,0]
[78969,1209105,"gamekeeper",{"$f":"IF(VLOOKUP(C75626,#REF!,2,0)>0,1,0)","v":{"$error":"#REF!"}},"偷猎者成了猎物保护人",null,0,0,0]
[79039,1209167,"open-hearted",{"$f":"IF(VLOOKUP(C75692,#REF!,2,0)>0,1,0)","v":{"$error":"#REF!"}},"坦率的, 直率的",null,0,0,0]
[79091,1209210,"seventieth",{"$f":"IF(VLOOKUP(C75741,#REF!,2,0)>0,1,0)","v":{"$error":"#REF!"}},"七十分之一的",null,0,0,0]
[79132,1209245,"unfenced",{"$f":"IF(VLOOKUP(C75779,#REF!,2,0)>0,1,0)","v":{"$error":"#REF!"}},"没有篱笆的, 没有防备的",null,0,0,0]
[79170,1209274,"asserted",{"$f":"IF(VLOOKUP(C75815,#REF!,2,0)>0,1,0)","v":{"$error":"#REF!"}},"生效",null,0,0,0]
[79239,1209326,"doula",{"$f":"IF(VLOOKUP(C75876,#REF!,2,0)>0,1,0)","v":{"$error":"#REF!"}},"产妇陪护(给产妇以心理支持)",null,0,0,0]
[79268,1209353,"grey-haired",{"$f":"IF(VLOOKUP(C75902,#REF!,2,0)>0,1,0)","v":{"$error":"#REF!"}},"头发灰白的, 年老的",null,0,0,0]
[79323,1209403,"pectoralis",{"$f":"IF(VLOOKUP(C75953,#REF!,2,0)>0,1,0)","v":{"$error":"#REF!"}},"[医]胸肌",null,0,0,0]
[79363,1209437,"riverway",{"$f":"IF(VLOOKUP(C75989,#REF!,2,0)>0,1,0)","v":{"$error":"#REF!"}},"河道",null,0,0,0]
[79403,1209472,"toneless",{"$f":"IF(VLOOKUP(C76025,#REF!,2,0)>0,1,0)","v":{"$error":"#REF!"}},"声调平板地",null,0,0,0]
[79472,1209521,"bladed",{"$f":"IF(VLOOKUP(C76088,#REF!,2,0)>0,1,0)","v":{"$error":"#REF!"}},"有叶片的, 有刀刃的",null,0,0,0]
[79498,1209541,"clintonian",{"$f":"IF(VLOOKUP(C76112,#REF!,2,0)>0,1,0)","v":{"$error":"#REF!"}},"克林顿阶",null,0,0,0]
[79557,1209591,"fragrance-free",{"$f":"IF(VLOOKUP(C76165,#REF!,2,0)>0,1,0)","v":{"$error":"#REF!"}},"无香料",null,0,0,0]
[79594,1209623,"labelling",{"$f":"IF(VLOOKUP(C76199,#REF!,2,0)>0,1,0)","v":{"$error":"#REF!"}},"贴标签",null,0,0,0]
[79635,1209658,"organisational",{"$f":"IF(VLOOKUP(C76235,#REF!,2,0)>0,1,0)","v":{"$error":"#REF!"}},"组织",null,0,0,0]
[79704,1083566,"sentimentalism",{"$f":"IF(VLOOKUP(C76300,#REF!,2,0)>0,1,0)","v":{"$error":"#REF!"}},"感情主义, 沉于情感",null,0,0,0]
[79727,1209732,"temptingly",{"$f":"IF(VLOOKUP(C76322,#REF!,2,0)>0,1,0)","v":{"$error":"#REF!"}},"诱人地",null,0,0,0]
[79786,1209771,"adjusting",{"$f":"IF(VLOOKUP(C76377,#REF!,2,0)>0,1,0)","v":{"$error":"#REF!"}},"调整",null,0,0,0]
[79803,1209781,"back-channel",{"$f":"IF(VLOOKUP(C76393,#REF!,2,0)>0,1,0)","v":{"$error":"#REF!"}},"非正规途径",null,0,0,0]
[79861,1209812,"dasher",{"$f":"IF(VLOOKUP(C76445,#REF!,2,0)>0,1,0)","v":{"$error":"#REF!"}},"猛冲者, 搅拌装置, 气宇轩昂的男子",null,0,0,0]
[79933,1209885,"jackbooted",{"$f":"IF(VLOOKUP(C76512,#REF!,2,0)>0,1,0)","v":{"$error":"#REF!"}},"穿长统靴(半统军靴)的",null,0,0,0]
[79953,1209899,"meekness",{"$f":"IF(VLOOKUP(C76532,#REF!,2,0)>0,1,0)","v":{"$error":"#REF!"}},"温顺, 柔和",null,0,0,0]
[80015,1209954,"saleslady",{"$f":"IF(VLOOKUP(C76589,#REF!,2,0)>0,1,0)","v":{"$error":"#REF!"}},"女售货员, 女店员",null,0,0,0]
[80075,1210009,"wilting",{"$f":"IF(VLOOKUP(C76646,#REF!,2,0)>0,1,0)","v":{"$error":"#REF!"}},"萎蔫",null,0,0,0]
[80085,1210016,"aphoristic",{"$f":"IF(VLOOKUP(C76655,#REF!,2,0)>0,1,0)","v":{"$error":"#REF!"}},"警句（似）的, 格言（似）的",null,0,0,0]
[80162,1210087,"floaty",{"$f":"IF(VLOOKUP(C76724,#REF!,2,0)>0,1,0)","v":{"$error":"#REF!"}},"能浮起的, 吃水浅的",null,0,0,0]
[80210,1210137,"mutualistic",{"$f":"IF(VLOOKUP(C76769,#REF!,2,0)>0,1,0)","v":{"$error":"#REF!"}},"mutualism的形容词形式（互助论, 互利共生）",null,0,0,0]
[80219,1210143,"neurodegenerative",{"$f":"IF(VLOOKUP(C76778,#REF!,2,0)>0,1,0)","v":{"$error":"#REF!"}},"神经组织退化的",null,0,0,0]
[80305,1210223,"steep-sided",{"$f":"IF(VLOOKUP(C76859,#REF!,2,0)>0,1,0)","v":{"$error":"#REF!"}},"陡峭的",null,0,0,0]
[80312,1210229,"tach",{"$f":"IF(VLOOKUP(C76865,#REF!,2,0)>0,1,0)","v":{"$error":"#REF!"}},"转速表",null,0,0,0]
[80384,1210286,"atomization",{"$f":"IF(VLOOKUP(C76936,#REF!,2,0)>0,1,0)","v":{"$error":"#REF!"}},"分离成原子, 以原子弹摧毁, 雾化",null,0,0,0]
[80431,1210326,"denying",{"$f":"IF(VLOOKUP(C76979,#REF!,2,0)>0,1,0)","v":{"$error":"#REF!"}},"否认知情",null,0,0,0]
[80441,1210330,"disengaged",{"$f":"IF(VLOOKUP(C76988,#REF!,2,0)>0,1,0)","v":{"$error":"#REF!"}},"使(部队)脱离战斗",null,0,0,0]
[80531,1210410,"lockjaw",{"$f":"IF(VLOOKUP(C77071,#REF!,2,0)>0,1,0)","v":{"$error":"#REF!"}},"破伤风, 牙关紧闭症",null,0,0,0]
[80535,1210416,"majorette",{"$f":"IF(VLOOKUP(C77075,#REF!,2,0)>0,1,0)","v":{"$error":"#REF!"}},"鼓手队长, 军乐队队长或指挥",null,0,0,0]
[80616,1210499,"syntagmatic",{"$f":"IF(VLOOKUP(C77148,#REF!,2,0)>0,1,0)","v":{"$error":"#REF!"}},"组合关系的",null,0,0,0]
[80658,1210530,"usurious",{"$f":"IF(VLOOKUP(C77189,#REF!,2,0)>0,1,0)","v":{"$error":"#REF!"}},"高利的",null,0,0,0]
[80712,1210575,"bibliophile",{"$f":"IF(VLOOKUP(C77241,#REF!,2,0)>0,1,0)","v":{"$error":"#REF!"}},"爱书者, 藏书家",null,0,0,0]
[80757,1210615,"dactyl",{"$f":"IF(VLOOKUP(C77283,#REF!,2,0)>0,1,0)","v":{"$error":"#REF!"}},"强弱格, 长短格",null,0,0,0]
[80788,1210642,"extraterritoriality",{"$f":"IF(VLOOKUP(C77312,#REF!,2,0)>0,1,0)","v":{"$error":"#REF!"}},"治外法权",null,0,0,0]
[80841,1210690,"hydrocephalus",{"$f":"IF(VLOOKUP(C77360,#REF!,2,0)>0,1,0)","v":{"$error":"#REF!"}},"脑水肿, 脑积水, 患脑积水的",null,0,0,0]
[80884,1210724,"megaparsec",{"$f":"IF(VLOOKUP(C77399,#REF!,2,0)>0,1,0)","v":{"$error":"#REF!"}},"百万秒差距",null,0,0,0]
[80939,1210782,"rejigger",{"$f":"IF(VLOOKUP(C77451,#REF!,2,0)>0,1,0)","v":{"$error":"#REF!"}},"<美俚>重新安排, 重新装备, 更改",null,0,0,0]
[80986,1210833,"unchartered",{"$f":"IF(VLOOKUP(C77495,#REF!,2,0)>0,1,0)","v":{"$error":"#REF!"}},"不合规则的",null,0,0,0]
[81016,1210856,"winningly",{"$f":"IF(VLOOKUP(C77522,#REF!,2,0)>0,1,0)","v":{"$error":"#REF!"}},"迷人地, 娇媚地",null,0,0,0]
[81070,1210902,"channeled",{"$f":"IF(VLOOKUP(C77572,#REF!,2,0)>0,1,0)","v":{"$error":"#REF!"}},"有沟[凹缝]的",null,0,0,0]
[81111,1210945,"excused",{"$f":"IF(VLOOKUP(C77609,#REF!,2,0)>0,1,0)","v":{"$error":"#REF!"}},"准许…离开",null,0,0,0]
[81151,1210992,"leveled",{"$f":"IF(VLOOKUP(C77645,#REF!,2,0)>0,1,0)","v":{"$error":"#REF!"}},"经调整的",null,0,0,0]
[81216,1211061,"riflery",{"$f":"IF(VLOOKUP(C77707,#REF!,2,0)>0,1,0)","v":{"$error":"#REF!"}},"枪弹",null,0,0,0]
[81243,1211081,"south-southeast",{"$f":"IF(VLOOKUP(C77732,#REF!,2,0)>0,1,0)","v":{"$error":"#REF!"}},"南东南",null,0,0,0]
[81304,1211137,"unwatchable",{"$f":"IF(VLOOKUP(C77784,#REF!,2,0)>0,1,0)","v":{"$error":"#REF!"}},"不适合观看的, 使人不想观看的",null,0,0,0]
[81341,1211172,"blunderbuss",{"$f":"IF(VLOOKUP(C77819,#REF!,2,0)>0,1,0)","v":{"$error":"#REF!"}},"铳",null,0,0,0]
[81381,1211205,"discrediting",{"$f":"IF(VLOOKUP(C77855,#REF!,2,0)>0,1,0)","v":{"$error":"#REF!"}},"使怀疑",null,0,0,0]
[81450,1211258,"headwaiter",{"$f":"IF(VLOOKUP(C77919,#REF!,2,0)>0,1,0)","v":{"$error":"#REF!"}},"服务生领班",null,0,0,0]
[81473,1211279,"lion-hearted",{"$f":"IF(VLOOKUP(C77942,#REF!,2,0)>0,1,0)","v":{"$error":"#REF!"}},"非常勇猛的",null,0,0,0]
[81531,1211347,"prurience",{"$f":"IF(VLOOKUP(C77996,#REF!,2,0)>0,1,0)","v":{"$error":"#REF!"}},"（焦躁等的）渴望",null,0,0,0]
[81567,1211372,"scabies",{"$f":"IF(VLOOKUP(C78029,#REF!,2,0)>0,1,0)","v":{"$error":"#REF!"}},"疥疮",null,0,0,0]
[81609,1211397,"smothered",{"$f":"IF(VLOOKUP(C78065,#REF!,2,0)>0,1,0)","v":{"$error":"#REF!"}},"忍住",null,0,0,0]
[81679,1211467,"braying",{"$f":"IF(VLOOKUP(C78131,#REF!,2,0)>0,1,0)","v":{"$error":"#REF!"}},"发嘟嘟声",null,0,0,0]
[81704,1211486,"comber",{"$f":"IF(VLOOKUP(C78152,#REF!,2,0)>0,1,0)","v":{"$error":"#REF!"}},"拍岸浪",null,0,0,0]
[81744,1211520,"euonymus",{"$f":"IF(VLOOKUP(C78188,#REF!,2,0)>0,1,0)","v":{"$error":"#REF!"}},"卫矛, 卫矛属",null,0,0,0]
[81781,1211566,"ichor",{"$f":"IF(VLOOKUP(C78224,#REF!,2,0)>0,1,0)","v":{"$error":"#REF!"}},"败液, 腐流, 脓水",null,0,0,0]
[81839,1211616,"ousting",{"$f":"IF(VLOOKUP(C78275,#REF!,2,0)>0,1,0)","v":{"$error":"#REF!"}},"罢黜",null,0,0,0]
[81917,1211683,"spiritedness",{"$f":"IF(VLOOKUP(C78343,#REF!,2,0)>0,1,0)","v":{"$error":"#REF!"}},"有精神, 活泼",null,0,0,0]
[81939,1211699,"thenceforth",{"$f":"IF(VLOOKUP(C78362,#REF!,2,0)>0,1,0)","v":{"$error":"#REF!"}},"从那时, 其后",null,0,0,0]
[81975,1211731,"whippersnapper",{"$f":"IF(VLOOKUP(C78398,#REF!,2,0)>0,1,0)","v":{"$error":"#REF!"}},"傲慢的家伙, 自以为了不起的年轻人, 不重要的人",null,0,0,0]
[82058,1211800,"dictaphone",{"$f":"IF(VLOOKUP(C78478,#REF!,2,0)>0,1,0)","v":{"$error":"#REF!"}},"录音机, 口授留声机",null,0,0,0]
[82066,1211804,"discussed",{"$f":"IF(VLOOKUP(C78485,#REF!,2,0)>0,1,0)","v":{"$error":"#REF!"}},"论述",null,0,0,0]
[82142,1211890,"limiter",{"$f":"IF(VLOOKUP(C78555,#REF!,2,0)>0,1,0)","v":{"$error":"#REF!"}},"限制者, 限制物",null,0,0,0]
[82159,1211904,"microfluidic",{"$f":"IF(VLOOKUP(C78572,#REF!,2,0)>0,1,0)","v":{"$error":"#REF!"}},"微流体",null,0,0,0]
[82195,1211944,"perv",{"$f":"IF(VLOOKUP(C78608,#REF!,2,0)>0,1,0)","v":{"$error":"#REF!"}},"perversion颠倒",null,0,0,0]
[82287,1212021,"titling",{"$f":"IF(VLOOKUP(C78690,#REF!,2,0)>0,1,0)","v":{"$error":"#REF!"}},"标题的烫印",null,0,0,0]
[82293,1212025,"two-component",{"$f":"IF(VLOOKUP(C78695,#REF!,2,0)>0,1,0)","v":{"$error":"#REF!"}},"双组分",null,0,0,0]
[82362,1212075,"bifocal",{"$f":"IF(VLOOKUP(C78763,#REF!,2,0)>0,1,0)","v":{"$error":"#REF!"}},"（指眼镜片）双焦的, 双光的, 有二重观点的",null,0,0,0]
[82382,1212103,"counter-strike",{"$f":"IF(VLOOKUP(C78782,#REF!,2,0)>0,1,0)","v":{"$error":"#REF!"}},"一款电脑游戏的名称",null,0,0,0]
[82471,1212181,"hepatocellular",{"$f":"IF(VLOOKUP(C78861,#REF!,2,0)>0,1,0)","v":{"$error":"#REF!"}},"肝细胞的",null,0,0,0]
[82513,1212211,"knife-like",{"$f":"IF(VLOOKUP(C78902,#REF!,2,0)>0,1,0)","v":{"$error":"#REF!"}},"刀割痛",null,0,0,0]
[82517,1212215,"lamplighter",{"$f":"IF(VLOOKUP(C78905,#REF!,2,0)>0,1,0)","v":{"$error":"#REF!"}},"点燃街灯的灯夫, <美>（点灯用的）纸捻（或小木板）",null,0,0,0]
[82591,1212283,"polyposis",{"$f":"IF(VLOOKUP(C78975,#REF!,2,0)>0,1,0)","v":{"$error":"#REF!"}},"息肉病",null,0,0,0]
[82610,1212303,"retentive",{"$f":"IF(VLOOKUP(C78992,#REF!,2,0)>0,1,0)","v":{"$error":"#REF!"}},"<物>顽磁性",null,0,0,0]
[82700,1212378,"windage",{"$f":"IF(VLOOKUP(C79071,#REF!,2,0)>0,1,0)","v":{"$error":"#REF!"}},"偏差, 风力修正量",null,0,0,0]
[82741,1212414,"braiding",{"$f":"IF(VLOOKUP(C79110,#REF!,2,0)>0,1,0)","v":{"$error":"#REF!"}},"编织物",null,0,0,0]
[82795,1212461,"digested",{"$f":"IF(VLOOKUP(C79158,#REF!,2,0)>0,1,0)","v":{"$error":"#REF!"}},"透彻了解",null,0,0,0]
[82825,1212489,"fibular",{"$f":"IF(VLOOKUP(C79187,#REF!,2,0)>0,1,0)","v":{"$error":"#REF!"}},"腓骨的",null,0,0,0]
[82890,1212553,"kaffiyeh",{"$f":"IF(VLOOKUP(C79245,#REF!,2,0)>0,1,0)","v":{"$error":"#REF!"}},"（沙漠地带阿拉伯人戴的）头巾",null,0,0,0]
[82927,1212591,"near-freezing",{"$f":"IF(VLOOKUP(C79281,#REF!,2,0)>0,1,0)","v":{"$error":"#REF!"}},"[医]接近冷冻法",null,0,0,0]
[82973,1212631,"plotted",{"$f":"IF(VLOOKUP(C79322,#REF!,2,0)>0,1,0)","v":{"$error":"#REF!"}},"标绘的",null,0,0,0]
[83023,1212665,"salmonellosis",{"$f":"IF(VLOOKUP(C79368,#REF!,2,0)>0,1,0)","v":{"$error":"#REF!"}},"沙门氏菌病",null,0,0,0]
[83062,1212721,"tuberculin",{"$f":"IF(VLOOKUP(C79404,#REF!,2,0)>0,1,0)","v":{"$error":"#REF!"}},"结核菌素",null,0,0,0]
[83078,1212739,"waspy",{"$f":"IF(VLOOKUP(C79419,#REF!,2,0)>0,1,0)","v":{"$error":"#REF!"}},"似黄蜂的",null,0,0,0]
[83156,1212823,"dissected",{"$f":"IF(VLOOKUP(C79491,#REF!,2,0)>0,1,0)","v":{"$error":"#REF!"}},"仔细分析或研究",null,0,0,0]
[83205,1212870,"hair-thin",{"$f":"IF(VLOOKUP(C79534,#REF!,2,0)>0,1,0)","v":{"$error":"#REF!"}},"细如毛发的",null,0,0,0]
[83255,1212913,"limey",{"$f":"IF(VLOOKUP(C79578,#REF!,2,0)>0,1,0)","v":{"$error":"#REF!"}},"<美俚><贬>英国佬, 英国海军, 英国人",null,0,0,0]
[83293,1212960,"non-executive",{"$f":"IF(VLOOKUP(C79614,#REF!,2,0)>0,1,0)","v":{"$error":"#REF!"}},"（董事等）非执行的, 无决策权的",null,0,0,0]
[83356,1213016,"rose-pink",{"$f":"IF(VLOOKUP(C79669,#REF!,2,0)>0,1,0)","v":{"$error":"#REF!"}},"[医]淡玫瑰红色",null,0,0,0]
[83391,1213054,"sweet-tempered",{"$f":"IF(VLOOKUP(C79701,#REF!,2,0)>0,1,0)","v":{"$error":"#REF!"}},"性情温和的, 脾气好的",null,0,0,0]
[83438,1213107,"zakat",{"$f":"IF(VLOOKUP(C79746,#REF!,2,0)>0,1,0)","v":{"$error":"#REF!"}},"天课, 扎卡特（伊斯兰教徒每年一次的慈善捐款）",null,0,0,0]
[83481,1213152,"circumlocution",{"$f":"IF(VLOOKUP(C79788,#REF!,2,0)>0,1,0)","v":{"$error":"#REF!"}},"累赘的说法",null,0,0,0]
[83518,1213179,"declivity",{"$f":"IF(VLOOKUP(C79824,#REF!,2,0)>0,1,0)","v":{"$error":"#REF!"}},"坡度",null,0,0,0]
[83580,1213229,"funnel-shaped",{"$f":"IF(VLOOKUP(C79881,#REF!,2,0)>0,1,0)","v":{"$error":"#REF!"}},"漏斗形的",null,0,0,0]
[83612,1213262,"impetuously",{"$f":"IF(VLOOKUP(C79911,#REF!,2,0)>0,1,0)","v":{"$error":"#REF!"}},"冒冒失失",null,0,0,0]
[83663,1213323,"overmuch",{"$f":"IF(VLOOKUP(C79958,#REF!,2,0)>0,1,0)","v":{"$error":"#REF!"}},"过多地(的)",null,0,0,0]
[83688,1213346,"prevaricate",{"$f":"IF(VLOOKUP(C79982,#REF!,2,0)>0,1,0)","v":{"$error":"#REF!"}},"搪塞",null,0,0,0]
[83746,1213401,"standing-room",{"$f":"IF(VLOOKUP(C80034,#REF!,2,0)>0,1,0)","v":{"$error":"#REF!"}},"（剧院、公共交通车辆的）站席",null,0,0,0]
[83808,1213468,"adit",{"$f":"IF(VLOOKUP(C80093,#REF!,2,0)>0,1,0)","v":{"$error":"#REF!"}},"入口, 横坑, 进入",null,0,0,0]
[83838,1213503,"busk",{"$f":"IF(VLOOKUP(C80121,#REF!,2,0)>0,1,0)","v":{"$error":"#REF!"}},"准备好",null,0,0,0]
[83889,1213548,"disputable",{"$f":"IF(VLOOKUP(C80170,#REF!,2,0)>0,1,0)","v":{"$error":"#REF!"}},"可争辩的, 可商榷的, 有争议的",null,0,0,0]
[83912,1213572,"fatefully",{"$f":"IF(VLOOKUP(C80192,#REF!,2,0)>0,1,0)","v":{"$error":"#REF!"}},"宿命地",null,0,0,0]
[83968,1213632,"imbrication",{"$f":"IF(VLOOKUP(C80244,#REF!,2,0)>0,1,0)","v":{"$error":"#REF!"}},"叠盖",null,0,0,0]
[84029,1213708,"panopticon",{"$f":"IF(VLOOKUP(C80305,#REF!,2,0)>0,1,0)","v":{"$error":"#REF!"}},"圆形监狱",null,0,0,0]
[84058,1213732,"problem-oriented",{"$f":"IF(VLOOKUP(C80331,#REF!,2,0)>0,1,0)","v":{"$error":"#REF!"}},"面向算题的",null,0,0,0]
[84119,1213784,"straight-faced",{"$f":"IF(VLOOKUP(C80382,#REF!,2,0)>0,1,0)","v":{"$error":"#REF!"}},"一本正经的",null,0,0,0]
[84140,1213807,"three-position",{"$f":"IF(VLOOKUP(C80402,#REF!,2,0)>0,1,0)","v":{"$error":"#REF!"}},"三位",null,0,0,0]
[84196,1213851,"whee",{"$f":"IF(VLOOKUP(C80454,#REF!,2,0)>0,1,0)","v":{"$error":"#REF!"}},"（表示高兴、激动等）哟, 啊",null,0,0,0]
[84267,1213910,"coltish",{"$f":"IF(VLOOKUP(C80517,#REF!,2,0)>0,1,0)","v":{"$error":"#REF!"}},"活泼的",null,0,0,0]
[84275,1213918,"cordovan",{"$f":"IF(VLOOKUP(C80525,#REF!,2,0)>0,1,0)","v":{"$error":"#REF!"}},"(C-)科尔多瓦的",null,0,0,0]
[84351,1214004,"impregnated",{"$f":"IF(VLOOKUP(C80594,#REF!,2,0)>0,1,0)","v":{"$error":"#REF!"}},"使怀孕",null,0,0,0]
[84370,1214029,"ligurian",{"$f":"IF(VLOOKUP(C80612,#REF!,2,0)>0,1,0)","v":{"$error":"#REF!"}},"利古里亚人, 意大利土语",null,0,0,0]
[84426,1214088,"parathion",{"$f":"IF(VLOOKUP(C80664,#REF!,2,0)>0,1,0)","v":{"$error":"#REF!"}},"对硫磷",null,0,0,0]
[84497,1214151,"shakespearian",{"$f":"IF(VLOOKUP(C80729,#REF!,2,0)>0,1,0)","v":{"$error":"#REF!"}},"莎士比亚(Shakespeare)的",null,0,0,0]
[84552,1214195,"thermography",{"$f":"IF(VLOOKUP(C80778,#REF!,2,0)>0,1,0)","v":{"$error":"#REF!"}},"热谱",null,0,0,0]
[84562,1214213,"unduplicated",{"$f":"IF(VLOOKUP(C80787,#REF!,2,0)>0,1,0)","v":{"$error":"#REF!"}},"无复制品的",null,0,0,0]
[84647,1214305,"demander",{"$f":"IF(VLOOKUP(C80864,#REF!,2,0)>0,1,0)","v":{"$error":"#REF!"}},"要求者, 请求者",null,0,0,0]
[84659,1214315,"dumped",{"$f":"IF(VLOOKUP(C80874,#REF!,2,0)>0,1,0)","v":{"$error":"#REF!"}},"随便堆放",null,0,0,0]
[84731,1214392,"invaded",{"$f":"IF(VLOOKUP(C80941,#REF!,2,0)>0,1,0)","v":{"$error":"#REF!"}},"涌入",null,0,0,0]
[84780,1214437,"mitochondrion",{"$f":"IF(VLOOKUP(C80988,#REF!,2,0)>0,1,0)","v":{"$error":"#REF!"}},"线粒体",null,0,0,0]
[84790,1214444,"myelogenous",{"$f":"IF(VLOOKUP(C80997,#REF!,2,0)>0,1,0)","v":{"$error":"#REF!"}},"骨髓性的",null,0,0,0]
[84876,1214522,"scupper",{"$f":"IF(VLOOKUP(C81076,#REF!,2,0)>0,1,0)","v":{"$error":"#REF!"}},"水沟",null,0,0,0]
[84915,1214555,"struggler",{"$f":"IF(VLOOKUP(C81111,#REF!,2,0)>0,1,0)","v":{"$error":"#REF!"}},"斗争者, 奋斗者, 挣扎着的人",null,0,0,0]
[84960,1214603,"vervain",{"$f":"IF(VLOOKUP(C81153,#REF!,2,0)>0,1,0)","v":{"$error":"#REF!"}},"马鞭草属的植物, 马鞭草",null,0,0,0]
[85007,1214651,"austerely",{"$f":"IF(VLOOKUP(C81198,#REF!,2,0)>0,1,0)","v":{"$error":"#REF!"}},"严格地, 朴质地",null,0,0,0]
[85017,1214665,"biogenetic",{"$f":"IF(VLOOKUP(C81207,#REF!,2,0)>0,1,0)","v":{"$error":"#REF!"}},"生物发生的, 生物起源的",null,0,0,0]
[85105,1214754,"exogamous",{"$f":"IF(VLOOKUP(C81288,#REF!,2,0)>0,1,0)","v":{"$error":"#REF!"}},"异族结婚的",null,0,0,0]
[85143,1214794,"glibness",{"$f":"IF(VLOOKUP(C81321,#REF!,2,0)>0,1,0)","v":{"$error":"#REF!"}},"花言巧语",null,0,0,0]
[85189,1214865,"mishandled",{"$f":"IF(VLOOKUP(C81365,#REF!,2,0)>0,1,0)","v":{"$error":"#REF!"}},"粗暴地对待",null,0,0,0]
[85233,1214911,"pliability",{"$f":"IF(VLOOKUP(C81408,#REF!,2,0)>0,1,0)","v":{"$error":"#REF!"}},"柔韧性",null,0,0,0]
[85275,1214948,"rock-like",{"$f":"IF(VLOOKUP(C81444,#REF!,2,0)>0,1,0)","v":{"$error":"#REF!"}},"坚硬如岩石的",null,0,0,0]
[85338,1214990,"stone-age",{"$f":"IF(VLOOKUP(C81500,#REF!,2,0)>0,1,0)","v":{"$error":"#REF!"}},"石器时代的",null,0,0,0]
[85370,1215032,"undrinkable",{"$f":"IF(VLOOKUP(C81531,#REF!,2,0)>0,1,0)","v":{"$error":"#REF!"}},"不能喝的, 不能饮用的",null,0,0,0]
[85417,1215072,"anti-satellite",{"$f":"IF(VLOOKUP(C81577,#REF!,2,0)>0,1,0)","v":{"$error":"#REF!"}},"反卫星",null,0,0,0]
[85458,1215121,"crocodilian",{"$f":"IF(VLOOKUP(C81618,#REF!,2,0)>0,1,0)","v":{"$error":"#REF!"}},"鳄鱼",null,0,0,0]
[85497,1215158,"flaking",{"$f":"IF(VLOOKUP(C81654,#REF!,2,0)>0,1,0)","v":{"$error":"#REF!"}},"刨成片, 压成片",null,0,0,0]
[85557,1215216,"juiciness",{"$f":"IF(VLOOKUP(C81712,#REF!,2,0)>0,1,0)","v":{"$error":"#REF!"}},"多汁, 有趣",null,0,0,0]
[85586,1215269,"olive-drab",{"$f":"IF(VLOOKUP(C81741,#REF!,2,0)>0,1,0)","v":{"$error":"#REF!"}},"深绿褐色的",null,0,0,0]
[85637,1215317,"reapplication",{"$f":"IF(VLOOKUP(C81789,#REF!,2,0)>0,1,0)","v":{"$error":"#REF!"}},"再运用, 再申请",null,0,0,0]
[85684,1215357,"snatching",{"$f":"IF(VLOOKUP(C81828,#REF!,2,0)>0,1,0)","v":{"$error":"#REF!"}},"乘机获得",null,0,0,0]
[85723,1215402,"ungloved",{"$f":"IF(VLOOKUP(C81864,#REF!,2,0)>0,1,0)","v":{"$error":"#REF!"}},"没有带手套的",null,0,0,0]
[85784,1215456,"bandpass",{"$f":"IF(VLOOKUP(C81924,#REF!,2,0)>0,1,0)","v":{"$error":"#REF!"}},"（通过滤波器能够转换声音、电子信号等的）带通",null,0,0,0]
[85812,1215481,"callaloo",{"$f":"IF(VLOOKUP(C81951,#REF!,2,0)>0,1,0)","v":{"$error":"#REF!"}},"卡拉萝",null,0,0,0]
[85856,1215524,"depreciated",{"$f":"IF(VLOOKUP(C81987,#REF!,2,0)>0,1,0)","v":{"$error":"#REF!"}},"<正>贬低, 蔑视, 轻视",null,0,0,0]
[85887,1215557,"enthronement",{"$f":"IF(VLOOKUP(C82017,#REF!,2,0)>0,1,0)","v":{"$error":"#REF!"}},"即位, 就任主教的仪式, 登基典礼",null,0,0,0]
[85949,1215639,"lacewing",{"$f":"IF(VLOOKUP(C82074,#REF!,2,0)>0,1,0)","v":{"$error":"#REF!"}},"草蜻蛉",null,0,0,0]
[86016,1215712,"pain-killing",{"$f":"IF(VLOOKUP(C82136,#REF!,2,0)>0,1,0)","v":{"$error":"#REF!"}},"[医]散利痛, 撒烈痛[解热镇痛药]",null,0,0,0]
[86043,1215746,"rapeseed",{"$f":"IF(VLOOKUP(C82161,#REF!,2,0)>0,1,0)","v":{"$error":"#REF!"}},"菜子",null,0,0,0]
[86086,1215785,"sheerly",{"$f":"IF(VLOOKUP(C82197,#REF!,2,0)>0,1,0)","v":{"$error":"#REF!"}},"全然地, 完全地",null,0,0,0]
[86122,1215829,"tended",{"$f":"IF(VLOOKUP(C82229,#REF!,2,0)>0,1,0)","v":{"$error":"#REF!"}},"招待",null,0,0,0]
[86180,1215890,"annealing",{"$f":"IF(VLOOKUP(C82284,#REF!,2,0)>0,1,0)","v":{"$error":"#REF!"}},"退火",null,0,0,0]
[86252,1215950,"clotheshorse",{"$f":"IF(VLOOKUP(C82348,#REF!,2,0)>0,1,0)","v":{"$error":"#REF!"}},"晾衣架",null,0,0,0]
[86278,1215980,"disconcerted",{"$f":"IF(VLOOKUP(C82371,#REF!,2,0)>0,1,0)","v":{"$error":"#REF!"}},"使慌张",null,0,0,0]
[86318,1216037,"geometrics",{"$f":"IF(VLOOKUP(C82407,#REF!,2,0)>0,1,0)","v":{"$error":"#REF!"}},"几何学图形, 几何形装饰图案",null,0,0,0]
[86399,1216101,"kidskin",{"$f":"IF(VLOOKUP(C82483,#REF!,2,0)>0,1,0)","v":{"$error":"#REF!"}},"羔皮",null,0,0,0]
[86412,1216114,"loitering",{"$f":"IF(VLOOKUP(C82494,#REF!,2,0)>0,1,0)","v":{"$error":"#REF!"}},"闲逛",null,0,0,0]
[86482,1216202,"poisoner",{"$f":"IF(VLOOKUP(C82556,#REF!,2,0)>0,1,0)","v":{"$error":"#REF!"}},"毒害者",null,0,0,0]
[86510,1216239,"reconfigurable",{"$f":"IF(VLOOKUP(C82581,#REF!,2,0)>0,1,0)","v":{"$error":"#REF!"}},"[计]可重构的",null,0,0,0]
[86552,1216284,"sifting",{"$f":"IF(VLOOKUP(C82617,#REF!,2,0)>0,1,0)","v":{"$error":"#REF!"}},"筛, 过滤",null,0,0,0]
[86637,1216373,"windsock",{"$f":"IF(VLOOKUP(C82695,#REF!,2,0)>0,1,0)","v":{"$error":"#REF!"}},"风向袋, (筒状)风标",null,0,0,0]
[86647,1216379,"abase",{"$f":"IF(VLOOKUP(C82704,#REF!,2,0)>0,1,0)","v":{"$error":"#REF!"}},"<古>降下",null,0,0,0]
[86721,1216453,"coatroom",{"$f":"IF(VLOOKUP(C82768,#REF!,2,0)>0,1,0)","v":{"$error":"#REF!"}},"寄物处, 衣帽间",null,0,0,0]
[86746,1216473,"crosshairs",{"$f":"IF(VLOOKUP(C82791,#REF!,2,0)>0,1,0)","v":{"$error":"#REF!"}},"（瞄准镜）十字准线, 交叉丝, 瞄准器",null,0,0,0]
[86789,1216516,"epicure",{"$f":"IF(VLOOKUP(C82827,#REF!,2,0)>0,1,0)","v":{"$error":"#REF!"}},"讲究饮食的人",null,0,0,0]
[86871,1216608,"jocularity",{"$f":"IF(VLOOKUP(C82903,#REF!,2,0)>0,1,0)","v":{"$error":"#REF!"}},"滑稽, 戏谑, 打趣",null,0,0,0]
[86883,1216618,"lavishness",{"$f":"IF(VLOOKUP(C82914,#REF!,2,0)>0,1,0)","v":{"$error":"#REF!"}},"浪费, 过度",null,0,0,0]
[86953,1216700,"plein-air",{"$f":"IF(VLOOKUP(C82980,#REF!,2,0)>0,1,0)","v":{"$error":"#REF!"}},"外光画法的",null,0,0,0]
[86976,1216729,"raunch",{"$f":"IF(VLOOKUP(C83001,#REF!,2,0)>0,1,0)","v":{"$error":"#REF!"}},"粗野, 粗俗",null,0,0,0]
[87069,1216810,"stockholding",{"$f":"IF(VLOOKUP(C83080,#REF!,2,0)>0,1,0)","v":{"$error":"#REF!"}},"持有股票（或证券）",null,0,0,0]
[87106,1216853,"unfed",{"$f":"IF(VLOOKUP(C83115,#REF!,2,0)>0,1,0)","v":{"$error":"#REF!"}},"未得到食物的, 未得到支持的",null,0,0,0]
[87116,1216864,"unwired",{"$f":"IF(VLOOKUP(C83124,#REF!,2,0)>0,1,0)","v":{"$error":"#REF!"}},"无金属丝的, 无电线的",null,0,0,0]
[87190,1216944,"bushy-tailed",{"$f":"IF(VLOOKUP(C83192,#REF!,2,0)>0,1,0)","v":{"$error":"#REF!"}},"——见bright-eyed",null,0,0,0]
[87211,1216965,"cofferdam",{"$f":"IF(VLOOKUP(C83211,#REF!,2,0)>0,1,0)","v":{"$error":"#REF!"}},"沉箱",null,0,0,0]
[87295,1217082,"hornbeam",{"$f":"IF(VLOOKUP(C83290,#REF!,2,0)>0,1,0)","v":{"$error":"#REF!"}},"鹅耳枥",null,0,0,1]
[87333,1217111,"large-capacity",{"$f":"IF(VLOOKUP(C83327,#REF!,2,0)>0,1,0)","v":{"$error":"#REF!"}},"大容量",null,0,0,0]
[87384,1217171,"onliest",{"$f":"IF(VLOOKUP(C83377,#REF!,2,0)>0,1,0)","v":{"$error":"#REF!"}},"最好的",null,0,0,0]
[87422,1217211,"pre-release",{"$f":"IF(VLOOKUP(C83413,#REF!,2,0)>0,1,0)","v":{"$error":"#REF!"}},"预览版",null,0,0,0]
[87479,1217244,"saturnine",{"$f":"IF(VLOOKUP(C83462,#REF!,2,0)>0,1,0)","v":{"$error":"#REF!"}},"性格阴沉的, 表情忧郁的, 讥讽的",null,0,0,0]
[87522,1217291,"sputtered",{"$f":"IF(VLOOKUP(C83500,#REF!,2,0)>0,1,0)","v":{"$error":"#REF!"}},"飞溅出",null,0,0,0]
[87566,1217339,"tortious",{"$f":"IF(VLOOKUP(C83539,#REF!,2,0)>0,1,0)","v":{"$error":"#REF!"}},"侵权行为的, 侵权行为性质的",null,0,0,0]
[87623,1217402,"antimacassar",{"$f":"IF(VLOOKUP(C83587,#REF!,2,0)>0,1,0)","v":{"$error":"#REF!"}},"椅子罩子",null,0,0,0]
[87664,1217441,"bunching",{"$f":"IF(VLOOKUP(C83623,#REF!,2,0)>0,1,0)","v":{"$error":"#REF!"}},"群聚",null,0,0,0]
[87728,1217496,"dissecting",{"$f":"IF(VLOOKUP(C83674,#REF!,2,0)>0,1,0)","v":{"$error":"#REF!"}},"仔细分析或研究",null,0,0,0]
[87768,1217532,"fifty-fifth",{"$f":"IF(VLOOKUP(C83710,#REF!,2,0)>0,1,0)","v":{"$error":"#REF!"}},"五十五分之一",null,0,0,0]
[87813,1217594,"honeycombed",{"$f":"IF(VLOOKUP(C83751,#REF!,2,0)>0,1,0)","v":{"$error":"#REF!"}},"蜂窝结构的",null,0,0,0]
[87849,1217629,"jazzman",{"$f":"IF(VLOOKUP(C83781,#REF!,2,0)>0,1,0)","v":{"$error":"#REF!"}},"爵士音乐家",null,0,0,0]
[87905,1217685,"niblick",{"$f":"IF(VLOOKUP(C83833,#REF!,2,0)>0,1,0)","v":{"$error":"#REF!"}},"（高尔夫球）9号铁头球棒",null,0,0,0]
[87964,1217750,"prototypically",{"$f":"IF(VLOOKUP(C83886,#REF!,2,0)>0,1,0)","v":{"$error":"#REF!"}},"典型地",null,0,0,0]
[88006,1217789,"sectioned",{"$f":"IF(VLOOKUP(C83920,#REF!,2,0)>0,1,0)","v":{"$error":"#REF!"}},"[医]切开的, 断面的, 切面的",null,0,0,0]
[88053,1217833,"stylishness",{"$f":"IF(VLOOKUP(C83963,#REF!,2,0)>0,1,0)","v":{"$error":"#REF!"}},"时尚",null,0,0,0]
[88085,1217861,"time-delay",{"$f":"IF(VLOOKUP(C83991,#REF!,2,0)>0,1,0)","v":{"$error":"#REF!"}},"延时",null,0,0,0]
[88141,1217925,"abortifacient",{"$f":"IF(VLOOKUP(C84043,#REF!,2,0)>0,1,0)","v":{"$error":"#REF!"}},"堕胎的, 引起流产的",null,0,0,0]
[88200,1217983,"carabinero",{"$f":"IF(VLOOKUP(C84098,#REF!,2,0)>0,1,0)","v":{"$error":"#REF!"}},"<西>马枪骑兵",null,0,0,0]
[88237,1218017,"counterpoise",{"$f":"IF(VLOOKUP(C84130,#REF!,2,0)>0,1,0)","v":{"$error":"#REF!"}},"秤锤, 平衡",null,0,0,0]
[88288,1218054,"dubbing",{"$f":"IF(VLOOKUP(C84175,#REF!,2,0)>0,1,0)","v":{"$error":"#REF!"}},"配音",null,0,0,0]
[88315,1218085,"fleabag",{"$f":"IF(VLOOKUP(C84201,#REF!,2,0)>0,1,0)","v":{"$error":"#REF!"}},"廉价且脏的低级旅馆",null,0,0,0]
[88368,1218148,"insensibly",{"$f":"IF(VLOOKUP(C84253,#REF!,2,0)>0,1,0)","v":{"$error":"#REF!"}},"徐徐地",null,0,0,0]
[88435,1218221,"neurobehavioral",{"$f":"IF(VLOOKUP(C84310,#REF!,2,0)>0,1,0)","v":{"$error":"#REF!"}},"[医]神经行为的：与通过观察行为衡量神经的状态有关的",null,0,0,0]
[88449,1218245,"once-in-a-generation",{"$f":"IF(VLOOKUP(C84324,#REF!,2,0)>0,1,0)","v":{"$error":"#REF!"}},"千载难逢",null,0,0,0]
[88518,1218321,"saccule",{"$f":"IF(VLOOKUP(C84387,#REF!,2,0)>0,1,0)","v":{"$error":"#REF!"}},"小囊（内耳迷路中的球囊）",null,0,0,0]
[88546,1218351,"slobbering",{"$f":"IF(VLOOKUP(C84411,#REF!,2,0)>0,1,0)","v":{"$error":"#REF!"}},"(说话时)过分伤感",null,0,0,0]
[88607,1218404,"thirstily",{"$f":"IF(VLOOKUP(C84463,#REF!,2,0)>0,1,0)","v":{"$error":"#REF!"}},"如饥似渴地",null,0,0,0]
[88669,1218470,"aired",{"$f":"IF(VLOOKUP(C84522,#REF!,2,0)>0,1,0)","v":{"$error":"#REF!"}},"播送",null,0,0,0]
[88682,1218489,"articulator",{"$f":"IF(VLOOKUP(C84534,#REF!,2,0)>0,1,0)","v":{"$error":"#REF!"}},"发音的人或物",null,0,0,0]
[88737,1218541,"chondritic",{"$f":"IF(VLOOKUP(C84586,#REF!,2,0)>0,1,0)","v":{"$error":"#REF!"}},"球粒状陨石的",null,0,0,0]
[88772,1218575,"depositary",{"$f":"IF(VLOOKUP(C84615,#REF!,2,0)>0,1,0)","v":{"$error":"#REF!"}},"受托人",null,0,0,0]
[88837,1218663,"hafnium",{"$f":"IF(VLOOKUP(C84673,#REF!,2,0)>0,1,0)","v":{"$error":"#REF!"}},"铪",null,0,0,0]
[88904,1218742,"mealworm",{"$f":"IF(VLOOKUP(C84734,#REF!,2,0)>0,1,0)","v":{"$error":"#REF!"}},"粉虫",null,0,0,0]
[88915,1218751,"monophyletic",{"$f":"IF(VLOOKUP(C84744,#REF!,2,0)>0,1,0)","v":{"$error":"#REF!"}},"单元的, 单源的",null,0,0,0]
[88969,1218812,"plasterboard",{"$f":"IF(VLOOKUP(C84796,#REF!,2,0)>0,1,0)","v":{"$error":"#REF!"}},"石膏板",null,0,0,0]
[89051,1218903,"slovenliness",{"$f":"IF(VLOOKUP(C84869,#REF!,2,0)>0,1,0)","v":{"$error":"#REF!"}},"懒散",null,0,0,0]
[89092,1218950,"tone-on-tone",{"$f":"IF(VLOOKUP(C84910,#REF!,2,0)>0,1,0)","v":{"$error":"#REF!"}},"同色深浅调的",null,0,0,0]
[89132,1218997,"voided",{"$f":"IF(VLOOKUP(C84946,#REF!,2,0)>0,1,0)","v":{"$error":"#REF!"}},"空的",null,0,0,0]
[89191,1219045,"artlessly",{"$f":"IF(VLOOKUP(C84997,#REF!,2,0)>0,1,0)","v":{"$error":"#REF!"}},"天真烂漫地, 淳朴地",null,0,0,0]
[89201,1219051,"atomism",{"$f":"IF(VLOOKUP(C85006,#REF!,2,0)>0,1,0)","v":{"$error":"#REF!"}},"心理原素论",null,0,0,0]
[89283,1219120,"consubstantial",{"$f":"IF(VLOOKUP(C85081,#REF!,2,0)>0,1,0)","v":{"$error":"#REF!"}},"同质的, 同体的",null,0,0,0]
[89328,1219173,"embryogenesis",{"$f":"IF(VLOOKUP(C85120,#REF!,2,0)>0,1,0)","v":{"$error":"#REF!"}},"胚形成",null,0,0,0]
[89373,1219222,"fringy",{"$f":"IF(VLOOKUP(C85158,#REF!,2,0)>0,1,0)","v":{"$error":"#REF!"}},"穗状的, 有缘饰的",null,0,0,0]
[89426,1219302,"lurker",{"$f":"IF(VLOOKUP(C85207,#REF!,2,0)>0,1,0)","v":{"$error":"#REF!"}},"诱鱼灯船, 划艇",null,0,0,0]
[89463,1219365,"oft-stated",{"$f":"IF(VLOOKUP(C85243,#REF!,2,0)>0,1,0)","v":{"$error":"#REF!"}},"常说的",null,0,0,0]
[89517,1219434,"reseat",{"$f":"IF(VLOOKUP(C85293,#REF!,2,0)>0,1,0)","v":{"$error":"#REF!"}},"（通过重新调整或修理）使（水龙头、钉子等）复位",null,0,0,0]
[89556,1219476,"silversides",{"$f":"IF(VLOOKUP(C85330,#REF!,2,0)>0,1,0)","v":{"$error":"#REF!"}},"银河鱼",null,0,0,0]
[89601,1219528,"surrendered",{"$f":"IF(VLOOKUP(C85370,#REF!,2,0)>0,1,0)","v":{"$error":"#REF!"}},"Telexreleased",null,0,0,0]
[89655,1219583,"watchband",{"$f":"IF(VLOOKUP(C85417,#REF!,2,0)>0,1,0)","v":{"$error":"#REF!"}},"（手）表带",null,0,0,0]
[89695,1219631,"back-page",{"$f":"IF(VLOOKUP(C85453,#REF!,2,0)>0,1,0)","v":{"$error":"#REF!"}},"登在报纸最后部分的",null,0,0,0]
[89749,1219701,"consumed",{"$f":"IF(VLOOKUP(C85505,#REF!,2,0)>0,1,0)","v":{"$error":"#REF!"}},"烧毁",null,0,0,0]
[89790,1219736,"disbelievingly",{"$f":"IF(VLOOKUP(C85540,#REF!,2,0)>0,1,0)","v":{"$error":"#REF!"}},"怀疑地, 不信相地",null,0,0,0]
[89837,1219802,"funicular",{"$f":"IF(VLOOKUP(C85582,#REF!,2,0)>0,1,0)","v":{"$error":"#REF!"}},"索状的",null,0,0,0]
[89886,1219868,"imperially",{"$f":"IF(VLOOKUP(C85627,#REF!,2,0)>0,1,0)","v":{"$error":"#REF!"}},"帝国地, 庄严地, 威严地",null,0,0,0]
[89924,1219913,"machine-readable",{"$f":"IF(VLOOKUP(C85663,#REF!,2,0)>0,1,0)","v":{"$error":"#REF!"}},"可用计算机处理的",null,0,0,0]
[89982,1219979,"ordinator",{"$f":"IF(VLOOKUP(C85717,#REF!,2,0)>0,1,0)","v":{"$error":"#REF!"}},"[医]苯？唑酮[中枢兴奋药]",null,0,0,0]
[90019,1220023,"preamplifier",{"$f":"IF(VLOOKUP(C85750,#REF!,2,0)>0,1,0)","v":{"$error":"#REF!"}},"增音机",null,0,0,0]
[90070,1220070,"safecracker",{"$f":"IF(VLOOKUP(C85790,#REF!,2,0)>0,1,0)","v":{"$error":"#REF!"}},"保险箱窃贼",null,0,0,0]
[90120,1220127,"subsided",{"$f":"IF(VLOOKUP(C85837,#REF!,2,0)>0,1,0)","v":{"$error":"#REF!"}},"一下子坐在椅子等上",null,0,0,0]
[90159,1220173,"uncaused",{"$f":"IF(VLOOKUP(C85873,#REF!,2,0)>0,1,0)","v":{"$error":"#REF!"}},"非外因引起的, 自存的",null,0,0,0]
[90217,1220243,"bacchanalian",{"$f":"IF(VLOOKUP(C85929,#REF!,2,0)>0,1,0)","v":{"$error":"#REF!"}},"狂饮作乐的",null,0,0,0]
[90250,1220283,"centrifugation",{"$f":"IF(VLOOKUP(C85960,#REF!,2,0)>0,1,0)","v":{"$error":"#REF!"}},"离心法, 离心过滤",null,0,0,0]
[90291,1220336,"delusive",{"$f":"IF(VLOOKUP(C85996,#REF!,2,0)>0,1,0)","v":{"$error":"#REF!"}},"虚妄的",null,0,0,0]
[90320,1220363,"elephantiasis",{"$f":"IF(VLOOKUP(C86022,#REF!,2,0)>0,1,0)","v":{"$error":"#REF!"}},"象皮肿",null,0,0,0]
[90386,1220444,"grieved",{"$f":"IF(VLOOKUP(C86083,#REF!,2,0)>0,1,0)","v":{"$error":"#REF!"}},"惨恻",null,0,0,0]
[90448,1220511,"kopje",{"$f":"IF(VLOOKUP(C86141,#REF!,2,0)>0,1,0)","v":{"$error":"#REF!"}},"（南非的）小丘",null,0,0,0]
[90477,1220552,"missiology",{"$f":"IF(VLOOKUP(C86170,#REF!,2,0)>0,1,0)","v":{"$error":"#REF!"}},"传教学, 传教工作研究",null,0,0,0]
[90516,1220600,"pacing",{"$f":"IF(VLOOKUP(C86206,#REF!,2,0)>0,1,0)","v":{"$error":"#REF!"}},"领先于",null,0,0,0]
[90549,1220638,"pricking",{"$f":"IF(VLOOKUP(C86234,#REF!,2,0)>0,1,0)","v":{"$error":"#REF!"}},"使剧痛",null,0,0,0]
[90618,1220718,"small-bore",{"$f":"IF(VLOOKUP(C86293,#REF!,2,0)>0,1,0)","v":{"$error":"#REF!"}},"小口径的, 思想狭隘的",null,0,0,0]
[90678,1220797,"underwing",{"$f":"IF(VLOOKUP(C86349,#REF!,2,0)>0,1,0)","v":{"$error":"#REF!"}},"下翅",null,0,0,0]
[90713,1220824,"vitalize",{"$f":"IF(VLOOKUP(C86380,#REF!,2,0)>0,1,0)","v":{"$error":"#REF!"}},"激发",null,0,0,0]
[90750,1220862,"backburner",{"$f":"IF(VLOOKUP(C86416,#REF!,2,0)>0,1,0)","v":{"$error":"#REF!"}},"不重要的",null,0,0,0]
[90828,1220947,"detent",{"$f":"IF(VLOOKUP(C86488,#REF!,2,0)>0,1,0)","v":{"$error":"#REF!"}},"（机械中的）棘爪掣, 止动器",null,0,0,0]
[90845,1220964,"eery",{"$f":"IF(VLOOKUP(C86503,#REF!,2,0)>0,1,0)","v":{"$error":"#REF!"}},"怪诞的",null,0,0,0]
[90909,1221021,"fustian",{"$f":"IF(VLOOKUP(C86561,#REF!,2,0)>0,1,0)","v":{"$error":"#REF!"}},"夸夸其谈",null,0,0,0]
[90943,1221063,"hot-rodder",{"$f":"IF(VLOOKUP(C86590,#REF!,2,0)>0,1,0)","v":{"$error":"#REF!"}},"鲁莽的高速驾车者",null,0,0,0]
[90983,1221118,"luff",{"$f":"IF(VLOOKUP(C86626,#REF!,2,0)>0,1,0)","v":{"$error":"#REF!"}},"转舵",null,0,0,0]
[91059,1221238,"reimposition",{"$f":"IF(VLOOKUP(C86696,#REF!,2,0)>0,1,0)","v":{"$error":"#REF!"}},"重新征收",null,0,0,0]
[91080,1221258,"rottenness",{"$f":"IF(VLOOKUP(C86713,#REF!,2,0)>0,1,0)","v":{"$error":"#REF!"}},"[医]腐败, 腐烂, 败坏",null,0,0,0]
[91143,1221345,"threnody",{"$f":"IF(VLOOKUP(C86773,#REF!,2,0)>0,1,0)","v":{"$error":"#REF!"}},"哀悼",null,0,0,0]
[91173,1221382,"whiggish",{"$f":"IF(VLOOKUP(C86800,#REF!,2,0)>0,1,0)","v":{"$error":"#REF!"}},"辉格党主义的",null,0,0,0]
[91213,1221447,"briskness",{"$f":"IF(VLOOKUP(C86836,#REF!,2,0)>0,1,0)","v":{"$error":"#REF!"}},"清新",null,0,0,0]
[91296,1221532,"dramaturge",{"$f":"IF(VLOOKUP(C86908,#REF!,2,0)>0,1,0)","v":{"$error":"#REF!"}},"剧作家",null,0,0,0]
[91313,1221560,"filariasis",{"$f":"IF(VLOOKUP(C86923,#REF!,2,0)>0,1,0)","v":{"$error":"#REF!"}},"丝虫病, 带丝虫的, 丝虫引起的",null,0,0,0]
[91379,1221669,"linebacking",{"$f":"IF(VLOOKUP(C86985,#REF!,2,0)>0,1,0)","v":{"$error":"#REF!"}},"后卫球员, 中后卫的技术",null,0,0,0]
[91405,1221723,"non-work",{"$f":"IF(VLOOKUP(C87010,#REF!,2,0)>0,1,0)","v":{"$error":"#REF!"}},"非工作的",null,0,0,0]
[91448,1221788,"pretending",{"$f":"IF(VLOOKUP(C87046,#REF!,2,0)>0,1,0)","v":{"$error":"#REF!"}},"自诩",null,0,0,0]
[91530,1221891,"subsumption",{"$f":"IF(VLOOKUP(C87120,#REF!,2,0)>0,1,0)","v":{"$error":"#REF!"}},"包容, 包含",null,0,0,0]
[91545,1221912,"threadless",{"$f":"IF(VLOOKUP(C87133,#REF!,2,0)>0,1,0)","v":{"$error":"#REF!"}},"无线的, 无螺纹的",null,0,0,0]
[91629,1222031,"cell-surface",{"$f":"IF(VLOOKUP(C87212,#REF!,2,0)>0,1,0)","v":{"$error":"#REF!"}},"细胞表面",null,0,0,0]
[91631,1222036,"chronometric",{"$f":"IF(VLOOKUP(C87214,#REF!,2,0)>0,1,0)","v":{"$error":"#REF!"}},"精密时计的",null,0,0,0]
[91632,1222039,"circumflex",{"$f":"IF(VLOOKUP(C87215,#REF!,2,0)>0,1,0)","v":{"$error":"#REF!"}},"（加在元音字母上的）音调符号",null,0,0,0]
[91633,1222040,"claudication",{"$f":"IF(VLOOKUP(C87216,#REF!,2,0)>0,1,0)","v":{"$error":"#REF!"}},"跛行",null,0,0,0]
[91634,1222041,"cliff-hanger",{"$f":"IF(VLOOKUP(C87217,#REF!,2,0)>0,1,0)","v":{"$error":"#REF!"}},"紧张的",null,0,0,0]
[91635,1222041,"cliff-hanger",{"$f":"IF(VLOOKUP(C87218,#REF!,2,0)>0,1,0)","v":{"$error":"#REF!"}},"连续冒险片",null,0,0,0]
[91636,1222044,"clubbed",{"$f":"IF(VLOOKUP(C87219,#REF!,2,0)>0,1,0)","v":{"$error":"#REF!"}},"棒状的",null,0,0,0]
[91637,1222046,"coasting",{"$f":"IF(VLOOKUP(C87220,#REF!,2,0)>0,1,0)","v":{"$error":"#REF!"}},"沿岸航行, 沿海贸易, 海岸线",null,0,0,0]
[91638,1222046,"coasting",{"$f":"IF(VLOOKUP(C87221,#REF!,2,0)>0,1,0)","v":{"$error":"#REF!"}},"顺坡下滑",null,0,0,0]
[91639,1222046,"coasting",{"$f":"IF(VLOOKUP(C87222,#REF!,2,0)>0,1,0)","v":{"$error":"#REF!"}},"惰力运转",null,0,0,0]
[91640,1222047,"cocobolo",{"$f":"IF(VLOOKUP(C87223,#REF!,2,0)>0,1,0)","v":{"$error":"#REF!"}},"一种黄檀属之树（产于热带美洲）",null,0,0,0]
[91641,1222051,"coloristic",{"$f":"IF(VLOOKUP(C87224,#REF!,2,0)>0,1,0)","v":{"$error":"#REF!"}},"色彩的, 用色的",null,0,0,0]
[91642,1222052,"come-along",{"$f":"IF(VLOOKUP(C87225,#REF!,2,0)>0,1,0)","v":{"$error":"#REF!"}},"紧绳夹",null,0,0,0]
[91643,1222053,"complacence",{"$f":"IF(VLOOKUP(C87226,#REF!,2,0)>0,1,0)","v":{"$error":"#REF!"}},"自满",null,0,0,0]
[91644,1222053,"complacence",{"$f":"IF(VLOOKUP(C87227,#REF!,2,0)>0,1,0)","v":{"$error":"#REF!"}},"沾沾自喜",null,0,0,0]
[91645,1222053,"complacence",{"$f":"IF(VLOOKUP(C87228,#REF!,2,0)>0,1,0)","v":{"$error":"#REF!"}},"满足",null,0,0,0]
[91646,1222053,"complacence",{"$f":"IF(VLOOKUP(C87229,#REF!,2,0)>0,1,0)","v":{"$error":"#REF!"}},"满意",null,0,0,0]
[91647,1222054,"condemnable",{"$f":"IF(VLOOKUP(C87230,#REF!,2,0)>0,1,0)","v":{"$error":"#REF!"}},"该罚的, 该受责备的",null,0,0,0]
[91648,1222055,"conflict-free",{"$f":"IF(VLOOKUP(C87231,#REF!,2,0)>0,1,0)","v":{"$error":"#REF!"}},"[计]无冲突",null,0,0,0]
[91649,1222056,"consoler",{"$f":"IF(VLOOKUP(C87232,#REF!,2,0)>0,1,0)","v":{"$error":"#REF!"}},"康索尔",null,0,0,0]
[91650,1222057,"consummatory",{"$f":"IF(VLOOKUP(C87233,#REF!,2,0)>0,1,0)","v":{"$error":"#REF!"}},"使完成的",null,0,0,0]
[91651,1222057,"consummatory",{"$f":"IF(VLOOKUP(C87234,#REF!,2,0)>0,1,0)","v":{"$error":"#REF!"}},"（行为、反应等）完成性的, 使满足的",null,0,0,0]
[91652,1222060,"contractionary",{"$f":"IF(VLOOKUP(C87235,#REF!,2,0)>0,1,0)","v":{"$error":"#REF!"}},"（如以抑制消费增长等方式）引起经济萎缩（或紧缩）的",null,0,0,0]
[91653,1222061,"contrarily",{"$f":"IF(VLOOKUP(C87236,#REF!,2,0)>0,1,0)","v":{"$error":"#REF!"}},"反之, 相反地, 反对地",null,0,0,0]
[91656,1222063,"cross-referencing",{"$f":"IF(VLOOKUP(C87237,#REF!,2,0)>0,1,0)","v":{"$error":"#REF!"}},"使参见",null,0,0,0]
[91657,1222065,"dankness",{"$f":"IF(VLOOKUP(C87238,#REF!,2,0)>0,1,0)","v":{"$error":"#REF!"}},"阴湿",null,0,0,0]
[91658,1222066,"danubian",{"$f":"IF(VLOOKUP(C87239,#REF!,2,0)>0,1,0)","v":{"$error":"#REF!"}},"多瑙河的多瑙河流域居民的",null,0,0,0]
[91659,1222070,"decease",{"$f":"IF(VLOOKUP(C87240,#REF!,2,0)>0,1,0)","v":{"$error":"#REF!"}},"<律>死亡",null,0,0,0]
[91660,1222071,"degustation",{"$f":"IF(VLOOKUP(C87241,#REF!,2,0)>0,1,0)","v":{"$error":"#REF!"}},"品尝",null,0,0,0]
[91661,1222072,"demagogy",{"$f":"IF(VLOOKUP(C87242,#REF!,2,0)>0,1,0)","v":{"$error":"#REF!"}},"煽动家的方法与行为",null,0,0,0]
[91662,1222073,"demonstrability",{"$f":"IF(VLOOKUP(C87243,#REF!,2,0)>0,1,0)","v":{"$error":"#REF!"}},"论证可能性",null,0,0,0]
[91663,1222076,"dishabille",{"$f":"IF(VLOOKUP(C87244,#REF!,2,0)>0,1,0)","v":{"$error":"#REF!"}},"便服, 便装, 穿着随便的状况",null,0,0,0]
[91665,1222079,"divinization",{"$f":"IF(VLOOKUP(C87245,#REF!,2,0)>0,1,0)","v":{"$error":"#REF!"}},"奉为神圣, 偶像化",null,0,0,0]
[91666,1222082,"dressing-gown",{"$f":"IF(VLOOKUP(C87246,#REF!,2,0)>0,1,0)","v":{"$error":"#REF!"}},"晨衣",null,0,0,0]
[91667,1222084,"dropsy",{"$f":"IF(VLOOKUP(C87247,#REF!,2,0)>0,1,0)","v":{"$error":"#REF!"}},"水肿, 浮肿, 贿余",null,0,0,0]
[91668,1222085,"drought-prone",{"$f":"IF(VLOOKUP(C87248,#REF!,2,0)>0,1,0)","v":{"$error":"#REF!"}},"干旱区",null,0,0,0]
[91669,1222087,"dry-cleaner",{"$f":"IF(VLOOKUP(C87249,#REF!,2,0)>0,1,0)","v":{"$error":"#REF!"}},"[医]干洗工（手洗）",null,0,0,0]
[91671,1222090,"earless",{"$f":"IF(VLOOKUP(C87250,#REF!,2,0)>0,1,0)","v":{"$error":"#REF!"}},"无耳",null,0,0,0]
[91672,1222091,"economistic",{"$f":"IF(VLOOKUP(C87251,#REF!,2,0)>0,1,0)","v":{"$error":"#REF!"}},"经济主义的",null,0,0,0]
[91673,1222092,"economy-size",{"$f":"IF(VLOOKUP(C87252,#REF!,2,0)>0,1,0)","v":{"$error":"#REF!"}},"经济包装的, 大包装的",null,0,0,0]
[91674,1222093,"egad",{"$f":"IF(VLOOKUP(C87253,#REF!,2,0)>0,1,0)","v":{"$error":"#REF!"}},"天哪, 哎呀",null,0,0,0]
[91675,1222094,"egotistic",{"$f":"IF(VLOOKUP(C87254,#REF!,2,0)>0,1,0)","v":{"$error":"#REF!"}},"自我本位的, 自负的",null,0,0,0]
[91676,1222094,"egotistic",{"$f":"IF(VLOOKUP(C87255,#REF!,2,0)>0,1,0)","v":{"$error":"#REF!"}},"自私自利",null,0,0,0]
[91677,1222097,"embryonal",{"$f":"IF(VLOOKUP(C87256,#REF!,2,0)>0,1,0)","v":{"$error":"#REF!"}},"胚的, 胚芽的",null,0,0,0]
[91678,1222100,"epigrammatic",{"$f":"IF(VLOOKUP(C87257,#REF!,2,0)>0,1,0)","v":{"$error":"#REF!"}},"警句（式）的, 讽刺短诗（般）的",null,0,0,0]
[91679,1222101,"essentialist",{"$f":"IF(VLOOKUP(C87258,#REF!,2,0)>0,1,0)","v":{"$error":"#REF!"}},"基本教育说, 实在说",null,0,0,0]
[91680,1222102,"etheric",{"$f":"IF(VLOOKUP(C87259,#REF!,2,0)>0,1,0)","v":{"$error":"#REF!"}},"醚的",null,0,0,0]
[91681,1222105,"extra-thick",{"$f":"IF(VLOOKUP(C87260,#REF!,2,0)>0,1,0)","v":{"$error":"#REF!"}},"特厚",null,0,0,0]
[91682,1222108,"fancy-free",{"$f":"IF(VLOOKUP(C87261,#REF!,2,0)>0,1,0)","v":{"$error":"#REF!"}},"不受拘束地进行想象, 未知恋爱滋味的, 天真无邪的",null,0,0,0]
[91683,1222108,"fancy-free",{"$f":"IF(VLOOKUP(C87262,#REF!,2,0)>0,1,0)","v":{"$error":"#REF!"}},"情窦未开",null,0,0,0]
[91684,1222109,"featherless",{"$f":"IF(VLOOKUP(C87263,#REF!,2,0)>0,1,0)","v":{"$error":"#REF!"}},"无羽毛的",null,0,0,0]
[91685,1222110,"fellate",{"$f":"IF(VLOOKUP(C87264,#REF!,2,0)>0,1,0)","v":{"$error":"#REF!"}},"吮吸（…的）阴茎, （与…）口交",null,0,0,0]
[91686,1222113,"fish-shaped",{"$f":"IF(VLOOKUP(C87265,#REF!,2,0)>0,1,0)","v":{"$error":"#REF!"}},"鱼形的",null,0,0,0]
[91687,1222117,"flue-cured",{"$f":"IF(VLOOKUP(C87266,#REF!,2,0)>0,1,0)","v":{"$error":"#REF!"}},"烤的",null,0,0,0]
[91688,1222118,"fluoroscopy",{"$f":"IF(VLOOKUP(C87267,#REF!,2,0)>0,1,0)","v":{"$error":"#REF!"}},"荧光透视法, 荧光镜试验",null,0,0,0]
[91689,1222119,"folkloristic",{"$f":"IF(VLOOKUP(C87268,#REF!,2,0)>0,1,0)","v":{"$error":"#REF!"}},"民俗",null,0,0,0]
[91690,1222123,"formic",{"$f":"IF(VLOOKUP(C87269,#REF!,2,0)>0,1,0)","v":{"$error":"#REF!"}},"蚁的, 蚁酸的",null,0,0,0]
[91691,1222125,"fovea",{"$f":"IF(VLOOKUP(C87270,#REF!,2,0)>0,1,0)","v":{"$error":"#REF!"}},"凹, 小凹（尤指视网膜的中央凹）",null,0,0,0]
[91692,1222127,"fundus",{"$f":"IF(VLOOKUP(C87271,#REF!,2,0)>0,1,0)","v":{"$error":"#REF!"}},"基底, 底部, 底",null,0,0,0]
[91693,1222131,"gimbal",{"$f":"IF(VLOOKUP(C87272,#REF!,2,0)>0,1,0)","v":{"$error":"#REF!"}},"万向节",null,0,0,0]
[91694,1222134,"glowworm",{"$f":"IF(VLOOKUP(C87273,#REF!,2,0)>0,1,0)","v":{"$error":"#REF!"}},"萤火虫",null,0,0,0]
[91695,1222135,"grab-bag",{"$f":"IF(VLOOKUP(C87274,#REF!,2,0)>0,1,0)","v":{"$error":"#REF!"}},"摸彩袋",null,0,0,0]
[91696,1222135,"grab-bag",{"$f":"IF(VLOOKUP(C87275,#REF!,2,0)>0,1,0)","v":{"$error":"#REF!"}},"通常指女士随身带的一种小包",null,0,0,0]
[91697,1222136,"grandnephew",{"$f":"IF(VLOOKUP(C87276,#REF!,2,0)>0,1,0)","v":{"$error":"#REF!"}},"甥（外）孙",null,0,0,0]
[91698,1222136,"grandnephew",{"$f":"IF(VLOOKUP(C87277,#REF!,2,0)>0,1,0)","v":{"$error":"#REF!"}},"侄孙",null,0,0,0]
[91699,1222137,"gray-headed",{"$f":"IF(VLOOKUP(C87278,#REF!,2,0)>0,1,0)","v":{"$error":"#REF!"}},"老年的, 老的",null,0,0,0]
[91700,1222138,"great-great-grandfather",{"$f":"IF(VLOOKUP(C87279,#REF!,2,0)>0,1,0)","v":{"$error":"#REF!"}},"高曾祖父",null,0,0,0]
[91701,1222139,"greenish-blue",{"$f":"IF(VLOOKUP(C87280,#REF!,2,0)>0,1,0)","v":{"$error":"#REF!"}},"[医]绿蓝",null,0,0,0]
[91702,1222140,"greenskeeper",{"$f":"IF(VLOOKUP(C87281,#REF!,2,0)>0,1,0)","v":{"$error":"#REF!"}},"高尔夫球场管理人",null,0,0,0]
[91703,1222142,"grossness",{"$f":"IF(VLOOKUP(C87282,#REF!,2,0)>0,1,0)","v":{"$error":"#REF!"}},"肥满, 粗劣, 粗杂",null,0,0,0]
[91704,1222145,"gynaecological",{"$f":"IF(VLOOKUP(C87283,#REF!,2,0)>0,1,0)","v":{"$error":"#REF!"}},"妇科学的妇科的",null,0,0,0]
[91705,1222146,"haemolytic",{"$f":"IF(VLOOKUP(C87284,#REF!,2,0)>0,1,0)","v":{"$error":"#REF!"}},"溶血的, 血球溶解的",null,0,0,0]
[91706,1222148,"half-track",{"$f":"IF(VLOOKUP(C87285,#REF!,2,0)>0,1,0)","v":{"$error":"#REF!"}},"半履带车",null,0,0,0]
[91708,1222153,"harping",{"$f":"IF(VLOOKUP(C87286,#REF!,2,0)>0,1,0)","v":{"$error":"#REF!"}},"反复述说, 唠唠叨叨地反复讲",null,0,0,0]
[91710,1222155,"haulage",{"$f":"IF(VLOOKUP(C87287,#REF!,2,0)>0,1,0)","v":{"$error":"#REF!"}},"公路[铁路]货运业, 公路[铁路]运费",null,0,0,0]
[91711,1222156,"haziness",{"$f":"IF(VLOOKUP(C87288,#REF!,2,0)>0,1,0)","v":{"$error":"#REF!"}},"有薄雾, 模糊",null,0,0,0]
[91712,1222156,"haziness",{"$f":"IF(VLOOKUP(C87289,#REF!,2,0)>0,1,0)","v":{"$error":"#REF!"}},"朦胧之性质或状态",null,0,0,0]
[91713,1222156,"haziness",{"$f":"IF(VLOOKUP(C87290,#REF!,2,0)>0,1,0)","v":{"$error":"#REF!"}},"零能见度",null,0,0,0]
[91714,1222158,"heavier-than-air",{"$f":"IF(VLOOKUP(C87291,#REF!,2,0)>0,1,0)","v":{"$error":"#REF!"}},"比空气重的, 重于空气飞行器的",null,0,0,0]
[91715,1222159,"hecatomb",{"$f":"IF(VLOOKUP(C87292,#REF!,2,0)>0,1,0)","v":{"$error":"#REF!"}},"（古希腊或罗马）（源于祭献百牛的）百牲祭",null,0,0,0]
[91716,1222159,"hecatomb",{"$f":"IF(VLOOKUP(C87293,#REF!,2,0)>0,1,0)","v":{"$error":"#REF!"}},"大牺牲, 大屠杀",null,0,0,0]
[91717,1222160,"hiddenness",{"$f":"IF(VLOOKUP(C87294,#REF!,2,0)>0,1,0)","v":{"$error":"#REF!"}},"隐藏",null,0,0,0]
[91718,1222161,"holloware",{"$f":"IF(VLOOKUP(C87295,#REF!,2,0)>0,1,0)","v":{"$error":"#REF!"}},"锅, 盘子",null,0,0,0]
[91719,1222163,"humidify",{"$f":"IF(VLOOKUP(C87296,#REF!,2,0)>0,1,0)","v":{"$error":"#REF!"}},"使潮湿",null,0,0,0]
[91720,1222166,"hydrazine",{"$f":"IF(VLOOKUP(C87297,#REF!,2,0)>0,1,0)","v":{"$error":"#REF!"}},"肼, 联氨",null,0,0,0]
[91721,1222167,"hypoplasia",{"$f":"IF(VLOOKUP(C87298,#REF!,2,0)>0,1,0)","v":{"$error":"#REF!"}},"（器官、组织等）发育不全, 细胞减生",null,0,0,0]
[91722,1222168,"ideograph",{"$f":"IF(VLOOKUP(C87299,#REF!,2,0)>0,1,0)","v":{"$error":"#REF!"}},"象形（表意）文字",null,0,0,0]
[91723,1222169,"illegibility",{"$f":"IF(VLOOKUP(C87300,#REF!,2,0)>0,1,0)","v":{"$error":"#REF!"}},"不清不楚, 不可辨认, 模糊",null,0,0,0]
[91724,1222170,"indiscreetly",{"$f":"IF(VLOOKUP(C87301,#REF!,2,0)>0,1,0)","v":{"$error":"#REF!"}},"轻率地",null,0,0,0]
[91725,1222175,"intermolecular",{"$f":"IF(VLOOKUP(C87302,#REF!,2,0)>0,1,0)","v":{"$error":"#REF!"}},"分子间的, 存在（或作用）于分子间的",null,0,0,0]
[91726,1222177,"intramuscularly",{"$f":"IF(VLOOKUP(C87303,#REF!,2,0)>0,1,0)","v":{"$error":"#REF!"}},"肌内地",null,0,0,0]
[91727,1222179,"introject",{"$f":"IF(VLOOKUP(C87304,#REF!,2,0)>0,1,0)","v":{"$error":"#REF!"}},"（思想、感情、信念等）融合, 使他人态度或外界事物形成内心形象",null,0,0,0]
[91728,1222184,"jump-rope",{"$f":"IF(VLOOKUP(C87305,#REF!,2,0)>0,1,0)","v":{"$error":"#REF!"}},"跳绳用的绳子",null,0,0,0]
[91729,1222185,"jural",{"$f":"IF(VLOOKUP(C87306,#REF!,2,0)>0,1,0)","v":{"$error":"#REF!"}},"法律上的, 有关权利义务的",null,0,0,0]
[91730,1222186,"killifish",{"$f":"IF(VLOOKUP(C87307,#REF!,2,0)>0,1,0)","v":{"$error":"#REF!"}},"产于淡水的将科小鱼",null,0,0,0]
[91731,1222189,"laparoscope",{"$f":"IF(VLOOKUP(C87308,#REF!,2,0)>0,1,0)","v":{"$error":"#REF!"}},"腹腔镜",null,0,0,0]
[91732,1222190,"large-aperture",{"$f":"IF(VLOOKUP(C87309,#REF!,2,0)>0,1,0)","v":{"$error":"#REF!"}},"[医]大孔径的",null,0,0,0]
[91733,1222191,"legatee",{"$f":"IF(VLOOKUP(C87310,#REF!,2,0)>0,1,0)","v":{"$error":"#REF!"}},"遗产受赠人",null,0,0,0]
[91734,1222191,"legatee",{"$f":"IF(VLOOKUP(C87311,#REF!,2,0)>0,1,0)","v":{"$error":"#REF!"}},"受遗赠人",null,0,0,0]
[91735,1222196,"loftiness",{"$f":"IF(VLOOKUP(C87312,#REF!,2,0)>0,1,0)","v":{"$error":"#REF!"}},"高傲, 高深, 崇高",null,0,0,0]
[91736,1222199,"lymphoblastic",{"$f":"IF(VLOOKUP(C87313,#REF!,2,0)>0,1,0)","v":{"$error":"#REF!"}},"成淋巴细胞的, 淋巴母细菌的",null,0,0,0]
[91737,1222200,"many-faceted",{"$f":"IF(VLOOKUP(C87314,#REF!,2,0)>0,1,0)","v":{"$error":"#REF!"}},"多面的, 多方面的, 多边的",null,0,0,0]
[91738,1222201,"megadeal",{"$f":"IF(VLOOKUP(C87315,#REF!,2,0)>0,1,0)","v":{"$error":"#REF!"}},"特大交易",null,0,0,0]
[91739,1222202,"mensuration",{"$f":"IF(VLOOKUP(C87316,#REF!,2,0)>0,1,0)","v":{"$error":"#REF!"}},"测定",null,0,0,0]
[91740,1222202,"mensuration",{"$f":"IF(VLOOKUP(C87317,#REF!,2,0)>0,1,0)","v":{"$error":"#REF!"}},"测量",null,0,0,0]
[91741,1222202,"mensuration",{"$f":"IF(VLOOKUP(C87318,#REF!,2,0)>0,1,0)","v":{"$error":"#REF!"}},"测定法",null,0,0,0]
[91742,1222202,"mensuration",{"$f":"IF(VLOOKUP(C87319,#REF!,2,0)>0,1,0)","v":{"$error":"#REF!"}},"求积法",null,0,0,0]
[91743,1222203,"microswitch",{"$f":"IF(VLOOKUP(C87320,#REF!,2,0)>0,1,0)","v":{"$error":"#REF!"}},"微型[微动]开关",null,0,0,0]
[91744,1222208,"mishear",{"$f":"IF(VLOOKUP(C87321,#REF!,2,0)>0,1,0)","v":{"$error":"#REF!"}},"听错, 误听",null,0,0,0]
[91745,1222209,"misspend",{"$f":"IF(VLOOKUP(C87322,#REF!,2,0)>0,1,0)","v":{"$error":"#REF!"}},"浪费",null,0,0,0]
[91746,1222212,"moisture-laden",{"$f":"IF(VLOOKUP(C87323,#REF!,2,0)>0,1,0)","v":{"$error":"#REF!"}},"充满水分的",null,0,0,0]
[91747,1222213,"moisture-wicking",{"$f":"IF(VLOOKUP(C87324,#REF!,2,0)>0,1,0)","v":{"$error":"#REF!"}},"吸湿",null,0,0,0]
[91748,1222214,"molting",{"$f":"IF(VLOOKUP(C87325,#REF!,2,0)>0,1,0)","v":{"$error":"#REF!"}},"蜕皮",null,0,0,0]
[91750,1222215,"monologist",{"$f":"IF(VLOOKUP(C87326,#REF!,2,0)>0,1,0)","v":{"$error":"#REF!"}},"独白者, 自言自语者",null,0,0,0]
[91751,1222221,"multi-candidate",{"$f":"IF(VLOOKUP(C87327,#REF!,2,0)>0,1,0)","v":{"$error":"#REF!"}},"多候选人",null,0,0,0]
[91752,1222222,"multilane",{"$f":"IF(VLOOKUP(C87328,#REF!,2,0)>0,1,0)","v":{"$error":"#REF!"}},"多车道的",null,0,0,0]
[91753,1222223,"muscatel",{"$f":"IF(VLOOKUP(C87329,#REF!,2,0)>0,1,0)","v":{"$error":"#REF!"}},"肉豆蔲酒（葡萄酒的一种）, 麝香葡萄",null,0,0,0]
[91755,1222231,"noncircular",{"$f":"IF(VLOOKUP(C87330,#REF!,2,0)>0,1,0)","v":{"$error":"#REF!"}},"非圆形的",null,0,0,0]
[91756,1222232,"noncontributory",{"$f":"IF(VLOOKUP(C87331,#REF!,2,0)>0,1,0)","v":{"$error":"#REF!"}},"不用职工缴款的养老金计划",null,0,0,0]
[91757,1222233,"non-degradable",{"$f":"IF(VLOOKUP(C87332,#REF!,2,0)>0,1,0)","v":{"$error":"#REF!"}},"不可降解",null,0,0,0]
[91758,1222235,"nonequivalent",{"$f":"IF(VLOOKUP(C87333,#REF!,2,0)>0,1,0)","v":{"$error":"#REF!"}},"非等价的",null,0,0,0]
[91759,1222238,"nonthermal",{"$f":"IF(VLOOKUP(C87334,#REF!,2,0)>0,1,0)","v":{"$error":"#REF!"}},"非热能的",null,0,0,0]
[91760,1222239,"nopal",{"$f":"IF(VLOOKUP(C87335,#REF!,2,0)>0,1,0)","v":{"$error":"#REF!"}},"胭脂仙人掌属植物",null,0,0,0]
[91761,1222240,"no-strings",{"$f":"IF(VLOOKUP(C87336,#REF!,2,0)>0,1,0)","v":{"$error":"#REF!"}},"不附带任何条件的",null,0,0,0]
[91762,1222243,"off-brand",{"$f":"IF(VLOOKUP(C87337,#REF!,2,0)>0,1,0)","v":{"$error":"#REF!"}},"商标未注册的",null,0,0,0]
[91763,1222246,"off-the-grid",{"$f":"IF(VLOOKUP(C87338,#REF!,2,0)>0,1,0)","v":{"$error":"#REF!"}},"离网",null,0,0,0]
[91764,1222248,"oil-burning",{"$f":"IF(VLOOKUP(C87339,#REF!,2,0)>0,1,0)","v":{"$error":"#REF!"}},"烧油的",null,0,0,0]
[91765,1222250,"olefin",{"$f":"IF(VLOOKUP(C87340,#REF!,2,0)>0,1,0)","v":{"$error":"#REF!"}},"石蜡",null,0,0,0]
[91766,1222251,"onchocerciasis",{"$f":"IF(VLOOKUP(C87341,#REF!,2,0)>0,1,0)","v":{"$error":"#REF!"}},"盘尾丝虫病",null,0,0,0]
[91767,1222253,"one-state",{"$f":"IF(VLOOKUP(C87342,#REF!,2,0)>0,1,0)","v":{"$error":"#REF!"}},"[电]单情况",null,0,0,0]
[91768,1222254,"on-the-scene",{"$f":"IF(VLOOKUP(C87343,#REF!,2,0)>0,1,0)","v":{"$error":"#REF!"}},"现场的",null,0,0,0]
[91769,1222255,"open-hearth",{"$f":"IF(VLOOKUP(C87344,#REF!,2,0)>0,1,0)","v":{"$error":"#REF!"}},"使用平炉（炼钢）的",null,0,0,0]
[91770,1222256,"osteoclastic",{"$f":"IF(VLOOKUP(C87345,#REF!,2,0)>0,1,0)","v":{"$error":"#REF!"}},"[医]折骨的, 破坏骨的",null,0,0,0]
[91771,1222257,"ostium",{"$f":"IF(VLOOKUP(C87346,#REF!,2,0)>0,1,0)","v":{"$error":"#REF!"}},"口, 门口",null,0,0,0]
[91772,1222259,"paintless",{"$f":"IF(VLOOKUP(C87347,#REF!,2,0)>0,1,0)","v":{"$error":"#REF!"}},"无油漆的",null,0,0,0]
[91773,1222260,"palmistry",{"$f":"IF(VLOOKUP(C87348,#REF!,2,0)>0,1,0)","v":{"$error":"#REF!"}},"相手术",null,0,0,0]
[91774,1222261,"paraboloid",{"$f":"IF(VLOOKUP(C87349,#REF!,2,0)>0,1,0)","v":{"$error":"#REF!"}},"抛物面",null,0,0,0]
[91775,1222263,"parturition",{"$f":"IF(VLOOKUP(C87350,#REF!,2,0)>0,1,0)","v":{"$error":"#REF!"}},"分娩, 生产",null,0,0,0]
[91776,1222265,"pedipalp",{"$f":"IF(VLOOKUP(C87351,#REF!,2,0)>0,1,0)","v":{"$error":"#REF!"}},"须肢",null,0,0,0]
[91777,1222266,"peepshow",{"$f":"IF(VLOOKUP(C87352,#REF!,2,0)>0,1,0)","v":{"$error":"#REF!"}},"西洋镜",null,0,0,0]
[91778,1222266,"peepshow",{"$f":"IF(VLOOKUP(C87353,#REF!,2,0)>0,1,0)","v":{"$error":"#REF!"}},"拉洋片",null,0,0,0]
[91779,1222267,"peignoir",{"$f":"IF(VLOOKUP(C87354,#REF!,2,0)>0,1,0)","v":{"$error":"#REF!"}},"妇女化妆衣, 睡衣",null,0,0,0]
[91780,1222268,"perfecting",{"$f":"IF(VLOOKUP(C87355,#REF!,2,0)>0,1,0)","v":{"$error":"#REF!"}},"完成",null,0,0,0]
[91781,1222268,"perfecting",{"$f":"IF(VLOOKUP(C87356,#REF!,2,0)>0,1,0)","v":{"$error":"#REF!"}},"精制",null,0,0,0]
[91782,1222268,"perfecting",{"$f":"IF(VLOOKUP(C87357,#REF!,2,0)>0,1,0)","v":{"$error":"#REF!"}},"完善",null,0,0,0]
[91783,1222268,"perfecting",{"$f":"IF(VLOOKUP(C87358,#REF!,2,0)>0,1,0)","v":{"$error":"#REF!"}},"改善",null,0,0,0]
[91785,1222268,"perfecting",{"$f":"IF(VLOOKUP(C87359,#REF!,2,0)>0,1,0)","v":{"$error":"#REF!"}},"使完全",null,0,0,0]
[91786,1222268,"perfecting",{"$f":"IF(VLOOKUP(C87360,#REF!,2,0)>0,1,0)","v":{"$error":"#REF!"}},"使…完美",null,0,0,0]
[91787,1222268,"perfecting",{"$f":"IF(VLOOKUP(C87361,#REF!,2,0)>0,1,0)","v":{"$error":"#REF!"}},"充分地指导(告诉)",null,0,0,0]
[91788,1222270,"pickaninny",{"$f":"IF(VLOOKUP(C87362,#REF!,2,0)>0,1,0)","v":{"$error":"#REF!"}},"<英贬>黑人小孩, 澳大利亚土著小孩",null,0,0,0]
[91789,1222273,"pizzicato",{"$f":"IF(VLOOKUP(C87363,#REF!,2,0)>0,1,0)","v":{"$error":"#REF!"}},"指弹的",null,0,0,0]
[91790,1222273,"pizzicato",{"$f":"IF(VLOOKUP(C87364,#REF!,2,0)>0,1,0)","v":{"$error":"#REF!"}},"拨奏曲, 用指弹的乐曲",null,0,0,0]
[91791,1222274,"plaice",{"$f":"IF(VLOOKUP(C87365,#REF!,2,0)>0,1,0)","v":{"$error":"#REF!"}},"鲽鱼",null,0,0,0]
[91792,1222274,"plaice",{"$f":"IF(VLOOKUP(C87366,#REF!,2,0)>0,1,0)","v":{"$error":"#REF!"}},"比目鱼",null,0,0,0]
[91793,1222275,"ploughman",{"$f":"IF(VLOOKUP(C87367,#REF!,2,0)>0,1,0)","v":{"$error":"#REF!"}},"农夫, 犁田者",null,0,0,0]
[91794,1222277,"postern",{"$f":"IF(VLOOKUP(C87368,#REF!,2,0)>0,1,0)","v":{"$error":"#REF!"}},"后门",null,0,0,0]
[91795,1222277,"postern",{"$f":"IF(VLOOKUP(C87369,#REF!,2,0)>0,1,0)","v":{"$error":"#REF!"}},"后门的",null,0,0,0]
[91796,1222278,"post-event",{"$f":"IF(VLOOKUP(C87370,#REF!,2,0)>0,1,0)","v":{"$error":"#REF!"}},"事后",null,0,0,0]
[91797,1222278,"post-event",{"$f":"IF(VLOOKUP(C87371,#REF!,2,0)>0,1,0)","v":{"$error":"#REF!"}},"过后",null,0,0,0]
[91798,1222282,"precociousness",{"$f":"IF(VLOOKUP(C87372,#REF!,2,0)>0,1,0)","v":{"$error":"#REF!"}},"早熟, 早成",null,0,0,0]
[91799,1222283,"precordial",{"$f":"IF(VLOOKUP(C87373,#REF!,2,0)>0,1,0)","v":{"$error":"#REF!"}},"心前（区）的",null,0,0,0]
[91800,1222284,"prefinished",{"$f":"IF(VLOOKUP(C87374,#REF!,2,0)>0,1,0)","v":{"$error":"#REF!"}},"预加工的",null,0,0,0]
[91801,1222284,"prefinished",{"$f":"IF(VLOOKUP(C87375,#REF!,2,0)>0,1,0)","v":{"$error":"#REF!"}},"预涂饰的",null,0,0,0]
[91802,1222284,"prefinished",{"$f":"IF(VLOOKUP(C87376,#REF!,2,0)>0,1,0)","v":{"$error":"#REF!"}},"未加工的",null,0,0,0]
[91803,1222284,"prefinished",{"$f":"IF(VLOOKUP(C87377,#REF!,2,0)>0,1,0)","v":{"$error":"#REF!"}},"预油实木地板",null,0,0,0]
[91804,1222284,"prefinished",{"$f":"IF(VLOOKUP(C87378,#REF!,2,0)>0,1,0)","v":{"$error":"#REF!"}},"强化地板",null,0,0,0]
[91805,1222287,"presto",{"$f":"IF(VLOOKUP(C87379,#REF!,2,0)>0,1,0)","v":{"$error":"#REF!"}},"说变就变（表示完成某事如变戏法般迅速容易）",null,0,0,0]
[91806,1222287,"presto",{"$f":"IF(VLOOKUP(C87380,#REF!,2,0)>0,1,0)","v":{"$error":"#REF!"}},"<音>急板地（的）",null,0,0,0]
[91807,1222287,"presto",{"$f":"IF(VLOOKUP(C87381,#REF!,2,0)>0,1,0)","v":{"$error":"#REF!"}},"<音>急板, 急板乐段",null,0,0,0]
[91808,1222289,"priapism",{"$f":"IF(VLOOKUP(C87382,#REF!,2,0)>0,1,0)","v":{"$error":"#REF!"}},"阴茎持续勃起症, 淫荡行为（表现或态度）",null,0,0,0]
[91809,1222292,"project-oriented",{"$f":"IF(VLOOKUP(C87383,#REF!,2,0)>0,1,0)","v":{"$error":"#REF!"}},"项目导向的",null,0,0,0]
[91811,1222293,"propelled",{"$f":"IF(VLOOKUP(C87384,#REF!,2,0)>0,1,0)","v":{"$error":"#REF!"}},"推动",null,0,0,0]
[91812,1222293,"propelled",{"$f":"IF(VLOOKUP(C87385,#REF!,2,0)>0,1,0)","v":{"$error":"#REF!"}},"驱动",null,0,0,0]
[91813,1222293,"propelled",{"$f":"IF(VLOOKUP(C87386,#REF!,2,0)>0,1,0)","v":{"$error":"#REF!"}},"驱使",null,0,0,0]
[91814,1222294,"protectress",{"$f":"IF(VLOOKUP(C87387,#REF!,2,0)>0,1,0)","v":{"$error":"#REF!"}},"女性保护人",null,0,0,0]
[91815,1222301,"quadrilateral",{"$f":"IF(VLOOKUP(C87388,#REF!,2,0)>0,1,0)","v":{"$error":"#REF!"}},"四边（形）的",null,0,0,0]
[91816,1222301,"quadrilateral",{"$f":"IF(VLOOKUP(C87389,#REF!,2,0)>0,1,0)","v":{"$error":"#REF!"}},"四边形",null,0,0,0]
[91817,1222303,"querulously",{"$f":"IF(VLOOKUP(C87390,#REF!,2,0)>0,1,0)","v":{"$error":"#REF!"}},"抱怨地, 易怒地",null,0,0,0]
[91818,1222306,"radiometric",{"$f":"IF(VLOOKUP(C87391,#REF!,2,0)>0,1,0)","v":{"$error":"#REF!"}},"辐射度的, 放射性测量的",null,0,0,0]
[91820,1222310,"recharged",{"$f":"IF(VLOOKUP(C87392,#REF!,2,0)>0,1,0)","v":{"$error":"#REF!"}},"给(枪)再装弹药",null,0,0,0]
[91821,1222310,"recharged",{"$f":"IF(VLOOKUP(C87393,#REF!,2,0)>0,1,0)","v":{"$error":"#REF!"}},"养精蓄锐",null,0,0,0]
[91822,1222310,"recharged",{"$f":"IF(VLOOKUP(C87394,#REF!,2,0)>0,1,0)","v":{"$error":"#REF!"}},"休整",null,0,0,0]
[91823,1222311,"recirculated",{"$f":"IF(VLOOKUP(C87395,#REF!,2,0)>0,1,0)","v":{"$error":"#REF!"}},"再循环的",null,0,0,0]
[91825,1222314,"recyclability",{"$f":"IF(VLOOKUP(C87396,#REF!,2,0)>0,1,0)","v":{"$error":"#REF!"}},"[电]再循环能力",null,0,0,0]
[91826,1222315,"refurnish",{"$f":"IF(VLOOKUP(C87397,#REF!,2,0)>0,1,0)","v":{"$error":"#REF!"}},"再供给, 重新装备",null,0,0,0]
[91828,1222316,"regenerating",{"$f":"IF(VLOOKUP(C87398,#REF!,2,0)>0,1,0)","v":{"$error":"#REF!"}},"正反馈",null,0,0,0]
[91829,1222317,"re-route",{"$f":"IF(VLOOKUP(C87399,#REF!,2,0)>0,1,0)","v":{"$error":"#REF!"}},"按不同路线发送, 改道发送",null,0,0,0]
[91832,1222318,"resented",{"$f":"IF(VLOOKUP(C87400,#REF!,2,0)>0,1,0)","v":{"$error":"#REF!"}},"再差遣",null,0,0,0]
[91833,1222318,"resented",{"$f":"IF(VLOOKUP(C87401,#REF!,2,0)>0,1,0)","v":{"$error":"#REF!"}},"再发",null,0,0,0]
[91834,1222320,"resurvey",{"$f":"IF(VLOOKUP(C87402,#REF!,2,0)>0,1,0)","v":{"$error":"#REF!"}},"再测量, 再勘查",null,0,0,0]
[91835,1222320,"resurvey",{"$f":"IF(VLOOKUP(C87403,#REF!,2,0)>0,1,0)","v":{"$error":"#REF!"}},"重测",null,0,0,0]
[91836,1222321,"retransmit",{"$f":"IF(VLOOKUP(C87404,#REF!,2,0)>0,1,0)","v":{"$error":"#REF!"}},"转播, 转发, 中继站发送",null,0,0,0]
[91837,1222323,"rhizomatous",{"$f":"IF(VLOOKUP(C87405,#REF!,2,0)>0,1,0)","v":{"$error":"#REF!"}},"地下茎的, 生地下茎的",null,0,0,0]
[91838,1222324,"right-minded",{"$f":"IF(VLOOKUP(C87406,#REF!,2,0)>0,1,0)","v":{"$error":"#REF!"}},"公正的, 正直的",null,0,0,0]
[91839,1222326,"root-knot",{"$f":"IF(VLOOKUP(C87407,#REF!,2,0)>0,1,0)","v":{"$error":"#REF!"}},"根结",null,0,0,0]
[91840,1222328,"rubberneck",{"$f":"IF(VLOOKUP(C87408,#REF!,2,0)>0,1,0)","v":{"$error":"#REF!"}},"<美俚>（好奇的）伸长脖子看（或听）的人, 观光客, 好奇者",null,0,0,0]
[91841,1222328,"rubberneck",{"$f":"IF(VLOOKUP(C87409,#REF!,2,0)>0,1,0)","v":{"$error":"#REF!"}},"跟着向导游览的人",null,0,0,0]
[91842,1222328,"rubberneck",{"$f":"IF(VLOOKUP(C87410,#REF!,2,0)>0,1,0)","v":{"$error":"#REF!"}},"好奇地听",null,0,0,0]
[91843,1222328,"rubberneck",{"$f":"IF(VLOOKUP(C87411,#REF!,2,0)>0,1,0)","v":{"$error":"#REF!"}},"伸长脖子看",null,0,0,0]
[91844,1222330,"ruffly",{"$f":"IF(VLOOKUP(C87412,#REF!,2,0)>0,1,0)","v":{"$error":"#REF!"}},"起波纹的, 起皱的",null,0,0,0]
[91845,1222331,"sacristan",{"$f":"IF(VLOOKUP(C87413,#REF!,2,0)>0,1,0)","v":{"$error":"#REF!"}},"教堂圣器收藏室的管理人, 教堂的看守人",null,0,0,0]
[91848,1222335,"scrapped",{"$f":"IF(VLOOKUP(C87414,#REF!,2,0)>0,1,0)","v":{"$error":"#REF!"}},"打架",null,0,0,0]
[91849,1222337,"sectionalism",{"$f":"IF(VLOOKUP(C87415,#REF!,2,0)>0,1,0)","v":{"$error":"#REF!"}},"地方主义, 地方偏见",null,0,0,0]
[91850,1222338,"selectee",{"$f":"IF(VLOOKUP(C87416,#REF!,2,0)>0,1,0)","v":{"$error":"#REF!"}},"征召员",null,0,0,0]
[91851,1222339,"self-limitation",{"$f":"IF(VLOOKUP(C87417,#REF!,2,0)>0,1,0)","v":{"$error":"#REF!"}},"自限性",null,0,0,0]
[91852,1222340,"self-pollination",{"$f":"IF(VLOOKUP(C87418,#REF!,2,0)>0,1,0)","v":{"$error":"#REF!"}},"自花受粉",null,0,0,0]
[91853,1222341,"self-powered",{"$f":"IF(VLOOKUP(C87419,#REF!,2,0)>0,1,0)","v":{"$error":"#REF!"}},"自供电的",null,0,0,0]
[91854,1222342,"self-preserving",{"$f":"IF(VLOOKUP(C87420,#REF!,2,0)>0,1,0)","v":{"$error":"#REF!"}},"自我保护的",null,0,0,0]
[91855,1222342,"self-preserving",{"$f":"IF(VLOOKUP(C87421,#REF!,2,0)>0,1,0)","v":{"$error":"#REF!"}},"自卫本能的",null,0,0,0]
[91856,1222343,"self-referenced",{"$f":"IF(VLOOKUP(C87422,#REF!,2,0)>0,1,0)","v":{"$error":"#REF!"}},"自我参照",null,0,0,0]
[91857,1222344,"self-surrender",{"$f":"IF(VLOOKUP(C87423,#REF!,2,0)>0,1,0)","v":{"$error":"#REF!"}},"忍让, 放任, 甘心屈从",null,0,0,0]
[91858,1222346,"set-point",{"$f":"IF(VLOOKUP(C87424,#REF!,2,0)>0,1,0)","v":{"$error":"#REF!"}},"置位点",null,0,0,0]
[91859,1222352,"shadeless",{"$f":"IF(VLOOKUP(C87425,#REF!,2,0)>0,1,0)","v":{"$error":"#REF!"}},"没有阴影的",null,0,0,0]
[91860,1222353,"sheepfold",{"$f":"IF(VLOOKUP(C87426,#REF!,2,0)>0,1,0)","v":{"$error":"#REF!"}},"羊圈",null,0,0,0]
[91861,1222354,"shoddiness",{"$f":"IF(VLOOKUP(C87427,#REF!,2,0)>0,1,0)","v":{"$error":"#REF!"}},"粗制滥造",null,0,0,0]
[91862,1222356,"single-factor",{"$f":"IF(VLOOKUP(C87428,#REF!,2,0)>0,1,0)","v":{"$error":"#REF!"}},"[计]单因子",null,0,0,0]
[91863,1222359,"single-user",{"$f":"IF(VLOOKUP(C87429,#REF!,2,0)>0,1,0)","v":{"$error":"#REF!"}},"单用户, 单一用户",null,0,0,0]
[91864,1222365,"skirl",{"$f":"IF(VLOOKUP(C87430,#REF!,2,0)>0,1,0)","v":{"$error":"#REF!"}},"风笛发出的尖锐声",null,0,0,0]
[91865,1222365,"skirl",{"$f":"IF(VLOOKUP(C87431,#REF!,2,0)>0,1,0)","v":{"$error":"#REF!"}},"发出尖锐声, 用风笛演奏",null,0,0,0]
[91867,1222367,"slackened",{"$f":"IF(VLOOKUP(C87432,#REF!,2,0)>0,1,0)","v":{"$error":"#REF!"}},"(使某物)放慢",null,0,0,0]
[91868,1222367,"slackened",{"$f":"IF(VLOOKUP(C87433,#REF!,2,0)>0,1,0)","v":{"$error":"#REF!"}},"松懈下来",null,0,0,0]
[91869,1222367,"slackened",{"$f":"IF(VLOOKUP(C87434,#REF!,2,0)>0,1,0)","v":{"$error":"#REF!"}},"变迟缓",null,0,0,0]
[91870,1222368,"slam-bang",{"$f":"IF(VLOOKUP(C87435,#REF!,2,0)>0,1,0)","v":{"$error":"#REF!"}},"砰然一声",null,0,0,0]
[91871,1222368,"slam-bang",{"$f":"IF(VLOOKUP(C87436,#REF!,2,0)>0,1,0)","v":{"$error":"#REF!"}},"猛烈地",null,0,0,0]
[91872,1222368,"slam-bang",{"$f":"IF(VLOOKUP(C87437,#REF!,2,0)>0,1,0)","v":{"$error":"#REF!"}},"鲁莽地",null,0,0,0]
[91873,1222368,"slam-bang",{"$f":"IF(VLOOKUP(C87438,#REF!,2,0)>0,1,0)","v":{"$error":"#REF!"}},"轻率地",null,0,0,0]
[91874,1222370,"slow-acting",{"$f":"IF(VLOOKUP(C87439,#REF!,2,0)>0,1,0)","v":{"$error":"#REF!"}},"慢转, 慢转的, 延迟动作",null,0,0,0]
[91875,1222371,"smiler",{"$f":"IF(VLOOKUP(C87440,#REF!,2,0)>0,1,0)","v":{"$error":"#REF!"}},"微笑者",null,0,0,0]
[91877,1222375,"sounded",{"$f":"IF(VLOOKUP(C87441,#REF!,2,0)>0,1,0)","v":{"$error":"#REF!"}},"发(音)",null,0,0,0]
[91878,1222375,"sounded",{"$f":"IF(VLOOKUP(C87442,#REF!,2,0)>0,1,0)","v":{"$error":"#REF!"}},"试探",null,0,0,0]
[91879,1222375,"sounded",{"$f":"IF(VLOOKUP(C87443,#REF!,2,0)>0,1,0)","v":{"$error":"#REF!"}},"探测",null,0,0,0]
[91880,1222376,"spadefoot",{"$f":"IF(VLOOKUP(C87444,#REF!,2,0)>0,1,0)","v":{"$error":"#REF!"}},"锄足蟾",null,0,0,0]
[91881,1222378,"spinous",{"$f":"IF(VLOOKUP(C87445,#REF!,2,0)>0,1,0)","v":{"$error":"#REF!"}},"多刺的, 刺状的, 难弄的",null,0,0,0]
[91882,1222379,"spondaic",{"$f":"IF(VLOOKUP(C87446,#REF!,2,0)>0,1,0)","v":{"$error":"#REF!"}},"扬扬格的",null,0,0,0]
[91883,1222380,"square-dance",{"$f":"IF(VLOOKUP(C87447,#REF!,2,0)>0,1,0)","v":{"$error":"#REF!"}},"方块舞",null,0,0,0]
[91884,1222381,"stand-down",{"$f":"IF(VLOOKUP(C87448,#REF!,2,0)>0,1,0)","v":{"$error":"#REF!"}},"暂停, 停止, 停工",null,0,0,0]
[91885,1222382,"standee",{"$f":"IF(VLOOKUP(C87449,#REF!,2,0)>0,1,0)","v":{"$error":"#REF!"}},"站着看的人, （公共汽车上的）站客",null,0,0,0]
[91886,1222382,"standee",{"$f":"IF(VLOOKUP(C87450,#REF!,2,0)>0,1,0)","v":{"$error":"#REF!"}},"站立的乘客",null,0,0,0]
[91887,1222384,"stimulus-response",{"$f":"IF(VLOOKUP(C87451,#REF!,2,0)>0,1,0)","v":{"$error":"#REF!"}},"[医]刺激-反应",null,0,0,0]
[91888,1222385,"student-oriented",{"$f":"IF(VLOOKUP(C87452,#REF!,2,0)>0,1,0)","v":{"$error":"#REF!"}},"以学生为中心的",null,0,0,0]
[91889,1222386,"stuporous",{"$f":"IF(VLOOKUP(C87453,#REF!,2,0)>0,1,0)","v":{"$error":"#REF!"}},"昏迷的, 不省人事的, 麻木的",null,0,0,0]
[91890,1222387,"subcritical",{"$f":"IF(VLOOKUP(C87454,#REF!,2,0)>0,1,0)","v":{"$error":"#REF!"}},"近乎危急的",null,0,0,0]
[91892,1222389,"substituted",{"$f":"IF(VLOOKUP(C87455,#REF!,2,0)>0,1,0)","v":{"$error":"#REF!"}},"做…的代理人, 接替",null,0,0,0]
[91894,1222394,"supraventricular",{"$f":"IF(VLOOKUP(C87456,#REF!,2,0)>0,1,0)","v":{"$error":"#REF!"}},"[医]室上的",null,0,0,0]
[91895,1222395,"susurration",{"$f":"IF(VLOOKUP(C87457,#REF!,2,0)>0,1,0)","v":{"$error":"#REF!"}},"[医]杂音",null,0,0,0]
[91896,1222397,"tallness",{"$f":"IF(VLOOKUP(C87458,#REF!,2,0)>0,1,0)","v":{"$error":"#REF!"}},"高, 高度",null,0,0,0]
[91897,1222398,"tamponade",{"$f":"IF(VLOOKUP(C87459,#REF!,2,0)>0,1,0)","v":{"$error":"#REF!"}},"填塞, 压塞",null,0,0,0]
[91898,1222400,"teosinte",{"$f":"IF(VLOOKUP(C87460,#REF!,2,0)>0,1,0)","v":{"$error":"#REF!"}},"墨西哥类蜀黍",null,0,0,0]
[91899,1222401,"teratogenic",{"$f":"IF(VLOOKUP(C87461,#REF!,2,0)>0,1,0)","v":{"$error":"#REF!"}},"产生畸形的",null,0,0,0]
[91900,1222403,"three-cylinder",{"$f":"IF(VLOOKUP(C87462,#REF!,2,0)>0,1,0)","v":{"$error":"#REF!"}},"三缸",null,0,0,0]
[91901,1222406,"timpanist",{"$f":"IF(VLOOKUP(C87463,#REF!,2,0)>0,1,0)","v":{"$error":"#REF!"}},"定音鼓手",null,0,0,0]
[91902,1222408,"tongued",{"$f":"IF(VLOOKUP(C87464,#REF!,2,0)>0,1,0)","v":{"$error":"#REF!"}},"说话…的",null,0,0,0]
[91903,1222409,"tonsure",{"$f":"IF(VLOOKUP(C87465,#REF!,2,0)>0,1,0)","v":{"$error":"#REF!"}},"剪发, 头顶剃光的部分, 削发式",null,0,0,0]
[91904,1222409,"tonsure",{"$f":"IF(VLOOKUP(C87466,#REF!,2,0)>0,1,0)","v":{"$error":"#REF!"}},"剃",null,0,0,0]
[91905,1222410,"tournedos",{"$f":"IF(VLOOKUP(C87467,#REF!,2,0)>0,1,0)","v":{"$error":"#REF!"}},"腓里牛排",null,0,0,0]
[91907,1222412,"transcending",{"$f":"IF(VLOOKUP(C87468,#REF!,2,0)>0,1,0)","v":{"$error":"#REF!"}},"优于或胜过…",null,0,0,0]
[91908,1222413,"transferral",{"$f":"IF(VLOOKUP(C87469,#REF!,2,0)>0,1,0)","v":{"$error":"#REF!"}},"转移",null,0,0,0]
[91909,1222413,"transferral",{"$f":"IF(VLOOKUP(C87470,#REF!,2,0)>0,1,0)","v":{"$error":"#REF!"}},"调动",null,0,0,0]
[91910,1222413,"transferral",{"$f":"IF(VLOOKUP(C87471,#REF!,2,0)>0,1,0)","v":{"$error":"#REF!"}},"转换",null,0,0,0]
[91911,1222414,"tremolite",{"$f":"IF(VLOOKUP(C87472,#REF!,2,0)>0,1,0)","v":{"$error":"#REF!"}},"透闪石",null,0,0,0]
[91912,1222415,"trunnion",{"$f":"IF(VLOOKUP(C87473,#REF!,2,0)>0,1,0)","v":{"$error":"#REF!"}},"炮耳, 耳轴",null,0,0,0]
[91913,1222420,"uncatchable",{"$f":"IF(VLOOKUP(C87474,#REF!,2,0)>0,1,0)","v":{"$error":"#REF!"}},"无法捉住的",null,0,0,0]
[91914,1222420,"uncatchable",{"$f":"IF(VLOOKUP(C87475,#REF!,2,0)>0,1,0)","v":{"$error":"#REF!"}},"不可捕获的",null,0,0,0]
[91915,1222420,"uncatchable",{"$f":"IF(VLOOKUP(C87476,#REF!,2,0)>0,1,0)","v":{"$error":"#REF!"}},"抓不住的",null,0,0,0]
[91916,1222420,"uncatchable",{"$f":"IF(VLOOKUP(C87477,#REF!,2,0)>0,1,0)","v":{"$error":"#REF!"}},"捉摸不住的",null,0,0,0]
[91917,1222422,"underclothing",{"$f":"IF(VLOOKUP(C87478,#REF!,2,0)>0,1,0)","v":{"$error":"#REF!"}},"内衣, 贴身衣裤",null,0,0,0]
[91918,1222423,"undesirability",{"$f":"IF(VLOOKUP(C87479,#REF!,2,0)>0,1,0)","v":{"$error":"#REF!"}},"不受欢迎",null,0,0,0]
[91919,1222423,"undesirability",{"$f":"IF(VLOOKUP(C87480,#REF!,2,0)>0,1,0)","v":{"$error":"#REF!"}},"不良",null,0,0,0]
[91920,1222423,"undesirability",{"$f":"IF(VLOOKUP(C87481,#REF!,2,0)>0,1,0)","v":{"$error":"#REF!"}},"不愉快",null,0,0,0]
[91921,1222423,"undesirability",{"$f":"IF(VLOOKUP(C87482,#REF!,2,0)>0,1,0)","v":{"$error":"#REF!"}},"不合需要",null,0,0,0]
[91922,1222424,"unexpurgated",{"$f":"IF(VLOOKUP(C87483,#REF!,2,0)>0,1,0)","v":{"$error":"#REF!"}},"未经删节的, 全文的",null,0,0,0]
[91923,1222425,"unfelt",{"$f":"IF(VLOOKUP(C87484,#REF!,2,0)>0,1,0)","v":{"$error":"#REF!"}},"无感情的, 不感动的",null,0,0,0]
[91925,1222427,"uniformitarian",{"$f":"IF(VLOOKUP(C87485,#REF!,2,0)>0,1,0)","v":{"$error":"#REF!"}},"（地质）均变说的",null,0,0,0]
[91926,1222427,"uniformitarian",{"$f":"IF(VLOOKUP(C87486,#REF!,2,0)>0,1,0)","v":{"$error":"#REF!"}},"均变论者",null,0,0,0]
[91927,1222428,"unintelligibly",{"$f":"IF(VLOOKUP(C87487,#REF!,2,0)>0,1,0)","v":{"$error":"#REF!"}},"难以理解地",null,0,0,0]
[91928,1222432,"unperceived",{"$f":"IF(VLOOKUP(C87488,#REF!,2,0)>0,1,0)","v":{"$error":"#REF!"}},"未被注意的, 未被察觉的",null,0,0,0]
[91929,1222433,"unshaped",{"$f":"IF(VLOOKUP(C87489,#REF!,2,0)>0,1,0)","v":{"$error":"#REF!"}},"不成形状的",null,0,0,0]
[91930,1222433,"unshaped",{"$f":"IF(VLOOKUP(C87490,#REF!,2,0)>0,1,0)","v":{"$error":"#REF!"}},"未定型的",null,0,0,0]
[91931,1222433,"unshaped",{"$f":"IF(VLOOKUP(C87491,#REF!,2,0)>0,1,0)","v":{"$error":"#REF!"}},"粗糙的",null,0,0,0]
[91932,1222433,"unshaped",{"$f":"IF(VLOOKUP(C87492,#REF!,2,0)>0,1,0)","v":{"$error":"#REF!"}},"形状不美的",null,0,0,0]
[91933,1222434,"unswervingly",{"$f":"IF(VLOOKUP(C87493,#REF!,2,0)>0,1,0)","v":{"$error":"#REF!"}},"坚持不懈地, 坚定不移地",null,0,0,0]
[91934,1222434,"unswervingly",{"$f":"IF(VLOOKUP(C87494,#REF!,2,0)>0,1,0)","v":{"$error":"#REF!"}},"毫不动摇",null,0,0,0]
[91935,1222434,"unswervingly",{"$f":"IF(VLOOKUP(C87495,#REF!,2,0)>0,1,0)","v":{"$error":"#REF!"}},"坚定不渝",null,0,0,0]
[91936,1222435,"unteachable",{"$f":"IF(VLOOKUP(C87496,#REF!,2,0)>0,1,0)","v":{"$error":"#REF!"}},"不可教的, 难教育的",null,0,0,0]
[91937,1222436,"unzipped",{"$f":"IF(VLOOKUP(C87497,#REF!,2,0)>0,1,0)","v":{"$error":"#REF!"}},"未拉上拉链的",null,0,0,0]
[91939,1222439,"uxorilocal",{"$f":"IF(VLOOKUP(C87498,#REF!,2,0)>0,1,0)","v":{"$error":"#REF!"}},"（人类学用语）（婚后）居住在女方的, 入赘风俗的",null,0,0,0]
[91940,1222440,"venomously",{"$f":"IF(VLOOKUP(C87499,#REF!,2,0)>0,1,0)","v":{"$error":"#REF!"}},"狠毒地, 充满恶意地",null,0,0,0]
[91942,1222444,"washerman",{"$f":"IF(VLOOKUP(C87500,#REF!,2,0)>0,1,0)","v":{"$error":"#REF!"}},"男洗衣工",null,0,0,0]
[91943,1222445,"water-heating",{"$f":"IF(VLOOKUP(C87501,#REF!,2,0)>0,1,0)","v":{"$error":"#REF!"}},"水域加热",null,0,0,0]
[91944,1222446,"water-ski",{"$f":"IF(VLOOKUP(C87502,#REF!,2,0)>0,1,0)","v":{"$error":"#REF!"}},"用滑水橇滑行",null,0,0,0]
[91945,1222449,"well-adapted",{"$f":"IF(VLOOKUP(C87503,#REF!,2,0)>0,1,0)","v":{"$error":"#REF!"}},"适应得很好",null,0,0,0]
[91946,1222450,"well-circumscribed",{"$f":"IF(VLOOKUP(C87504,#REF!,2,0)>0,1,0)","v":{"$error":"#REF!"}},"[医]边界清楚的",null,0,0,0]
[91947,1222454,"wholly-owned",{"$f":"IF(VLOOKUP(C87505,#REF!,2,0)>0,1,0)","v":{"$error":"#REF!"}},"全资拥有的",null,0,0,0]
[91950,1222459,"wittgensteinian",{"$f":"IF(VLOOKUP(C87506,#REF!,2,0)>0,1,0)","v":{"$error":"#REF!"}},"（英国哲学家、数理逻辑学家）维特根斯坦（理论、方法）的",null,0,0,0]
[91951,1222459,"wittgensteinian",{"$f":"IF(VLOOKUP(C87507,#REF!,2,0)>0,1,0)","v":{"$error":"#REF!"}},"维特根斯坦思想的信徒",null,0,0,0]
[91952,1222462,"abrasion-resistant",{"$f":"IF(VLOOKUP(C87508,#REF!,2,0)>0,1,0)","v":{"$error":"#REF!"}},"耐磨",null,0,0,0]
[91953,1222463,"accelerative",{"$f":"IF(VLOOKUP(C87509,#REF!,2,0)>0,1,0)","v":{"$error":"#REF!"}},"加速的, 催促的",null,0,0,0]
[91955,1222466,"airsickness",{"$f":"IF(VLOOKUP(C87510,#REF!,2,0)>0,1,0)","v":{"$error":"#REF!"}},"晕机",null,0,0,0]
[91957,1222468,"aminotransferase",{"$f":"IF(VLOOKUP(C87511,#REF!,2,0)>0,1,0)","v":{"$error":"#REF!"}},"转氨酶",null,0,0,0]
[91958,1222469,"anaclitic",{"$f":"IF(VLOOKUP(C87512,#REF!,2,0)>0,1,0)","v":{"$error":"#REF!"}},"情感依附的",null,0,0,0]
[91960,1222471,"antiqued",{"$f":"IF(VLOOKUP(C87513,#REF!,2,0)>0,1,0)","v":{"$error":"#REF!"}},"仿古的",null,0,0,0]
[91961,1222471,"antiqued",{"$f":"IF(VLOOKUP(C87514,#REF!,2,0)>0,1,0)","v":{"$error":"#REF!"}},"现仿的",null,0,0,0]
[91962,1222473,"application-specific",{"$f":"IF(VLOOKUP(C87515,#REF!,2,0)>0,1,0)","v":{"$error":"#REF!"}},"[计][修]专用, 特定",null,0,0,0]
[91963,1222474,"appy",{"$f":"IF(VLOOKUP(C87516,#REF!,2,0)>0,1,0)","v":{"$error":"#REF!"}},"appendectomy阑尾切除术",null,0,0,0]
[91964,1222476,"arithmetically",{"$f":"IF(VLOOKUP(C87517,#REF!,2,0)>0,1,0)","v":{"$error":"#REF!"}},"算术上",null,0,0,0]
[91965,1222478,"assize",{"$f":"IF(VLOOKUP(C87518,#REF!,2,0)>0,1,0)","v":{"$error":"#REF!"}},"立法会议, 法令",null,0,0,0]
[91966,1222479,"asynchronously",{"$f":"IF(VLOOKUP(C87519,#REF!,2,0)>0,1,0)","v":{"$error":"#REF!"}},"异步的",null,0,0,0]
[91967,1222482,"back-stabbing",{"$f":"IF(VLOOKUP(C87520,#REF!,2,0)>0,1,0)","v":{"$error":"#REF!"}},"阴险的, 小人的, 暗箭伤人的",null,0,0,0]
[91969,1222492,"brick-lined",{"$f":"IF(VLOOKUP(C87521,#REF!,2,0)>0,1,0)","v":{"$error":"#REF!"}},"衬砖的",null,0,0,0]
[91970,1222493,"bricoleur",{"$f":"IF(VLOOKUP(C87522,#REF!,2,0)>0,1,0)","v":{"$error":"#REF!"}},"用手头现成工具摆弄修理的人",null,0,0,0]
[91971,1222495,"buck-naked",{"$f":"IF(VLOOKUP(C87523,#REF!,2,0)>0,1,0)","v":{"$error":"#REF!"}},"赤裸着的",null,0,0,0]
[91973,1222498,"carnally",{"$f":"IF(VLOOKUP(C87524,#REF!,2,0)>0,1,0)","v":{"$error":"#REF!"}},"肉体地, 世俗地",null,0,0,0]
[91974,1222499,"carpel",{"$f":"IF(VLOOKUP(C87525,#REF!,2,0)>0,1,0)","v":{"$error":"#REF!"}},"心皮",null,0,0,0]
[91975,1222502,"chain-smoker",{"$f":"IF(VLOOKUP(C87526,#REF!,2,0)>0,1,0)","v":{"$error":"#REF!"}},"一支接一支抽烟的人",null,0,0,0]
[91976,1222503,"chaplinesque",{"$f":"IF(VLOOKUP(C87527,#REF!,2,0)>0,1,0)","v":{"$error":"#REF!"}},"卓别林式的",null,0,0,0]
[91977,1222504,"chordate",{"$f":"IF(VLOOKUP(C87528,#REF!,2,0)>0,1,0)","v":{"$error":"#REF!"}},"脊索动物门的, 有脊索的",null,0,0,0]
[91978,1222504,"chordate",{"$f":"IF(VLOOKUP(C87529,#REF!,2,0)>0,1,0)","v":{"$error":"#REF!"}},"脊索动物",null,0,0,0]
[91979,1222506,"ciceronian",{"$f":"IF(VLOOKUP(C87530,#REF!,2,0)>0,1,0)","v":{"$error":"#REF!"}},"（古罗马政治家、演说家和哲学家）西塞罗的",null,0,0,0]
[91980,1222506,"ciceronian",{"$f":"IF(VLOOKUP(C87531,#REF!,2,0)>0,1,0)","v":{"$error":"#REF!"}},"西塞罗作品的",null,0,0,0]
[91981,1222506,"ciceronian",{"$f":"IF(VLOOKUP(C87532,#REF!,2,0)>0,1,0)","v":{"$error":"#REF!"}},"西塞罗修辞风格的",null,0,0,0]
[91982,1222506,"ciceronian",{"$f":"IF(VLOOKUP(C87533,#REF!,2,0)>0,1,0)","v":{"$error":"#REF!"}},"雄辩的",null,0,0,0]
[91983,1222507,"closed-down",{"$f":"IF(VLOOKUP(C87534,#REF!,2,0)>0,1,0)","v":{"$error":"#REF!"}},"[计]停机, 停歇",null,0,0,0]
[91984,1222509,"conjunctival",{"$f":"IF(VLOOKUP(C87535,#REF!,2,0)>0,1,0)","v":{"$error":"#REF!"}},"[医]结膜的",null,0,0,0]
[91985,1222511,"contrariwise",{"$f":"IF(VLOOKUP(C87536,#REF!,2,0)>0,1,0)","v":{"$error":"#REF!"}},"反之, 顽固地",null,0,0,0]
[91986,1222512,"co-partner",{"$f":"IF(VLOOKUP(C87537,#REF!,2,0)>0,1,0)","v":{"$error":"#REF!"}},"合伙人",null,0,0,0]
[91988,1222514,"correcting",{"$f":"IF(VLOOKUP(C87538,#REF!,2,0)>0,1,0)","v":{"$error":"#REF!"}},"[数学、物理学]校正",null,0,0,0]
[91989,1222514,"correcting",{"$f":"IF(VLOOKUP(C87539,#REF!,2,0)>0,1,0)","v":{"$error":"#REF!"}},"(试卷)改错",null,0,0,0]
[91990,1222514,"correcting",{"$f":"IF(VLOOKUP(C87540,#REF!,2,0)>0,1,0)","v":{"$error":"#REF!"}},"批改",null,0,0,0]
[91991,1222515,"counter-rotating",{"$f":"IF(VLOOKUP(C87541,#REF!,2,0)>0,1,0)","v":{"$error":"#REF!"}},"反旋转",null,0,0,0]
[91992,1222516,"crashworthy",{"$f":"IF(VLOOKUP(C87542,#REF!,2,0)>0,1,0)","v":{"$error":"#REF!"}},"防撞的",null,0,0,0]
[91993,1222517,"cretinism",{"$f":"IF(VLOOKUP(C87543,#REF!,2,0)>0,1,0)","v":{"$error":"#REF!"}},"呆小病, 白痴病",null,0,0,0]
[91994,1222517,"cretinism",{"$f":"IF(VLOOKUP(C87544,#REF!,2,0)>0,1,0)","v":{"$error":"#REF!"}},"愚侏病",null,0,0,0]
[91995,1222520,"cut-flower",{"$f":"IF(VLOOKUP(C87545,#REF!,2,0)>0,1,0)","v":{"$error":"#REF!"}},"切花",null,0,0,0]
[91996,1222522,"deepness",{"$f":"IF(VLOOKUP(C87546,#REF!,2,0)>0,1,0)","v":{"$error":"#REF!"}},"深度",null,0,0,0]
[91998,1222525,"dichondra",{"$f":"IF(VLOOKUP(C87547,#REF!,2,0)>0,1,0)","v":{"$error":"#REF!"}},"马蹄金属植物",null,0,0,0]
[91999,1222526,"diffraction-limited",{"$f":"IF(VLOOKUP(C87548,#REF!,2,0)>0,1,0)","v":{"$error":"#REF!"}},"受衍射限制的",null,0,0,0]
[92000,1222526,"diffraction-limited",{"$f":"IF(VLOOKUP(C87549,#REF!,2,0)>0,1,0)","v":{"$error":"#REF!"}},"[光学]衍射限制的",null,0,0,0]
[92001,1222527,"dihydrotestosterone",{"$f":"IF(VLOOKUP(C87550,#REF!,2,0)>0,1,0)","v":{"$error":"#REF!"}},"二氢睾酮",null,0,0,0]
[92002,1222527,"dihydrotestosterone",{"$f":"IF(VLOOKUP(C87551,#REF!,2,0)>0,1,0)","v":{"$error":"#REF!"}},"二氢睾丸酮",null,0,0,0]
[92003,1222529,"discouragingly",{"$f":"IF(VLOOKUP(C87552,#REF!,2,0)>0,1,0)","v":{"$error":"#REF!"}},"使人气馁地, 阻止地",null,0,0,0]
[92004,1222530,"disharmonious",{"$f":"IF(VLOOKUP(C87553,#REF!,2,0)>0,1,0)","v":{"$error":"#REF!"}},"不调和的, 不和谐的",null,0,0,0]
[92005,1222531,"disjoin",{"$f":"IF(VLOOKUP(C87554,#REF!,2,0)>0,1,0)","v":{"$error":"#REF!"}},"（使）分开, （使）分离",null,0,0,0]
[92006,1222531,"disjoin",{"$f":"IF(VLOOKUP(C87555,#REF!,2,0)>0,1,0)","v":{"$error":"#REF!"}},"拆散",null,0,0,0]
[92007,1222532,"dismayingly",{"$f":"IF(VLOOKUP(C87556,#REF!,2,0)>0,1,0)","v":{"$error":"#REF!"}},"令人沮丧地, 令人惊愕地",null,0,0,0]
[92008,1222533,"disruptiveness",{"$f":"IF(VLOOKUP(C87557,#REF!,2,0)>0,1,0)","v":{"$error":"#REF!"}},"破裂性",null,0,0,0]
[92009,1222534,"dive-bomb",{"$f":"IF(VLOOKUP(C87558,#REF!,2,0)>0,1,0)","v":{"$error":"#REF!"}},"俯冲轰炸",null,0,0,0]
[92010,1222535,"dose-dependent",{"$f":"IF(VLOOKUP(C87559,#REF!,2,0)>0,1,0)","v":{"$error":"#REF!"}},"[医]剂量依存性的, 取决于剂量的",null,0,0,0]
[92011,1222539,"downslide",{"$f":"IF(VLOOKUP(C87560,#REF!,2,0)>0,1,0)","v":{"$error":"#REF!"}},"（行市的）下跌, （工商业的）下降",null,0,0,0]
[92012,1222541,"duplicator",{"$f":"IF(VLOOKUP(C87561,#REF!,2,0)>0,1,0)","v":{"$error":"#REF!"}},"复制器, 复制者",null,0,0,0]
[92013,1222545,"electrocardiographic",{"$f":"IF(VLOOKUP(C87562,#REF!,2,0)>0,1,0)","v":{"$error":"#REF!"}},"心电描记器的",null,0,0,0]
[92015,1222547,"enucleation",{"$f":"IF(VLOOKUP(C87563,#REF!,2,0)>0,1,0)","v":{"$error":"#REF!"}},"摘出[术]",null,0,0,0]
[92016,1222547,"enucleation",{"$f":"IF(VLOOKUP(C87564,#REF!,2,0)>0,1,0)","v":{"$error":"#REF!"}},"剜除术",null,0,0,0]
[92017,1222547,"enucleation",{"$f":"IF(VLOOKUP(C87565,#REF!,2,0)>0,1,0)","v":{"$error":"#REF!"}},"摘出术",null,0,0,0]
[92018,1222548,"enzootic",{"$f":"IF(VLOOKUP(C87566,#REF!,2,0)>0,1,0)","v":{"$error":"#REF!"}},"地方性动物病的",null,0,0,0]
[92019,1222548,"enzootic",{"$f":"IF(VLOOKUP(C87567,#REF!,2,0)>0,1,0)","v":{"$error":"#REF!"}},"地方性动物病",null,0,0,0]
[92020,1222549,"epigastric",{"$f":"IF(VLOOKUP(C87568,#REF!,2,0)>0,1,0)","v":{"$error":"#REF!"}},"腹上部的",null,0,0,0]
[92021,1222551,"ex-prisoner",{"$f":"IF(VLOOKUP(C87569,#REF!,2,0)>0,1,0)","v":{"$error":"#REF!"}},"[法]前科犯, 已出狱的囚犯",null,0,0,0]
[92022,1222556,"flashiness",{"$f":"IF(VLOOKUP(C87570,#REF!,2,0)>0,1,0)","v":{"$error":"#REF!"}},"灿烂, 瞬间",null,0,0,0]
[92024,1222559,"for-pay",{"$f":"IF(VLOOKUP(C87571,#REF!,2,0)>0,1,0)","v":{"$error":"#REF!"}},"需要付钱的",null,0,0,0]
[92025,1222560,"free-rider",{"$f":"IF(VLOOKUP(C87572,#REF!,2,0)>0,1,0)","v":{"$error":"#REF!"}},"免费搭车者（享受其他国家最惠国待遇而不进行相应减让的国家）",null,0,0,0]
[92026,1222563,"frowsy",{"$f":"IF(VLOOKUP(C87573,#REF!,2,0)>0,1,0)","v":{"$error":"#REF!"}},"霉臭的",null,0,0,0]
[92027,1222563,"frowsy",{"$f":"IF(VLOOKUP(C87574,#REF!,2,0)>0,1,0)","v":{"$error":"#REF!"}},"闷热的",null,0,0,0]
[92028,1222563,"frowsy",{"$f":"IF(VLOOKUP(C87575,#REF!,2,0)>0,1,0)","v":{"$error":"#REF!"}},"不整洁的",null,0,0,0]
[92029,1222563,"frowsy",{"$f":"IF(VLOOKUP(C87576,#REF!,2,0)>0,1,0)","v":{"$error":"#REF!"}},"肮脏的",null,0,0,0]
[92030,1222564,"fugal",{"$f":"IF(VLOOKUP(C87577,#REF!,2,0)>0,1,0)","v":{"$error":"#REF!"}},"赋格曲性质的",null,0,0,0]
[92031,1222568,"globin",{"$f":"IF(VLOOKUP(C87578,#REF!,2,0)>0,1,0)","v":{"$error":"#REF!"}},"球蛋白",null,0,0,0]
[92032,1222570,"greaseless",{"$f":"IF(VLOOKUP(C87579,#REF!,2,0)>0,1,0)","v":{"$error":"#REF!"}},"没有油脂的",null,0,0,0]
[92035,1222576,"impermeability",{"$f":"IF(VLOOKUP(C87580,#REF!,2,0)>0,1,0)","v":{"$error":"#REF!"}},"不能透过的性质, 不渗透性",null,0,0,0]
[92036,1222576,"impermeability",{"$f":"IF(VLOOKUP(C87581,#REF!,2,0)>0,1,0)","v":{"$error":"#REF!"}},"不透性",null,0,0,0]
[92037,1222577,"inferentially",{"$f":"IF(VLOOKUP(C87582,#REF!,2,0)>0,1,0)","v":{"$error":"#REF!"}},"推理地",null,0,0,0]
[92038,1222577,"inferentially",{"$f":"IF(VLOOKUP(C87583,#REF!,2,0)>0,1,0)","v":{"$error":"#REF!"}},"推论地",null,0,0,0]
[92039,1222580,"insect-borne",{"$f":"IF(VLOOKUP(C87584,#REF!,2,0)>0,1,0)","v":{"$error":"#REF!"}},"昆虫传播的",null,0,0,0]
[92040,1222581,"insectivore",{"$f":"IF(VLOOKUP(C87585,#REF!,2,0)>0,1,0)","v":{"$error":"#REF!"}},"食虫动物, 食虫植物",null,0,0,0]
[92041,1222582,"irishwoman",{"$f":"IF(VLOOKUP(C87586,#REF!,2,0)>0,1,0)","v":{"$error":"#REF!"}},"爱尔兰女人",null,0,0,0]
[92042,1222584,"joggle",{"$f":"IF(VLOOKUP(C87587,#REF!,2,0)>0,1,0)","v":{"$error":"#REF!"}},"轻摇, 摇动, 啮合扣",null,0,0,0]
[92043,1222584,"joggle",{"$f":"IF(VLOOKUP(C87588,#REF!,2,0)>0,1,0)","v":{"$error":"#REF!"}},"轻摇",null,0,0,0]
[92044,1222584,"joggle",{"$f":"IF(VLOOKUP(C87589,#REF!,2,0)>0,1,0)","v":{"$error":"#REF!"}},"摇动",null,0,0,0]
[92045,1222584,"joggle",{"$f":"IF(VLOOKUP(C87590,#REF!,2,0)>0,1,0)","v":{"$error":"#REF!"}},"摇曳",null,0,0,0]
[92046,1222584,"joggle",{"$f":"IF(VLOOKUP(C87591,#REF!,2,0)>0,1,0)","v":{"$error":"#REF!"}},"啮合",null,0,0,0]
[92047,1222585,"joyriding",{"$f":"IF(VLOOKUP(C87592,#REF!,2,0)>0,1,0)","v":{"$error":"#REF!"}},"[法]疯狂驱车, 偷车者",null,0,0,0]
[92048,1222586,"jungly",{"$f":"IF(VLOOKUP(C87593,#REF!,2,0)>0,1,0)","v":{"$error":"#REF!"}},"丛林的",null,0,0,0]
[92049,1222587,"keynoter",{"$f":"IF(VLOOKUP(C87594,#REF!,2,0)>0,1,0)","v":{"$error":"#REF!"}},"定基调的人",null,0,0,0]
[92050,1222588,"landholding",{"$f":"IF(VLOOKUP(C87595,#REF!,2,0)>0,1,0)","v":{"$error":"#REF!"}},"土地所有的",null,0,0,0]
[92051,1222591,"laudably",{"$f":"IF(VLOOKUP(C87596,#REF!,2,0)>0,1,0)","v":{"$error":"#REF!"}},"值得赞赏地, 可称赞地",null,0,0,0]
[92053,1222599,"lumped",{"$f":"IF(VLOOKUP(C87597,#REF!,2,0)>0,1,0)","v":{"$error":"#REF!"}},"把…归并在一起(考虑), 将人[物]同等对待[分类]",null,0,0,0]
[92054,1222599,"lumped",{"$f":"IF(VLOOKUP(C87598,#REF!,2,0)>0,1,0)","v":{"$error":"#REF!"}},"集总",null,0,0,0]
[92055,1222600,"manufacturable",{"$f":"IF(VLOOKUP(C87599,#REF!,2,0)>0,1,0)","v":{"$error":"#REF!"}},"可制造的",null,0,0,0]
[92057,1222607,"mischievousness",{"$f":"IF(VLOOKUP(C87600,#REF!,2,0)>0,1,0)","v":{"$error":"#REF!"}},"恶作剧",null,0,0,0]
[92059,1222609,"mock-heroic",{"$f":"IF(VLOOKUP(C87601,#REF!,2,0)>0,1,0)","v":{"$error":"#REF!"}},"模仿英雄气概的",null,0,0,0]
[92060,1222609,"mock-heroic",{"$f":"IF(VLOOKUP(C87602,#REF!,2,0)>0,1,0)","v":{"$error":"#REF!"}},"模仿英雄气概的行动, 模仿英雄诗",null,0,0,0]
[92062,1222611,"monopolized",{"$f":"IF(VLOOKUP(C87603,#REF!,2,0)>0,1,0)","v":{"$error":"#REF!"}},"独占",null,0,0,0]
[92063,1222611,"monopolized",{"$f":"IF(VLOOKUP(C87604,#REF!,2,0)>0,1,0)","v":{"$error":"#REF!"}},"专卖",null,0,0,0]
[92064,1222611,"monopolized",{"$f":"IF(VLOOKUP(C87605,#REF!,2,0)>0,1,0)","v":{"$error":"#REF!"}},"专营",null,0,0,0]
[92065,1222613,"mustelid",{"$f":"IF(VLOOKUP(C87606,#REF!,2,0)>0,1,0)","v":{"$error":"#REF!"}},"鼬鼠",null,0,0,0]
[92066,1222613,"mustelid",{"$f":"IF(VLOOKUP(C87607,#REF!,2,0)>0,1,0)","v":{"$error":"#REF!"}},"鼬科动物",null,0,0,0]
[92067,1222614,"mutual-aid",{"$f":"IF(VLOOKUP(C87608,#REF!,2,0)>0,1,0)","v":{"$error":"#REF!"}},"互济",null,0,0,0]
[92068,1222615,"mythopoeic",{"$f":"IF(VLOOKUP(C87609,#REF!,2,0)>0,1,0)","v":{"$error":"#REF!"}},"创作神话的, 神话时代的",null,0,0,0]
[92069,1222616,"nanometer-scale",{"$f":"IF(VLOOKUP(C87610,#REF!,2,0)>0,1,0)","v":{"$error":"#REF!"}},"[计]纳米标度, 纳米比例",null,0,0,0]
[92070,1222617,"neckband",{"$f":"IF(VLOOKUP(C87611,#REF!,2,0)>0,1,0)","v":{"$error":"#REF!"}},"衬衫领子, 围颈带",null,0,0,0]
[92071,1222617,"neckband",{"$f":"IF(VLOOKUP(C87612,#REF!,2,0)>0,1,0)","v":{"$error":"#REF!"}},"领口",null,0,0,0]
[92072,1222621,"nitrosamine",{"$f":"IF(VLOOKUP(C87613,#REF!,2,0)>0,1,0)","v":{"$error":"#REF!"}},"亚硝胺",null,0,0,0]
[92073,1222625,"notarial",{"$f":"IF(VLOOKUP(C87614,#REF!,2,0)>0,1,0)","v":{"$error":"#REF!"}},"公证人的, 公证的",null,0,0,0]
[92075,1222630,"optimizing",{"$f":"IF(VLOOKUP(C87615,#REF!,2,0)>0,1,0)","v":{"$error":"#REF!"}},"最佳化",null,0,0,0]
[92076,1222630,"optimizing",{"$f":"IF(VLOOKUP(C87616,#REF!,2,0)>0,1,0)","v":{"$error":"#REF!"}},"寻优",null,0,0,0]
[92077,1222633,"overinvestment",{"$f":"IF(VLOOKUP(C87617,#REF!,2,0)>0,1,0)","v":{"$error":"#REF!"}},"投资过剩",null,0,0,0]
[92078,1222634,"ovule",{"$f":"IF(VLOOKUP(C87618,#REF!,2,0)>0,1,0)","v":{"$error":"#REF!"}},"胚珠, 卵子",null,0,0,0]
[92079,1222634,"ovule",{"$f":"IF(VLOOKUP(C87619,#REF!,2,0)>0,1,0)","v":{"$error":"#REF!"}},"原卵",null,0,0,0]
[92080,1222635,"phalarope",{"$f":"IF(VLOOKUP(C87620,#REF!,2,0)>0,1,0)","v":{"$error":"#REF!"}},"矶鹞之类",null,0,0,0]
[92081,1222636,"phasing",{"$f":"IF(VLOOKUP(C87621,#REF!,2,0)>0,1,0)","v":{"$error":"#REF!"}},"定相, 相位调整",null,0,0,0]
[92082,1222636,"phasing",{"$f":"IF(VLOOKUP(C87622,#REF!,2,0)>0,1,0)","v":{"$error":"#REF!"}},"变相",null,0,0,0]
[92083,1222637,"photo-essay",{"$f":"IF(VLOOKUP(C87623,#REF!,2,0)>0,1,0)","v":{"$error":"#REF!"}},"(表达个人观点的)图片实录, 照片文章",null,0,0,0]
[92084,1222637,"photo-essay",{"$f":"IF(VLOOKUP(C87624,#REF!,2,0)>0,1,0)","v":{"$error":"#REF!"}},"摄影小品",null,0,0,0]
[92085,1222638,"polltaker",{"$f":"IF(VLOOKUP(C87625,#REF!,2,0)>0,1,0)","v":{"$error":"#REF!"}},"民意测验专家, 整理民意测验结果的人",null,0,0,0]
[92086,1222639,"polyandrous",{"$f":"IF(VLOOKUP(C87626,#REF!,2,0)>0,1,0)","v":{"$error":"#REF!"}},"一妻多夫的, 一雌多雄（配合）的",null,0,0,0]
[92087,1222640,"poofy",{"$f":"IF(VLOOKUP(C87627,#REF!,2,0)>0,1,0)","v":{"$error":"#REF!"}},"<俚>（男子）脂粉气的, 搞同性恋的",null,0,0,0]
[92088,1222642,"post-historical",{"$f":"IF(VLOOKUP(C87628,#REF!,2,0)>0,1,0)","v":{"$error":"#REF!"}},"后历史",null,0,0,0]
[92089,1222644,"premalignant",{"$f":"IF(VLOOKUP(C87629,#REF!,2,0)>0,1,0)","v":{"$error":"#REF!"}},"恶化前的, 癌变前的",null,0,0,0]
[92090,1222645,"pre-pregnancy",{"$f":"IF(VLOOKUP(C87630,#REF!,2,0)>0,1,0)","v":{"$error":"#REF!"}},"孕前",null,0,0,0]
[92091,1222647,"prophylactically",{"$f":"IF(VLOOKUP(C87631,#REF!,2,0)>0,1,0)","v":{"$error":"#REF!"}},"[医]adv.预防地, 预防上",null,0,0,0]
[92092,1222648,"provinciality",{"$f":"IF(VLOOKUP(C87632,#REF!,2,0)>0,1,0)","v":{"$error":"#REF!"}},"乡下习气, 粗鄙",null,0,0,0]
[92093,1222648,"provinciality",{"$f":"IF(VLOOKUP(C87633,#REF!,2,0)>0,1,0)","v":{"$error":"#REF!"}},"偏狭",null,0,0,0]
[92094,1222649,"purposiveness",{"$f":"IF(VLOOKUP(C87634,#REF!,2,0)>0,1,0)","v":{"$error":"#REF!"}},"目的性",null,0,0,0]
[92095,1222650,"quarterstaff",{"$f":"IF(VLOOKUP(C87635,#REF!,2,0)>0,1,0)","v":{"$error":"#REF!"}},"铁头木棒（英国旧时的一种武器, 长六英尺至八英尺）",null,0,0,0]
[92096,1222654,"recollected",{"$f":"IF(VLOOKUP(C87636,#REF!,2,0)>0,1,0)","v":{"$error":"#REF!"}},"冷静的",null,0,0,0]
[92097,1222654,"recollected",{"$f":"IF(VLOOKUP(C87637,#REF!,2,0)>0,1,0)","v":{"$error":"#REF!"}},"镇定的",null,0,0,0]
[92098,1222654,"recollected",{"$f":"IF(VLOOKUP(C87638,#REF!,2,0)>0,1,0)","v":{"$error":"#REF!"}},"被回忆起的",null,0,0,0]
[92099,1222654,"recollected",{"$f":"IF(VLOOKUP(C87639,#REF!,2,0)>0,1,0)","v":{"$error":"#REF!"}},"沉思默想的",null,0,0,0]
[92101,1222655,"recomposition",{"$f":"IF(VLOOKUP(C87640,#REF!,2,0)>0,1,0)","v":{"$error":"#REF!"}},"改组, 改编, 重写",null,0,0,0]
[92102,1222656,"reconfirmation",{"$f":"IF(VLOOKUP(C87641,#REF!,2,0)>0,1,0)","v":{"$error":"#REF!"}},"再证实, 再确认",null,0,0,0]
[92103,1222657,"recordist",{"$f":"IF(VLOOKUP(C87642,#REF!,2,0)>0,1,0)","v":{"$error":"#REF!"}},"录音员",null,0,0,0]
[92104,1222659,"redivide",{"$f":"IF(VLOOKUP(C87643,#REF!,2,0)>0,1,0)","v":{"$error":"#REF!"}},"再次（重新）划分[分割]",null,0,0,0]
[92106,1222662,"roily",{"$f":"IF(VLOOKUP(C87644,#REF!,2,0)>0,1,0)","v":{"$error":"#REF!"}},"搅乱的",null,0,0,0]
[92107,1222662,"roily",{"$f":"IF(VLOOKUP(C87645,#REF!,2,0)>0,1,0)","v":{"$error":"#REF!"}},"搅浑的",null,0,0,0]
[92108,1222662,"roily",{"$f":"IF(VLOOKUP(C87646,#REF!,2,0)>0,1,0)","v":{"$error":"#REF!"}},"焦急的",null,0,0,0]
[92109,1222662,"roily",{"$f":"IF(VLOOKUP(C87647,#REF!,2,0)>0,1,0)","v":{"$error":"#REF!"}},"动荡的",null,0,0,0]
[92110,1222664,"salivation",{"$f":"IF(VLOOKUP(C87648,#REF!,2,0)>0,1,0)","v":{"$error":"#REF!"}},"分泌唾液, 流涎症",null,0,0,0]
[92111,1222664,"salivation",{"$f":"IF(VLOOKUP(C87649,#REF!,2,0)>0,1,0)","v":{"$error":"#REF!"}},"流唾液",null,0,0,0]
[92112,1222668,"self-affirming",{"$f":"IF(VLOOKUP(C87650,#REF!,2,0)>0,1,0)","v":{"$error":"#REF!"}},"自我肯定",null,0,0,0]
[92113,1222669,"self-preoccupation",{"$f":"IF(VLOOKUP(C87651,#REF!,2,0)>0,1,0)","v":{"$error":"#REF!"}},"自我偏见",null,0,0,0]
[92114,1222672,"shafted",{"$f":"IF(VLOOKUP(C87652,#REF!,2,0)>0,1,0)","v":{"$error":"#REF!"}},"有箭杆的, 有柄的, 有羽轴的",null,0,0,0]
[92115,1222674,"shoat",{"$f":"IF(VLOOKUP(C87653,#REF!,2,0)>0,1,0)","v":{"$error":"#REF!"}},"（不满一岁的）小猪",null,0,0,0]
[92116,1222676,"sideslip",{"$f":"IF(VLOOKUP(C87654,#REF!,2,0)>0,1,0)","v":{"$error":"#REF!"}},"侧滑, 私生子",null,0,0,0]
[92117,1222676,"sideslip",{"$f":"IF(VLOOKUP(C87655,#REF!,2,0)>0,1,0)","v":{"$error":"#REF!"}},"侧滑",null,0,0,0]
[92119,1222678,"slurring",{"$f":"IF(VLOOKUP(C87656,#REF!,2,0)>0,1,0)","v":{"$error":"#REF!"}},"含糊地发…的声",null,0,0,0]
[92120,1222678,"slurring",{"$f":"IF(VLOOKUP(C87657,#REF!,2,0)>0,1,0)","v":{"$error":"#REF!"}},"侮辱",null,0,0,0]
[92121,1222678,"slurring",{"$f":"IF(VLOOKUP(C87658,#REF!,2,0)>0,1,0)","v":{"$error":"#REF!"}},"连唱",null,0,0,0]
[92122,1222680,"spading",{"$f":"IF(VLOOKUP(C87659,#REF!,2,0)>0,1,0)","v":{"$error":"#REF!"}},"铁锹捣实",null,0,0,0]
[92123,1222682,"spread-eagle",{"$f":"IF(VLOOKUP(C87660,#REF!,2,0)>0,1,0)","v":{"$error":"#REF!"}},"夸张的, 像张着翅的鹰的",null,0,0,0]
[92124,1222682,"spread-eagle",{"$f":"IF(VLOOKUP(C87661,#REF!,2,0)>0,1,0)","v":{"$error":"#REF!"}},"作横一字型, 手脚伸展, 横跨",null,0,0,0]
[92126,1222689,"summarizing",{"$f":"IF(VLOOKUP(C87662,#REF!,2,0)>0,1,0)","v":{"$error":"#REF!"}},"列表",null,0,0,0]
[92127,1222689,"summarizing",{"$f":"IF(VLOOKUP(C87663,#REF!,2,0)>0,1,0)","v":{"$error":"#REF!"}},"造表",null,0,0,0]
[92128,1222691,"suzerain",{"$f":"IF(VLOOKUP(C87664,#REF!,2,0)>0,1,0)","v":{"$error":"#REF!"}},"封建主的, 宗主国的",null,0,0,0]
[92129,1222691,"suzerain",{"$f":"IF(VLOOKUP(C87665,#REF!,2,0)>0,1,0)","v":{"$error":"#REF!"}},"领主",null,0,0,0]
[92130,1222691,"suzerain",{"$f":"IF(VLOOKUP(C87666,#REF!,2,0)>0,1,0)","v":{"$error":"#REF!"}},"庄主",null,0,0,0]
[92131,1222691,"suzerain",{"$f":"IF(VLOOKUP(C87667,#REF!,2,0)>0,1,0)","v":{"$error":"#REF!"}},"宗主",null,0,0,0]
[92132,1222691,"suzerain",{"$f":"IF(VLOOKUP(C87668,#REF!,2,0)>0,1,0)","v":{"$error":"#REF!"}},"国群主",null,0,0,0]
[92133,1222692,"swiftlet",{"$f":"IF(VLOOKUP(C87669,#REF!,2,0)>0,1,0)","v":{"$error":"#REF!"}},"金丝燕",null,0,0,0]
[92134,1222694,"tapped",{"$f":"IF(VLOOKUP(C87670,#REF!,2,0)>0,1,0)","v":{"$error":"#REF!"}},"发接触音的",null,0,0,0]
[92136,1222694,"tapped",{"$f":"IF(VLOOKUP(C87671,#REF!,2,0)>0,1,0)","v":{"$error":"#REF!"}},"(从容器等)汲取(液体)",null,0,0,0]
[92137,1222694,"tapped",{"$f":"IF(VLOOKUP(C87672,#REF!,2,0)>0,1,0)","v":{"$error":"#REF!"}},"割[打]开…取[放]液体",null,0,0,0]
[92138,1222694,"tapped",{"$f":"IF(VLOOKUP(C87673,#REF!,2,0)>0,1,0)","v":{"$error":"#REF!"}},"轻拍, 轻敲",null,0,0,0]
[92139,1222696,"tongue-twisting",{"$f":"IF(VLOOKUP(C87674,#REF!,2,0)>0,1,0)","v":{"$error":"#REF!"}},"绕口令的",null,0,0,0]
[92140,1222696,"tongue-twisting",{"$f":"IF(VLOOKUP(C87675,#REF!,2,0)>0,1,0)","v":{"$error":"#REF!"}},"难以流利说出的",null,0,0,0]
[92141,1222696,"tongue-twisting",{"$f":"IF(VLOOKUP(C87676,#REF!,2,0)>0,1,0)","v":{"$error":"#REF!"}},"拗口的",null,0,0,0]
[92142,1222697,"topsy",{"$f":"IF(VLOOKUP(C87677,#REF!,2,0)>0,1,0)","v":{"$error":"#REF!"}},"混天倒地（歌曲名）",null,0,0,0]
[92144,1222699,"trouncing",{"$f":"IF(VLOOKUP(C87678,#REF!,2,0)>0,1,0)","v":{"$error":"#REF!"}},"痛打",null,0,0,0]
[92145,1222699,"trouncing",{"$f":"IF(VLOOKUP(C87679,#REF!,2,0)>0,1,0)","v":{"$error":"#REF!"}},"呵斥",null,0,0,0]
[92146,1222699,"trouncing",{"$f":"IF(VLOOKUP(C87680,#REF!,2,0)>0,1,0)","v":{"$error":"#REF!"}},"责骂",null,0,0,0]
[92147,1222700,"unoiled",{"$f":"IF(VLOOKUP(C87681,#REF!,2,0)>0,1,0)","v":{"$error":"#REF!"}},"未加油的, 未上油的, 未涂油的",null,0,0,0]
[92148,1222701,"unpruned",{"$f":"IF(VLOOKUP(C87682,#REF!,2,0)>0,1,0)","v":{"$error":"#REF!"}},"（树枝等）未修剪的, 任其自然生长的",null,0,0,0]
[92149,1222703,"untilled",{"$f":"IF(VLOOKUP(C87683,#REF!,2,0)>0,1,0)","v":{"$error":"#REF!"}},"未耕种的, 未开垦的",null,0,0,0]
[92150,1222704,"value-conscious",{"$f":"IF(VLOOKUP(C87684,#REF!,2,0)>0,1,0)","v":{"$error":"#REF!"}},"重视价值",null,0,0,0]
[92151,1222705,"vesicular",{"$f":"IF(VLOOKUP(C87685,#REF!,2,0)>0,1,0)","v":{"$error":"#REF!"}},"小泡的, 有小泡的, 由小泡组成的",null,0,0,0]
[92152,1222706,"wainscot",{"$f":"IF(VLOOKUP(C87686,#REF!,2,0)>0,1,0)","v":{"$error":"#REF!"}},"（尤指装有护壁板的）墙壁下段",null,0,0,0]
[92153,1222706,"wainscot",{"$f":"IF(VLOOKUP(C87687,#REF!,2,0)>0,1,0)","v":{"$error":"#REF!"}},"用护墙板装饰",null,0,0,0]
[92154,1222712,"well-remembered",{"$f":"IF(VLOOKUP(C87688,#REF!,2,0)>0,1,0)","v":{"$error":"#REF!"}},"被牢记的",null,0,0,0]
[92155,1222714,"white-and-black",{"$f":"IF(VLOOKUP(C87689,#REF!,2,0)>0,1,0)","v":{"$error":"#REF!"}},"墨地白花",null,0,0,0]
[92156,1222717,"wilfully",{"$f":"IF(VLOOKUP(C87690,#REF!,2,0)>0,1,0)","v":{"$error":"#REF!"}},"任性固执地",null,0,0,0]
[92157,1222717,"wilfully",{"$f":"IF(VLOOKUP(C87691,#REF!,2,0)>0,1,0)","v":{"$error":"#REF!"}},"蓄意地",null,0,0,0]
[92158,1222718,"wire-haired",{"$f":"IF(VLOOKUP(C87692,#REF!,2,0)>0,1,0)","v":{"$error":"#REF!"}},"硬毛的（狗）",null,0,0,0]
[92159,1222720,"woodbox",{"$f":"IF(VLOOKUP(C87693,#REF!,2,0)>0,1,0)","v":{"$error":"#REF!"}},"木柴箱",null,0,0,0]
[92160,1222721,"yielder",{"$f":"IF(VLOOKUP(C87694,#REF!,2,0)>0,1,0)","v":{"$error":"#REF!"}},"让步者, 屈服者, 提供产品的人",null,0,0,0]
[92161,1222725,"ribosome",{"$f":"IF(VLOOKUP(C87695,#REF!,2,0)>0,1,0)","v":{"$error":"#REF!"}},"<生化>核糖体",null,0,0,0]
[92162,1222726,"tenpin",{"$f":"IF(VLOOKUP(C87696,#REF!,2,0)>0,1,0)","v":{"$error":"#REF!"}},"<美>（十柱戏的）柱子",null,0,0,0]
[92163,1222727,"unhip",{"$f":"IF(VLOOKUP(C87697,#REF!,2,0)>0,1,0)","v":{"$error":"#REF!"}},"非赶时髦派的, 不谙时髦的, 不符合集团其他成员所遵循的习俗的",null,0,0,0]
[92164,933194,"identity",{"$f":"IF(VLOOKUP(C87698,#REF!,2,0)>0,1,0)","v":{"$error":"#REF!"}},"身份",null,0,0,1]
[92165,933194,"identity",{"$f":"IF(VLOOKUP(C87699,#REF!,2,0)>0,1,0)","v":{"$error":"#REF!"}},"个性",null,0,0,1]
[92166,1174518,"sports",{"$f":"IF(VLOOKUP(C87700,#REF!,2,0)>0,1,0)","v":{"$error":"#REF!"}},"体育运动",null,0,0,0]
[92167,1174520,"health-care",{"$f":"IF(VLOOKUP(C87701,#REF!,2,0)>0,1,0)","v":{"$error":"#REF!"}},"卫生保健",null,0,0,0]
[92168,1174619,"i.e.",{"$f":"IF(VLOOKUP(C87702,#REF!,2,0)>0,1,0)","v":{"$error":"#REF!"}},"即, 换言之, 也就是 ",null,0,0,0]
[92169,814486,"class",{"$f":"IF(VLOOKUP(C87703,#REF!,2,0)>0,1,0)","v":{"$error":"#REF!"}},"阶级","NULL",0,0,1]
[92170,958676,"last",{"$f":"IF(VLOOKUP(C87704,#REF!,2,0)>0,1,0)","v":{"$error":"#REF!"}},"上一个","NULL",0,1,1]
[92172,960857,"leave",{"$f":"IF(VLOOKUP(C87705,#REF!,2,0)>0,1,0)","v":{"$error":"#REF!"}},"让......处于","NULL",0,0,1]
[92173,1031466,"play",{"$f":"IF(VLOOKUP(C87706,#REF!,2,0)>0,1,0)","v":{"$error":"#REF!"}},"话剧","NULL",1,1,1]
[92174,1177317,"amazon",{"$f":"IF(VLOOKUP(C87707,#REF!,2,0)>0,1,0)","v":{"$error":"#REF!"}},"亚马逊（公司）","NULL",0,1,1]
[92175,1174514,"bit",{"$f":"IF(VLOOKUP(C87708,#REF!,2,0)>0,1,0)","v":{"$error":"#REF!"}},"“bite”的过去式","NULL",0,0,0]
[92176,1174833,"gross",{"$f":"IF(VLOOKUP(C87709,#REF!,2,0)>0,1,0)","v":{"$error":"#REF!"}},"总共，总计","NULL",0,0,0]
[92177,939602,"industry",{"$f":"IF(VLOOKUP(C87710,#REF!,2,0)>0,1,0)","v":{"$error":"#REF!"}},"勤奋","NULL",0,0,0]
[92178,969663,"lot",{"$f":"IF(VLOOKUP(C87711,#REF!,2,0)>0,1,0)","v":{"$error":"#REF!"}},"很，非常","NULL",0,0,0]
[92179,1095160,"sniff",{"$f":"IF(VLOOKUP(C87712,#REF!,2,0)>0,1,0)","v":{"$error":"#REF!"}},"鄙夷，鄙弃","NULL",0,0,1]
[92180,1121113,"take",{"$f":"IF(VLOOKUP(C87713,#REF!,2,0)>0,1,0)","v":{"$error":"#REF!"}},"吃，喝","NULL",0,0,1]

{"sheet":"Sheet1","index":2,"n_rows":11993,"n_cols":3,"rows_kept":11993,"cut":false,"hidden":false,"merged":[]}
["a","a",1]
["the","the",2]
["to","to",3]
["be","be",4]
["in","in",5]
["of","of",6]
["and","and",7]
["is","is",8]
["it","it",9]
["have","have",10]
["that","that",11]
["for","for",12]
["you","you",13]
["I","i",14]
["can","can",15]
["on","on",16]
["do","do",17]
["at","at",18]
["with","with",19]
["an","an",20]
["are","are",21]
["but","but",22]
["when","when",23]
["as","as",24]
["he","he",25]
["what","what",26]
["not","not",27]
["one","one",28]
["go","go",29]
["from","from",30]
["they","they",31]
["this","this",32]
["we","we",33]
["about","about",34]
["so","so",35]
["all","all",36]
["say","say",37]
["there","there",38]
["by","by",39]
["make","make",40]
["his","his",41]
["get","get",42]
["well","well",43]
["time","time",44]
["will","will",45]
["take","take",46]
["more","more",47]
["which","which",48]
["people","people",49]
["up","up",50]
["or","or",51]
["if","if",52]
["some","some",53]
["how","how",54]
["out","out",55]
["come","come",56]
["their","their",57]
["know","know",58]
["year","year",59]
["see","see",60]
["like","like",61]
["no","no",62]
["work","work",63]
["because","because",64]
["good","good",65]
["very","very",66]
["think","think",67]
["my","my",68]
["day","day",69]
["them","them",70]
["find","find",71]
["many","many",72]
["who","who",73]
["would","would",74]
["other","other",75]
["after","after",76]
["want","want",77]
["much","much",78]
["only","only",79]
["your","your",80]
["look","look",81]
["then","then",82]
["give","give",83]
["tell","tell",84]
["me","me",85]
["than","than",86]
["may","may",87]
["most","most",88]
["she","she",89]
["first","first",90]
["little","little",91]
["way","way",92]
["help","help",93]
["him","him",94]
["two","two",95]
["use","use",96]
["her","her",97]
["into","into",98]
["mum","mum",99]
["ask","ask",100]
["am","am",101]
["just","just",102]
["new","new",103]
["now","now",104]
["long","long",105]
["before","before",106]
["live","live",107]
["where","where",108]
["man","man",109]
["why","why",110]
["over","over",111]
["life","life",112]
["last","last",113]
["should","should",114]
["home","home",115]
["mean","mean",116]
["our","our",117]
["too","too",118]
["also","also",119]
["leave","leave",120]
["back","back",121]
["old","old",122]
["thing","thing",123]
["need","need",124]
["any","any",125]
["keep","keep",126]
["school","school",127]
["become","become",128]
["show","show",129]
["even","even",130]
["us","us",131]
["down","down",132]
["feel","feel",133]
["call","call",134]
["while","while",135]
["put","put",136]
["best","best",137]
["these","these",138]
["world","world",139]
["friend","friend",140]
["place","place",141]
["child","child",142]
["great","great",143]
["lot","lot",144]
["every","every",145]
["try","try",146]
["write","write",147]
["three","three",148]
["never","never",149]
["small","small",150]
["away","away",151]
["begin","begin",152]
["few","few",153]
["always","always",154]
["each","each",155]
["big","big",156]
["something","something",157]
["right","right",158]
["turn","turn",159]
["change","change",160]
["must","must",161]
["start","start",162]
["around","around",163]
["play","play",164]
["money","money",165]
["young","young",166]
["important","important",167]
["still","still",168]
["hard","hard",169]
["different","different",170]
["read","read",171]
["such","such",172]
["same","same",173]
["part","part",174]
["student","student",175]
["meet","meet",176]
["talk","talk",177]
["word","word",178]
["another","another",179]
["house","house",180]
["country","country",181]
["idea","idea",182]
["through","through",183]
["off","off",184]
["stop","stop",185]
["study","study",186]
["own","own",187]
["pay","pay",188]
["story","story",189]
["its","its",190]
["walk","walk",191]
["family","family",192]
["next","next",193]
["book","book",194]
["kind","kind",195]
["once","once",196]
["those","those",197]
["hour","hour",198]
["here","here",199]
["week","week",200]
["high","high",201]
["again","again",202]
["problem","problem",203]
["text","text",204]
["answer","answer",205]
["until","until",206]
["since","since",207]
["run","run",208]
["job","job",209]
["however","however",210]
["soon","soon",211]
["left","left",212]
["hear","hear",213]
["spend","spend",214]
["stay","stay",215]
["later","later",216]
["easy","easy",217]
["watch","watch",218]
["without","without",219]
["open","open",220]
["hand","hand",221]
["car","car",222]
["color","color",223]
["large","large",224]
["both","both",225]
["grow","grow",226]
["move","move",227]
["really","really",228]
["name","name",229]
["believe","believe",230]
["bring","bring",231]
["parent","parent",232]
["decide","decide",233]
["please","please",234]
["eat","eat",235]
["ago","ago",236]
["food","food",237]
["person","person",238]
["understand","understand",239]
["teacher","teacher",240]
["win","win",241]
["seem","seem",242]
["night","night",243]
["city","city",244]
["often","often",245]
["enough","enough",246]
["love","love",247]
["let","let",248]
["four","four",249]
["bad","bad",250]
["woman","woman",251]
["sit","sit",252]
["send","send",253]
["follow","follow",254]
["speak","speak",255]
["order","order",256]
["room","room",257]
["during","during",258]
["today","today",259]
["OK","ok",260]
["set","set",261]
["Morning","morning",262]
["Boy","boy",263]
["between","between",264]
["build","build",265]
["nothing","nothing",266]
["buy","buy",267]
["End","end",268]
["month","month",269]
["learn","learn",270]
["mother","mother",271]
["course","course",272]
["yes","yes",273]
["Wait","wait",274]
["number","number",275]
["sure","sure",276]
["second","second",277]
["Class","class",278]
["Care","care",279]
["American","american",280]
["English","english",281]
["Water","water",282]
["though","though",283]
["Hope","hope",284]
["worry","worry",285]
["father","father",286]
["Age","age",287]
["stand","stand",288]
["fact","fact",289]
["visit","visit",290]
["five","five",291]
["break","break",292]
["Close","close",293]
["Fall","fall",294]
["hi","hi",295]
["Happy","happy",296]
["example","example",297]
["Hold","hold",298]
["together","together",299]
["drive","drive",300]
["eye","eye",301]
["Early","early",302]
["anything","anything",303]
["far","far",304]
["mind","mind",305]
["travel","travel",306]
["Writer","writer",307]
["several","several",308]
["minute","minute",309]
["difficult","difficult",310]
["Carry","carry",311]
["receive","receive",312]
["ever","ever",313]
["Teach","teach",314]
["quite","quite",315]
["return","return",316]
["Able","able",317]
["usually","usually",318]
["Train","train",319]
["cause","cause",320]
["under","under",321]
["expect","expect",322]
["question","question",323]
["special","special",324]
["Near","near",325]
["develop","develop",326]
["save","save",327]
["State","state",328]
["plan","plan",329]
["information","information",330]
["remember","remember",331]
["result","result",332]
["girl","girl",333]
["business","business",334]
["almost","almost",335]
["animal","animal",336]
["sometimes","sometimes",337]
["everything","everything",338]
["Point","point",339]
["yet","yet",340]
["himself","himself",341]
["Pass","pass",342]
["die","die",343]
["Doctor","doctor",344]
["someone","someone",345]
["Face","face",346]
["past","past",347]
["Lead","lead",348]
["Chance","chance",349]
["catch","catch",350]
["thank","thank",351]
["Game","game",352]
["explain","explain",353]
["Reach","reach",354]
["light","light",355]
["whether","whether",356]
["agree","agree",357]
["Reason","reason",358]
["trouble","trouble",359]
["form","form",360]
["Poor","poor",361]
["quickly","quickly",362]
["Title","title",363]
["wrong","wrong",364]
["possible","possible",365]
["office","office",366]
["themselves","themselves",367]
["provide","provide",368]
["Matter","matter",369]
["sorry","sorry",370]
["Door","door",371]
["Sell","sell",372]
["Group","group",373]
["computer","computer",374]
["already","already",375]
["Street","street",376]
["although","although",377]
["arrive","arrive",378]
["everyone","everyone",379]
["Head","head",380]
["report","report",381]
["Six","six",382]
["choose","choose",383]
["Free","free",384]
["ten","ten",385]
["Main","main",386]
["Fast","fast",387]
["area","area",388]
["along","along",389]
["air","air",390]
["Full","full",391]
["finish","finish",392]
["evening","evening",393]
["late","late",394]
["interested","interested",395]
["human","human",396]
["miss","miss",397]
["outside","outside",398]
["university","university",399]
["forget","forget",400]
["strong","strong",401]
["bear","bear",402]
["finally","finally",403]
["half","half",404]
["building","building",405]
["continue","continue",406]
["scientist","scientist",407]
["interesting","interesting",408]
["Lie","lie",409]
["popular","popular",410]
["dear","dear",411]
["interest","interest",412]
["across","across",413]
["notice","notice",414]
["Rather","rather",415]
["box","box",416]
["improve","improve",417]
["Moment","moment",418]
["sister","sister",419]
["future","future",420]
["suggest","suggest",421]
["Short","short",422]
["instead","instead",423]
["beautiful","beautiful",424]
["Case","case",425]
["behind","behind",426]
["front","front",427]
["Summer","summer",428]
["describe","describe",429]
["wife","wife",430]
["Sleep","sleep",431]
["listen","listen",432]
["Health","health",433]
["accept","accept",434]
["company","company",435]
["Pick","pick",436]
["road","road",437]
["Foot","foot",438]
["afraid","afraid",439]
["bird","bird",440]
["Deal","deal",441]
["Else","else",442]
["Tree","tree",443]
["easily","easily",444]
["Nice","nice",445]
["Son","son",446]
["flower","flower",447]
["Cost","cost",448]
["whole","whole",449]
["appear","appear",450]
["Town","town",451]
["Paper","paper",452]
["serious","serious",453]
["Side","side",454]
["drink","drink",455]
["Wear","wear",456]
["red","red",457]
["Thousand","thousand",458]
["Test","test",459]
["cold","cold",460]
["Wonder","wonder",461]
["third","third",462]
["Share","share",463]
["newspaper","newspaper",464]
["among","among",465]
["public","public",466]
["Real","real",467]
["wish","wish",468]
["join","join",469]
["Cover","cover",470]
["happen","happen",471]
["thought","thought",472]
["news","news",473]
["against","against",474]
["picture","picture",475]
["thanks","thanks",476]
["Land","land",477]
["middle","middle",478]
["Top","top",479]
["clean","clean",480]
["Lose","lose",481]
["seven","seven",482]
["afternoon","afternoon",483]
["Certain","certain",484]
["fish","fish",485]
["good-bye","good-bye",486]
["effect","effect",487]
["Fine","fine",488]
["history","history",489]
["language","language",490]
["design","design",491]
["education","education",492]
["Common","common",493]
["green","green",494]
["laugh","laugh",495]
["Low","low",496]
["piece","piece",497]
["letter","letter",498]
["hello","hello",499]
["White","white",500]
["century","century",501]
["bed","bed",502]
["phone","phone",503]
["yourself","yourself",504]
["Sea","sea",505]
["shop","shop",506]
["support","support",507]
["Dinner","dinner",508]
["Rest","rest",509]
["meeting","meeting",510]
["Bus","bus",511]
["above","above",512]
["rain","rain",513]
["cut","cut",514]
["Park","park",515]
["Chinese","chinese",516]
["sound","sound",517]
["Service","service",518]
["Present","present",519]
["sign","sign",520]
["lesson","lesson",521]
["sky","sky",522]
["bag","bag",523]
["produce","produce",524]
["Likely","likely",525]
["modern","modern",526]
["Price","price",527]
["nearly","nearly",528]
["tall","tall",529]
["party","party",530]
["Fail","fail",531]
["act","act",532]
["remain","remain",533]
["Mountain","mountain",534]
["kill","kill",535]
["Body","body",536]
["line","line",537]
["either","either",538]
["wonderful","wonderful",539]
["Power","power",540]
["hundred","hundred",541]
["Husband","husband",542]
["police","police",543]
["alone","alone",544]
["China","china",545]
["consider","consider",546]
["eight","eight",547]
["College","college",548]
["control","control",549]
["film","film",550]
["sentence","sentence",551]
["Ready","ready",552]
["perhaps","perhaps",553]
["lunch","lunch",554]
["Earth","earth",555]
["smile","smile",556]
["Fill","fill",557]
["table","table",558]
["Offer","offer",559]
["baby","baby",560]
["step","step",561]
["Necessary","necessary",562]
["anyone","anyone",563]
["Cook","cook",564]
["nine","nine",565]
["dad","dad",566]
["except","except",567]
["reply","reply",568]
["Rise","rise",569]
["worker","worker",570]
["expensive","expensive",571]
["unless","unless",572]
["Fly","fly",573]
["Drop","drop",574]
["raise","raise",575]
["Rich","rich",576]
["store","store",577]
["fun","fun",578]
["window","window",579]
["exercise","exercise",580]
["Warm","warm",581]
["throw","throw",582]
["Heart","heart",583]
["Sun","sun",584]
["bike","bike",585]
["myself","myself",586]
["Music","music",587]
["pull","pull",588]
["prepare","prepare",589]
["Plant","plant",590]
["protect","protect",591]
["inside","inside",592]
["clothes","clothes",593]
["success","success",594]
["daughter","daughter",595]
["fight","fight",596]
["Check","check",597]
["blue","blue",598]
["River","river",599]
["Mark","mark",600]
["manager","manager",601]
["Space","space",602]
["dangerous","dangerous",603]
["shout","shout",604]
["Treat","treat",605]
["serve","serve",606]
["Black","black",607]
["subject","subject",608]
["depend","depend",609]
["Brother","brother",610]
["yesterday","yesterday",611]
["weather","weather",612]
["skill","skill",613]
["mistake","mistake",614]
["Field","field",615]
["ride","ride",616]
["prove","prove",617]
["dog","dog",618]
["South","south",619]
["collect","collect",620]
["science","science",621]
["hotel","hotel",622]
["Art","art",623]
["hot","hot",624]
["Clear","clear",625]
["mouth","mouth",626]
["less","less",627]
["type","type",628]
["Glass","glass",629]
["village","village",630]
["slow","slow",631]
["Touch","touch",632]
["knowledge","knowledge",633]
["Round","round",634]
["practice","practice",635]
["successful","successful",636]
["member","member",637]
["Rule","rule",638]
["difference","difference",639]
["Sad","sad",640]
["ball","ball",641]
["famous","famous",642]
["Mrs.","mrs.",643]
["station","station",644]
["hit","hit",645]
["Ring","ring",646]
["Force","force",647]
["enjoy","enjoy",648]
["team","team",649]
["Hurt","hurt",650]
["prefer","prefer",651]
["meal","meal",652]
["Floor","floor",653]
["hardly","hardly",654]
["Speed","speed",655]
["heavy","heavy",656]
["Works","works",657]
["teaching","teaching",658]
["telephone","telephone",659]
["introduce","introduce",660]
["encourage","encourage",661]
["Bill","bill",662]
["simple","simple",663]
["Fear","fear",664]
["importance","importance",665]
["Sunday","sunday",666]
["General","general",667]
["none","none",668]
["classroom","classroom",669]
["Ground","ground",670]
["pen","pen",671]
["attend","attend",672]
["difficulty","difficulty",673]
["express","express",674]
["mom","mom",675]
["hospital","hospital",676]
["Surprise","surprise",677]
["Saturday","saturday",678]
["lots","lots",679]
["cry","cry",680]
["view","view",681]
["Strange","strange",682]
["prevent","prevent",683]
["research","research",684]
["decision","decision",685]
["climb","climb",686]
["position","position",687]
["ship","ship",688]
["football","football",689]
["slowly","slowly",690]
["Garden","garden",691]
["dream","dream",692]
["winter","winter",693]
["leg","leg",694]
["Driver","driver",695]
["reduce","reduce",696]
["Deep","deep",697]
["trip","trip",698]
["Base","base",699]
["effort","effort",700]
["nature","nature",701]
["desk","desk",702]
["foreign","foreign",703]
["Clock","clock",704]
["death","death",705]
["require","require",706]
["value","value",707]
["level","level",708]
["wake","wake",709]
["sense","sense",710]
["Fire","fire",711]
["advice","advice",712]
["Choice","choice",713]
["similar","similar",714]
["Enter","enter",715]
["promise","promise",716]
["nobody","nobody",717]
["neither","neither",718]
["patient","patient",719]
["society","society",720]
["suffer","suffer",721]
["Hair","hair",722]
["personal","personal",723]
["Card","card",724]
["note","note",725]
["usual","usual",726]
["Fix","fix",727]
["stone","stone",728]
["North","north",729]
["Race","race",730]
["busy","busy",731]
["dead","dead",732]
["certainly","certainly",733]
["television","television",734]
["shoe","shoe",735]
["direction","direction",736]
["useful","useful",737]
["Holiday","holiday",738]
["cake","cake",739]
["besides","besides",740]
["doubt","doubt",741]
["manage","manage",742]
["Born","born",743]
["accident","accident",744]
["Bank","bank",745]
["homework","homework",746]
["social","social",747]
["Guess","guess",748]
["imagine","imagine",749]
["invite","invite",750]
["Huge","huge",751]
["unusual","unusual",752]
["draw","draw",753]
["Wall","wall",754]
["pleasure","pleasure",755]
["add","add",756]
["Beat","beat",757]
["pencil","pencil",758]
["purpose","purpose",759]
["war","war",760]
["Safe","safe",761]
["local","local",762]
["Marry","marry",763]
["machine","machine",764]
["yellow","yellow",765]
["material","material",766]
["customer","customer",767]
["Worth","worth",768]
["Method","method",769]
["energy","energy",770]
["upon","upon",771]
["Daily","daily",772]
["create","create",773]
["technology","technology",774]
["within","within",775]
["Gain","gain",776]
["terrible","terrible",777]
["Seat","seat",778]
["distance","distance",779]
["magazine","magazine",780]
["key","key",781]
["goodbye","goodbye",782]
["Dress","dress",783]
["message","message",784]
["nervous","nervous",785]
["sight","sight",786]
["immediately","immediately",787]
["ticket","ticket",788]
["Friday","friday",789]
["journey","journey",790]
["Danger","danger",791]
["law","law",792]
["tomorrow","tomorrow",793]
["advantage","advantage",794]
["Ill","ill",795]
["quiet","quiet",796]
["amount","amount",797]
["spread","spread",798]
["Wild","wild",799]
["beginning","beginning",800]
["Market","market",801]
["respect","respect",802]
["role","role",803]
["Better","better",804]
["clever","clever",805]
["Dark","dark",806]
["culture","culture",807]
["push","push",808]
["arm","arm",809]
["jump","jump",810]
["chair","chair",811]
["Farm","farm",812]
["twelve","twelve",813]
["Search","search",814]
["period","period",815]
["healthy","healthy",816]
["compare","compare",817]
["situation","situation",818]
["cheap","cheap",819]
["Forest","forest",820]
["everybody","everybody",821]
["Wind","wind",822]
["Wash","wash",823]
["mile","mile",824]
["owner","owner",825]
["size","size",826]
["Welcome","welcome",827]
["tired","tired",828]
["Glad","glad",829]
["clearly","clearly",830]
["page","page",831]
["Progress","progress",832]
["Perfect","perfect",833]
["Lady","lady",834]
["refuse","refuse",835]
["lay","lay",836]
["ahead","ahead",837]
["damage","damage",838]
["Cross","cross",839]
["Shall","shall",840]
["comfortable","comfortable",841]
["Hurry","hurry",842]
["restaurant","restaurant",843]
["Europe","europe",844]
["brain","brain",845]
["whose","whose",846]
["weekend","weekend",847]
["meat","meat",848]
["French","french",849]
["ability","ability",850]
["President","president",851]
["club","club",852]
["term","term",853]
["noise","noise",854]
["Grade","grade",855]
["Single","single",856]
["ear","ear",857]
["increase","increase",858]
["library","library",859]
["Below","below",860]
["fat","fat",861]
["visitor","visitor",862]
["breakfast","breakfast",863]
["official","official",864]
["condition","condition",865]
["habit","habit",866]
["ordinary","ordinary",867]
["apple","apple",868]
["Warn","warn",869]
["impossible","impossible",870]
["surprised","surprised",871]
["radio","radio",872]
["Quick","quick",873]
["Lake","lake",874]
["egg","egg",875]
["Pain","pain",876]
["excuse","excuse",877]
["Rush","rush",878]
["product","product",879]
["horse","horse",880]
["Smoke","smoke",881]
["attention","attention",882]
["maybe","maybe",883]
["forward","forward",884]
["list","list",885]
["Normal","normal",886]
["government","government",887]
["heat","heat",888]
["Swim","swim",889]
["couple","couple",890]
["article","article",891]
["Sing","sing",892]
["disease","disease",893]
["nearby","nearby",894]
["Brown","brown",895]
["herself","herself",896]
["repair","repair",897]
["Star","star",898]
["action","action",899]
["match","match",900]
["Coffee","coffee",901]
["helpful","helpful",902]
["charge","charge",903]
["Sale","sale",904]
["tooth","tooth",905]
["medicine","medicine",906]
["angry","angry",907]
["Lucky","lucky",908]
["mail","mail",909]
["kid","kid",910]
["regular","regular",911]
["birthday","birthday",912]
["Memory","memory",913]
["Burn","burn",914]
["cup","cup",915]
["Cool","cool",916]
["wide","wide",917]
["song","song",918]
["Spring","spring",919]
["guide","guide",920]
["fit","fit",921]
["Settle","settle",922]
["discover","discover",923]
["Sort","sort",924]
["separate","separate",925]
["completely","completely",926]
["joke","joke",927]
["careful","careful",928]
["hate","hate",929]
["solve","solve",930]
["Grass","grass",931]
["destroy","destroy",932]
["project","project",933]
["disappear","disappear",934]
["Passage","passage",935]
["waste","waste",936]
["environment","environment",937]
["Center","center",938]
["Dance","dance",939]
["steal","steal",940]
["Fruit","fruit",941]
["rock","rock",942]
["plenty","plenty",943]
["actually","actually",944]
["attract","attract",945]
["carefully","carefully",946]
["Plane","plane",947]
["complete","complete",948]
["event","event",949]
["figure","figure",950]
["Proud","proud",951]
["Player","player",952]
["Monday","monday",953]
["Date","date",954]
["activity","activity",955]
["Gift","gift",956]
["suddenly","suddenly",957]
["task","task",958]
["Island","island",959]
["milk","milk",960]
["discuss","discuss",961]
["West","west",962]
["cat","cat",963]
["Degree","degree",964]
["probably","probably",965]
["Hang","hang",966]
["prize","prize",967]
["traffic","traffic",968]
["banana","banana",969]
["tiny","tiny",970]
["boat","boat",971]
["launch","launch",972]
["whom","whom",973]
["active","active",974]
["hide","hide",975]
["Boss","boss",976]
["movie","movie",977]
["correct","correct",978]
["Per","per",979]
["recent","recent",980]
["aim","aim",981]
["Knock","knock",982]
["realize","realize",983]
["Farmer","farmer",984]
["medical","medical",985]
["Dry","dry",986]
["itself","itself",987]
["graduate","graduate",988]
["physical","physical",989]
["connect","connect",990]
["national","national",991]
["suggestion","suggestion",992]
["natural","natural",993]
["mine","mine",994]
["secret","secret",995]
["fifty","fifty",996]
["borrow","borrow",997]
["abroad","abroad",998]
["afford","afford",999]
["exactly","exactly",1000]
["bread","bread",1001]
["pocket","pocket",1002]
["factory","factory",1003]
["Duty","duty",1004]
["lift","lift",1005]
["performance","performance",1006]
["Post","post",1007]
["season","season",1008]
["kitchen","kitchen",1009]
["variety","variety",1010]
["Spare","spare",1011]
["thirty","thirty",1012]
["vegetable","vegetable",1013]
["recently","recently",1014]
["empty","empty",1015]
["shape","shape",1016]
["succeed","succeed",1017]
["temperature","temperature",1018]
["Dollar","dollar",1019]
["leader","leader",1020]
["chicken","chicken",1021]
["examine","examine",1022]
["lazy","lazy",1023]
["everywhere","everywhere",1024]
["uncle","uncle",1025]
["god","god",1026]
["twice","twice",1027]
["nor","nor",1028]
["Mix","mix",1029]
["topic","topic",1030]
["cloud","cloud",1031]
["Hunt","hunt",1032]
["stupid","stupid",1033]
["paint","paint",1034]
["March","march",1035]
["museum","museum",1036]
["exciting","exciting",1037]
["industry","industry",1038]
["Bright","bright",1039]
["final","final",1040]
["Pretty","pretty",1041]
["invent","invent",1042]
["generation","generation",1043]
["brave","brave",1044]
["Voice","voice",1045]
["attitude","attitude",1046]
["feeling","feeling",1047]
["Thursday","thursday",1048]
["wave","wave",1049]
["onto","onto",1050]
["regard","regard",1051]
["Luck","luck",1052]
["blood","blood",1053]
["King","king",1054]
["familiar","familiar",1055]
["Model","model",1056]
["excellent","excellent",1057]
["hat","hat",1058]
["avoid","avoid",1059]
["Sport","sport",1060]
["moon","moon",1061]
["Corner","corner",1062]
["vacation","vacation",1063]
["photo","photo",1064]
["Hall","hall",1065]
["feed","feed",1066]
["Argue","argue",1067]
["supply","supply",1068]
["Tea","tea",1069]
["attack","attack",1070]
["Guest","guest",1071]
["airport","airport",1072]
["copy","copy",1073]
["zoo","zoo",1074]
["Proper","proper",1075]
["taxi","taxi",1076]
["Nation","nation",1077]
["Basic","basic",1078]
["weak","weak",1079]
["rice","rice",1080]
["Fresh","fresh",1081]
["cow","cow",1082]
["population","population",1083]
["include","include",1084]
["tour","tour",1085]
["alive","alive",1086]
["advise","advise",1087]
["Record","record",1088]
["kick","kick",1089]
["Director","director",1090]
["desire","desire",1091]
["Ocean","ocean",1092]
["total","total",1093]
["Ice","ice",1094]
["beyond","beyond",1095]
["suppose","suppose",1096]
["Tool","tool",1097]
["operate","operate",1098]
["funny","funny",1099]
["Flight","flight",1100]
["honest","honest",1101]
["realise","realise",1102]
["Camp","camp",1103]
["basketball","basketball",1104]
["British","british",1105]
["Judge","judge",1106]
["juice","juice",1107]
["especially","especially",1108]
["Pound","pound",1109]
["Standard","standard",1110]
["hungry","hungry",1111]
["taste","taste",1112]
["Joy","joy",1113]
["pair","pair",1114]
["monkey","monkey",1115]
["learning","learning",1116]
["Wood","wood",1117]
["possibly","possibly",1118]
["Christmas","christmas",1119]
["Western","western",1120]
["smell","smell",1121]
["Straight","straight",1122]
["dirty","dirty",1123]
["twenty","twenty",1124]
["Blow","blow",1125]
["kiss","kiss",1126]
["America","america",1127]
["collection","collection",1128]
["print","print",1129]
["Master","master",1130]
["sweet","sweet",1131]
["escape","escape",1132]
["coat","coat",1133]
["childhood","childhood",1134]
["count","count",1135]
["Gold","gold",1136]
["Artist","artist",1137]
["lion","lion",1138]
["Weight","weight",1139]
["wet","wet",1140]
["Snow","snow",1141]
["Officer","officer",1142]
["experiment","experiment",1143]
["flat","flat",1144]
["eleven","eleven",1145]
["trade","trade",1146]
["Math","math",1147]
["could","could",1148]
["Hill","hill",1149]
["Sick","sick",1150]
["bedroom","bedroom",1151]
["Board","board",1152]
["safety","safety",1153]
["shirt","shirt",1154]
["gas","gas",1155]
["Loud","loud",1156]
["truth","truth",1157]
["experience","experience",1158]
["quietly","quietly",1159]
["praise","praise",1160]
["Lovely","lovely",1161]
["tie","tie",1162]
["passenger","passenger",1163]
["happily","happily",1164]
["Surface","surface",1165]
["Strike","strike",1166]
["dig","dig",1167]
["East","east",1168]
["opinion","opinion",1169]
["bye","bye",1170]
["speech","speech",1171]
["Shake","shake",1172]
["address","address",1173]
["Smart","smart",1174]
["Stick","stick",1175]
["Nurse","nurse",1176]
["pig","pig",1177]
["fourth","fourth",1178]
["being","being",1179]
["Thick","thick",1180]
["belong","belong",1181]
["thin","thin",1182]
["focus","focus",1183]
["soldier","soldier",1184]
["map","map",1185]
["Storm","storm",1186]
["Lock","lock",1187]
["private","private",1188]
["Shine","shine",1189]
["behavior","behavior",1190]
["percent","percent",1191]
["Edge","edge",1192]
["spirit","spirit",1193]
["knife","knife",1194]
["discussion","discussion",1195]
["everyday","everyday",1196]
["regret","regret",1197]
["Bridge","bridge",1198]
["strict","strict",1199]
["quarter","quarter",1200]
["operation","operation",1201]
["Pet","pet",1202]
["soft","soft",1203]
["deliver","deliver",1204]
["ancient","ancient",1205]
["Sir","sir",1206]
["anywhere","anywhere",1207]
["Million","million",1208]
["dictionary","dictionary",1209]
["somewhere","somewhere",1210]
["opposite","opposite",1211]
["truck","truck",1212]
["bicycle","bicycle",1213]
["Bar","bar",1214]
["fond","fond",1215]
[true,"true",1216]
["toward","toward",1217]
["spoon","spoon",1218]
["direct","direct",1219]
["policeman","policeman",1220]
["others","others",1221]
["Score","score",1222]
["Cousin","cousin",1223]
["elephant","elephant",1224]
["German","german",1225]
["winner","winner",1226]
["somebody","somebody",1227]
["anyway","anyway",1228]
["exchange","exchange",1229]
["assistant","assistant",1230]
["tiger","tiger",1231]
["Beach","beach",1232]
["nose","nose",1233]
["August","august",1234]
["international","international",1235]
["native","native",1236]
["festival","festival",1237]
["greet","greet",1238]
["widely","widely",1239]
["Wednesday","wednesday",1240]
["development","development",1241]
["freedom","freedom",1242]
["lecture","lecture",1243]
["mad","mad",1244]
["July","july",1245]
["illness","illness",1246]
["Shy","shy",1247]
["writing","writing",1248]
["cheer","cheer",1249]
["cinema","cinema",1250]
["supermarket","supermarket",1251]
["madam","madam",1252]
["silly","silly",1253]
["April","april",1254]
["insist","insist",1255]
["Coast","coast",1256]
["anybody","anybody",1257]
["Flood","flood",1258]
["classmate","classmate",1259]
["object","object",1260]
["forty","forty",1261]
["Friendly","friendly",1262]
["fifteen","fifteen",1263]
["Speaker","speaker",1264]
["equal","equal",1265]
["Sand","sand",1266]
["lonely","lonely",1267]
["supper","supper",1268]
["breathe","breathe",1269]
["bottle","bottle",1270]
["concert","concert",1271]
["detail","detail",1272]
["Trick","trick",1273]
["sheep","sheep",1274]
["Pool","pool",1275]
["relax","relax",1276]
["Risk","risk",1277]
["mention","mention",1278]
["Centre","centre",1279]
["nineteen","nineteen",1280]
["seventh","seventh",1281]
["Trust","trust",1282]
["sudden","sudden",1283]
["frighten","frighten",1284]
["relation","relation",1285]
["Japanese","japanese",1286]
["Battle","battle",1287]
["award","award",1288]
["Noon","noon",1289]
["Wine","wine",1290]
["yours","yours",1291]
["panda","panda",1292]
["agreement","agreement",1293]
["Bell","bell",1294]
["shut","shut",1295]
["piano","piano",1296]
["Orange","orange",1297]
["camera","camera",1298]
["conversation","conversation",1299]
["pretend","pretend",1300]
["Bottom","bottom",1301]
["Pack","pack",1302]
["beside","beside",1303]
["satisfy","satisfy",1304]
["shoulder","shoulder",1305]
["bee","bee",1306]
["convenient","convenient",1307]
["Row","row",1308]
["dozen","dozen",1309]
["Delay","delay",1310]
["sail","sail",1311]
["interview","interview",1312]
["dish","dish",1313]
["skin","skin",1314]
["European","european",1315]
["Tower","tower",1316]
["income","income",1317]
["Goods","goods",1318]
["enable","enable",1319]
["Silence","silence",1320]
["forever","forever",1321]
["tonight","tonight",1322]
["exhibition","exhibition",1323]
["Fair","fair",1324]
["alarm","alarm",1325]
["pupil","pupil",1326]
["capital","capital",1327]
["actor","actor",1328]
["Screen","screen",1329]
["metal","metal",1330]
["review","review",1331]
["prison","prison",1332]
["custom","custom",1333]
["Press","press",1334]
["Northern","northern",1335]
["wealth","wealth",1336]
["pollution","pollution",1337]
["Fan","fan",1338]
["pink","pink",1339]
["tale","tale",1340]
["awful","awful",1341]
["breath","breath",1342]
["businessman","businessman",1343]
["Sunny","sunny",1344]
["cheat","cheat",1345]
["Finger","finger",1346]
["Clerk","clerk",1347]
["grandma","grandma",1348]
["Square","square",1349]
["neck","neck",1350]
["headmaster","headmaster",1351]
["housework","housework",1352]
["October","october",1353]
["angrily","angrily",1354]
["ought","ought",1355]
["Toy","toy",1356]
["yard","yard",1357]
["basket","basket",1358]
["Blind","blind",1359]
["schoolbag","schoolbag",1360]
["foolish","foolish",1361]
["tomato","tomato",1362]
["path","path",1363]
["reporter","reporter",1364]
["ant","ant",1365]
["Courage","courage",1366]
["drug","drug",1367]
["Church","church",1368]
["lend","lend",1369]
["June","june",1370]
["shelf","shelf",1371]
["nod","nod",1372]
["achieve","achieve",1373]
["volunteer","volunteer",1374]
["survey","survey",1375]
["Tennis","tennis",1376]
["wise","wise",1377]
["throughout","throughout",1378]
["rapid","rapid",1379]
["lawyer","lawyer",1380]
["England","england",1381]
["waiter","waiter",1382]
["Lab","lab",1383]
["Gentleman","gentleman",1384]
["snake","snake",1385]
["observe","observe",1386]
["Double","double",1387]
["powerful","powerful",1388]
["Golden","golden",1389]
["confident","confident",1390]
["rabbit","rabbit",1391]
["Plate","plate",1392]
["repeat","repeat",1393]
["safely","safely",1394]
["Army","army",1395]
["Rough","rough",1396]
["magic","magic",1397]
["Stranger","stranger",1398]
["careless","careless",1399]
["Height","height",1400]
["excited","excited",1401]
["engineer","engineer",1402]
["Coin","coin",1403]
["chocolate","chocolate",1404]
["goal","goal",1405]
["mainly","mainly",1406]
["Pop","pop",1407]
["gun","gun",1408]
["Citizen","citizen",1409]
["Noisy","noisy",1410]
["organise","organise",1411]
["response","response",1412]
["Root","root",1413]
["oil","oil",1414]
["Beg","beg",1415]
["Dare","dare",1416]
["teenager","teenager",1417]
["organize","organize",1418]
["Guy","guy",1419]
["select","select",1420]
["crazy","crazy",1421]
["wheel","wheel",1422]
["various","various",1423]
["Circle","circle",1424]
["bite","bite",1425]
["Oh","oh",1426]
["Treasure","treasure",1427]
["earthquake","earthquake",1428]
["France","france",1429]
["Birth","birth",1430]
["fifth","fifth",1431]
["Might","might",1432]
["female","female",1433]
["Autumn","autumn",1434]
["primary","primary",1435]
["Wooden","wooden",1436]
["video","video",1437]
["system","system",1438]
["fool","fool",1439]
["Host","host",1440]
["maths","maths",1441]
["Gentle","gentle",1442]
["fox","fox",1443]
["gate","gate",1444]
["mouse","mouse",1445]
["upset","upset",1446]
["Stamp","stamp",1447]
["chemical","chemical",1448]
["aunt","aunt",1449]
["Pole","pole",1450]
["wound","wound",1451]
["Block","block",1452]
["colour","colour",1453]
["handbag","handbag",1454]
["physics","physics",1455]
["headache","headache",1456]
["Inch","inch",1457]
["electric","electric",1458]
["Dull","dull",1459]
["loudly","loudly",1460]
["Sugar","sugar",1461]
["complain","complain",1462]
["Obey","obey",1463]
["solution","solution",1464]
["knee","knee",1465]
["ruler","ruler",1466]
["link","link",1467]
["behaviour","behaviour",1468]
["Freeze","freeze",1469]
["railway","railway",1470]
["item","item",1471]
["Narrow","narrow",1472]
["planet","planet",1473]
["Victory","victory",1474]
["stomach","stomach",1475]
["Southern","southern",1476]
["website","website",1477]
["tail","tail",1478]
["plastic","plastic",1479]
["twin","twin",1480]
["tip","tip",1481]
["Male","male",1482]
["Pilot","pilot",1483]
["traditional","traditional",1484]
["Mirror","mirror",1485]
["punish","punish",1486]
["Captain","captain",1487]
["Guard","guard",1488]
["frog","frog",1489]
["textbook","textbook",1490]
["Lively","lively",1491]
["notebook","notebook",1492]
["sex","sex",1493]
["rid","rid",1494]
["Peace","peace",1495]
["ice-cream","ice-cream",1496]
["whatever","whatever",1497]
["Pardon","pardon",1498]
["Favorite","favorite",1499]
["foreigner","foreigner",1500]
["engine","engine",1501]
["rose","rose",1502]
["Servant","servant",1503]
["balance","balance",1504]
["trousers","trousers",1505]
["Brush","brush",1506]
["average","average",1507]
["picnic","picnic",1508]
["weigh","weigh",1509]
["hometown","hometown",1510]
["favourite","favourite",1511]
["wolf","wolf",1512]
["net","net",1513]
["Hobby","hobby",1514]
["publish","publish",1515]
["cruel","cruel",1516]
["pleased","pleased",1517]
["communication","communication",1518]
["divide","divide",1519]
["nowadays","nowadays",1520]
["eighteen","eighteen",1521]
["granny","granny",1522]
["Indian","indian",1523]
["Tuesday","tuesday",1524]
["Senior","senior",1525]
["Olympic","olympic",1526]
["silent","silent",1527]
["toothache","toothache",1528]
["entrance","entrance",1529]
["potato","potato",1530]
["luckily","luckily",1531]
["smooth","smooth",1532]
["allow","allow",1533]
["playground","playground",1534]
["harmful","harmful",1535]
["yeah","yeah",1536]
["translate","translate",1537]
["seaside","seaside",1538]
["useless","useless",1539]
["bone","bone",1540]
["fourteen","fourteen",1541]
["Hole","hole",1542]
["relative","relative",1543]
["sixty","sixty",1544]
["Coach","coach",1545]
["pity","pity",1546]
["Plain","plain",1547]
["enemy","enemy",1548]
["Boring","boring",1549]
["confuse","confuse",1550]
["countryside","countryside",1551]
["outdoor","outdoor",1552]
["Tongue","tongue",1553]
["image","image",1554]
["tear","tear",1555]
["leaf","leaf",1556]
["chief","chief",1557]
["Hero","hero",1558]
["diary","diary",1559]
["friendship","friendship",1560]
["ink","ink",1561]
["Pride","pride",1562]
["painting","painting",1563]
["partner","partner",1564]
["thankful","thankful",1565]
["awake","awake",1566]
["Salt","salt",1567]
["cream","cream",1568]
["rubber","rubber",1569]
["plus","plus",1570]
["thirsty","thirsty",1571]
["section","section",1572]
["airplane","airplane",1573]
["thirteen","thirteen",1574]
["marriage","marriage",1575]
["asleep","asleep",1576]
["Sandwich","sandwich",1577]
["chemistry","chemistry",1578]
["underground","underground",1579]
["recognize","recognize",1580]
["postcard","postcard",1581]
["menu","menu",1582]
["Bitter","bitter",1583]
["pear","pear",1584]
["camel","camel",1585]
["Rob","rob",1586]
["skate","skate",1587]
["cancer","cancer",1588]
["nowhere","nowhere",1589]
["Butter","butter",1590]
["geography","geography",1591]
["rely","rely",1592]
["Tape","tape",1593]
["flag","flag",1594]
["gray","gray",1595]
["September","september",1596]
["Wing","wing",1597]
["length","length",1598]
["locate","locate",1599]
["rubbish","rubbish",1600]
["Elder","elder",1601]
["background","background",1602]
["coal","coal",1603]
["novel","novel",1604]
["Bath","bath",1605]
["audience","audience",1606]
["Steel","steel",1607]
["cycle","cycle",1608]
["Silver","silver",1609]
["motor","motor",1610]
["Stair","stair",1611]
["sleepy","sleepy",1612]
["Palace","palace",1613]
["composition","composition",1614]
["Duck","duck",1615]
["poem","poem",1616]
["noodle","noodle",1617]
["seventy","seventy",1618]
["soup","soup",1619]
["Cave","cave",1620]
["shame","shame",1621]
["Spell","spell",1622]
["politics","politics",1623]
["Channel","channel",1624]
["symbol","symbol",1625]
["unit","unit",1626]
["schoolgirl","schoolgirl",1627]
["package","package",1628]
["bowl","bowl",1629]
["Belt","belt",1630]
["eastern","eastern",1631]
["predict","predict",1632]
["Heaven","heaven",1633]
["frightened","frightened",1634]
["January","january",1635]
["twelfth","twelfth",1636]
["fever","fever",1637]
["Agent","agent",1638]
["envelope","envelope",1639]
["broadcast","broadcast",1640]
["baseball","baseball",1641]
["mend","mend",1642]
["cute","cute",1643]
["sweater","sweater",1644]
["grammar","grammar",1645]
["ugly","ugly",1646]
["Ours","ours",1647]
["cough","cough",1648]
["Queen","queen",1649]
["introduction","introduction",1650]
["homeless","homeless",1651]
["rope","rope",1652]
["December","december",1653]
["fence","fence",1654]
["murder","murder",1655]
["Eve","eve",1656]
["exam","exam",1657]
["congratulation","congratulation",1658]
["Hamburger","hamburger",1659]
["salary","salary",1660]
["blackboard","blackboard",1661]
["secretary","secretary",1662]
["Swing","swing",1663]
["thief","thief",1664]
["network","network",1665]
["Fireman","fireman",1666]
["programme","programme",1667]
["instruction","instruction",1668]
["jacket","jacket",1669]
["policy","policy",1670]
["meaning","meaning",1671]
["chairman","chairman",1672]
["Honesty","honesty",1673]
["grandmother","grandmother",1674]
["seventeen","seventeen",1675]
["grandparent","grandparent",1676]
["recognise","recognise",1677]
["sixteen","sixteen",1678]
["robot","robot",1679]
["Flash","flash",1680]
["hers","hers",1681]
["Button","button",1682]
["apologize","apologize",1683]
["Honour","honour",1684]
["actress","actress",1685]
["Lamp","lamp",1686]
["upstairs","upstairs",1687]
["gym","gym",1688]
["headline","headline",1689]
["contest","contest",1690]
["grandpa","grandpa",1691]
["grandfather","grandfather",1692]
["chest","chest",1693]
["understanding","understanding",1694]
["treatment","treatment",1695]
["fuel","fuel",1696]
["downstairs","downstairs",1697]
["practise","practise",1698]
["disaster","disaster",1699]
["gently","gently",1700]
["solid","solid",1701]
["biscuit","biscuit",1702]
["cloudy","cloudy",1703]
["coke","coke",1704]
["swimming","swimming",1705]
["competition","competition",1706]
["candle","candle",1707]
["absent","absent",1708]
["Cap","cap",1709]
["Ms.","ms.",1710]
["Zero","zero",1711]
["ceiling","ceiling",1712]
["Chess","chess",1713]
["consist","consist",1714]
["butterfly","butterfly",1715]
["indoor","indoor",1716]
["uniform","uniform",1717]
["Wheat","wheat",1718]
["transport","transport",1719]
["properly","properly",1720]
["Junior","junior",1721]
["saying","saying",1722]
["cheese","cheese",1723]
["toilet","toilet",1724]
["monitor","monitor",1725]
["Charity","charity",1726]
["eighty","eighty",1727]
["windy","windy",1728]
["cartoon","cartoon",1729]
["drawer","drawer",1730]
["bathroom","bathroom",1731]
["platform","platform",1732]
["Cotton","cotton",1733]
["snack","snack",1734]
["bamboo","bamboo",1735]
["shower","shower",1736]
["handsome","handsome",1737]
["dismiss","dismiss",1738]
["accurate","accurate",1739]
["sofa","sofa",1740]
["steam","steam",1741]
["debate","debate",1742]
["ambition","ambition",1743]
["volleyball","volleyball",1744]
["snowy","snowy",1745]
["deaf","deaf",1746]
["Purse","purse",1747]
["recorder","recorder",1748]
["rebuild","rebuild",1749]
["beautifully","beautifully",1750]
["tidy","tidy",1751]
["eraser","eraser",1752]
["prisoner","prisoner",1753]
["aloud","aloud",1754]
["airline","airline",1755]
["umbrella","umbrella",1756]
["altogether","altogether",1757]
["tenth","tenth",1758]
["Drum","drum",1759]
["fisherman","fisherman",1760]
["addition","addition",1761]
["mixture","mixture",1762]
["Grape","grape",1763]
["boil","boil",1764]
["Reader","reader",1765]
["violin","violin",1766]
["weekday","weekday",1767]
["location","location",1768]
["tent","tent",1769]
["liquid","liquid",1770]
["raincoat","raincoat",1771]
["quiz","quiz",1772]
["measure","measure",1773]
["sweep","sweep",1774]
["theirs","theirs",1775]
["generous","generous",1776]
["hell","hell",1777]
["curious","curious",1778]
["deny","deny",1779]
["Dial","dial",1780]
["pale","pale",1781]
["deserve","deserve",1782]
["Fridge","fridge",1783]
["influence","influence",1784]
["reference","reference",1785]
["Till","till",1786]
["arrange","arrange",1787]
["seafood","seafood",1788]
["Stream","stream",1789]
["process","process",1790]
["tradition","tradition",1791]
["dentist","dentist",1792]
["Silk","silk",1793]
["tourist","tourist",1794]
["kilometer","kilometer",1795]
["sixth","sixth",1796]
["cigarette","cigarette",1797]
["major","major",1798]
["Greenhouse","greenhouse",1799]
["pot","pot",1800]
["Doll","doll",1801]
["goat","goat",1802]
["occupation","occupation",1803]
["unhealthy","unhealthy",1804]
["pioneer","pioneer",1805]
["Manner","manner",1806]
["investigate","investigate",1807]
["Cabbage","cabbage",1808]
["hen","hen",1809]
["Kite","kite",1810]
["ache","ache",1811]
["vehicle","vehicle",1812]
["Pin","pin",1813]
["grandson","grandson",1814]
["furniture","furniture",1815]
["intention","intention",1816]
["inventor","inventor",1817]
["whenever","whenever",1818]
["Whale","whale",1819]
["spaceship","spaceship",1820]
["detective","detective",1821]
["rainy","rainy",1822]
["entire","entire",1823]
["Honey","honey",1824]
["keyboard","keyboard",1825]
["Candy","candy",1826]
["dialogue","dialogue",1827]
["Temple","temple",1828]
["rat","rat",1829]
["wisdom","wisdom",1830]
["balloon","balloon",1831]
["scream","scream",1832]
["Jeans","jeans",1833]
["fountain","fountain",1834]
["humorous","humorous",1835]
["conclusion","conclusion",1836]
["secondary","secondary",1837]
["bakery","bakery",1838]
["skirt","skirt",1839]
["jam","jam",1840]
["pollute","pollute",1841]
["soap","soap",1842]
["Sock","sock",1843]
["neighbor","neighbor",1844]
["discovery","discovery",1845]
["eighth","eighth",1846]
["Purple","purple",1847]
["carrot","carrot",1848]
["Cancel","cancel",1849]
["ninety","ninety",1850]
["youth","youth",1851]
["Pond","pond",1852]
["bet","bet",1853]
["iron","iron",1854]
["goose","goose",1855]
["bat","bat",1856]
["program","program",1857]
["Pleasant","pleasant",1858]
["thread","thread",1859]
["postman","postman",1860]
["luggage","luggage",1861]
["passport","passport",1862]
["Fork","fork",1863]
["forgetful","forgetful",1864]
["clap","clap",1865]
["online","online",1866]
["harm","harm",1867]
["conference","conference",1868]
["Stocking","stocking",1869]
["independent","independent",1870]
["politely","politely",1871]
["Africa","africa",1872]
["towel","towel",1873]
["giraffe","giraffe",1874]
["beef","beef",1875]
["labour","labour",1876]
["ourselves","ourselves",1877]
["journalist","journalist",1878]
["pronounce","pronounce",1879]
["cooker","cooker",1880]
["license","license",1881]
["excite","excite",1882]
["rocket","rocket",1883]
["bit","bit",1884]
["Chalk","chalk",1885]
["working","working",1886]
["republic","republic",1887]
["blame","blame",1888]
["Keen","keen",1889]
["waitress","waitress",1890]
["Minus","minus",1891]
["celebrate","celebrate",1892]
["motorcycle","motorcycle",1893]
["Turkey","turkey",1894]
["replace","replace",1895]
["handwriting","handwriting",1896]
["simply","simply",1897]
["strawberry","strawberry",1898]
["clinic","clinic",1899]
["Pizza","pizza",1900]
["unfair","unfair",1901]
["seriously","seriously",1902]
["Russian","russian",1903]
["flu","flu",1904]
["oneself","oneself",1905]
["automatic","automatic",1906]
["relationship","relationship",1907]
["pie","pie",1908]
["theater","theater",1909]
["Widen","widen",1910]
["accent","accent",1911]
["recite","recite",1912]
["Mall","mall",1913]
["glove","glove",1914]
["Britain","britain",1915]
["amusement","amusement",1916]
["greeting","greeting",1917]
["roast","roast",1918]
["responsible","responsible",1919]
["oven","oven",1920]
["Ham","ham",1921]
["toothbrush","toothbrush",1922]
["available","available",1923]
["Asia","asia",1924]
["forecast","forecast",1925]
["policewoman","policewoman",1926]
["Riddle","riddle",1927]
["ninth","ninth",1928]
["Ferry","ferry",1929]
["granddaughter","granddaughter",1930]
["sauce","sauce",1931]
["medium","medium",1932]
["blanket","blanket",1933]
["decorate","decorate",1934]
["Guitar","guitar",1935]
["grandchild","grandchild",1936]
["pork","pork",1937]
["Lamb","lamb",1938]
["horrible","horrible",1939]
["Pearl","pearl",1940]
["bin","bin",1941]
["dumpling","dumpling",1942]
["invention","invention",1943]
["Pancake","pancake",1944]
["toothpaste","toothpaste",1945]
["salad","salad",1946]
["litter","litter",1947]
["watermelon","watermelon",1948]
["steak","steak",1949]
["sour","sour",1950]
["softly","softly",1951]
["mushroom","mushroom",1952]
["stomachache","stomachache",1953]
["target","target",1954]
["fable","fable",1955]
["zebra","zebra",1956]
["contact","contact",1957]
["crowded","crowded",1958]
["Fried","fried",1959]
["wallet","wallet",1960]
["sausage","sausage",1961]
["forgive","forgive",1962]
["following","following",1963]
["Shorts","shorts",1964]
["dust","dust",1965]
["bund","bund",1966]
["Threat","threat",1967]
["pineapple","pineapple",1968]
["chopsticks","chopsticks",1969]
["communicate","communicate",1970]
["scarf","scarf",1971]
["retell","retell",1972]
["attractive","attractive",1973]
["living","living",1974]
["kilometre","kilometre",1975]
["crayon","crayon",1976]
["frozen","frozen",1977]
["united","united",1978]
["frightening","frightening",1979]
["tap","tap",1980]
["amusing","amusing",1981]
["X-ray","x-ray",1982]
["amazing","amazing",1983]
["sightseeing","sightseeing",1984]
["least","least",1985]
["Reading","reading",1986]
["Ping-Pong","ping-pong",1987]
["heavily","heavily",1988]
["including","including",1989]
["limited","limited",1990]
["used","used",1991]
["freezing","freezing",1992]
["training","training",1993]
["retired","retired",1994]
["electricity","electricity",1995]
["e-mail","e-mail",1996]
["T-shirt","t-shirt",1997]
["author","author",1998]
["mommy","mommy",1999]
["Demand","demand",2000]
["twentieth","twentieth",2001]
["Tax","tax",2002]
["refer","refer",2003]
["unite","unite",2004]
["educational","educational",2005]
["lip","lip",2006]
["therefore","therefore",2007]
["quality","quality",2008]
["limit","limit",2009]
["fully","fully",2010]
["professor","professor",2011]
["Self","self",2012]
["aged","aged",2013]
["Advance","advance",2014]
["particular","particular",2015]
["determine","determine",2016]
["web","web",2017]
["Eager","eager",2018]
["statement","statement",2019]
["admit","admit",2020]
["earn","earn",2021]
["invitation","invitation",2022]
["firework","firework",2023]
["expert","expert",2024]
["broken","broken",2025]
["perform","perform",2026]
["adult","adult",2027]
["disappoint","disappoint",2028]
["remind","remind",2029]
["exist","exist",2030]
["persuade","persuade",2031]
["extra","extra",2032]
["Lack","lack",2033]
["phrase","phrase",2034]
["occur","occur",2035]
["Roll","roll",2036]
["resource","resource",2037]
["Seek","seek",2038]
["fellow","fellow",2039]
["paragraph","paragraph",2040]
["Style","style",2041]
["seed","seed",2042]
["Stage","stage",2043]
["concern","concern",2044]
["challenge","challenge",2045]
["thus","thus",2046]
["pressure","pressure",2047]
["dishonest","dishonest",2048]
["beer","beer",2049]
["mental","mental",2050]
["giant","giant",2051]
["Precious","precious",2052]
["remove","remove",2053]
["Shock","shock",2054]
["anxious","anxious",2055]
["relate","relate",2056]
["scene","scene",2057]
["Flow","flow",2058]
["gather","gather",2059]
["kindness","kindness",2060]
["Willing","willing",2061]
["announce","announce",2062]
["Loss","loss",2063]
["crowd","crowd",2064]
["attempt","attempt",2065]
["Canada","canada",2066]
["Strength","strength",2067]
["devote","devote",2068]
["highly","highly",2069]
["adventure","adventure",2070]
["biology","biology",2071]
["unable","unable",2072]
["indeed","indeed",2073]
["theatre","theatre",2074]
["pm","pm",2075]
["expression","expression",2076]
["otherwise","otherwise",2077]
["beauty","beauty",2078]
["intend","intend",2079]
["protection","protection",2080]
["satisfied","satisfied",2081]
["equipment","equipment",2082]
["movement","movement",2083]
["desert","desert",2084]
["calm","calm",2085]
["global","global",2086]
["affect","affect",2087]
["explanation","explanation",2088]
["department","department",2089]
["cent","cent",2090]
["contain","contain",2091]
["Bury","bury",2092]
["connection","connection",2093]
["Italian","italian",2094]
["recover","recover",2095]
["reward","reward",2096]
["Comfort","comfort",2097]
["central","central",2098]
["evidence","evidence",2099]
["Hearing","hearing",2100]
["inspire","inspire",2101]
["chat","chat",2102]
["conclude","conclude",2103]
["Suit","suit",2104]
["suitable","suitable",2105]
["aid","aid",2106]
["struggle","struggle",2107]
["organization","organization",2108]
["ashamed","ashamed",2109]
["growth","growth",2110]
["benefit","benefit",2111]
["character","character",2112]
["rate","rate",2113]
["fault","fault",2114]
["valuable","valuable",2115]
["argument","argument",2116]
["happiness","happiness",2117]
["educate","educate",2118]
["puzzle","puzzle",2119]
["appearance","appearance",2120]
["tend","tend",2121]
["Grand","grand",2122]
["scientific","scientific",2123]
["Truly","truly",2124]
["reasonable","reasonable",2125]
["dislike","dislike",2126]
["Roof","roof",2127]
["belief","belief",2128]
["Admire","admire",2129]
["shoot","shoot",2130]
["description","description",2131]
["Ton","ton",2132]
["production","production",2133]
["Corn","corn",2134]
["sadness","sadness",2135]
["Urban","urban",2136]
["achievement","achievement",2137]
["peaceful","peaceful",2138]
["apply","apply",2139]
["Branch","branch",2140]
["Pile","pile",2141]
["pat","pat",2142]
["discourage","discourage",2143]
["quarrel","quarrel",2144]
["November","november",2145]
["career","career",2146]
["Pour","pour",2147]
["Anger","anger",2148]
["election","election",2149]
["employ","employ",2150]
["content","content",2151]
["survive","survive",2152]
["neighborhood","neighborhood",2153]
["previous","previous",2154]
["Stare","stare",2155]
["entertainment","entertainment",2156]
["environmental","environmental",2157]
["Sink","sink",2158]
["ruin","ruin",2159]
["polite","polite",2160]
["exact","exact",2161]
["fishing","fishing",2162]
["defeat","defeat",2163]
["inform","inform",2164]
["permit","permit",2165]
["unlike","unlike",2166]
["retire","retire",2167]
["clone","clone",2168]
["explore","explore",2169]
["failure","failure",2170]
["firm","firm",2171]
["behave","behave",2172]
["literature","literature",2173]
["File","file",2174]
["load","load",2175]
["overcome","overcome",2176]
["Range","range",2177]
["elementary","elementary",2178]
["Wedding","wedding",2179]
["possibility","possibility",2180]
["shot","shot",2181]
["highway","highway",2182]
["frequent","frequent",2183]
["satisfaction","satisfaction",2184]
["account","account",2185]
["positive","positive",2186]
["practical","practical",2187]
["technique","technique",2188]
["Cure","cure",2189]
["photograph","photograph",2190]
["cloth","cloth",2191]
["wherever","wherever",2192]
["meanwhile","meanwhile",2193]
["wildlife","wildlife",2194]
["painful","painful",2195]
["track","track",2196]
["climate","climate",2197]
["declare","declare",2198]
["Needle","needle",2199]
["consumer","consumer",2200]
["security","security",2201]
["injure","injure",2202]
["stress","stress",2203]
["Cash","cash",2204]
["construction","construction",2205]
["Burst","burst",2206]
["defend","defend",2207]
["arrival","arrival",2208]
["existence","existence",2209]
["obvious","obvious",2210]
["battery","battery",2211]
["Glance","glance",2212]
["minister","minister",2213]
["Profit","profit",2214]
["neighbourhood","neighbourhood",2215]
["advertise","advertise",2216]
["crop","crop",2217]
["compete","compete",2218]
["Australia","australia",2219]
["insect","insect",2220]
["graduation","graduation",2221]
["Rude","rude",2222]
["cleaner","cleaner",2223]
["atmosphere","atmosphere",2224]
["approach","approach",2225]
["comment","comment",2226]
["respond","respond",2227]
["preparation","preparation",2228]
["Fry","fry",2229]
["Patience","patience",2230]
["promote","promote",2231]
["Mass","mass",2232]
["delight","delight",2233]
["Port","port",2234]
["quantity","quantity",2235]
["rent","rent",2236]
["eagle","eagle",2237]
["Bay","bay",2238]
["aware","aware",2239]
["delighted","delighted",2240]
["historical","historical",2241]
["garage","garage",2242]
["African","african",2243]
["fortune","fortune",2244]
["editor","editor",2245]
["weapon","weapon",2246]
["requirement","requirement",2247]
["Fee","fee",2248]
["disturb","disturb",2249]
["Chain","chain",2250]
["affair","affair",2251]
["delicious","delicious",2252]
["reality","reality",2253]
["Valley","valley",2254]
["creature","creature",2255]
["theory","theory",2256]
["eventually","eventually",2257]
["application","application",2258]
["technical","technical",2259]
["appreciate","appreciate",2260]
["uncomfortable","uncomfortable",2261]
["vs.","vs.",2262]
["India","india",2263]
["partly","partly",2264]
["function","function",2265]
["Staff","staff",2266]
["obviously","obviously",2267]
["sunlight","sunlight",2268]
["Data","data",2269]
["release","release",2270]
["crossing","crossing",2271]
["spot","spot",2272]
["Union","union",2273]
["robbery","robbery",2274]
["agency","agency",2275]
["cell","cell",2276]
["Bush","bush",2277]
["pronunciation","pronunciation",2278]
["pause","pause",2279]
["remark","remark",2280]
["musical","musical",2281]
["rare","rare",2282]
["colorful","colorful",2283]
["unique","unique",2284]
["typical","typical",2285]
["Brief","brief",2286]
["electronic","electronic",2287]
["Sharp","sharp",2288]
["candidate","candidate",2289]
["wire","wire",2290]
["estate","estate",2291]
["crime","crime",2292]
["Due","due",2293]
["expense","expense",2294]
["Nest","nest",2295]
["whisper","whisper",2296]
["merely","merely",2297]
["pattern","pattern",2298]
["Italy","italy",2299]
["responsibility","responsibility",2300]
["container","container",2301]
["disappointed","disappointed",2302]
["former","former",2303]
["misunderstand","misunderstand",2304]
["bored","bored",2305]
["Talent","talent",2306]
["encouragement","encouragement",2307]
["upper","upper",2308]
["backward","backward",2309]
["Hunter","hunter",2310]
["birthplace","birthplace",2311]
["deadline","deadline",2312]
["Ray","ray",2313]
["violence","violence",2314]
["globe","globe",2315]
["Purchase","purchase",2316]
["specialist","specialist",2317]
["clothing","clothing",2318]
["political","political",2319]
["warmth","warmth",2320]
["musician","musician",2321]
["absolutely","absolutely",2322]
["unbelievable","unbelievable",2323]
["sports","sports",2324]
["soul","soul",2325]
["Credit","credit",2326]
["distant","distant",2327]
["institute","institute",2328]
["emergency","emergency",2329]
["Faith","faith",2330]
["victim","victim",2331]
["district","district",2332]
["indicate","indicate",2333]
["Counter","counter",2334]
["interrupt","interrupt",2335]
["injury","injury",2336]
["worldwide","worldwide",2337]
["wealthy","wealthy",2338]
["reflect","reflect",2339]
["scenery","scenery",2340]
["unwise","unwise",2341]
["strengthen","strengthen",2342]
["access","access",2343]
["aspect","aspect",2344]
["possession","possession",2345]
["site","site",2346]
["differ","differ",2347]
["impression","impression",2348]
["ignore","ignore",2349]
["hopeful","hopeful",2350]
["ceremony","ceremony",2351]
["overcoat","overcoat",2352]
["disagree","disagree",2353]
["shopkeeper","shopkeeper",2354]
["Shade","shade",2355]
["hopeless","hopeless",2356]
["extraordinary","extraordinary",2357]
["personally","personally",2358]
["aside","aside",2359]
["splendid","splendid",2360]
["hesitate","hesitate",2361]
["trap","trap",2362]
["daddy","daddy",2363]
["Mobile","mobile",2364]
["oxygen","oxygen",2365]
["darkness","darkness",2366]
["Medal","medal",2367]
["signal","signal",2368]
["Royal","royal",2369]
["incident","incident",2370]
["surround","surround",2371]
["Cage","cage",2372]
["disabled","disabled",2373]
["attach","attach",2374]
["Fierce","fierce",2375]
["schedule","schedule",2376]
["concept","concept",2377]
["surrounding","surrounding",2378]
["Shadow","shadow",2379]
["rescue","rescue",2380]
["academic","academic",2381]
["Fax","fax",2382]
["disadvantage","disadvantage",2383]
["equip","equip",2384]
["Court","court",2385]
["insurance","insurance",2386]
["sincerely","sincerely",2387]
["leadership","leadership",2388]
["Poet","poet",2389]
["tube","tube",2390]
["Sailor","sailor",2391]
["expectation","expectation",2392]
["survival","survival",2393]
["vast","vast",2394]
["structure","structure",2395]
["Australian","australian",2396]
["basis","basis",2397]
["Folk","folk",2398]
["sigh","sigh",2399]
["midnight","midnight",2400]
["judgment","judgment",2401]
["Solar","solar",2402]
["potential","potential",2403]
["vocabulary","vocabulary",2404]
["villager","villager",2405]
["owe","owe",2406]
["alcohol","alcohol",2407]
["Drill","drill",2408]
["guarantee","guarantee",2409]
["contribute","contribute",2410]
["salesman","salesman",2411]
["Band","band",2412]
["absorb","absorb",2413]
["Slight","slight",2414]
["associate","associate",2415]
["Laughter","laughter",2416]
["whichever","whichever",2417]
["actual","actual",2418]
["explode","explode",2419]
["cupboard","cupboard",2420]
["bend","bend",2421]
["Sunshine","sunshine",2422]
["forbid","forbid",2423]
["specific","specific",2424]
["consideration","consideration",2425]
["neighbour","neighbour",2426]
["dive","dive",2427]
["trend","trend",2428]
["recycle","recycle",2429]
["overweight","overweight",2430]
["lost","lost",2431]
["Trial","trial",2432]
["contribution","contribution",2433]
["nuclear","nuclear",2434]
["Swallow","swallow",2435]
["bother","bother",2436]
["violent","violent",2437]
["Painter","painter",2438]
["association","association",2439]
["arrangement","arrangement",2440]
["nut","nut",2441]
["outer","outer",2442]
["continent","continent",2443]
["attraction","attraction",2444]
["appointment","appointment",2445]
["sheet","sheet",2446]
["contract","contract",2447]
["user","user",2448]
["approve","approve",2449]
["Tough","tough",2450]
["awkward","awkward",2451]
["athlete","athlete",2452]
["slip","slip",2453]
["error","error",2454]
["decade","decade",2455]
["suspect","suspect",2456]
["Shore","shore",2457]
["commercial","commercial",2458]
["alike","alike",2459]
["grateful","grateful",2460]
["guidance","guidance",2461]
["somehow","somehow",2462]
["unfortunate","unfortunate",2463]
["scare","scare",2464]
["accuse","accuse",2465]
["endless","endless",2466]
["whistle","whistle",2467]
["literary","literary",2468]
["represent","represent",2469]
["reputation","reputation",2470]
["classic","classic",2471]
["seize","seize",2472]
["annoy","annoy",2473]
["Province","province",2474]
["greedy","greedy",2475]
["contrary","contrary",2476]
["disagreement","disagreement",2477]
["adapt","adapt",2478]
["Curtain","curtain",2479]
["moral","moral",2480]
["Companion","companion",2481]
["convince","convince",2482]
["outdoors","outdoors",2483]
["weakness","weakness",2484]
["Fetch","fetch",2485]
["golf","golf",2486]
["foggy","foggy",2487]
["guilty","guilty",2488]
["Register","register",2489]
["mainland","mainland",2490]
["pianist","pianist",2491]
["sickness","sickness",2492]
["remote","remote",2493]
["Pace","pace",2494]
["throat","throat",2495]
["Brand","brand",2496]
["outstanding","outstanding",2497]
["shortly","shortly",2498]
["photographer","photographer",2499]
["tank","tank",2500]
["cheerful","cheerful",2501]
["permission","permission",2502]
["oppose","oppose",2503]
["majority","majority",2504]
["Parrot","parrot",2505]
["fortunate","fortunate",2506]
["intelligence","intelligence",2507]
["media","media",2508]
["Pipe","pipe",2509]
["Fund","fund",2510]
["mankind","mankind",2511]
["Current","current",2512]
["essay","essay",2513]
["aircraft","aircraft",2514]
["universe","universe",2515]
["anxiety","anxiety",2516]
["command","command",2517]
["operator","operator",2518]
["import","import",2519]
["poison","poison",2520]
["conduct","conduct",2521]
["reserve","reserve",2522]
["firstly","firstly",2523]
["refresh","refresh",2524]
["unemployment","unemployment",2525]
["Reveal","reveal",2526]
["unhappy","unhappy",2527]
["issue","issue",2528]
["Justice","justice",2529]
["series","series",2530]
["despite","despite",2531]
["Civil","civil",2532]
["region","region",2533]
["professional","professional",2534]
["Sample","sample",2535]
["particularly","particularly",2536]
["Labor","labor",2537]
["impact","impact",2538]
["Grant","grant",2539]
["establish","establish",2540]
["management","management",2541]
["cultural","cultural",2542]
["legal","legal",2543]
["employee","employee",2544]
["Troop","troop",2545]
["changeable","changeable",2546]
["maintain","maintain",2547]
["Mission","mission",2548]
["reform","reform",2549]
["sexual","sexual",2550]
["handle","handle",2551]
["scale","scale",2552]
["health-care","health-care",2553]
["Sales","sales",2554]
["recall","recall",2555]
["shift","shift",2556]
["option","option",2557]
["species","species",2558]
["unknown","unknown",2559]
["okay","okay",2560]
["critical","critical",2561]
["conflict","conflict",2562]
["original","original",2563]
["assume","assume",2564]
["effective","effective",2565]
["researcher","researcher",2566]
["grandchildren","grandchildren",2567]
["seldom","seldom",2568]
["version","version",2569]
["document","document",2570]
["estimate","estimate",2571]
["client","client",2572]
["crisis","crisis",2573]
["investigation","investigation",2574]
["Border","border",2575]
["status","status",2576]
["sweat","sweat",2577]
["concerned","concerned",2578]
["Favor","favor",2579]
["directly","directly",2580]
["Overall","overall",2581]
["define","define",2582]
["Trail","trail",2583]
["bug","bug",2584]
["complex","complex",2585]
["involved","involved",2586]
["element","element",2587]
["league","league",2588]
["generally","generally",2589]
["internet","internet",2590]
["display","display",2591]
["vision","vision",2592]
["analysis","analysis",2593]
["identify","identify",2594]
["librarian","librarian",2595]
["commission","commission",2596]
["Honor","honor",2597]
["supposed","supposed",2598]
["identity","identity",2599]
["lean","lean",2600]
["terms","terms",2601]
["apartment","apartment",2602]
["Grab","grab",2603]
["presence","presence",2604]
["quit","quit",2605]
["Broad","broad",2606]
["alternative","alternative",2607]
["Germany","germany",2608]
["appeal","appeal",2609]
["decline","decline",2610]
["Hey","hey",2611]
["additional","additional",2612]
["facility","facility",2613]
["principle","principle",2614]
["Stretch","stretch",2615]
["division","division",2616]
["Frame","frame",2617]
["annual","annual",2618]
["emerge","emerge",2619]
["Jean","jean",2620]
["context","context",2621]
["witness","witness",2622]
["demonstrate","demonstrate",2623]
["procedure","procedure",2624]
["engage","engage",2625]
["appropriate","appropriate",2626]
["finding","finding",2627]
["mostly","mostly",2628]
["religion","religion",2629]
["negative","negative",2630]
["critic","critic",2631]
["Governor","governor",2632]
["voter","voter",2633]
["criminal","criminal",2634]
["combine","combine",2635]
["Bond","bond",2636]
["category","category",2637]
["foundation","foundation",2638]
["transfer","transfer",2639]
["Van","van",2640]
["slightly","slightly",2641]
["Code","code",2642]
["lantern","lantern",2643]
["Cast","cast",2644]
["commit","commit",2645]
["Studio","studio",2646]
["growing","growing",2647]
["Session","session",2648]
["arrest","arrest",2649]
["assessment","assessment",2650]
["reaction","reaction",2651]
["apparently","apparently",2652]
["hire","hire",2653]
["participate","participate",2654]
["threaten","threaten",2655]
["extend","extend",2656]
["relatively","relatively",2657]
["military","military",2658]
["lemonade","lemonade",2659]
["request","request",2660]
["Prime","prime",2661]
["variable","variable",2662]
["democracy","democracy",2663]
["device","device",2664]
["contrast","contrast",2665]
["Loan","loan",2666]
["bow","bow",2667]
["colleague","colleague",2668]
["Bob","bob",2669]
["underline","underline",2670]
["minority","minority",2671]
["slide","slide",2672]
["Jury","jury",2673]
["obtain","obtain",2674]
["teaspoon","teaspoon",2675]
["Arab","arab",2676]
["February","february",2677]
["Pepper","pepper",2678]
["running","running",2679]
["presidential","presidential",2680]
["capture","capture",2681]
["maximum","maximum",2682]
["software","software",2683]
["Crew","crew",2684]
["outcome","outcome",2685]
["basically","basically",2686]
["journal","journal",2687]
["instrument","instrument",2688]
["expand","expand",2689]
["increasingly","increasingly",2690]
["analyst","analyst",2691]
["bomb","bomb",2692]
["consequence","consequence",2693]
["sidebar","sidebar",2694]
["regional","regional",2695]
["commitment","commitment",2696]
["apart","apart",2697]
["corporate","corporate",2698]
["immigrant","immigrant",2699]
["panel","panel",2700]
["proposal","proposal",2701]
["dot","dot",2702]
["emotional","emotional",2703]
["adopt","adopt",2704]
["nationality","nationality",2705]
["terrorist","terrorist",2706]
["Muslim","muslim",2707]
["fashion","fashion",2708]
["exit","exit",2709]
["Gay","gay",2710]
["unidentified","unidentified",2711]
["greatest","greatest",2712]
["slave","slave",2713]
["breast","breast",2714]
["Rank","rank",2715]
["theme","theme",2716]
["regulation","regulation",2717]
["stir","stir",2718]
["characteristic","characteristic",2719]
["revenue","revenue",2720]
["setting","setting",2721]
["married","married",2722]
["gender","gender",2723]
["largely","largely",2724]
["component","component",2725]
["intervention","intervention",2726]
["generate","generate",2727]
["significantly","significantly",2728]
["acknowledge","acknowledge",2729]
["multiple","multiple",2730]
["investor","investor",2731]
["anymore","anymore",2732]
["blank","blank",2733]
["muscle","muscle",2734]
["internal","internal",2735]
["ensure","ensure",2736]
["jet","jet",2737]
["era","era",2738]
["recommend","recommend",2739]
["currently","currently",2740]
["Zone","zone",2741]
["weekly","weekly",2742]
["Mayor","mayor",2743]
["thinking","thinking",2744]
["propose","propose",2745]
["notion","notion",2746]
["soil","soil",2747]
["initial","initial",2748]
["extent","extent",2749]
["perception","perception",2750]
["quote","quote",2751]
["motion","motion",2752]
["long-term","long-term",2753]
["regime","regime",2754]
["ad","ad",2755]
["tablespoon","tablespoon",2756]
["capacity","capacity",2757]
["landscape","landscape",2758]
["source","source",2759]
["pure","pure",2760]
["wrap","wrap",2761]
["percentage","percentage",2762]
["killer","killer",2763]
["tight","tight",2764]
["rating","rating",2765]
["shortcoming","shortcoming",2766]
["Jewish","jewish",2767]
["volume","volume",2768]
["debt","debt",2769]
["defense","defense",2770]
["label","label",2771]
["Gene","gene",2772]
["involve","involve",2773]
["ultimately","ultimately",2774]
["Pan","pan",2775]
["politician","politician",2776]
["Tone","tone",2777]
["finance","finance",2778]
["hug","hug",2779]
["Mount","mount",2780]
["crash","crash",2781]
["feature","feature",2782]
["joint","joint",2783]
["frequently","frequently",2784]
["essential","essential",2785]
["surgery","surgery",2786]
["Core","core",2787]
["faculty","faculty",2788]
["extremely","extremely",2789]
["veteran","veteran",2790]
["circumstance","circumstance",2791]
["coverage","coverage",2792]
["encounter","encounter",2793]
["pursue","pursue",2794]
["walker","walker",2795]
["objective","objective",2796]
["beneath","beneath",2797]
["advocate","advocate",2798]
["combination","combination",2799]
["opposition","opposition",2800]
["crack","crack",2801]
["senator","senator",2802]
["prince","prince",2803]
["producer","producer",2804]
["Prior","prior",2805]
["relief","relief",2806]
["assess","assess",2807]
["Cable","cable",2808]
["secure","secure",2809]
["protest","protest",2810]
["switch","switch",2811]
["clip","clip",2812]
["confirm","confirm",2813]
["forth","forth",2814]
["sector","sector",2815]
["mask","mask",2816]
["confidence","confidence",2817]
["interaction","interaction",2818]
["industrial","industrial",2819]
["welfare","welfare",2820]
["somewhat","somewhat",2821]
["entirely","entirely",2822]
["bedtime","bedtime",2823]
["cite","cite",2824]
["improvement","improvement",2825]
["Route","route",2826]
["principal","principal",2827]
["specifically","specifically",2828]
["convention","convention",2829]
["secondhand","secondhand",2830]
["draft","draft",2831]
["investment","investment",2832]
["Campus","campus",2833]
["increased","increased",2834]
["emphasize","emphasize",2835]
["barely","barely",2836]
["definitely","definitely",2837]
["boyfriend","boyfriend",2838]
["totally","totally",2839]
["Massive","massive",2840]
["legislation","legislation",2841]
["urge","urge",2842]
["pitch","pitch",2843]
["strip","strip",2844]
["resolution","resolution",2845]
["community","community",2846]
["selfish","selfish",2847]
["Pose","pose",2848]
["rural","rural",2849]
["household","household",2850]
["typically","typically",2851]
["necessarily","necessarily",2852]
["deer","deer",2853]
["Slice","slice",2854]
["fewer","fewer",2855]
["Grace","grace",2856]
["towards","towards",2857]
["leak","leak",2858]
["opening","opening",2859]
["visual","visual",2860]
["Jersey","jersey",2861]
["construct","construct",2862]
["Factor","factor",2863]
["advertisement","advertisement",2864]
["invest","invest",2865]
["economic","economic",2866]
["civilian","civilian",2867]
["Mexican","mexican",2868]
["kindergarten","kindergarten",2869]
["Scholar","scholar",2870]
["yield","yield",2871]
["illegal","illegal",2872]
["diet","diet",2873]
["reject","reject",2874]
["collapse","collapse",2875]
["Council","council",2876]
["Atlantic","atlantic",2877]
["creative","creative",2878]
["Angle","angle",2879]
["enjoyable","enjoyable",2880]
["Lower","lower",2881]
["physician","physician",2882]
["expose","expose",2883]
["congress","congress",2884]
["chip","chip",2885]
["opportunity","opportunity",2886]
["worried","worried",2887]
["observation","observation",2888]
["Boot","boot",2889]
["layer","layer",2890]
["helper","helper",2891]
["Spain","spain",2892]
["unfortunately","unfortunately",2893]
["organ","organ",2894]
["assistance","assistance",2895]
["regarding","regarding",2896]
["county","county",2897]
["definition","definition",2898]
["ideal","ideal",2899]
["abuse","abuse",2900]
["Peak","peak",2901]
["cop","cop",2902]
["prosecutor","prosecutor",2903]
["enormous","enormous",2904]
["jail","jail",2905]
["intellectual","intellectual",2906]
["Payment","payment",2907]
["spin","spin",2908]
["Drag","drag",2909]
["acquire","acquire",2910]
["resist","resist",2911]
["depression","depression",2912]
["creation","creation",2913]
["spiritual","spiritual",2914]
["closely","closely",2915]
["participation","participation",2916]
["presentation","presentation",2917]
["ski","ski",2918]
["phase","phase",2919]
["Ban","ban",2920]
["girlfriend","girlfriend",2921]
["corporation","corporation",2922]
["perceive","perceive",2923]
["diamond","diamond",2924]
["comparison","comparison",2925]
["personality","personality",2926]
["religious","religious",2927]
["criticism","criticism",2928]
["funding","funding",2929]
["column","column",2930]
["Trace","trace",2931]
["virtually","virtually",2932]
["discipline","discipline",2933]
["resolve","resolve",2934]
["Warning","warning",2935]
["correspondent","correspondent",2936]
["priority","priority",2937]
["Mexico","mexico",2938]
["tire","tire",2939]
["implement","implement",2940]
["Split","split",2941]
["preserve","preserve",2942]
["peanut","peanut",2943]
["asset","asset",2944]
["committee","committee",2945]
["spending","spending",2946]
["Wage","wage",2947]
["revolution","revolution",2948]
["budget","budget",2949]
["primarily","primarily",2950]
["exhibit","exhibit",2951]
["stuck","stuck",2952]
["agenda","agenda",2953]
["selection","selection",2954]
["existing","existing",2955]
["prayer","prayer",2956]
["gaze","gaze",2957]
["initiative","initiative",2958]
["Vote","vote",2959]
["narrative","narrative",2960]
["housing","housing",2961]
["gap","gap",2962]
["substance","substance",2963]
["divorce","divorce",2964]
["therapy","therapy",2965]
["Gallery","gallery",2966]
["exposure","exposure",2967]
["Spanish","spanish",2968]
["fundamental","fundamental",2969]
["contemporary","contemporary",2970]
["remaining","remaining",2971]
["Economy","economy",2972]
["transition","transition",2973]
["consistent","consistent",2974]
["Gear","gear",2975]
["Stem","stem",2976]
["adolescent","adolescent",2977]
["evaluation","evaluation",2978]
["Dean","dean",2979]
["representative","representative",2980]
["planning","planning",2981]
["Stock","stock",2982]
["emotion","emotion",2983]
["championship","championship",2984]
["settlement","settlement",2985]
["symptom","symptom",2986]
["dramatic","dramatic",2987]
["Ally","ally",2988]
["individual","individual",2989]
["album","album",2990]
["colourful","colourful",2991]
["embrace","embrace",2992]
["Shell","shell",2993]
["edit","edit",2994]
["deeply","deeply",2995]
["Lord","lord",2996]
["transform","transform",2997]
["toss","toss",2998]
["saving","saving",2999]
["territory","territory",3000]
["deficit","deficit",3001]
["opponent","opponent",3002]
["Bean","bean",3003]
["moreover","moreover",3004]
["abandon","abandon",3005]
["reduction","reduction",3006]
["chapter","chapter",3007]
["Hook","hook",3008]
["formal","formal",3009]
["elect","elect",3010]
["snap","snap",3011]
["Constant","constant",3012]
["evaluate","evaluate",3013]
["Chase","chase",3014]
["downtown","downtown",3015]
["leading","leading",3016]
["lung","lung",3017]
["involvement","involvement",3018]
["Independence","independence",3019]
["educator","educator",3020]
["billion","billion",3021]
["Palm","palm",3022]
["portion","portion",3023]
["Buck","buck",3024]
["evil","evil",3025]
["immediate","immediate",3026]
["racial","racial",3027]
["analyze","analyze",3028]
["investigator","investigator",3029]
["tension","tension",3030]
["coalition","coalition",3031]
["psychological","psychological",3032]
["Commander","commander",3033]
["extreme","extreme",3034]
["resistance","resistance",3035]
["Priest","priest",3036]
["Latin","latin",3037]
["digital","digital",3038]
["Pro","pro",3039]
["fairly","fairly",3040]
["strategy","strategy",3041]
["Craft","craft",3042]
["enhance","enhance",3043]
["financial","financial",3044]
["Vary","vary",3045]
["philosophy","philosophy",3046]
["engineering","engineering",3047]
["temporary","temporary",3048]
["pump","pump",3049]
["Stake","stake",3050]
["interior","interior",3051]
["click","click",3052]
["Onion","onion",3053]
["agriculture","agriculture",3054]
["Tune","tune",3055]
["thirst","thirst",3056]
["tiresome","tiresome",3057]
["ease","ease",3058]
["numerous","numerous",3059]
["suicide","suicide",3060]
["enforcement","enforcement",3061]
["Minor","minor",3062]
["marketing","marketing",3063]
["distribution","distribution",3064]
["Severe","severe",3065]
["previously","previously",3066]
["emphasis","emphasis",3067]
["poverty","poverty",3068]
["Marine","marine",3069]
["essentially","essentially",3070]
["starve","starve",3071]
["sneeze","sneeze",3072]
["occasion","occasion",3073]
["property","property",3074]
["monthly","monthly",3075]
["employer","employer",3076]
["disorder","disorder",3077]
["immigration","immigration",3078]
["rarely","rarely",3079]
["missile","missile",3080]
["String","string",3081]
["parking","parking",3082]
["Pray","pray",3083]
["Singer","singer",3084]
["stroke","stroke",3085]
["Mood","mood",3086]
["implication","implication",3087]
["elsewhere","elsewhere",3088]
["Pant","pant",3089]
["videotape","videotape",3090]
["prospect","prospect",3091]
["ghost","ghost",3092]
["Champion","champion",3093]
["illustrate","illustrate",3094]
["Holy","holy",3095]
["competitive","competitive",3096]
["dimension","dimension",3097]
["Miller","miller",3098]
["bookstore","bookstore",3099]
["Creek","creek",3100]
["impose","impose",3101]
["passion","passion",3102]
["increasing","increasing",3103]
["protein","protein",3104]
["adjust","adjust",3105]
["recipe","recipe",3106]
["complaint","complaint",3107]
["designer","designer",3108]
["Stuff","stuff",3109]
["resort","resort",3110]
["wander","wander",3111]
["recovery","recovery",3112]
["dominate","dominate",3113]
["amendment","amendment",3114]
["visible","visible",3115]
["entry","entry",3116]
["claim","claim",3117]
["modest","modest",3118]
["transportation","transportation",3119]
["plot","plot",3120]
["wisely","wisely",3121]
["intense","intense",3122]
["gulf","gulf",3123]
["Deputy","deputy",3124]
["fiber","fiber",3125]
["strongly","strongly",3126]
["mystery","mystery",3127]
["assist","assist",3128]
["maker","maker",3129]
["disability","disability",3130]
["Dick","dick",3131]
["honestly","honestly",3132]
["Rear","rear",3133]
["helpless","helpless",3134]
["criteria","criteria",3135]
["Ford","ford",3136]
["Rape","rape",3137]
["significant","significant",3138]
["avenue","avenue",3139]
["accomplish","accomplish",3140]
["equally","equally",3141]
["brilliant","brilliant",3142]
["Via","via",3143]
["crucial","crucial",3144]
["publication","publication",3145]
["dispute","dispute",3146]
["laboratory","laboratory",3147]
["concentrate","concentrate",3148]
["supporter","supporter",3149]
["brick","brick",3150]
["recognition","recognition",3151]
["envy","envy",3152]
["yell","yell",3153]
["exception","exception",3154]
["Burden","burden",3155]
["retirement","retirement",3156]
["Twist","twist",3157]
["so-called","so-called",3158]
["clinical","clinical",3159]
["damn","damn",3160]
["sponsor","sponsor",3161]
["Cheek","cheek",3162]
["radical","radical",3163]
["testing","testing",3164]
["capable","capable",3165]
["distinguish","distinguish",3166]
["Enterprise","enterprise",3167]
["personnel","personnel",3168]
["profile","profile",3169]
["Loose","loose",3170]
["diversity","diversity",3171]
["phenomenon","phenomenon",3172]
["surely","surely",3173]
["i.e.","i.e.",3174]
["routine","routine",3175]
["highlight","highlight",3176]
["perfectly","perfectly",3177]
["minimum","minimum",3178]
["consultant","consultant",3179]
["Seal","seal",3180]
["gesture","gesture",3181]
["confront","confront",3182]
["attribute","attribute",3183]
["doubtful","doubtful",3184]
["Bunch","bunch",3185]
["assault","assault",3186]
["terrorism","terrorism",3187]
["shit","shit",3188]
["whoever","whoever",3189]
["venture","venture",3190]
["narrator","narrator",3191]
["literally","literally",3192]
["employment","employment",3193]
["clay","clay",3194]
["hip","hip",3195]
["Bake","bake",3196]
["ingredient","ingredient",3197]
["amaze","amaze",3198]
["install","install",3199]
["Gang","gang",3200]
["historian","historian",3201]
["index","index",3202]
["bind","bind",3203]
["historic","historic",3204]
["Strain","strain",3205]
["origin","origin",3206]
["accompany","accompany",3207]
["absence","absence",3208]
["rainfall","rainfall",3209]
["chart","chart",3210]
["Baker","baker",3211]
["bookshop","bookshop",3212]
["occasionally","occasionally",3213]
["observer","observer",3214]
["combat","combat",3215]
["charm","charm",3216]
["Super","super",3217]
["inner","inner",3218]
["Barrier","barrier",3219]
["resident","resident",3220]
["teen","teen",3221]
["according","according",3222]
["thumb","thumb",3223]
["Bureau","bureau",3224]
["permanent","permanent",3225]
["elite","elite",3226]
["unpleasant","unpleasant",3227]
["assumption","assumption",3228]
["Alliance","alliance",3229]
["developing","developing",3230]
["provision","provision",3231]
["viewer","viewer",3232]
["campaign","campaign",3233]
["reuse","reuse",3234]
["grin","grin",3235]
["incorporate","incorporate",3236]
["constitution","constitution",3237]
["Steady","steady",3238]
["effectively","effectively",3239]
["rocky","rocky",3240]
["export","export",3241]
["biological","biological",3242]
["apparent","apparent",3243]
["arise","arise",3244]
["Deck","deck",3245]
["reverse","reverse",3246]
["spokesman","spokesman",3247]
["hardworking","hardworking",3248]
["utility","utility",3249]
["suck","suck",3250]
["drawing","drawing",3251]
["academy","academy",3252]
["Rub","rub",3253]
["substantial","substantial",3254]
["constantly","constantly",3255]
["Grave","grave",3256]
["activist","activist",3257]
["Drama","drama",3258]
[false,"false",3259]
["theft","theft",3260]
["Angel","angel",3261]
["anyhow","anyhow",3262]
["aggressive","aggressive",3263]
["conventional","conventional",3264]
["bravely","bravely",3265]
["sensitive","sensitive",3266]
["Trigger","trigger",3267]
["depth","depth",3268]
["mess","mess",3269]
["compromise","compromise",3270]
["grain","grain",3271]
["Echo","echo",3272]
["executive","executive",3273]
["mechanism","mechanism",3274]
["anytime","anytime",3275]
["shelter","shelter",3276]
["criticize","criticize",3277]
["negotiate","negotiate",3278]
["nevertheless","nevertheless",3279]
["warmly","warmly",3280]
["wipe","wipe",3281]
["moderate","moderate",3282]
["concrete","concrete",3283]
["fate","fate",3284]
["approval","approval",3285]
["participant","participant",3286]
["comfortably","comfortably",3287]
["Bishop","bishop",3288]
["rapidly","rapidly",3289]
["Mode","mode",3290]
["assign","assign",3291]
["armed","armed",3292]
["decrease","decrease",3293]
["Innocent","innocent",3294]
["bargain","bargain",3295]
["heal","heal",3296]
["universal","universal",3297]
["restore","restore",3298]
["refugee","refugee",3299]
["flavor","flavor",3300]
["float","float",3301]
["swear","swear",3302]
["Tissue","tissue",3303]
["dealer","dealer",3304]
["precisely","precisely",3305]
["infection","infection",3306]
["fold","fold",3307]
["Hunting","hunting",3308]
["timetable","timetable",3309]
["unwillingly","unwillingly",3310]
["Nobel","Nobel",3311]
["shrug","shrug",3312]
["whereas","whereas",3313]
["resign","resign",3314]
["squeeze","squeeze",3315]
["tournament","tournament",3316]
["cooperation","cooperation",3317]
["leap","leap",3318]
["grip","grip",3319]
["Chop","chop",3320]
["Drain","drain",3321]
["portable","portable",3322]
["telescope","telescope",3323]
["founder","founder",3324]
["unwilling","unwilling",3325]
["laundry","laundry",3326]
["strategic","strategic",3327]
["lawsuit","lawsuit",3328]
["terror","terror",3329]
["Bench","bench",3330]
["convert","convert",3331]
["assure","assure",3332]
["disappointedly","disappointedly",3333]
["bounce","bounce",3334]
["beginner","beginner",3335]
["ultimate","ultimate",3336]
["normally","normally",3337]
["roughly","roughly",3338]
["adviser","adviser",3339]
["dissatisfied","dissatisfied",3340]
["penfriend","penfriend",3341]
["found","found",3342]
["Odd","odd",3343]
["latter","latter",3344]
["acid","acid",3345]
["alien","alien",3346]
["evident","evident",3347]
["neat","neat",3348]
["statistics","statistics",3349]
["stable","stable",3350]
["refrigerator","refrigerator",3351]
["Cluster","cluster",3352]
["pregnant","pregnant",3353]
["advertising","advertising",3354]
["Dawn","dawn",3355]
["skillfully","skillfully",3356]
["sacrifice","sacrifice",3357]
["relevant","relevant",3358]
["psychology","psychology",3359]
["penalty","penalty",3360]
["portrait","portrait",3361]
["drunk","drunk",3362]
["chamber","chamber",3363]
["interpret","interpret",3364]
["offense","offense",3365]
["Ma'am","ma'am",3366]
["recruit","recruit",3367]
["Carbon","carbon",3368]
["awareness","awareness",3369]
["random","random",3370]
["incentive","incentive",3371]
["Roman","roman",3372]
["log","log",3373]
["genius","genius",3374]
["satellite","satellite",3375]
["smoker","smoker",3376]
["shopping","shopping",3377]
["initially","initially",3378]
["Liberty","liberty",3379]
["external","external",3380]
["similarly","similarly",3381]
["garlic","garlic",3382]
["secondly","secondly",3383]
["Bible","bible",3384]
["destruction","destruction",3385]
["Nail","nail",3386]
["hispanic","hispanic",3387]
["toe","toe",3388]
["Raw","raw",3389]
["dirt","dirt",3390]
["schoolmate","schoolmate",3391]
["concentration","concentration",3392]
["doorbell","doorbell",3393]
["teamwork","teamwork",3394]
["genetic","genetic",3395]
["follower","follower",3396]
["Lover","lover",3397]
["counsel","counsel",3398]
["diverse","diverse",3399]
["shooting","shooting",3400]
["framework","framework",3401]
["specialize","specialize",3402]
["expansion","expansion",3403]
["unlikely","unlikely",3404]
["advisor","advisor",3405]
["reflection","reflection",3406]
["emission","emission",3407]
["boundary","boundary",3408]
["blade","blade",3409]
["detect","detect",3410]
["communist","communist",3411]
["Saint","saint",3412]
["roommate","roommate",3413]
["DNA","dna",3414]
["anniversary","anniversary",3415]
["institution","institution",3416]
["representation","representation",3417]
["Foster","foster",3418]
["virus","virus",3419]
["Boom","boom",3420]
["retain","retain",3421]
["Punch","punch",3422]
["fiction","fiction",3423]
["recommendation","recommendation",3424]
["imply","imply",3425]
["bore","bore",3426]
["insight","insight",3427]
["react","react",3428]
["behalf","behalf",3429]
["Bull","bull",3430]
["scenario","scenario",3431]
["Given","given",3432]
["addicted","addicted",3433]
["cabinet","cabinet",3434]
["senate","senate",3435]
["exhausted","exhausted",3436]
["Antarctica","antarctica",3437]
["comprehensive","comprehensive",3438]
["potentially","potentially",3439]
["widespread","widespread",3440]
["advanced","advanced",3441]
["constitute","constitute",3442]
["caller","caller",3443]
["humour","humour",3444]
["stadium","stadium",3445]
["lobby","lobby",3446]
["characterize","characterize",3447]
["skillful","skillful",3448]
["proceed","proceed",3449]
["remarkable","remarkable",3450]
["Alter","alter",3451]
["tiredness","tiredness",3452]
["occupy","occupy",3453]
["defensive","defensive",3454]
["profession","profession",3455]
["instant","instant",3456]
["admirable","admirable",3457]
["partnership","partnership",3458]
["bullet","bullet",3459]
["grocery","grocery",3460]
["confidently","confidently",3461]
["Cruise","cruise",3462]
["testify","testify",3463]
["Vessel","vessel",3464]
["longtime","longtime",3465]
["newly","newly",3466]
["chef","chef",3467]
["unlimited","unlimited",3468]
["fulfill","fulfill",3469]
["Sum","sum",3470]
["extensive","extensive",3471]
["delivery","delivery",3472]
["Blend","blend",3473]
["format","format",3474]
["variation","variation",3475]
["nephew","nephew",3476]
["monster","monster",3477]
["conservation","conservation",3478]
["Buyer","buyer",3479]
["evolve","evolve",3480]
["troublesome","troublesome",3481]
["protective","protective",3482]
["melt","melt",3483]
["Spray","spray",3484]
["organic","organic",3485]
["possess","possess",3486]
["complicated","complicated",3487]
["surprising","surprising",3488]
["radiation","radiation",3489]
["lifetime","lifetime",3490]
["significance","significance",3491]
["uninterested","uninterested",3492]
["leather","leather",3493]
["Pine","pine",3494]
["regularly","regularly",3495]
["Vital","vital",3496]
["yearly","yearly",3497]
["Lemon","lemon",3498]
["fort","fort",3499]
["Tribe","tribe",3500]
["adventurous","adventurous",3501]
["fade","fade",3502]
["afterward","afterward",3503]
["offensive","offensive",3504]
["astonish","astonish",3505]
["Porch","porch",3506]
["boost","boost",3507]
["smoking","smoking",3508]
["conservative","conservative",3509]
["politically","politically",3510]
["considerable","considerable",3511]
["homesick","homesick",3512]
["Irish","irish",3513]
["ministry","ministry",3514]
["instantly","instantly",3515]
["litre","litre",3516]
["curiously","curiously",3517]
["joyful","joyful",3518]
["drift","drift",3519]
["prompt","prompt",3520]
["justify","justify",3521]
["Meter","meter",3522]
["mutual","mutual",3523]
["elbow","elbow",3524]
["naturally","naturally",3525]
["Lane","lane",3526]
["proportion","proportion",3527]
["shabby","shabby",3528]
["frequency","frequency",3529]
["thankfully","thankfully",3530]
["Beam","beam",3531]
["authority","authority",3532]
["thirdly","thirdly",3533]
["edition","edition",3534]
["distinction","distinction",3535]
["unlock","unlock",3536]
["pentagon","pentagon",3537]
["withdraw","withdraw",3538]
["Oak","oak",3539]
["harmless","harmless",3540]
["limitation","limitation",3541]
["insult","insult",3542]
["segment","segment",3543]
["gravity","gravity",3544]
["stability","stability",3545]
["violation","violation",3546]
["Patch","patch",3547]
["evolution","evolution",3548]
["celebrity","celebrity",3549]
["funeral","funeral",3550]
["Tech","tech",3551]
["regardless","regardless",3552]
["tragedy","tragedy",3553]
["hike","hike",3554]
["parallel","parallel",3555]
["rental","rental",3556]
["superior","superior",3557]
["PC","pc",3558]
["headquarters","headquarters",3559]
["Bare","bare",3560]
["originally","originally",3561]
["Santa","santa",3562]
["proof","proof",3563]
["tobacco","tobacco",3564]
["Korean","korean",3565]
["misfortune","misfortune",3566]
["motivation","motivation",3567]
["printer","printer",3568]
["embarrass","embarrass",3569]
["assembly","assembly",3570]
["rival","rival",3571]
["dining","dining",3572]
["collective","collective",3573]
["continued","continued",3574]
["ongoing","ongoing",3575]
["anchor","anchor",3576]
["Celebration","celebration",3577]
["alert","alert",3578]
["scheme","scheme",3579]
["galaxy","galaxy",3580]
["earnings","earnings",3581]
["absolute","absolute",3582]
["logic","logic",3583]
["madly","madly",3584]
["capability","capability",3585]
["imagination","imagination",3586]
["poetry","poetry",3587]
["surgeon","surgeon",3588]
["unimportant","unimportant",3589]
["storage","storage",3590]
["athletic","athletic",3591]
["housewife","housewife",3592]
["dependent","dependent",3593]
["Greek","greek",3594]
["Aide","aide",3595]
["bid","bid",3596]
["dump","dump",3597]
["dinosaur","dinosaur",3598]
["Jazz","jazz",3599]
["sightsee","sightsee",3600]
["rifle","rifle",3601]
["instance","instance",3602]
["scared","scared",3603]
["slam","slam",3604]
["elderly","elderly",3605]
["ruling","ruling",3606]
["mere","mere",3607]
["paradise","paradise",3608]
["distribute","distribute",3609]
["scan","scan",3610]
["examination","examination",3611]
["forehead","forehead",3612]
["certificate","certificate",3613]
["buddy","buddy",3614]
["Sin","sin",3615]
["orientation","orientation",3616]
["violate","violate",3617]
["Harbor","harbor",3618]
["appoint","appoint",3619]
["flee","flee",3620]
["derive","derive",3621]
["lawn","lawn",3622]
["heel","heel",3623]
["Carter","carter",3624]
["administration","administration",3625]
["Arena","arena",3626]
["illustration","illustration",3627]
["Stack","stack",3628]
["barrel","barrel",3629]
["Cope","cope",3630]
["castle","castle",3631]
["preference","preference",3632]
["Ward","ward",3633]
["prevention","prevention",3634]
["depending","depending",3635]
["spill","spill",3636]
["memorize","memorize",3637]
["respondent","respondent",3638]
["survivor","survivor",3639]
["migrate","migrate",3640]
["efficiency","efficiency",3641]
["vulnerable","vulnerable",3642]
["calculate","calculate",3643]
["gradually","gradually",3644]
["driving","driving",3645]
["classify","classify",3646]
["incredible","incredible",3647]
["obligation","obligation",3648]
["fantasy","fantasy",3649]
["agricultural","agricultural",3650]
["impatience","impatience",3651]
["restart","restart",3652]
["admission","admission",3653]
["valid","valid",3654]
["sustain","sustain",3655]
["efficient","efficient",3656]
["blog","blog",3657]
["builder","builder",3658]
["Summit","summit",3659]
["fighter","fighter",3660]
["tendency","tendency",3661]
["Christian","christian",3662]
["outline","outline",3663]
["Heritage","heritage",3664]
["calmly","calmly",3665]
["formation","formation",3666]
["publisher","publisher",3667]
["powder","powder",3668]
["Filter","filter",3669]
["sequence","sequence",3670]
["ratio","ratio",3671]
["fabric","fabric",3672]
["confused","confused",3673]
["provider","provider",3674]
["gifted","gifted",3675]
["crush","crush",3676]
["Standing","standing",3677]
["necklace","necklace",3678]
["taxpayer","taxpayer",3679]
["consume","consume",3680]
["confusion","confusion",3681]
["scandal","scandal",3682]
["mama","mama",3683]
["guideline","guideline",3684]
["curve","curve",3685]
["adjustment","adjustment",3686]
["calendar","calendar",3687]
["Shed","shed",3688]
["criterion","criterion",3689]
["scholarship","scholarship",3690]
["explosion","explosion",3691]
["versus","versus",3692]
["Glow","glow",3693]
["Couch","couch",3694]
["identification","identification",3695]
["membership","membership",3696]
["measurement","measurement",3697]
["rep","rep",3698]
["institutional","institutional",3699]
["tackle","tackle",3700]
["proposed","proposed",3701]
["humor","humor",3702]
["warrior","warrior",3703]
["equivalent","equivalent",3704]
["furthermore","furthermore",3705]
["hint","hint",3706]
["nickname","nickname",3707]
["consumption","consumption",3708]
["rainbow","rainbow",3709]
["bombing","bombing",3710]
["publicly","publicly",3711]
["serving","serving",3712]
["Sue","sue",3713]
["sufficient","sufficient",3714]
["earning","earning",3715]
["eliminate","eliminate",3716]
["Legacy","legacy",3717]
["harvest","harvest",3718]
["qualify","qualify",3719]
["graphic","graphic",3720]
["opera","opera",3721]
["differently","differently",3722]
["daytime","daytime",3723]
["update","update",3724]
["instructor","instructor",3725]
["favour","favour",3726]
["scope","scope",3727]
["Peel","peel",3728]
["federal","federal",3729]
["greatly","greatly",3730]
["grassland","grassland",3731]
["reservation","reservation",3732]
["drinking","drinking",3733]
["infant","infant",3734]
["Ranch","ranch",3735]
["punishment","punishment",3736]
["Ridge","ridge",3737]
["impatiently","impatiently",3738]
["cabin","cabin",3739]
["miracle","miracle",3740]
["retreat","retreat",3741]
["Liberal","liberal",3742]
["horizon","horizon",3743]
["perspective","perspective",3744]
["subsequent","subsequent",3745]
["crown","crown",3746]
["Peer","peer",3747]
["empire","empire",3748]
["Crystal","crystal",3749]
["nerve","nerve",3750]
["Sweden","sweden",3751]
["privacy","privacy",3752]
["flame","flame",3753]
["Rail","rail",3754]
["estimated","estimated",3755]
["maintenance","maintenance",3756]
["briefly","briefly",3757]
["rediscover","rediscover",3758]
["memorial","memorial",3759]
["Rebel","rebel",3760]
["regretful","regretful",3761]
["flavour","flavour",3762]
["scold","scold",3763]
["architect","architect",3764]
["Mill","mill",3765]
["etc","etc",3766]
["unsatisfied","unsatisfied",3767]
["lap","lap",3768]
["tailor","tailor",3769]
["navy","navy",3770]
["controversial","controversial",3771]
["dominant","dominant",3772]
["booking","booking",3773]
["calory","calory",3774]
["Spark","spark",3775]
["aimlessly","aimlessly",3776]
["myth","myth",3777]
["resemble","resemble",3778]
["assignment","assignment",3779]
["bravery","bravery",3780]
["auto","auto",3781]
["Shield","shield",3782]
["tasty","tasty",3783]
["Tag","tag",3784]
["changing","changing",3785]
["detailed","detailed",3786]
["deepen","deepen",3787]
["impress","impress",3788]
["approximately","approximately",3789]
["ethics","ethics",3790]
["eagerness","eagerness",3791]
["lifestyle","lifestyle",3792]
["workshop","workshop",3793]
["assert","assert",3794]
["footprint","footprint",3795]
["retail","retail",3796]
["cookie","cookie",3797]
["Carrier","carrier",3798]
["sculpture","sculpture",3799]
["medication","medication",3800]
["naked","naked",3801]
["heartbroken","heartbroken",3802]
["romantic","romantic",3803]
["ah","ah",3804]
["Pitcher","pitcher",3805]
["jungle","jungle",3806]
["Salmon","salmon",3807]
["desperate","desperate",3808]
["thunder","thunder",3809]
["blast","blast",3810]
["lecturer","lecturer",3811]
["tireless","tireless",3812]
["helicopter","helicopter",3813]
["herb","herb",3814]
["organizer","organizer",3815]
["economics","economics",3816]
["surprisingly","surprisingly",3817]
["metre","metre",3818]
["conviction","conviction",3819]
["handful","handful",3820]
["tighten","tighten",3821]
["unfinished","unfinished",3822]
["Singapore","singapore",3823]
["flesh","flesh",3824]
["Virtue","virtue",3825]
["comedy","comedy",3826]
["unfriendly","unfriendly",3827]
["restriction","restriction",3828]
["unnoticed","unnoticed",3829]
["sophisticated","sophisticated",3830]
["Poll","poll",3831]
["apology","apology",3832]
["untidy","untidy",3833]
["habitat","habitat",3834]
["unusually","unusually",3835]
["legitimate","legitimate",3836]
["weaken","weaken",3837]
["weakly","weakly",3838]
["norm","norm",3839]
["worthy","worthy",3840]
["recession","recession",3841]
["wrongly","wrongly",3842]
["hypothesis","hypothesis",3843]
["manufacturing","manufacturing",3844]
["rainforest","rainforest",3845]
["compound","compound",3846]
["password","password",3847]
["extension","extension",3848]
["astronaut","astronaut",3849]
["flour","flour",3850]
["scout","scout",3851]
["successfully","successfully",3852]
["overlook","overlook",3853]
["undergo","undergo",3854]
["Grill","grill",3855]
["badly","badly",3856]
["hostess","hostess",3857]
["colonial","colonial",3858]
["Pill","pill",3859]
["carelessly","carelessly",3860]
["correlation","correlation",3861]
["demonstration","demonstration",3862]
["consciousness","consciousness",3863]
["rip","rip",3864]
["negotiation","negotiation",3865]
["psychologist","psychologist",3866]
["distinct","distinct",3867]
["circuit","circuit",3868]
["Trim","trim",3869]
["salesperson","salesperson",3870]
["anxiously","anxiously",3871]
["Bass","bass",3872]
["appetite","appetite",3873]
["nomination","nomination",3874]
["establishment","establishment",3875]
["Rod","rod",3876]
["submit","submit",3877]
["cooking","cooking",3878]
["nursing","nursing",3879]
["transformation","transformation",3880]
["depict","depict",3881]
["sneaker","sneaker",3882]
["curriculum","curriculum",3883]
["heartbreaking","heartbreaking",3884]
["rage","rage",3885]
["mineral","mineral",3886]
["inflation","inflation",3887]
["ethnic","ethnic",3888]
["Rack","rack",3889]
["counseling","counseling",3890]
["congressional","congressional",3891]
["electronics","electronics",3892]
["consensus","consensus",3893]
["domestic","domestic",3894]
["wow","wow",3895]
["Reed","reed",3896]
["nervousness","nervousness",3897]
["openly","openly",3898]
["impolite","impolite",3899]
["Curl","curl",3900]
["makeup","makeup",3901]
["tunnel","tunnel",3902]
["reminder","reminder",3903]
["odds","odds",3904]
["rumor","rumor",3905]
["operating","operating",3906]
["Gross","gross",3907]
["announcer","announcer",3908]
["summarize","summarize",3909]
["supreme","supreme",3910]
["soccer","soccer",3911]
["Dose","dose",3912]
["Catholic","catholic",3913]
["flip","flip",3914]
["script","script",3915]
["carpenter","carpenter",3916]
["intensity","intensity",3917]
["hurricane","hurricane",3918]
["subway","subway",3919]
["Kingdom","kingdom",3920]
["episode","episode",3921]
["exceed","exceed",3922]
["creator","creator",3923]
["Bang","bang",3924]
["anticipate","anticipate",3925]
["commerce","commerce",3926]
["Horn","horn",3927]
["dolphin","dolphin",3928]
["invasion","invasion",3929]
["reinforce","reinforce",3930]
["Bump","bump",3931]
["artistic","artistic",3932]
["Duke","duke",3933]
["commissioner","commissioner",3934]
["adequate","adequate",3935]
["Bias","bias",3936]
["slope","slope",3937]
["lightly","lightly",3938]
["mosquito","mosquito",3939]
["Islamic","islamic",3940]
["Hence","hence",3941]
["intent","intent",3942]
["pit","pit",3943]
["considering","considering",3944]
["editorial","editorial",3945]
["fighting","fighting",3946]
["recording","recording",3947]
["mist","mist",3948]
["handbook","handbook",3949]
["related","related",3950]
["badminton","badminton",3951]
["anti","anti",3952]
["fitness","fitness",3953]
["mini","mini",3954]
["concerning","concerning",3955]
["competitor","competitor",3956]
["Trunk","trunk",3957]
["endanger","endanger",3958]
["prescription","prescription",3959]
["convey","convey",3960]
["carve","carve",3961]
["complicate","complicate",3962]
["killing","killing",3963]
["breed","breed",3964]
["sake","sake",3965]
["afterwards","afterwards",3966]
["feminist","feminist",3967]
["ambulance","ambulance",3968]
["butcher","butcher",3969]
["impressive","impressive",3970]
["panic","panic",3971]
["repeatedly","repeatedly",3972]
["portray","portray",3973]
["Brazil","brazil",3974]
["haircut","haircut",3975]
["ballot","ballot",3976]
["ethical","ethical",3977]
["noble","noble",3978]
["performer","performer",3979]
["tremendous","tremendous",3980]
["inquiry","inquiry",3981]
["Render","render",3982]
["tactic","tactic",3983]
["thinker","thinker",3984]
["passing","passing",3985]
["integrate","integrate",3986]
["physically","physically",3987]
["limitless","limitless",3988]
["convict","convict",3989]
["Chill","chill",3990]
["mild","mild",3991]
["mainstream","mainstream",3992]
["delete","delete",3993]
["Hammer","hammer",3994]
["administrator","administrator",3995]
["frustration","frustration",3996]
["talented","talented",3997]
["considerate","considerate",3998]
["Buffalo","buffalo",3999]
["nonetheless","nonetheless",4000]
["readily","readily",4001]
["politeness","politeness",4002]
["defendant","defendant",4003]
["casual","casual",4004]
["manufacturer","manufacturer",4005]
["questionnaire","questionnaire",4006]
["Freshman","freshman",4007]
["petrol","petrol",4008]
["Chuck","chuck",4009]
["scratch","scratch",4010]
["addiction","addiction",4011]
["Tuck","tuck",4012]
["canyon","canyon",4013]
["jar","jar",4014]
["sacred","sacred",4015]
["ritual","ritual",4016]
["Korea","korea",4017]
["interpretation","interpretation",4018]
["effectiveness","effectiveness",4019]
["facilitate","facilitate",4020]
["Polish","polish",4021]
["wax","wax",4022]
["Suite","suite",4023]
["mislead","mislead",4024]
["clue","clue",4025]
["Chin","chin",4026]
["receiver","receiver",4027]
["rhythm","rhythm",4028]
["faulty","faulty",4029]
["Fare","fare",4030]
["safeguard","safeguard",4031]
["pregnancy","pregnancy",4032]
["goodness","goodness",4033]
["Harsh","harsh",4034]
["infer","infer",4035]
["grasp","grasp",4036]
["abortion","abortion",4037]
["playoff","playoff",4038]
["array","array",4039]
["Oral","oral",4040]
["convenience","convenience",4041]
["presidency","presidency",4042]
["informal","informal",4043]
["traveller","traveller",4044]
["margin","margin",4045]
["Divine","divine",4046]
["uncover","uncover",4047]
["formula","formula",4048]
["Jay","jay",4049]
["experimental","experimental",4050]
["Limb","limb",4051]
["horror","horror",4052]
["Colony","colony",4053]
["northwest","northwest",4054]
["regulate","regulate",4055]
["Mate","mate",4056]
["entertain","entertain",4057]
["diagnosis","diagnosis",4058]
["lightning","lightning",4059]
["further","further",4060]
["whip","whip",4061]
["prosecution","prosecution",4062]
["accurately","accurately",4063]
["prejudice","prejudice",4064]
["Cliff","cliff",4065]
["continuous","continuous",4066]
["respectful","respectful",4067]
["acceptance","acceptance",4068]
["realistic","realistic",4069]
["Haul","haul",4070]
["strictly","strictly",4071]
["administrative","administrative",4072]
["ambitious","ambitious",4073]
["sniff","sniff",4074]
["programmer","programmer",4075]
["resume","resume",4076]
["trader","trader",4077]
["closet","closet",4078]
["manufacture","manufacture",4079]
["compose","compose",4080]
["discrimination","discrimination",4081]
["substitute","substitute",4082]
["democrat","democrat",4083]
["integration","integration",4084]
["severely","severely",4085]
["thoughtless","thoughtless",4086]
["patrol","patrol",4087]
["controversy","controversy",4088]
["fig","fig",4089]
["democratic","democratic",4090]
["exclude","exclude",4091]
["migration","migration",4092]
["unforgettable","unforgettable",4093]
["frankly","frankly",4094]
["equality","equality",4095]
["initiate","initiate",4096]
["pad","pad",4097]
["egyptian","egyptian",4098]
["visa","visa",4099]
["Unity","unity",4100]
["unemployed","unemployed",4101]
["congratulate","congratulate",4102]
["indigenous","indigenous",4103]
["damp","damp",4104]
["reproduce","reproduce",4105]
["profitable","profitable",4106]
["Rider","rider",4107]
["dramatically","dramatically",4108]
["quarterback","quarterback",4109]
["Pastor","pastor",4110]
["trading","trading",4111]
["wireless","wireless",4112]
["hut","hut",4113]
["housekeeper","housekeeper",4114]
["Dancer","dancer",4115]
["corridor","corridor",4116]
["Bloom","bloom",4117]
["domain","domain",4118]
["accumulate","accumulate",4119]
["fluent","fluent",4120]
["acceptable","acceptable",4121]
["Lodge","lodge",4122]
["lighting","lighting",4123]
["Landing","landing",4124]
["harbour","harbour",4125]
["helplessly","helplessly",4126]
["potter","potter",4127]
["independently","independently",4128]
["Contractor","contractor",4129]
["astonished","astonished",4130]
["fame","fame",4131]
["Pope","pope",4132]
["unnecessary","unnecessary",4133]
["sandy","sandy",4134]
["Govern","govern",4135]
["sodium","sodium",4136]
["mathematical","mathematical",4137]
["legend","legend",4138]
["Sheriff","sheriff",4139]
["interact","interact",4140]
["underwater","underwater",4141]
["disappearance","disappearance",4142]
["treaty","treaty",4143]
["hallway","hallway",4144]
["undoubtedly","undoubtedly",4145]
["mechanic","mechanic",4146]
["emperor","emperor",4147]
["Mentor","mentor",4148]
["sporting","sporting",4149]
["allegation","allegation",4150]
["memorable","memorable",4151]
["enrich","enrich",4152]
["laptop","laptop",4153]
["attorney","attorney",4154]
["specialty","specialty",4155]
["Roar","roar",4156]
["lifelong","lifelong",4157]
["depress","depress",4158]
["Parliament","parliament",4159]
["indication","indication",4160]
["admiration","admiration",4161]
["faithfully","faithfully",4162]
["drought","drought",4163]
["thorough","thorough",4164]
["impatient","impatient",4165]
["legislature","legislature",4166]
["muddy","muddy",4167]
["playmate","playmate",4168]
["slap","slap",4169]
["Cart","cart",4170]
["coming","coming",4171]
["judgement","judgement",4172]
["voyage","voyage",4173]
["faithful","faithful",4174]
["inspector","inspector",4175]
["worthwhile","worthwhile",4176]
["developer","developer",4177]
["inability","inability",4178]
["temper","temper",4179]
["civilization","civilization",4180]
["rally","rally",4181]
["tin","tin",4182]
["countless","countless",4183]
["reasonably","reasonably",4184]
["Berry","berry",4185]
["missing","missing",4186]
["beneficial","beneficial",4187]
["african-american","African-American",4188]
["outing","outing",4189]
["legislative","legislative",4190]
["Loop","loop",4191]
["driveway","driveway",4192]
["youngster","youngster",4193]
["unconsciously","unconsciously",4194]
["ideology","ideology",4195]
["theology","theology",4196]
["tick","tick",4197]
["astonishing","astonishing",4198]
["cheerfully","cheerfully",4199]
["eyesight","eyesight",4200]
["Sole","sole",4201]
["fuck","fuck",4202]
["sunglasses","sunglasses",4203]
["steep","steep",4204]
["suburban","suburban",4205]
["Pickup","pickup",4206]
["Englishman","Englishman",4207]
["subtle","subtle",4208]
["Bolt","bolt",4209]
["expedition","expedition",4210]
["Min","min",4211]
["clarify","clarify",4212]
["blindly","blindly",4213]
["Fake","fake",4214]
["pledge","pledge",4215]
["Penny","penny",4216]
["junk","junk",4217]
["swimmer","swimmer",4218]
["lens","lens",4219]
["peach","peach",4220]
["humanity","humanity",4221]
["Broker","broker",4222]
["motivate","motivate",4223]
["embarrassment","embarrassment",4224]
["desired","desired",4225]
["Booth","booth",4226]
["conveniently","conveniently",4227]
["holder","holder",4228]
["southwest","southwest",4229]
["defence","defence",4230]
["architecture","architecture",4231]
["fiscal","fiscal",4232]
["satisfactory","satisfactory",4233]
["cowboy","cowboy",4234]
["drown","drown",4235]
["novelist","novelist",4236]
["Stiff","stiff",4237]
["deposit","deposit",4238]
["sadly","sadly",4239]
["essence","essence",4240]
["efficiently","efficiently",4241]
["delightful","delightful",4242]
["suffering","suffering",4243]
["shocking","shocking",4244]
["integrity","integrity",4245]
["innovation","innovation",4246]
["Blink","blink",4247]
["registration","registration",4248]
["Pillow","pillow",4249]
["postage","postage",4250]
["juror","juror",4251]
["Hawk","hawk",4252]
["torture","torture",4253]
["unaware","unaware",4254]
["weird","weird",4255]
["primitive","primitive",4256]
["deadly","deadly",4257]
["tolerance","tolerance",4258]
["tricky","tricky",4259]
["discourse","discourse",4260]
["Hood","hood",4261]
["behavioral","behavioral",4262]
["desperately","desperately",4263]
["psychiatrist","psychiatrist",4264]
["postal","postal",4265]
["hopelessly","hopelessly",4266]
["rumour","rumour",4267]
["philosopher","philosopher",4268]
["faint","faint",4269]
["Laser","laser",4270]
["spoil","spoil",4271]
["climber","climber",4272]
["Halt","halt",4273]
["misuse","misuse",4274]
["hostage","hostage",4275]
["arctic","arctic",4276]
["instructive","instructive",4277]
["reliable","reliable",4278]
["decoration","decoration",4279]
["Gut","gut",4280]
["classical","classical",4281]
["tuition","tuition",4282]
["ecology","ecology",4283]
["skyscraper","skyscraper",4284]
["Shallow","shallow",4285]
["explorer","explorer",4286]
["abstract","abstract",4287]
["fairy","fairy",4288]
["cautiously","cautiously",4289]
["unchanged","unchanged",4290]
["parade","parade",4291]
["Fancy","fancy",4292]
["meantime","meantime",4293]
["eighteenth","eighteenth",4294]
["nationwide","nationwide",4295]
["bound","bound",4296]
["wool","wool",4297]
["Poster","poster",4298]
["infrastructure","infrastructure",4299]
["Halfway","halfway",4300]
["jog","jog",4301]
["amused","amused",4302]
["Span","span",4303]
["bubble","bubble",4304]
["marker","marker",4305]
["Sword","sword",4306]
["backpack","backpack",4307]
["carriage","carriage",4308]
["broaden","broaden",4309]
["Bold","bold",4310]
["economist","economist",4311]
["taliban","taliban",4312]
["nicely","nicely",4313]
["fashionable","fashionable",4314]
["fraud","fraud",4315]
["Pulse","pulse",4316]
["fortunately","fortunately",4317]
["Gram","gram",4318]
["hardship","hardship",4319]
["cuban","cuban",4320]
["Ash","ash",4321]
["respectively","respectively",4322]
["understandable","understandable",4323]
["volcano","volcano",4324]
["vain","vain",4325]
["Boulder","boulder",4326]
["frank","frank",4327]
["overseas","overseas",4328]
["icy","icy",4329]
["Kit","kit",4330]
["theoretical","theoretical",4331]
["surge","surge",4332]
["indoors","indoors",4333]
["chronic","chronic",4334]
["Sack","sack",4335]
["favorable","favorable",4336]
["mammal","mammal",4337]
["quietness","quietness",4338]
["Brake","brake",4339]
["shuttle","shuttle",4340]
["Cafe","cafe",4341]
["neighboring","neighboring",4342]
["regretfully","regretfully",4343]
["wrist","wrist",4344]
["grader","grader",4345]
["restrict","restrict",4346]
["advertiser","advertiser",4347]
["improper","improper",4348]
["crawl","crawl",4349]
["diner","diner",4350]
["adoption","adoption",4351]
["biography","biography",4352]
["constitutional","constitutional",4353]
["entitle","entitle",4354]
["skeptical","skeptical",4355]
["brochure","brochure",4356]
["Acre","acre",4357]
["needy","needy",4358]
["plead","plead",4359]
["shiny","shiny",4360]
["Weed","weed",4361]
["noticeable","noticeable",4362]
["standardize","standardize",4363]
["fucking","fucking",4364]
["Stride","stride",4365]
["optimism","optimism",4366]
["corps","corps",4367]
["orbit","orbit",4368]
["bloody","bloody",4369]
["bucket","bucket",4370]
["tremble","tremble",4371]
["Bark","bark",4372]
["excitedly","excitedly",4373]
["magical","magical",4374]
["unbelievably","unbelievably",4375]
["database","database",4376]
["skiing","skiing",4377]
["restless","restless",4378]
["understandably","understandably",4379]
["devil","devil",4380]
["affection","affection",4381]
["Hidden","hidden",4382]
["unprepare","unprepare",4383]
["spine","spine",4384]
["Sen","sen",4385]
["woodland","woodland",4386]
["Shove","shove",4387]
["administer","administer",4388]
["destructive","destructive",4389]
["forum","forum",4390]
["wildly","wildly",4391]
["revise","revise",4392]
["neatly","neatly",4393]
["unsure","unsure",4394]
["Casino","casino",4395]
["testimony","testimony",4396]
["vice","vice",4397]
["bacteria","bacteria",4398]
["broadly","broadly",4399]
["Dam","dam",4400]
["accustom","accustom",4401]
["screw","screw",4402]
["occasional","occasional",4403]
["advancement","advancement",4404]
["excitement","excitement",4405]
["inspection","inspection",4406]
["knowledgeable","knowledgeable",4407]
["disbelief","disbelief",4408]
["dynasty","dynasty",4409]
["pavement","pavement",4410]
["telecommunication","telecommunication",4411]
["nick","nick",4412]
["obstacle","obstacle",4413]
["pave","pave",4414]
["suburb","suburb",4415]
["completion","completion",4416]
["accusation","accusation",4417]
["Cherry","cherry",4418]
["trait","trait",4419]
["Iraq","iraq",4420]
["cafeteria","cafeteria",4421]
["academically","academically",4422]
["fluid","fluid",4423]
["entertaining","entertaining",4424]
["unacceptable","unacceptable",4425]
["Quest","quest",4426]
["pub","pub",4427]
["bodily","bodily",4428]
["Lily","lily",4429]
["doctrine","doctrine",4430]
["footstep","footstep",4431]
["tablet","tablet",4432]
["overnight","overnight",4433]
["Breeze","breeze",4434]
["mining","mining",4435]
["contend","contend",4436]
["feast","feast",4437]
["Homer","homer",4438]
["Bonus","bonus",4439]
["flaw","flaw",4440]
["Charter","charter",4441]
["abundant","abundant",4442]
["ownership","ownership",4443]
["environmentalist","environmentalist",4444]
["canvas","canvas",4445]
["inspect","inspect",4446]
["renew","renew",4447]
["bitterly","bitterly",4448]
["upcoming","upcoming",4449]
["breakthrough","breakthrough",4450]
["overtime","overtime",4451]
["elaborate","elaborate",4452]
["privilege","privilege",4453]
["daylight","daylight",4454]
["Grief","grief",4455]
["hillside","hillside",4456]
["circus","circus",4457]
["brightly","brightly",4458]
["compass","compass",4459]
["consistently","consistently",4460]
["wed","wed",4461]
["enforce","enforce",4462]
["continuously","continuously",4463]
["porridge","porridge",4464]
["pension","pension",4465]
["relay","relay",4466]
["accustomed","accustomed",4467]
["mud","mud",4468]
["adolescence","adolescence",4469]
["virtual","virtual",4470]
["evenly","evenly",4471]
["engagement","engagement",4472]
["Glory","glory",4473]
["mediterranean","mediterranean",4474]
["lunchtime","lunchtime",4475]
["tender","tender",4476]
["vitamin","vitamin",4477]
["seemingly","seemingly",4478]
["arouse","arouse",4479]
["mandate","mandate",4480]
["Chile","chile",4481]
["belly","belly",4482]
["Victor","victor",4483]
["desirable","desirable",4484]
["Butt","butt",4485]
["unavoidable","unavoidable",4486]
["republican","republican",4487]
["positively","positively",4488]
["vase","vase",4489]
["baggage","baggage",4490]
["basement","basement",4491]
["lesser","lesser",4492]
["Dock","dock",4493]
["disastrous","disastrous",4494]
["Sprinkle","sprinkle",4495]
["vivid","vivid",4496]
["Cardinal","cardinal",4497]
["breathtaking","breathtaking",4498]
["assemble","assemble",4499]
["specially","specially",4500]
["astronomer","astronomer",4501]
["purely","purely",4502]
["Dutch","dutch",4503]
["luxury","luxury",4504]
["Dessert","dessert",4505]
["turbine","turbine",4506]
["polar","polar",4507]
["unexpected","unexpected",4508]
["Parish","parish",4509]
["certainty","certainty",4510]
["workforce","workforce",4511]
["feedback","feedback",4512]
["individually","individually",4513]
["fiercely","fiercely",4514]
["supervisor","supervisor",4515]
["traveler","traveler",4516]
["puppy","puppy",4517]
["prediction","prediction",4518]
["manual","manual",4519]
["aging","aging",4520]
["temporarily","temporarily",4521]
["simultaneously","simultaneously",4522]
["Fleet","fleet",4523]
["blindness","blindness",4524]
["indicator","indicator",4525]
["separately","separately",4526]
["masterpiece","masterpiece",4527]
["Runner","runner",4528]
["nightmare","nightmare",4529]
["Metro","metro",4530]
["stubborn","stubborn",4531]
["motive","motive",4532]
["Merchant","merchant",4533]
["packet","packet",4534]
["Canal","canal",4535]
["usage","usage",4536]
["iraqi","iraqi",4537]
["trainer","trainer",4538]
["empathy","empathy",4539]
["olympics","olympics",4540]
["unwanted","unwanted",4541]
["meaningless","meaningless",4542]
["Denmark","denmark",4543]
["renewable","renewable",4544]
["unattractive","unattractive",4545]
["Bless","bless",4546]
["meaningful","meaningful",4547]
["downward","downward",4548]
["announcement","announcement",4549]
["overwhelming","overwhelming",4550]
["marathon","marathon",4551]
["mailbox","mailbox",4552]
["corruption","corruption",4553]
["fearful","fearful",4554]
["honorable","honorable",4555]
["railroad","railroad",4556]
["newborn","newborn",4557]
["fireworks","fireworks",4558]
["undermine","undermine",4559]
["imaginary","imaginary",4560]
["inevitable","inevitable",4561]
["keeper","keeper",4562]
["commonly","commonly",4563]
["recreational","recreational",4564]
["uncertainty","uncertainty",4565]
["decisive","decisive",4566]
["Sheer","sheer",4567]
["patiently","patiently",4568]
["farmland","farmland",4569]
["complexity","complexity",4570]
["Mold","mold",4571]
["claw","claw",4572]
["Cape","cape",4573]
["handy","handy",4574]
["tractor","tractor",4575]
["cruelty","cruelty",4576]
["iranian","iranian",4577]
["fossil","fossil",4578]
["easter","easter",4579]
["overtake","overtake",4580]
["Boast","boast",4581]
["beggar","beggar",4582]
["mechanical","mechanical",4583]
["wit","wit",4584]
["spy","spy",4585]
["dusty","dusty",4586]
["Robin","robin",4587]
["swift","swift",4588]
["Toll","toll",4589]
["goodwill","goodwill",4590]
["extract","extract",4591]
["incomplete","incomplete",4592]
["structural","structural",4593]
["worsen","worsen",4594]
["Alley","alley",4595]
["untouched","untouched",4596]
["autobiography","autobiography",4597]
["teller","teller",4598]
["dip","dip",4599]
["correctly","correctly",4600]
["Mason","mason",4601]
["terrify","terrify",4602]
["sensible","sensible",4603]
["currency","currency",4604]
["Rolling","rolling",4605]
["indirectly","indirectly",4606]
["transmission","transmission",4607]
["violently","violently",4608]
["souvenir","souvenir",4609]
["caution","caution",4610]
["courtyard","courtyard",4611]
["doorway","doorway",4612]
["curiosity","curiosity",4613]
["mid","mid",4614]
["rot","rot",4615]
["interviewer","interviewer",4616]
["supplement","supplement",4617]
["ripe","ripe",4618]
["happening","happening",4619]
["Holding","holding",4620]
["wilderness","wilderness",4621]
["pigeon","pigeon",4622]
["scientifically","scientifically",4623]
["dormitory","dormitory",4624]
["Hop","hop",4625]
["mortgage","mortgage",4626]
["particle","particle",4627]
["microwave","microwave",4628]
["Solo","solo",4629]
["hesitation","hesitation",4630]
["Strand","strand",4631]
["trash","trash",4632]
["infect","infect",4633]
["kangaroo","kangaroo",4634]
["nonprofit","nonprofit",4635]
["impractical","impractical",4636]
["fist","fist",4637]
["interestingly","interestingly",4638]
["enjoyment","enjoyment",4639]
["continuing","continuing",4640]
["pyramid","pyramid",4641]
["consult","consult",4642]
["settler","settler",4643]
["sob","sob",4644]
["Shark","shark",4645]
["accountant","accountant",4646]
["allowance","allowance",4647]
["outgoing","outgoing",4648]
["robber","robber",4649]
["rhetoric","rhetoric",4650]
["starter","starter",4651]
["tomb","tomb",4652]
["fingertip","fingertip",4653]
["wonderfully","wonderfully",4654]
["mature","mature",4655]
["freely","freely",4656]
["tutor","tutor",4657]
["probe","probe",4658]
["Hockey","hockey",4659]
["walking","walking",4660]
["revision","revision",4661]
["conditioner","conditioner",4662]
["spokeswoman","spokeswoman",4663]
["replacement","replacement",4664]
["Rim","rim",4665]
["comb","comb",4666]
["Ram","ram",4667]
["chant","chant",4668]
["Ranger","ranger",4669]
["dissatisfaction","dissatisfaction",4670]
["simplify","simplify",4671]
["pleasing","pleasing",4672]
["Cord","cord",4673]
["guilt","guilt",4674]
["blouse","blouse",4675]
["technological","technological",4676]
["diver","diver",4677]
["discount","discount",4678]
["orderly","orderly",4679]
["internationally","internationally",4680]
["slim","slim",4681]
["Coup","coup",4682]
["generosity","generosity",4683]
["barbecue","barbecue",4684]
["merry","merry",4685]
["Baptist","baptist",4686]
["shorten","shorten",4687]
["nafta","nafta",4688]
["separation","separation",4689]
["weep","weep",4690]
["amazingly","amazingly",4691]
["cooperative","cooperative",4692]
["Dash","dash",4693]
["compute","compute",4694]
["sincere","sincere",4695]
["modem","modem",4696]
["scatter","scatter",4697]
["Soviet","soviet",4698]
["Tray","tray",4699]
["sidewalk","sidewalk",4700]
["carpet","carpet",4701]
["Fisher","fisher",4702]
["nursery","nursery",4703]
["applaud","applaud",4704]
["receipt","receipt",4705]
["poisonous","poisonous",4706]
["cattle","cattle",4707]
["Means","means",4708]
["flashlight","flashlight",4709]
["readiness","readiness",4710]
["enlarge","enlarge",4711]
["preview","preview",4712]
["Banker","banker",4713]
["distrust","distrust",4714]
["sociologist","sociologist",4715]
["Feather","feather",4716]
["quotation","quotation",4717]
["antique","antique",4718]
["ambiguous","ambiguous",4719]
["Beard","beard",4720]
["roadside","roadside",4721]
["endure","endure",4722]
["sew","sew",4723]
["unreasonable","unreasonable",4724]
["written","written",4725]
["harmony","harmony",4726]
["Virgin","virgin",4727]
["bachelor","bachelor",4728]
["southeast","southeast",4729]
["awesome","awesome",4730]
["timely","timely",4731]
["southwestern","southwestern",4732]
["coldness","coldness",4733]
["healing","healing",4734]
["disk","disk",4735]
["mustard","mustard",4736]
["waterfall","waterfall",4737]
["bookshelf","bookshelf",4738]
["sip","sip",4739]
["reporting","reporting",4740]
["bitterness","bitterness",4741]
["execute","execute",4742]
["quilt","quilt",4743]
["traditionally","traditionally",4744]
["Herd","herd",4745]
["multiply","multiply",4746]
["revolutionary","revolutionary",4747]
["postpone","postpone",4748]
["pedestrian","pedestrian",4749]
["enclose","enclose",4750]
["signature","signature",4751]
["comprehension","comprehension",4752]
["painfully","painfully",4753]
["Stall","stall",4754]
["residence","residence",4755]
["glimpse","glimpse",4756]
["portfolio","portfolio",4757]
["Mutter","mutter",4758]
["rigid","rigid",4759]
["Blond","blond",4760]
["closed","closed",4761]
["eater","eater",4762]
["await","await",4763]
["neglect","neglect",4764]
["squirrel","squirrel",4765]
["perfume","perfume",4766]
["seeker","seeker",4767]
["Steer","steer",4768]
["streak","streak",4769]
["input","input",4770]
["passer","passer",4771]
["frown","frown",4772]
["sub","sub",4773]
["ankle","ankle",4774]
["freeway","freeway",4775]
["doorstep","doorstep",4776]
["counterpart","counterpart",4777]
["excess","excess",4778]
["transparent","transparent",4779]
["Bride","bride",4780]
["dusk","dusk",4781]
["premium","premium",4782]
["exclusive","exclusive",4783]
["fresher","fresher",4784]
["coincidence","coincidence",4785]
["Collar","collar",4786]
["overhead","overhead",4787]
["imprison","imprison",4788]
["zip","zip",4789]
["outward","outward",4790]
["stimulus","stimulus",4791]
["boxing","boxing",4792]
["faraway","faraway",4793]
["stumble","stumble",4794]
["drugstore","drugstore",4795]
["hurriedly","hurriedly",4796]
["ambassador","ambassador",4797]
["Buddhism","buddhism",4798]
["vest","vest",4799]
["halloween","halloween",4800]
["cushion","cushion",4801]
["diabetes","diabetes",4802]
["residential","residential",4803]
["allocate","allocate",4804]
["sideways","sideways",4805]
["millionaire","millionaire",4806]
["compensation","compensation",4807]
["proverb","proverb",4808]
["Hunger","hunger",4809]
["huh","huh",4810]
["accommodate","accommodate",4811]
["reunite","reunite",4812]
["hotdog","hotdog",4813]
["profound","profound",4814]
["zoom","zoom",4815]
["amid","amid",4816]
["premier","premier",4817]
["straightforward","straightforward",4818]
["jeep","jeep",4819]
["buffet","buffet",4820]
["intimate","intimate",4821]
["thereby","thereby",4822]
["proudly","proudly",4823]
["Delta","delta",4824]
["amazement","amazement",4825]
["Chew","chew",4826]
["elevator","elevator",4827]
["triangle","triangle",4828]
["ample","ample",4829]
["Crisp","crisp",4830]
["strangely","strangely",4831]
["lowland","lowland",4832]
["enthusiasm","enthusiasm",4833]
["carbohydrate","carbohydrate",4834]
["underwear","underwear",4835]
["spouse","spouse",4836]
["cassette","cassette",4837]
["horseback","horseback",4838]
["Deem","deem",4839]
["pastime","pastime",4840]
["insert","insert",4841]
["niece","niece",4842]
["midday","midday",4843]
["befriend","befriend",4844]
["historically","historically",4845]
["altitude","altitude",4846]
["promotion","promotion",4847]
["vacant","vacant",4848]
["unsuitable","unsuitable",4849]
["equation","equation",4850]
["Ginger","ginger",4851]
["consent","consent",4852]
["Stain","stain",4853]
["workman","workman",4854]
["provided","provided",4855]
["cocoa","cocoa",4856]
["diagnose","diagnose",4857]
["chaos","chaos",4858]
["thrill","thrill",4859]
["allergic","allergic",4860]
["buildup","buildup",4861]
["persuasion","persuasion",4862]
["needless","needless",4863]
["cautious","cautious",4864]
["timing","timing",4865]
["metaphor","metaphor",4866]
["sharpen","sharpen",4867]
["towering","towering",4868]
["dine","dine",4869]
["invisible","invisible",4870]
["clothe","clothe",4871]
["promotional","promotional",4872]
["inexpensive","inexpensive",4873]
["Carol","carol",4874]
["campsite","campsite",4875]
["collision","collision",4876]
["confidential","confidential",4877]
["transaction","transaction",4878]
["Cease","cease",4879]
["popcorn","popcorn",4880]
["vacancy","vacancy",4881]
["sketch","sketch",4882]
["prop","prop",4883]
["alcoholic","alcoholic",4884]
["unfamiliar","unfamiliar",4885]
["blackberry","blackberry",4886]
["electrical","electrical",4887]
["vividly","vividly",4888]
["regulatory","regulatory",4889]
["contradict","contradict",4890]
["numb","numb",4891]
["Cue","cue",4892]
["communism","communism",4893]
["diploma","diploma",4894]
["intelligent","intelligent",4895]
["maid","maid",4896]
["Arch","arch",4897]
["circulate","circulate",4898]
["absurd","absurd",4899]
["touchdown","touchdown",4900]
["spectrum","spectrum",4901]
["walnut","walnut",4902]
["apron","apron",4903]
["genuine","genuine",4904]
["delicate","delicate",4905]
["garment","garment",4906]
["cuisine","cuisine",4907]
["insure","insure",4908]
["Dragon","dragon",4909]
["timeless","timeless",4910]
["receptionist","receptionist",4911]
["fluently","fluently",4912]
["suspicion","suspicion",4913]
["expertise","expertise",4914]
["Gallon","gallon",4915]
["howl","howl",4916]
["cubic","cubic",4917]
["therapist","therapist",4918]
["unnatural","unnatural",4919]
["convinced","convinced",4920]
["broom","broom",4921]
["unfavorable","unfavorable",4922]
["warrant","warrant",4923]
["acquaintance","acquaintance",4924]
["relieve","relieve",4925]
["adore","adore",4926]
["armchair","armchair",4927]
["Oceania","oceania",4928]
["mathematics","mathematics",4929]
["swap","swap",4930]
["rag","rag",4931]
["nominee","nominee",4932]
["informative","informative",4933]
["aboard","aboard",4934]
["wrestle","wrestle",4935]
["bureaucratic","bureaucratic",4936]
["barber","barber",4937]
["abolish","abolish",4938]
["lure","lure",4939]
["loaf","loaf",4940]
["friction","friction",4941]
["radioactive","radioactive",4942]
["comic","comic",4943]
["catastrophe","catastrophe",4944]
["directory","directory",4945]
["campfire","campfire",4946]
["exploration","exploration",4947]
["messy","messy",4948]
["quake","quake",4949]
["dynamics","dynamics",4950]
["trolleybus","trolleybus",4951]
["donor","donor",4952]
["dedicate","dedicate",4953]
["salute","salute",4954]
["pest","pest",4955]
["spelling","spelling",4956]
["suspend","suspend",4957]
["salty","salty",4958]
["Curb","curb",4959]
["typewriter","typewriter",4960]
["entity","entity",4961]
["acquisition","acquisition",4962]
["mourn","mourn",4963]
["irrigation","irrigation",4964]
["thoughtful","thoughtful",4965]
["cater","cater",4966]
["bowling","bowling",4967]
["photography","photography",4968]
["superb","superb",4969]
["socket","socket",4970]
["progressive","progressive",4971]
["Cottage","cottage",4972]
["pint","pint",4973]
["enroll","enroll",4974]
["dynamic","dynamic",4975]
["destination","destination",4976]
["mp","mp",4977]
["vanish","vanish",4978]
["fragrant","fragrant",4979]
["alphabet","alphabet",4980]
["Haven","haven",4981]
["curse","curse",4982]
["Patron","patron",4983]
["tolerant","tolerant",4984]
["flying","flying",4985]
["autonomous","autonomous",4986]
["romance","romance",4987]
["parental","parental",4988]
["capsule","capsule",4989]
["eagerly","eagerly",4990]
["diplomatic","diplomatic",4991]
["Hazard","hazard",4992]
["parcel","parcel",4993]
["Butler","butler",4994]
["contradictory","contradictory",4995]
["uneasy","uneasy",4996]
["razor","razor",4997]
["arbitrary","arbitrary",4998]
["realm","realm",4999]
["dizzy","dizzy",5000]
["alongside","alongside",5001]
["endorse","endorse",5002]
["Grove","grove",5003]
["smoothly","smoothly",5004]
["inventive","inventive",5005]
["wrinkle","wrinkle",5006]
["rhyme","rhyme",5007]
["Landmark","landmark",5008]
["banking","banking",5009]
["clumsy","clumsy",5010]
["achievable","achievable",5011]
["fingernail","fingernail",5012]
["underside","underside",5013]
["output","output",5014]
["expo","expo",5015]
["firmly","firmly",5016]
["inventory","inventory",5017]
["cyclist","cyclist",5018]
["Straw","straw",5019]
["precise","precise",5020]
["Dice","dice",5021]
["geometry","geometry",5022]
["Oxford","oxford",5023]
["merit","merit",5024]
["shared","shared",5025]
["abrupt","abrupt",5026]
["Arrow","arrow",5027]
["calmness","calmness",5028]
["accounting","accounting",5029]
["Stern","stern",5030]
["gymnastics","gymnastics",5031]
["cashier","cashier",5032]
["sleeping","sleeping",5033]
["tentative","tentative",5034]
["referee","referee",5035]
["Wedge","wedge",5036]
["judicial","judicial",5037]
["accuracy","accuracy",5038]
["chemist","chemist",5039]
["lame","lame",5040]
["Blessing","blessing",5041]
["collaboration","collaboration",5042]
["exhaust","exhaust",5043]
["disgusting","disgusting",5044]
["anecdote","anecdote",5045]
["starting","starting",5046]
["fascinate","fascinate",5047]
["subscribe","subscribe",5048]
["equity","equity",5049]
["Worm","worm",5050]
["bandage","bandage",5051]
["stainless","stainless",5052]
["unborn","unborn",5053]
["ox","ox",5054]
["Locker","locker",5055]
["strait","strait",5056]
["arithmetic","arithmetic",5057]
["determination","determination",5058]
["bathe","bathe",5059]
["hopefully","hopefully",5060]
["Copper","copper",5061]
["microscope","microscope",5062]
["scissors","scissors",5063]
["digest","digest",5064]
["stormy","stormy",5065]
["minimize","minimize",5066]
["thriller","thriller",5067]
["unrest","unrest",5068]
["mistaken","mistaken",5069]
["crossroads","crossroads",5070]
["Alpha","alpha",5071]
["clutch","clutch",5072]
["download","download",5073]
["appendix","appendix",5074]
["rooster","rooster",5075]
["outfit","outfit",5076]
["identical","identical",5077]
["drawback","drawback",5078]
["abnormal","abnormal",5079]
["Tyre","tyre",5080]
["recipient","recipient",5081]
["caption","caption",5082]
["debut","debut",5083]
["skip","skip",5084]
["millimetre","millimetre",5085]
["magnitude","magnitude",5086]
["sow","sow",5087]
["silently","silently",5088]
["yawn","yawn",5089]
["teenage","teenage",5090]
["friendliness","friendliness",5091]
["verbal","verbal",5092]
["outspoken","outspoken",5093]
["Bacon","bacon",5094]
["shaping","shaping",5095]
["reliability","reliability",5096]
["tribal","tribal",5097]
["mop","mop",5098]
["full-time","full-time",5099]
["jaw","jaw",5100]
["statesman","statesman",5101]
["Sergeant","sergeant",5102]
["racism","racism",5103]
["eating","eating",5104]
["inconvenient","inconvenient",5105]
["affiliation","affiliation",5106]
["processing","processing",5107]
["yourselves","yourselves",5108]
["motto","motto",5109]
["Franc","franc",5110]
["promising","promising",5111]
["jobless","jobless",5112]
["Hollow","hollow",5113]
["paddle","paddle",5114]
["kindly","kindly",5115]
["botanical","botanical",5116]
["Negro","negro",5117]
["worn","worn",5118]
["associated","associated",5119]
["kettle","kettle",5120]
["conscious","conscious",5121]
["Forge","forge",5122]
["snowfall","snowfall",5123]
["plug","plug",5124]
["Spike","spike",5125]
["zipper","zipper",5126]
["undertake","undertake",5127]
["exploit","exploit",5128]
["passive","passive",5129]
["stout","stout",5130]
["mistakenly","mistakenly",5131]
["idiom","idiom",5132]
["Loyal","loyal",5133]
["misunderstanding","misunderstanding",5134]
["pursuit","pursuit",5135]
["qualification","qualification",5136]
["necessity","necessity",5137]
["tumor","tumor",5138]
["civic","civic",5139]
["melon","melon",5140]
["inmate","inmate",5141]
["patent","patent",5142]
["Perch","perch",5143]
["burglar","burglar",5144]
["departure","departure",5145]
["rectangle","rectangle",5146]
["retrain","retrain",5147]
["starvation","starvation",5148]
["Trout","trout",5149]
["elegant","elegant",5150]
["isolate","isolate",5151]
["personalize","personalize",5152]
["Cargo","cargo",5153]
["instructional","instructional",5154]
["Seller","seller",5155]
["scary","scary",5156]
["Marsh","marsh",5157]
["statue","statue",5158]
["reception","reception",5159]
["practically","practically",5160]
["Crane","crane",5161]
["antarctic","antarctic",5162]
["decent","decent",5163]
["Wan","wan",5164]
["overuse","overuse",5165]
["inspiration","inspiration",5166]
["coastal","coastal",5167]
["kilogram","kilogram",5168]
["productive","productive",5169]
["collector","collector",5170]
["descend","descend",5171]
["steward","steward",5172]
["ass","ass",5173]
["coordinate","coordinate",5174]
["wag","wag",5175]
["Crow","crow",5176]
["hardware","hardware",5177]
["voice-over","voice-over",5178]
["urgent","urgent",5179]
["summary","summary",5180]
["vaccine","vaccine",5181]
["saucer","saucer",5182]
["shameful","shameful",5183]
["bungalow","bungalow",5184]
["garbage","garbage",5185]
["compulsory","compulsory",5186]
["swell","swell",5187]
["Spice","spice",5188]
["prohibit","prohibit",5189]
["offering","offering",5190]
["oversee","oversee",5191]
["Hover","hover",5192]
["uninterrupted","uninterrupted",5193]
["sharply","sharply",5194]
["copyright","copyright",5195]
["talker","talker",5196]
["Flock","flock",5197]
["repairman","repairman",5198]
["practitioner","practitioner",5199]
["purposefully","purposefully",5200]
["tearful","tearful",5201]
["Monk","monk",5202]
["homeland","homeland",5203]
["annually","annually",5204]
["thereafter","thereafter",5205]
["surrender","surrender",5206]
["bedding","bedding",5207]
["barn","barn",5208]
["counselor","counselor",5209]
["ecosystem","ecosystem",5210]
["diminish","diminish",5211]
["Nazi","nazi",5212]
[null,"Nazi",5213]
["schoolwork","schoolwork",5214]
["reluctant","reluctant",5215]
["automatically","automatically",5216]
["unbearable","unbearable",5217]
["everlasting","everlasting",5218]
["ridiculous","ridiculous",5219]
["statute","statute",5220]
["shopper","shopper",5221]
["uncommon","uncommon",5222]
["implementation","implementation",5223]
["burning","burning",5224]
["scent","scent",5225]
["shrink","shrink",5226]
["franchise","franchise",5227]
["unskilled","unskilled",5228]
["spite","spite",5229]
["scar","scar",5230]
["Mound","mound",5231]
["urgently","urgently",5232]
["alleged","alleged",5233]
["spade","spade",5234]
["shrimp","shrimp",5235]
["Brace","brace",5236]
["statistical","statistical",5237]
["confess","confess",5238]
["plunge","plunge",5239]
["willingly","willingly",5240]
["liability","liability",5241]
["o'clock","o'clock",5242]
["popularity","popularity",5243]
["relaxation","relaxation",5244]
["functional","functional",5245]
["Ace","ace",5246]
["skilled","skilled",5247]
["overeat","overeat",5248]
["shortage","shortage",5249]
["dough","dough",5250]
["gathering","gathering",5251]
["lately","lately",5252]
["jewel","jewel",5253]
["westward","westward",5254]
["donate","donate",5255]
["credibility","credibility",5256]
["sensing","sensing",5257]
["ideological","ideological",5258]
["Imperial","imperial",5259]
["Robe","robe",5260]
["terribly","terribly",5261]
["Pal","pal",5262]
["sexy","sexy",5263]
["tide","tide",5264]
["sentiment","sentiment",5265]
["hatch","hatch",5266]
["teammate","teammate",5267]
["loneliness","loneliness",5268]
["Bud","bud",5269]
["dignity","dignity",5270]
["tightly","tightly",5271]
["extended","extended",5272]
["improved","improved",5273]
["Soda","soda",5274]
["cooperate","cooperate",5275]
["Brass","brass",5276]
["raid","raid",5277]
["mountainous","mountainous",5278]
["fishery","fishery",5279]
["Lick","lick",5280]
["brewery","brewery",5281]
["tiring","tiring",5282]
["trailer","trailer",5283]
["bankruptcy","bankruptcy",5284]
["jewelry","jewelry",5285]
["Chapel","chapel",5286]
["symbolic","symbolic",5287]
["costume","costume",5288]
["Pea","pea",5289]
["opposed","opposed",5290]
["toxic","toxic",5291]
["artificial","artificial",5292]
["dilemma","dilemma",5293]
["Rising","rising",5294]
["sideway","sideway",5295]
["Dome","dome",5296]
["talkative","talkative",5297]
["underneath","underneath",5298]
["Plaza","plaza",5299]
["utilize","utilize",5300]
["workout","workout",5301]
["lesbian","lesbian",5302]
["sexually","sexually",5303]
["tortoise","tortoise",5304]
["automobile","automobile",5305]
["offseason","offseason",5306]
["knight","knight",5307]
["seaweed","seaweed",5308]
["gasoline","gasoline",5309]
["courtroom","courtroom",5310]
["auction","auction",5311]
["thigh","thigh",5312]
["monument","monument",5313]
["Prey","prey",5314]
["fell","fell",5315]
["stewardess","stewardess",5316]
["Loser","loser",5317]
["willpower","willpower",5318]
["Lace","lace",5319]
["discharge","discharge",5320]
["grocer","grocer",5321]
["Cane","cane",5322]
["con","con",5323]
["northeast","northeast",5324]
["Hull","hull",5325]
["worship","worship",5326]
["skateboard","skateboard",5327]
["voting","voting",5328]
["follow-up","follow-up",5329]
["violinist","violinist",5330]
["strap","strap",5331]
["cab","cab",5332]
["rugby","rugby",5333]
["ecological","ecological",5334]
["coordinator","coordinator",5335]
["ripen","ripen",5336]
["fluency","fluency",5337]
["secular","secular",5338]
["Shiver","shiver",5339]
["Lime","lime",5340]
["Pinch","pinch",5341]
["self-esteem","self-esteem",5342]
["motherland","motherland",5343]
["Earl","earl",5344]
["Persian","persian",5345]
["combined","combined",5346]
["aesthetic","aesthetic",5347]
["modify","modify",5348]
["semicircle","semicircle",5349]
["productivity","productivity",5350]
["Moslem","moslem",5351]
["schoolboy","schoolboy",5352]
["nutrition","nutrition",5353]
["spit","spit",5354]
["loyalty","loyalty",5355]
["officially","officially",5356]
["wagon","wagon",5357]
["ancestor","ancestor",5358]
["rebound","rebound",5359]
["documentary","documentary",5360]
["rainstorm","rainstorm",5361]
["Cutting","cutting",5362]
["withdrawal","withdrawal",5363]
["Blossom","blossom",5364]
["mysterious","mysterious",5365]
["tropical","tropical",5366]
["Utter","utter",5367]
["neutral","neutral",5368]
["Hedge","hedge",5369]
["revelation","revelation",5370]
["closing","closing",5371]
["casualty","casualty",5372]
["jerk","jerk",5373]
["prominent","prominent",5374]
["rap","rap",5375]
["gospel","gospel",5376]
["validity","validity",5377]
["aluminum","aluminum",5378]
["tram","tram",5379]
["optimistic","optimistic",5380]
["skull","skull",5381]
["perceived","perceived",5382]
["condemn","condemn",5383]
["thoroughly","thoroughly",5384]
["Turtle","turtle",5385]
["creativity","creativity",5386]
["triumph","triumph",5387]
["conceive","conceive",5388]
["kilo","kilo",5389]
["physicist","physicist",5390]
["Mac","mac",5391]
["immune","immune",5392]
["Clause","clause",5393]
["punctual","punctual",5394]
["pasta","pasta",5395]
["Meadow","meadow",5396]
["willingness","willingness",5397]
["Hank","hank",5398]
["organizational","organizational",5399]
["verdict","verdict",5400]
["glare","glare",5401]
["waist","waist",5402]
["Oyster","oyster",5403]
["incredibly","incredibly",5404]
["vow","vow",5405]
["motherly","motherly",5406]
["Tease","tease",5407]
["developmental","developmental",5408]
["secretly","secretly",5409]
["underlying","underlying",5410]
["Odor","odor",5411]
["Mercy","mercy",5412]
["terrific","terrific",5413]
["leisure","leisure",5414]
["Kidney","kidney",5415]
["punctuation","punctuation",5416]
["articulate","articulate",5417]
["lawmaker","lawmaker",5418]
["exotic","exotic",5419]
["sorrow","sorrow",5420]
["consequently","consequently",5421]
["obscure","obscure",5422]
["probable","probable",5423]
["Porter","porter",5424]
["fascinating","fascinating",5425]
["Dole","dole",5426]
["mixed","mixed",5427]
["translation","translation",5428]
["columnist","columnist",5429]
["shouting","shouting",5430]
["flexible","flexible",5431]
["spectacular","spectacular",5432]
["eyebrow","eyebrow",5433]
["lease","lease",5434]
["slot","slot",5435]
["Hail","hail",5436]
["helmet","helmet",5437]
["rookie","rookie",5438]
["trauma","trauma",5439]
["donation","donation",5440]
["syndrome","syndrome",5441]
["roundabout","roundabout",5442]
["demographic","demographic",5443]
["eggplant","eggplant",5444]
["subsidy","subsidy",5445]
["hostile","hostile",5446]
["brunch","brunch",5447]
["dried","dried",5448]
["seagull","seagull",5449]
["graph","graph",5450]
["proposition","proposition",5451]
["workplace","workplace",5452]
["conductor","conductor",5453]
["actively","actively",5454]
["chopped","chopped",5455]
["Olive","olive",5456]
["cigar","cigar",5457]
["thermos","thermos",5458]
["triple","triple",5459]
["comprise","comprise",5460]
["applicant","applicant",5461]
["conspiracy","conspiracy",5462]
["organism","organism",5463]
["sibling","sibling",5464]
["placement","placement",5465]
["courtesy","courtesy",5466]
["amateur","amateur",5467]
["execution","execution",5468]
["scramble","scramble",5469]
["hormone","hormone",5470]
["stressful","stressful",5471]
["concede","concede",5472]
["high-tech","high-tech",5473]
["Loving","loving",5474]
["influential","influential",5475]
["entrepreneur","entrepreneur",5476]
["audio","audio",5477]
["cognitive","cognitive",5478]
["Destiny","destiny",5479]
["minimal","minimal",5480]
["Thanksgiving","thanksgiving",5481]
["Re","re",5482]
["tilt","tilt",5483]
["washroom","washroom",5484]
["protocol","protocol",5485]
["isolation","isolation",5486]
["merciful","merciful",5487]
["Motel","motel",5488]
["beast","beast",5489]
["instinct","instinct",5490]
["Crust","crust",5491]
["expected","expected",5492]
["emerging","emerging",5493]
["sneak","sneak",5494]
["orchestra","orchestra",5495]
["manipulate","manipulate",5496]
["dustbin","dustbin",5497]
["well-being","well-being",5498]
["botany","botany",5499]
["recount","recount",5500]
["thrust","thrust",5501]
["Reel","reel",5502]
["short-term","short-term",5503]
["cocaine","cocaine",5504]
["Shaft","shaft",5505]
["flexibility","flexibility",5506]
["remedy","remedy",5507]
["boycott","boycott",5508]
["costly","costly",5509]
["Maple","maple",5510]
["prime-time","prime-time",5511]
["accomplishment","accomplishment",5512]
["tasteless","tasteless",5513]
["vertical","vertical",5514]
["dissolve","dissolve",5515]
["instruct","instruct",5516]
["furnished","furnished",5517]
["Shave","shave",5518]
["icon","icon",5519]
["experienced","experienced",5520]
["paperwork","paperwork",5521]
["backyard","backyard",5522]
["retailer","retailer",5523]
["Drape","drape",5524]
["wearable","wearable",5525]
["uh","uh",5526]
["salesgirl","salesgirl",5527]
["outlook","outlook",5528]
["sensitivity","sensitivity",5529]
["stove","stove",5530]
["density","density",5531]
["hybrid","hybrid",5532]
["Champagne","champagne",5533]
["accessible","accessible",5534]
["poke","poke",5535]
["sympathetic","sympathetic",5536]
["texture","texture",5537]
["metropolitan","metropolitan",5538]
["aggression","aggression",5539]
["creep","creep",5540]
["inn","inn",5541]
["princess","princess",5542]
["anonymous","anonymous",5543]
["mortality","mortality",5544]
["sympathy","sympathy",5545]
["Lone","lone",5546]
["offence","offence",5547]
["delegate","delegate",5548]
["Frost","frost",5549]
["tragic","tragic",5550]
["uncertain","uncertain",5551]
["momentum","momentum",5552]
["breathing","breathing",5553]
["attendance","attendance",5554]
["Miner","miner",5555]
["barbershop","barbershop",5556]
["innovative","innovative",5557]
["Tan","tan",5558]
["cheers","cheers",5559]
["rewind","rewind",5560]
["Doom","doom",5561]
["dictation","dictation",5562]
["constraint","constraint",5563]
["reportedly","reportedly",5564]
["appreciation","appreciation",5565]
["wheeled","wheeled",5566]
["fixed","fixed",5567]
["Banner","banner",5568]
["balcony","balcony",5569]
["seashell","seashell",5570]
["unconscious","unconscious",5571]
["premise","premise",5572]
["ambassadress","ambassadress",5573]
["protestant","protestant",5574]
["amuse","amuse",5575]
["chronicle","chronicle",5576]
["presumably","presumably",5577]
["Grim","grim",5578]
["preliminary","preliminary",5579]
["suitcase","suitcase",5580]
["bulk","bulk",5581]
["artifact","artifact",5582]
["theological","theological",5583]
["aisle","aisle",5584]
["declaration","declaration",5585]
["Ruby","ruby",5586]
["gasp","gasp",5587]
["persist","persist",5588]
["typhoon","typhoon",5589]
["dim","dim",5590]
["Basil","basil",5591]
["chunk","chunk",5592]
["census","census",5593]
["Flick","flick",5594]
["sparrow","sparrow",5595]
["rib","rib",5596]
["sensation","sensation",5597]
["terrain","terrain",5598]
["genre","genre",5599]
["postcode","postcode",5600]
["custody","custody",5601]
["installation","installation",5602]
["congressman","congressman",5603]
["required","required",5604]
["Cant","cant",5605]
["illusion","illusion",5606]
["shaver","shaver",5607]
["weave","weave",5608]
["supplier","supplier",5609]
["known","known",5610]
["lieutenant","lieutenant",5611]
["processor","processor",5612]
["Buster","buster",5613]
["disclose","disclose",5614]
["deploy","deploy",5615]
["analyse","analyse",5616]
["frontier","frontier",5617]
["Salon","salon",5618]
["Uphold","uphold",5619]
["compliance","compliance",5620]
["sleeve","sleeve",5621]
["centimetre","centimetre",5622]
["encouraging","encouraging",5623]
["rational","rational",5624]
["accord","accord",5625]
["distract","distract",5626]
["conception","conception",5627]
["unprecedented","unprecedented",5628]
["partially","partially",5629]
["Mock","mock",5630]
["likewise","likewise",5631]
["likelihood","likelihood",5632]
["foresee","foresee",5633]
["harry","harry",5634]
["devotion","devotion",5635]
["Brow","brow",5636]
["upward","upward",5637]
["Prairie","prairie",5638]
["fortnight","fortnight",5639]
["exclusively","exclusively",5640]
["knot","knot",5641]
["milkman","milkman",5642]
["stimulate","stimulate",5643]
["sunset","sunset",5644]
["handkerchief","handkerchief",5645]
["interval","interval",5646]
["stag","stag",5647]
["spur","spur",5648]
["tolerate","tolerate",5649]
["correlate","correlate",5650]
["retrieve","retrieve",5651]
["Dart","dart",5652]
["stance","stance",5653]
["moustache","moustache",5654]
["catalog","catalog",5655]
["toast","toast",5656]
["distress","distress",5657]
["socially","socially",5658]
["Fling","fling",5659]
["sphere","sphere",5660]
["critique","critique",5661]
["Shepherd","shepherd",5662]
["variance","variance",5663]
["flush","flush",5664]
["deed","deed",5665]
["Teddy","teddy",5666]
["undergraduate","undergraduate",5667]
["mentally","mentally",5668]
["midst","midst",5669]
["irony","irony",5670]
["vacuum","vacuum",5671]
["teapot","teapot",5672]
["Burger","burger",5673]
["thunderstorm","thunderstorm",5674]
["journalism","journalism",5675]
["upgrade","upgrade",5676]
["fragment","fragment",5677]
["mutton","mutton",5678]
["compel","compel",5679]
["someday","someday",5680]
["baking","baking",5681]
["confrontation","confrontation",5682]
["Clove","clove",5683]
["oilfield","oilfield",5684]
["wheelchair","wheelchair",5685]
["smog","smog",5686]
["cemetery","cemetery",5687]
["facial","facial",5688]
["outsider","outsider",5689]
["nasty","nasty",5690]
["slavery","slavery",5691]
["well-known","well-known",5692]
["congregation","congregation",5693]
["Slate","slate",5694]
["mercury","mercury",5695]
["autonomy","autonomy",5696]
["excerpt","excerpt",5697]
["cling","cling",5698]
["partial","partial",5699]
["typist","typist",5700]
["Gen","gen",5701]
["terminal","terminal",5702]
["ladder","ladder",5703]
["striking","striking",5704]
["correction","correction",5705]
["legislator","legislator",5706]
["sometime","sometime",5707]
["speculation","speculation",5708]
["managing","managing",5709]
["nutrient","nutrient",5710]
["catalogue","catalogue",5711]
["aids","aids",5712]
["prep","prep",5713]
["supportive","supportive",5714]
["disappointment","disappointment",5715]
["similarity","similarity",5716]
["risky","risky",5717]
["Vine","vine",5718]
["atop","atop",5719]
["Laden","laden",5720]
["regulator","regulator",5721]
["proclaim","proclaim",5722]
["enquiry","enquiry",5723]
["fibre","fibre",5724]
["literacy","literacy",5725]
["outlet","outlet",5726]
["nineteenth","nineteenth",5727]
["conversion","conversion",5728]
["Darling","darling",5729]
["embassy","embassy",5730]
["jurisdiction","jurisdiction",5731]
["planner","planner",5732]
["Simmer","simmer",5733]
["transplant","transplant",5734]
["Upright","upright",5735]
["warming","warming",5736]
["lid","lid",5737]
["plague","plague",5738]
["gradual","gradual",5739]
["screening","screening",5740]
["interfere","interfere",5741]
["harassment","harassment",5742]
["soak","soak",5743]
["citizenship","citizenship",5744]
["accidentally","accidentally",5745]
["inherit","inherit",5746]
["airspace","airspace",5747]
["audit","audit",5748]
["scrape","scrape",5749]
["brighten","brighten",5750]
["Moss","moss",5751]
["calculation","calculation",5752]
["commodity","commodity",5753]
["marketplace","marketplace",5754]
["Heap","heap",5755]
["philosophical","philosophical",5756]
["excessive","excessive",5757]
["logical","logical",5758]
["bathtub","bathtub",5759]
["bent","bent",5760]
["added","added",5761]
["eligible","eligible",5762]
["unfold","unfold",5763]
["Spa","spa",5764]
["sustainable","sustainable",5765]
["learner","learner",5766]
["addict","addict",5767]
["canteen","canteen",5768]
["colonel","colonel",5769]
["vendor","vendor",5770]
["shareholder","shareholder",5771]
["bust","bust",5772]
["vocal","vocal",5773]
["regain","regain",5774]
["bridegroom","bridegroom",5775]
["envision","envision",5776]
["Caribbean","caribbean",5777]
["allegedly","allegedly",5778]
["fur","fur",5779]
["embarrassed","embarrassed",5780]
["Gravel","gravel",5781]
["fatigue","fatigue",5782]
["mind-set","mind-set",5783]
["affirmative","affirmative",5784]
["availability","availability",5785]
["casually","casually",5786]
["Bail","bail",5787]
["faster","faster",5788]
["fasten","fasten",5789]
["offender","offender",5790]
["smash","smash",5791]
["Newcomer","newcomer",5792]
["tense","tense",5793]
["listener","listener",5794]
["sensor","sensor",5795]
["Savage","savage",5796]
["sexuality","sexuality",5797]
["comparable","comparable",5798]
["rehabilitation","rehabilitation",5799]
["consecutive","consecutive",5800]
["poorly","poorly",5801]
["invade","invade",5802]
["closest","closest",5803]
["homosexual","homosexual",5804]
["queue","queue",5805]
["thrive","thrive",5806]
["removal","removal",5807]
["two-thirds","two-thirds",5808]
["enact","enact",5809]
["Puff","puff",5810]
["accountability","accountability",5811]
["legally","legally",5812]
["gardener","gardener",5813]
["tug","tug",5814]
["predator","predator",5815]
["threshold","threshold",5816]
["fog","fog",5817]
["widow","widow",5818]
["Elk","elk",5819]
["dying","dying",5820]
["juvenile","juvenile",5821]
["batter","batter",5822]
["integrated","integrated",5823]
["opt","opt",5824]
["marijuana","marijuana",5825]
["publicity","publicity",5826]
["rattle","rattle",5827]
["fantastic","fantastic",5828]
["scrap","scrap",5829]
["spiral","spiral",5830]
["missionary","missionary",5831]
["squad","squad",5832]
["Slick","slick",5833]
["Melody","melody",5834]
["socialism","socialism",5835]
["refuge","refuge",5836]
["rewrite","rewrite",5837]
["debris","debris",5838]
["Spear","spear",5839]
["suspicious","suspicious",5840]
["spoken","spoken",5841]
["dumb","dumb",5842]
["kneel","kneel",5843]
["sanction","sanction",5844]
["Preacher","preacher",5845]
["dictate","dictate",5846]
["depressed","depressed",5847]
["homeowner","homeowner",5848]
["riot","riot",5849]
["supposedly","supposedly",5850]
["respectable","respectable",5851]
["intact","intact",5852]
["Foil","foil",5853]
["diagram","diagram",5854]
["isolated","isolated",5855]
["solely","solely",5856]
["sovereignty","sovereignty",5857]
["choke","choke",5858]
["yummy","yummy",5859]
["voluntary","voluntary",5860]
["tourism","tourism",5861]
["Swiss","swiss",5862]
["woollen","woollen",5863]
["programming","programming",5864]
["basin","basin",5865]
["molecule","molecule",5866]
["impairment","impairment",5867]
["splash","splash",5868]
["municipal","municipal",5869]
["biologist","biologist",5870]
["inevitably","inevitably",5871]
["Peek","peek",5872]
["headmistress","headmistress",5873]
["compact","compact",5874]
["tile","tile",5875]
["Gamble","gamble",5876]
["transit","transit",5877]
["murmur","murmur",5878]
["ha","ha",5879]
["comply","comply",5880]
["peasant","peasant",5881]
["Slaughter","slaughter",5882]
["spoonful","spoonful",5883]
["Ditch","ditch",5884]
["straighten","straighten",5885]
["balanced","balanced",5886]
["considerably","considerably",5887]
["unfit","unfit",5888]
["conscience","conscience",5889]
["vinegar","vinegar",5890]
["liver","liver",5891]
["magnetic","magnetic",5892]
["explicit","explicit",5893]
["bingo","bingo",5894]
["unconditional","unconditional",5895]
["distinctive","distinctive",5896]
["Marvel","marvel",5897]
["algebra","algebra",5898]
["fraction","fraction",5899]
["surveillance","surveillance",5900]
["breathless","breathless",5901]
["militant","militant",5902]
["artwork","artwork",5903]
["technician","technician",5904]
["minibus","minibus",5905]
["dancing","dancing",5906]
["videophone","videophone",5907]
["beloved","beloved",5908]
["consistency","consistency",5909]
["emotionally","emotionally",5910]
["impulse","impulse",5911]
["Blaze","blaze",5912]
["treasury","treasury",5913]
["cheque","cheque",5914]
["financially","financially",5915]
["specify","specify",5916]
["competence","competence",5917]
["regression","regression",5918]
["deliberately","deliberately",5919]
["unexpectedly","unexpectedly",5920]
["mansion","mansion",5921]
["classification","classification",5922]
["Ramp","ramp",5923]
["haunt","haunt",5924]
["formerly","formerly",5925]
["Mars","mars",5926]
["amazed","amazed",5927]
["imaginative","imaginative",5928]
["selected","selected",5929]
["tenure","tenure",5930]
["shin","shin",5931]
["Dub","dub",5932]
["plaintiff","plaintiff",5933]
["Hiss","hiss",5934]
["soar","soar",5935]
["projection","projection",5936]
["exile","exile",5937]
["cub","cub",5938]
["inherent","inherent",5939]
["Slack","slack",5940]
["legged","legged",5941]
["substantially","substantially",5942]
["contributor","contributor",5943]
["ego","ego",5944]
["palestinian","palestinian",5945]
["diplomat","diplomat",5946]
["disc","disc",5947]
["soften","soften",5948]
["Stump","stump",5949]
["radar","radar",5950]
["marble","marble",5951]
["pistol","pistol",5952]
["ribbon","ribbon",5953]
["gardening","gardening",5954]
["Cherokee","cherokee",5955]
["compost","compost",5956]
["brutal","brutal",5957]
["waiting","waiting",5958]
["old-fashioned","old-fashioned",5959]
["routinely","routinely",5960]
["Gum","gum",5961]
["veto","veto",5962]
["objection","objection",5963]
["bulb","bulb",5964]
["developed","developed",5965]
["comer","comer",5966]
["Armor","armor",5967]
["ceremoney","ceremoney",5968]
["comet","comet",5969]
["militia","militia",5970]
["suspension","suspension",5971]
["Boomer","boomer",5972]
["bomber","bomber",5973]
["millennium","millennium",5974]
["devastating","devastating",5975]
["publishing","publishing",5976]
["defender","defender",5977]
["probability","probability",5978]
["fragile","fragile",5979]
["empirical","empirical",5980]
["crude","crude",5981]
["denial","denial",5982]
["challenging","challenging",5983]
["Wink","wink",5984]
["loom","loom",5985]
["privately","privately",5986]
["importantly","importantly",5987]
["authorize","authorize",5988]
["economically","economically",5989]
["radium","radium",5990]
["prevail","prevail",5991]
["warehouse","warehouse",5992]
["one-third","one-third",5993]
["sharpener","sharpener",5994]
["glue","glue",5995]
["socialist","socialist",5996]
["Po","po",5997]
["stereotype","stereotype",5998]
["attendant","attendant",5999]
["epidemic","epidemic",6000]
["recreation","recreation",6001]
["racist","racist",6002]
["nominate","nominate",6003]
["Jesus","jesus",6004]
["timber","timber",6005]
["Cone","cone",6006]
["clash","clash",6007]
["middle-class","middle-class",6008]
["restoration","restoration",6009]
["Dame","dame",6010]
["grind","grind",6011]
["passerby","passerby",6012]
["preach","preach",6013]
["disturbing","disturbing",6014]
["manifest","manifest",6015]
["nationalist","nationalist",6016]
["confession","confession",6017]
["interactive","interactive",6018]
["advocacy","advocacy",6019]
["accommodation","accommodation",6020]
["bronze","bronze",6021]
["backup","backup",6022]
["Coral","coral",6023]
["Papa","papa",6024]
["dense","dense",6025]
["complication","complication",6026]
["translator","translator",6027]
["drip","drip",6028]
["Jupiter","jupiter",6029]
["evangelical","evangelical",6030]
["subsequently","subsequently",6031]
["despair","despair",6032]
["seminar","seminar",6033]
["monetary","monetary",6034]
["compelling","compelling",6035]
["escort","escort",6036]
["ethnicity","ethnicity",6037]
["Saudi","saudi",6038]
["depart","depart",6039]
["naval","naval",6040]
["steadily","steadily",6041]
["bacterium","bacterium",6042]
["electoral","electoral",6043]
["provoke","provoke",6044]
["ironically","ironically",6045]
["transmit","transmit",6046]
["Smack","smack",6047]
["biochemisity","biochemisity",6048]
["stroll","stroll",6049]
["Patty","patty",6050]
["troubled","troubled",6051]
["Breeding","breeding",6052]
["overwhelm","overwhelm",6053]
["greengrocer","greengrocer",6054]
["stalk","stalk",6055]
["blur","blur",6056]
["cocktail","cocktail",6057]
["Tee","tee",6058]
["rejection","rejection",6059]
["freshly","freshly",6060]
["crab","crab",6061]
["Vent","vent",6062]
["advisory","advisory",6063]
["contemplate","contemplate",6064]
["Christ","christ",6065]
["applause","applause",6066]
["maneuver","maneuver",6067]
["paradigm","paradigm",6068]
["implant","implant",6069]
["Moan","moan",6070]
["manuscript","manuscript",6071]
["pipeline","pipeline",6072]
["vein","vein",6073]
["authentic","authentic",6074]
["vanilla","vanilla",6075]
["capitalism","capitalism",6076]
["speculate","speculate",6077]
["bead","bead",6078]
["bundle","bundle",6079]
["federation","federation",6080]
["enrollment","enrollment",6081]
["intensive","intensive",6082]
["monitoring","monitoring",6083]
["migrant","migrant",6084]
["organized","organized",6085]
["Crouch","crouch",6086]
["tribute","tribute",6087]
["Lender","lender",6088]
["airmail","airmail",6089]
["explicitly","explicitly",6090]
["mm-hmm","mm-hmm",6091]
["sunburnt","sunburnt",6092]
["pirate","pirate",6093]
["plea","plea",6094]
["ranking","ranking",6095]
["vague","vague",6096]
["par","par",6097]
["ounce","ounce",6098]
["chuckle","chuckle",6099]
["frustrate","frustrate",6100]
["bureaucracy","bureaucracy",6101]
["liberation","liberation",6102]
["stunning","stunning",6103]
["Hose","hose",6104]
["sway","sway",6105]
["skillet","skillet",6106]
["Reunion","reunion",6107]
["legendary","legendary",6108]
["merger","merger",6109]
["inadequate","inadequate",6110]
["accelerate","accelerate",6111]
["archive","archive",6112]
["hydrogen","hydrogen",6113]
["Groom","groom",6114]
["embody","embody",6115]
["tumble","tumble",6116]
["warfare","warfare",6117]
["expenditure","expenditure",6118]
["scrutiny","scrutiny",6119]
["Aurora","aurora",6120]
["composer","composer",6121]
["medieval","medieval",6122]
["parameter","parameter",6123]
["devise","devise",6124]
["affordable","affordable",6125]
["evoke","evoke",6126]
["aluminium","aluminium",6127]
["commentary","commentary",6128]
["bizarre","bizarre",6129]
["concession","concession",6130]
["Den","den",6131]
["notable","notable",6132]
["Coffin","coffin",6133]
["fatal","fatal",6134]
["adaptation","adaptation",6135]
["antibiotic","antibiotic",6136]
["imagery","imagery",6137]
["grey","grey",6138]
["swirl","swirl",6139]
["morality","morality",6140]
["centigrade","centigrade",6141]
["Stray","stray",6142]
["disclosure","disclosure",6143]
["condom","condom",6144]
["suppress","suppress",6145]
["Sprout","sprout",6146]
["viable","viable",6147]
["hierarchy","hierarchy",6148]
["betray","betray",6149]
["rug","rug",6150]
["strive","strive",6151]
["scoop","scoop",6152]
["ensemble","ensemble",6153]
["making","making",6154]
["farming","farming",6155]
["jewellery","jewellery",6156]
["Griffin","griffin",6157]
["inappropriate","inappropriate",6158]
["compassion","compassion",6159]
["Victorian","victorian",6160]
["Iris","iris",6161]
["stab","stab",6162]
["systematic","systematic",6163]
["bitch","bitch",6164]
["prosecute","prosecute",6165]
["Turkish","turkish",6166]
["Ponder","ponder",6167]
["atom","atom",6168]
["lounge","lounge",6169]
["gown","gown",6170]
["Console","console",6171]
["compensate","compensate",6172]
["partisan","partisan",6173]
["Sage","sage",6174]
["spotlight","spotlight",6175]
["acute","acute",6176]
["endeavor","endeavor",6177]
["reverend","reverend",6178]
["Server","server",6179]
["foul","foul",6180]
["biblical","biblical",6181]
["prosperity","prosperity",6182]
["discard","discard",6183]
["Cuff","cuff",6184]
["lyrics","lyrics",6185]
["gambling","gambling",6186]
["reconstruction","reconstruction",6187]
["firefighter","firefighter",6188]
["consulting","consulting",6189]
["petition","petition",6190]
["surplus","surplus",6191]
["Cinnamon","cinnamon",6192]
["ballet","ballet",6193]
["trillion","trillion",6194]
["corrupt","corrupt",6195]
["mat","mat",6196]
["Tout","tout",6197]
["abruptly","abruptly",6198]
["Curry","curry",6199]
["humanitarian","humanitarian",6200]
["sting","sting",6201]
["intervene","intervene",6202]
["adjacent","adjacent",6203]
["Stripe","stripe",6204]
["flourish","flourish",6205]
["charming","charming",6206]
["bully","bully",6207]
["memo","memo",6208]
["conceptual","conceptual",6209]
["pesticide","pesticide",6210]
["homicide","homicide",6211]
["statistically","statistically",6212]
["colored","colored",6213]
["alternate","alternate",6214]
["outbreak","outbreak",6215]
["saddle","saddle",6216]
["slump","slump",6217]
["Lash","lash",6218]
["inclusion","inclusion",6219]
["Reef","reef",6220]
["hazardous","hazardous",6221]
["inaudible","inaudible",6222]
["witch","witch",6223]
["litigation","litigation",6224]
["energetic","energetic",6225]
["Flicker","flicker",6226]
["Rosemary","rosemary",6227]
["astronomy","astronomy",6228]
["part-time","part-time",6229]
["interpreter","interpreter",6230]
["Falcon","falcon",6231]
["symphony","symphony",6232]
["fracture","fracture",6233]
["correspond","correspond",6234]
["Donna","donna",6235]
["crosstalk","crosstalk",6236]
["cosy","cosy",6237]
["stun","stun",6238]
["evolutionary","evolutionary",6239]
["lobbyist","lobbyist",6240]
["mandatory","mandatory",6241]
["Pier","pier",6242]
["preservation","preservation",6243]
["Violet","violet",6244]
["cult","cult",6245]
["reside","reside",6246]
["spectator","spectator",6247]
["Prophet","prophet",6248]
["surf","surf",6249]
["rotation","rotation",6250]
["twenty-five","twenty-five",6251]
["diameter","diameter",6252]
["sceptical","sceptical",6253]
["induce","induce",6254]
["notably","notably",6255]
["tattoo","tattoo",6256]
["chorus","chorus",6257]
["pharmaceutical","pharmaceutical",6258]
["parenting","parenting",6259]
["semester","semester",6260]
["surgical","surgical",6261]
["conceal","conceal",6262]
["Dale","dale",6263]
["insider","insider",6264]
["nationally","nationally",6265]
["unclear","unclear",6266]
["interstate","interstate",6267]
["vintage","vintage",6268]
["Spawn","spawn",6269]
["attain","attain",6270]
["Roster","roster",6271]
["arc","arc",6272]
["commentator","commentator",6273]
["whisk","whisk",6274]
["Roller","roller",6275]
["passionate","passionate",6276]
["bleed","bleed",6277]
["Parsley","parsley",6278]
["gauge","gauge",6279]
["Roam","roam",6280]
["confirmation","confirmation",6281]
["duration","duration",6282]
["swamp","swamp",6283]
["designate","designate",6284]
["gorgeous","gorgeous",6285]
["posture","posture",6286]
["demon","demon",6287]
["massage","massage",6288]
["Ivory","ivory",6289]
["hostility","hostility",6290]
["skinny","skinny",6291]
["Overly","overly",6292]
["devoted","devoted",6293]
["endorsement","endorsement",6294]
["hum","hum",6295]
["compile","compile",6296]
["established","established",6297]
["offend","offend",6298]
["startle","startle",6299]
["remarkably","remarkably",6300]
["Bald","bald",6301]
["persistent","persistent",6302]
["enthusiastic","enthusiastic",6303]
["venue","venue",6304]
["Usher","usher",6305]
["co-host","co-host",6306]
["Chad","chad",6307]
["assertion","assertion",6308]
["Muse","muse",6309]
["methodology","methodology",6310]
["specialized","specialized",6311]
["Breach","breach",6312]
["Confucius","confucius",6313]
["consultation","consultation",6314]
["modification","modification",6315]
["predecessor","predecessor",6316]
["winning","winning",6317]
["broth","broth",6318]
["payroll","payroll",6319]
["problematic","problematic",6320]
["proceedings","proceedings",6321]
["Huddle","huddle",6322]
["originate","originate",6323]
["ending","ending",6324]
["defect","defect",6325]
["architectural","architectural",6326]
["Trench","trench",6327]
["remains","remains",6328]
["customs","customs",6329]
["choir","choir",6330]
["Hack","hack",6331]
["cube","cube",6332]
["flap","flap",6333]
["abundance","abundance",6334]
["letterbox","letterbox",6335]
["odour","odour",6336]
["nurture","nurture",6337]
["endangered","endangered",6338]
["shotgun","shotgun",6339]
["Crater","crater",6340]
["allege","allege",6341]
["resulting","resulting",6342]
["elected","elected",6343]
["prospective","prospective",6344]
["wreck","wreck",6345]
["mob","mob",6346]
["all-star","all-star",6347]
["geographic","geographic",6348]
["trophy","trophy",6349]
["humble","humble",6350]
["superintendent","superintendent",6351]
["revive","revive",6352]
["tub","tub",6353]
["yank","yank",6354]
["Diesel","diesel",6355]
["trek","trek",6356]
["enlist","enlist",6357]
["Hay","hay",6358]
["orthodox","orthodox",6359]
["linear","linear",6360]
["freak","freak",6361]
["moisture","moisture",6362]
["erupt","erupt",6363]
["disrupt","disrupt",6364]
["clarity","clarity",6365]
["predictor","predictor",6366]
["uh-huh","uh-huh",6367]
["Staple","staple",6368]
["bait","bait",6369]
["Tester","tester",6370]
["invoke","invoke",6371]
["grid","grid",6372]
["lump","lump",6373]
["illuminate","illuminate",6374]
["turning","turning",6375]
["baseline","baseline",6376]
["rehearsal","rehearsal",6377]
["slash","slash",6378]
["wounded","wounded",6379]
["nationalism","nationalism",6380]
["crying","crying",6381]
["revenge","revenge",6382]
["culturally","culturally",6383]
["Tow","tow",6384]
["affiliate","affiliate",6385]
["namely","namely",6386]
["handling","handling",6387]
["prescribe","prescribe",6388]
["tenant","tenant",6389]
["Verge","verge",6390]
["electron","electron",6391]
["hatred","hatred",6392]
["alumni","alumni",6393]
["believer","believer",6394]
["psychiatric","psychiatric",6395]
["coefficient","coefficient",6396]
["circulation","circulation",6397]
["optical","optical",6398]
["mosque","mosque",6399]
["rig","rig",6400]
["memoir","memoir",6401]
["Brazilian","brazilian",6402]
["confine","confine",6403]
["contradiction","contradiction",6404]
["renaissance","renaissance",6405]
["composite","composite",6406]
["Lance","lance",6407]
["observatory","observatory",6408]
["spatial","spatial",6409]
["Glen","glen",6410]
["revival","revival",6411]
["verse","verse",6412]
["Cedar","cedar",6413]
["median","median",6414]
["aspiration","aspiration",6415]
["Veil","veil",6416]
["explosive","explosive",6417]
["mobility","mobility",6418]
["corpse","corpse",6419]
["Shooter","shooter",6420]
["cement","cement",6421]
["calcium","calcium",6422]
["waiting-room","waiting-room",6423]
["assassination","assassination",6424]
["crunch","crunch",6425]
["murderer","murderer",6426]
["Terrace","terrace",6427]
["gramme","gramme",6428]
["skier","skier",6429]
["merge","merge",6430]
["omit","omit",6431]
["Grate","grate",6432]
["atomic","atomic",6433]
["mug","mug",6434]
["supervision","supervision",6435]
["supporting","supporting",6436]
["capitol","capitol",6437]
["restraint","restraint",6438]
["Stark","stark",6439]
["successor","successor",6440]
["deliberate","deliberate",6441]
["Canon","canon",6442]
["fireplace","fireplace",6443]
["incumbent","incumbent",6444]
["spider","spider",6445]
["interface","interface",6446]
["accessary","accessary",6447]
["sophomore","sophomore",6448]
["giggle","giggle",6449]
["listening","listening",6450]
["optional","optional",6451]
["accordingly","accordingly",6452]
["co-worker","co-worker",6453]
["descent","descent",6454]
["precision","precision",6455]
["Rein","rein",6456]
["oval","oval",6457]
["matrix","matrix",6458]
["Pilgrim","pilgrim",6459]
["simulation","simulation",6460]
["Herald","herald",6461]
["skilful","skilful",6462]
["disposal","disposal",6463]
["Ripple","ripple",6464]
["salvation","salvation",6465]
["reactor","reactor",6466]
["rotate","rotate",6467]
["penetrate","penetrate",6468]
["shatter","shatter",6469]
["innocence","innocence",6470]
["attachment","attachment",6471]
["groan","groan",6472]
["Plaster","plaster",6473]
["guerrilla","guerrilla",6474]
["decision-making","decision-making",6475]
["reassure","reassure",6476]
["Crank","crank",6477]
["furious","furious",6478]
["instrumental","instrumental",6479]
["insurgent","insurgent",6480]
["legitimacy","legitimacy",6481]
["mighty","mighty",6482]
["Vietnamese","vietnamese",6483]
["finely","finely",6484]
["Cannon","cannon",6485]
["patriot","patriot",6486]
["complement","complement",6487]
["injured","injured",6488]
["repeated","repeated",6489]
["bronco","bronco",6490]
["cleanup","cleanup",6491]
["wetland","wetland",6492]
["encompass","encompass",6493]
["fundamentally","fundamentally",6494]
["dual","dual",6495]
["subscale","subscale",6496]
["Chick","chick",6497]
["clan","clan",6498]
["holocaust","holocaust",6499]
["gossip","gossip",6500]
["Hurdle","hurdle",6501]
["reconciliation","reconciliation",6502]
["diplomacy","diplomacy",6503]
["dwarf","dwarf",6504]
["pedal","pedal",6505]
["reproduction","reproduction",6506]
["shiite","shiite",6507]
["snatch","snatch",6508]
["inject","inject",6509]
["textile","textile",6510]
["capitalist","capitalist",6511]
["saturated","saturated",6512]
["emergence","emergence",6513]
["continually","continually",6514]
["quantum","quantum",6515]
["Czech","czech",6516]
["dangle","dangle",6517]
["yoghurt","yoghurt",6518]
["Bolster","bolster",6519]
["additionally","additionally",6520]
["detector","detector",6521]
["injection","injection",6522]
["Batch","batch",6523]
["sore","sore",6524]
["archaeologist","archaeologist",6525]
["Raider","raider",6526]
["coaching","coaching",6527]
["formally","formally",6528]
["Dye","dye",6529]
["allied","allied",6530]
["cultivate","cultivate",6531]
["Petty","petty",6532]
["scrub","scrub",6533]
["affirm","affirm",6534]
["axis","axis",6535]
["Swarm","swarm",6536]
["dissatisfy","dissatisfy",6537]
["Blush","blush",6538]
["dependence","dependence",6539]
["re-election","re-election",6540]
["reasoning","reasoning",6541]
["intimacy","intimacy",6542]
["lineup","lineup",6543]
["protester","protester",6544]
["utterly","utterly",6545]
["precedent","precedent",6546]
["guardian","guardian",6547]
["Idle","idle",6548]
["financing","financing",6549]
["indictment","indictment",6550]
["ironic","ironic",6551]
["peculiar","peculiar",6552]
["constituent","constituent",6553]
["planned","planned",6554]
["Sturdy","sturdy",6555]
["heroin","heroin",6556]
["offset","offset",6557]
["magnificent","magnificent",6558]
["altar","altar",6559]
["incidence","incidence",6560]
["Fury","fury",6561]
["listing","listing",6562]
["Harness","harness",6563]
["nearest","nearest",6564]
["precede","precede",6565]
["realization","realization",6566]
["socioeconomic","socioeconomic",6567]
["visiting","visiting",6568]
["Rumble","rumble",6569]
["aftermath","aftermath",6570]
["manipulation","manipulation",6571]
["runway","runway",6572]
["eternal","eternal",6573]
["pakistani","pakistani",6574]
["calf","calf",6575]
["accountable","accountable",6576]
["Ivy","ivy",6577]
["verify","verify",6578]
["fabulous","fabulous",6579]
["summon","summon",6580]
["offshore","offshore",6581]
["miniature","miniature",6582]
["Mule","mule",6583]
["soy","soy",6584]
["static","static",6585]
["Bunker","bunker",6586]
["tempt","tempt",6587]
["microphone","microphone",6588]
["nitrogen","nitrogen",6589]
["faction","faction",6590]
["ozone","ozone",6591]
["cathedral","cathedral",6592]
["idiot","idiot",6593]
["obsession","obsession",6594]
["generator","generator",6595]
["subjective","subjective",6596]
["Awe","awe",6597]
["linger","linger",6598]
["footage","footage",6599]
["shocked","shocked",6600]
["Sober","sober",6601]
["assurance","assurance",6602]
["awaken","awaken",6603]
["Moist","moist",6604]
["nun","nun",6605]
["erect","erect",6606]
["underscore","underscore",6607]
["outrage","outrage",6608]
["liquor","liquor",6609]
["Pillar","pillar",6610]
["reign","reign",6611]
["Sermon","sermon",6612]
["flank","flank",6613]
["breakdown","breakdown",6614]
["integral","integral",6615]
["caregiver","caregiver",6616]
["formulate","formulate",6617]
["respective","respective",6618]
["eclipse","eclipse",6619]
["feminine","feminine",6620]
["competing","competing",6621]
["defy","defy",6622]
["embarrassing","embarrassing",6623]
["pending","pending",6624]
["moving","moving",6625]
["levy","levy",6626]
["Foreman","foreman",6627]
["plantation","plantation",6628]
["Scarce","scarce",6629]
["dairy","dairy",6630]
["stabilize","stabilize",6631]
["delegation","delegation",6632]
["excellence","excellence",6633]
["watercolor","watercolor",6634]
["Scripture","scripture",6635]
["governmental","governmental",6636]
["inclined","inclined",6637]
["dioxide","dioxide",6638]
["dispatch","dispatch",6639]
["monopoly","monopoly",6640]
["poise","poise",6641]
["distinguished","distinguished",6642]
["proponent","proponent",6643]
["battlefield","battlefield",6644]
["silicon","silicon",6645]
["Weary","weary",6646]
["doc","doc",6647]
["justification","justification",6648]
["squash","squash",6649]
["closure","closure",6650]
["staffer","staffer",6651]
["propaganda","propaganda",6652]
["supervise","supervise",6653]
["accessory","accessory",6654]
["flare","flare",6655]
["preferred","preferred",6656]
["stat","stat",6657]
["immense","immense",6658]
["maximize","maximize",6659]
["pumpkin","pumpkin",6660]
["correspondence","correspondence",6661]
["globalization","globalization",6662]
["Blunt","blunt",6663]
["toddler","toddler",6664]
["setup","setup",6665]
["blonde","blonde",6666]
["competent","competent",6667]
["disguise","disguise",6668]
["Amber","amber",6669]
["oversight","oversight",6670]
["turnover","turnover",6671]
["Sovereign","sovereign",6672]
["dividend","dividend",6673]
["Weaver","weaver",6674]
["sweeping","sweeping",6675]
["Flake","flake",6676]
["lobster","lobster",6677]
["repetition","repetition",6678]
["reproductive","reproductive",6679]
["limp","limp",6680]
["Buckle","buckle",6681]
["mint","mint",6682]
["locally","locally",6683]
["align","align",6684]
["Archer","archer",6685]
["massacre","massacre",6686]
["recycling","recycling",6687]
["Almond","almond",6688]
["Outlaw","outlaw",6689]
["visually","visually",6690]
["trustee","trustee",6691]
["divert","divert",6692]
["miserable","miserable",6693]
["valve","valve",6694]
["thesis","thesis",6695]
["efficacy","efficacy",6696]
["specimen","specimen",6697]
["permanently","permanently",6698]
["varying","varying",6699]
["tracking","tracking",6700]
["certification","certification",6701]
["Glaze","glaze",6702]
["analogy","analogy",6703]
["squat","squat",6704]
["presume","presume",6705]
["erosion","erosion",6706]
["intersection","intersection",6707]
["sprint","sprint",6708]
["resignation","resignation",6709]
["predictable","predictable",6710]
["Don","don",6711]
["intake","intake",6712]
["niche","niche",6713]
["owl","owl",6714]
["vulnerability","vulnerability",6715]
["inhabitant","inhabitant",6716]
["collaborative","collaborative",6717]
["insurer","insurer",6718]
["logo","logo",6719]
["glamor","glamor",6720]
["founding","founding",6721]
["failed","failed",6722]
["bypass","bypass",6723]
["Holly","holly",6724]
["erase","erase",6725]
["irrelevant","irrelevant",6726]
["pastel","pastel",6727]
["sampling","sampling",6728]
["coyote","coyote",6729]
["rationale","rationale",6730]
["postwar","postwar",6731]
["mattress","mattress",6732]
["App","app",6733]
["ignorance","ignorance",6734]
["fulfil","fulfil",6735]
["cellular","cellular",6736]
["prepared","prepared",6737]
["filmmaker","filmmaker",6738]
["squint","squint",6739]
["curator","curator",6740]
["bastard","bastard",6741]
["horizontal","horizontal",6742]
["linen","linen",6743]
["spectacle","spectacle",6744]
["impeachment","impeachment",6745]
["bout","bout",6746]
["embed","embed",6747]
["matching","matching",6748]
["interim","interim",6749]
["cosmic","cosmic",6750]
["Marshal","marshal",6751]
["rabbi","rabbi",6752]
["qualified","qualified",6753]
["tuna","tuna",6754]
["Hue","hue",6755]
["comparative","comparative",6756]
["credible","credible",6757]
["foam","foam",6758]
["exceptional","exceptional",6759]
["vista","vista",6760]
["fictional","fictional",6761]
["stool","stool",6762]
["predominantly","predominantly",6763]
["prostitute","prostitute",6764]
["Sedan","sedan",6765]
["controller","controller",6766]
["Beverage","beverage",6767]
["Siren","siren",6768]
["oath","oath",6769]
["quota","quota",6770]
["machinery","machinery",6771]
["boulevard","boulevard",6772]
["governance","governance",6773]
["Deter","deter",6774]
["sufficiently","sufficiently",6775]
["reduced","reduced",6776]
["Lush","lush",6777]
["dressing","dressing",6778]
["tract","tract",6779]
["coordination","coordination",6780]
["overlap","overlap",6781]
["resentment","resentment",6782]
["fertility","fertility",6783]
["large-scale","large-scale",6784]
["detection","detection",6785]
["fringe","fringe",6786]
["Babe","babe",6787]
["imperative","imperative",6788]
["technically","technically",6789]
["asteroid","asteroid",6790]
["co-author","co-author",6791]
["Clamp","clamp",6792]
["artery","artery",6793]
["Trump","trump",6794]
["haitian","haitian",6795]
["Dove","dove",6796]
["entail","entail",6797]
["educated","educated",6798]
["intensify","intensify",6799]
["anthropologist","anthropologist",6800]
["refusal","refusal",6801]
["loosen","loosen",6802]
["nonsense","nonsense",6803]
["Stein","stein",6804]
["temptation","temptation",6805]
["injustice","injustice",6806]
["paste","paste",6807]
["intriguing","intriguing",6808]
["adequately","adequately",6809]
["courthouse","courthouse",6810]
["viewpoint","viewpoint",6811]
["Granite","granite",6812]
["cardboard","cardboard",6813]
["marginal","marginal",6814]
["chore","chore",6815]
["lottery","lottery",6816]
["sanctuary","sanctuary",6817]
["peninsula","peninsula",6818]
["operational","operational",6819]
["grower","grower",6820]
["fairness","fairness",6821]
["exclusion","exclusion",6822]
["Crumble","crumble",6823]
["solidarity","solidarity",6824]
["beating","beating",6825]
["spirituality","spirituality",6826]
["albeit","albeit",6827]
["chili","chili",6828]
["appliance","appliance",6829]
["Crest","crest",6830]
["disturbance","disturbance",6831]
["embargo","embargo",6832]
["linebacker","linebacker",6833]
["cleaning","cleaning",6834]
["determined","determined",6835]
["photographic","photographic",6836]
["velvet","velvet",6837]
["denounce","denounce",6838]
["Pierce","pierce",6839]
["shrine","shrine",6840]
["grunt","grunt",6841]
["retention","retention",6842]
["qualitative","qualitative",6843]
["outrageous","outrageous",6844]
["configuration","configuration",6845]
["elevate","elevate",6846]
["dude","dude",6847]
["occurrence","occurrence",6848]
["whatsoever","whatsoever",6849]
["heating","heating",6850]
["standardized","standardized",6851]
["homemade","homemade",6852]
["applied","applied",6853]
["epic","epic",6854]
["serial","serial",6855]
["exert","exert",6856]
["wary","wary",6857]
["recruitment","recruitment",6858]
["inhabit","inhabit",6859]
["telecommunications","telecommunications",6860]
["sideline","sideline",6861]
["deviation","deviation",6862]
["footnote","footnote",6863]
["seasonal","seasonal",6864]
["dread","dread",6865]
["pastry","pastry",6866]
["occupational","occupational",6867]
["bruise","bruise",6868]
["lengthy","lengthy",6869]
["empower","empower",6870]
["forced","forced",6871]
["module","module",6872]
["Dodge","dodge",6873]
["appropriation","appropriation",6874]
["testament","testament",6875]
["improving","improving",6876]
["Marina","marina",6877]
["prevalence","prevalence",6878]
["Cutter","cutter",6879]
["activate","activate",6880]
["magnet","magnet",6881]
["leverage","leverage",6882]
["livestock","livestock",6883]
["marital","marital",6884]
["misery","misery",6885]
["continental","continental",6886]
["Silhouette","silhouette",6887]
["selective","selective",6888]
["broadcasting","broadcasting",6889]
["molecular","molecular",6890]
["provincial","provincial",6891]
["talking","talking",6892]
["volt","volt",6893]
["theorist","theorist",6894]
["steering","steering",6895]
["circular","circular",6896]
["cereal","cereal",6897]
["vegetation","vegetation",6898]
["extremist","extremist",6899]
["scholarly","scholarly",6900]
["fund-raising","fund-raising",6901]
["stagger","stagger",6902]
["dominance","dominance",6903]
["adverse","adverse",6904]
["slogan","slogan",6905]
["exclaim","exclaim",6906]
["robust","robust",6907]
["wizard","wizard",6908]
["shudder","shudder",6909]
["relaxed","relaxed",6910]
["Heck","heck",6911]
["rinse","rinse",6912]
["bipartisan","bipartisan",6913]
["Thai","thai",6914]
["morale","morale",6915]
["Colt","colt",6916]
["reported","reported",6917]
["void","void",6918]
["collaborate","collaborate",6919]
["cradle","cradle",6920]
["glorious","glorious",6921]
["Boxer","boxer",6922]
["shovel","shovel",6923]
["protected","protected",6924]
["Crumb","crumb",6925]
["burial","burial",6926]
["descendant","descendant",6927]
["navigate","navigate",6928]
["aviation","aviation",6929]
["compliment","compliment",6930]
["newsletter","newsletter",6931]
["frustrating","frustrating",6932]
["mobilize","mobilize",6933]
["distraction","distraction",6934]
["default","default",6935]
["indirect","indirect",6936]
["Orchard","orchard",6937]
["arabic","arabic",6938]
["meditation","meditation",6939]
["methodist","methodist",6940]
["glide","glide",6941]
["intrigue","intrigue",6942]
["differentiate","differentiate",6943]
["exterior","exterior",6944]
["fumble","fumble",6945]
["Ore","ore",6946]
["Condo","condo",6947]
["hitter","hitter",6948]
["standpoint","standpoint",6949]
["stereo","stereo",6950]
["emit","emit",6951]
["heir","heir",6952]
["prototype","prototype",6953]
["notify","notify",6954]
["abandoned","abandoned",6955]
["garnish","garnish",6956]
["anticipation","anticipation",6957]
["overturn","overturn",6958]
["Laurel","laurel",6959]
["continuity","continuity",6960]
["dietary","dietary",6961]
["lumber","lumber",6962]
["convincing","convincing",6963]
["lasting","lasting",6964]
["registered","registered",6965]
["renewed","renewed",6966]
["notorious","notorious",6967]
["northwestern","northwestern",6968]
["prone","prone",6969]
["jealous","jealous",6970]
["obesity","obesity",6971]
["credential","credential",6972]
["communal","communal",6973]
["policymaker","policymaker",6974]
["questionable","questionable",6975]
["lethal","lethal",6976]
["shred","shred",6977]
["two-year","two-year",6978]
["pasture","pasture",6979]
["Royalty","royalty",6980]
["pathway","pathway",6981]
["modeling","modeling",6982]
["deployment","deployment",6983]
["satisfying","satisfying",6984]
["aggressively","aggressively",6985]
["imitate","imitate",6986]
["situate","situate",6987]
["saw","saw",6988]
["Um","um",6989]
["anthropology","anthropology",6990]
["nap","nap",6991]
["fertilizer","fertilizer",6992]
["Erode","erode",6993]
["foremost","foremost",6994]
["naive","naive",6995]
["diagnostic","diagnostic",6996]
["speaking","speaking",6997]
["surroundings","surroundings",6998]
["shifting","shifting",6999]
["dissent","dissent",7000]
["syrian","syrian",7001]
["premiere","premiere",7002]
["skeleton","skeleton",7003]
["cock","cock",7004]
["relevance","relevance",7005]
["parlor","parlor",7006]
["fundamentalist","fundamentalist",7007]
["vampire","vampire",7008]
["referral","referral",7009]
["generic","generic",7010]
["potent","potent",7011]
["vigorous","vigorous",7012]
["Platter","platter",7013]
["constituency","constituency",7014]
["syrup","syrup",7015]
["deprive","deprive",7016]
["heroic","heroic",7017]
["low-income","low-income",7018]
["formidable","formidable",7019]
["Beck","beck",7020]
["linguistic","linguistic",7021]
["oddly","oddly",7022]
["geographical","geographical",7023]
["velocity","velocity",7024]
["smiling","smiling",7025]
["underestimate","underestimate",7026]
["Panther","panther",7027]
["varied","varied",7028]
["tornado","tornado",7029]
["asthma","asthma",7030]
["Earnest","earnest",7031]
["clergy","clergy",7032]
["cholesterol","cholesterol",7033]
["trio","trio",7034]
["stew","stew",7035]
["bulletin","bulletin",7036]
["confusing","confusing",7037]
["artillery","artillery",7038]
["five-year","five-year",7039]
["rebellion","rebellion",7040]
["sustained","sustained",7041]
["competency","competency",7042]
["randomly","randomly",7043]
["deficiency","deficiency",7044]
["landlord","landlord",7045]
["briefing","briefing",7046]
["interference","interference",7047]
["lament","lament",7048]
["hub","hub",7049]
["showcase","showcase",7050]
["long-standing","long-standing",7051]
["manifestation","manifestation",7052]
["temporal","temporal",7053]
["petroleum","petroleum",7054]
["conjunction","conjunction",7055]
["grass-roots","grass-roots",7056]
["contamination","contamination",7057]
["lettuce","lettuce",7058]
["middle-aged","middle-aged",7059]
["bleeding","bleeding",7060]
["comeback","comeback",7061]
["expanding","expanding",7062]
["freelance","freelance",7063]
["insane","insane",7064]
["morally","morally",7065]
["hemisphere","hemisphere",7066]
["devastate","devastate",7067]
["start-up","start-up",7068]
["Fitting","fitting",7069]
["descriptive","descriptive",7070]
["paw","paw",7071]
["vegetarian","vegetarian",7072]
["appropriately","appropriately",7073]
["synthetic","synthetic",7074]
["intermediate","intermediate",7075]
["remnant","remnant",7076]
["madness","madness",7077]
["urgency","urgency",7078]
["orient","orient",7079]
["guiding","guiding",7080]
["Fuss","fuss",7081]
["growl","growl",7082]
["vicious","vicious",7083]
["lag","lag",7084]
["Kin","kin",7085]
["maturity","maturity",7086]
["succession","succession",7087]
["committed","committed",7088]
["conditioning","conditioning",7089]
["Baron","baron",7090]
["spacecraft","spacecraft",7091]
["Mediate","mediate",7092]
["replicate","replicate",7093]
["contempt","contempt",7094]
["golfer","golfer",7095]
["Shack","shack",7096]
["plow","plow",7097]
["sticky","sticky",7098]
["detention","detention",7099]
["evidently","evidently",7100]
["slender","slender",7101]
["perennial","perennial",7102]
["scoring","scoring",7103]
["archaeological","archaeological",7104]
["decay","decay",7105]
["op","op",7106]
["compartment","compartment",7107]
["intel","intel",7108]
["differential","differential",7109]
["exaggerate","exaggerate",7110]
["torch","torch",7111]
["Vineyard","vineyard",7112]
["abs","abs",7113]
["saucepan","saucepan",7114]
["preschool","preschool",7115]
["theologian","theologian",7116]
["canoe","canoe",7117]
["multicultural","multicultural",7118]
["adhere","adhere",7119]
["proximity","proximity",7120]
["tab","tab",7121]
["proliferation","proliferation",7122]
["swedish","swedish",7123]
["beneficiary","beneficiary",7124]
["conflicting","conflicting",7125]
["discomfort","discomfort",7126]
["inequality","inequality",7127]
["Rake","rake",7128]
["innings","innings",7129]
["Villa","villa",7130]
["motif","motif",7131]
["whine","whine",7132]
["indict","indict",7133]
["firearm","firearm",7134]
["biodiversity","biodiversity",7135]
["Apt","apt",7136]
["desktop","desktop",7137]
["Belle","belle",7138]
["mimic","mimic",7139]
["outright","outright",7140]
["critically","critically",7141]
["questioning","questioning",7142]
["renewal","renewal",7143]
["rite","rite",7144]
["obsessed","obsessed",7145]
["penguin","penguin",7146]
["implicit","implicit",7147]
["genuinely","genuinely",7148]
["glacier","glacier",7149]
["interpersonal","interpersonal",7150]
["reconcile","reconcile",7151]
["Dell","dell",7152]
["offspring","offspring",7153]
["vet","vet",7154]
["painted","painted",7155]
["radically","radically",7156]
["marked","marked",7157]
["caring","caring",7158]
["privatization","privatization",7159]
["expire","expire",7160]
["embryo","embryo",7161]
["interrogation","interrogation",7162]
["basics","basics",7163]
["parole","parole",7164]
["Throne","throne",7165]
["clown","clown",7166]
["Aspen","aspen",7167]
["profoundly","profoundly",7168]
["Marlin","marlin",7169]
["Cram","cram",7170]
["billboard","billboard",7171]
["grilled","grilled",7172]
["hanging","hanging",7173]
["messenger","messenger",7174]
["contender","contender",7175]
["tabloid","tabloid",7176]
["contention","contention",7177]
["Lust","lust",7178]
["earring","earring",7179]
["hotpot","hotpot",7180]
["turmoil","turmoil",7181]
["bilateral","bilateral",7182]
["prestigious","prestigious",7183]
["decorative","decorative",7184]
["Coil","coil",7185]
["functioning","functioning",7186]
["elicit","elicit",7187]
["inflict","inflict",7188]
["referendum","referendum",7189]
["four-year","four-year",7190]
["loved","loved",7191]
["mentality","mentality",7192]
["Maze","maze",7193]
["perfection","perfection",7194]
["rigorous","rigorous",7195]
["Chi","chi",7196]
["steroids","steroids",7197]
["Confer","confer",7198]
["coconut","coconut",7199]
["decree","decree",7200]
["Gee","gee",7201]
["refine","refine",7202]
["Raven","raven",7203]
["transcript","transcript",7204]
["singing","singing",7205]
["goddamn","goddamn",7206]
["strategist","strategist",7207]
["opposing","opposing",7208]
["subordinate","subordinate",7209]
["goddess","goddess",7210]
["liar","liar",7211]
["Selling","selling",7212]
["pluck","pluck",7213]
["privileged","privileged",7214]
["trickle","trickle",7215]
["smear","smear",7216]
["Shining","shining",7217]
["angler","angler",7218]
["poetic","poetic",7219]
["resent","resent",7220]
["rivalry","rivalry",7221]
["width","width",7222]
["vibrant","vibrant",7223]
["imaging","imaging",7224]
["undo","undo",7225]
["re-create","re-create",7226]
["unveil","unveil",7227]
["Challenger","challenger",7228]
["volatile","volatile",7229]
["disruption","disruption",7230]
["turf","turf",7231]
["coincide","coincide",7232]
["disparity","disparity",7233]
["expanded","expanded",7234]
["misleading","misleading",7235]
["southeastern","southeastern",7236]
["hebrew","hebrew",7237]
["spontaneous","spontaneous",7238]
["acting","acting",7239]
["statewide","statewide",7240]
["yoga","yoga",7241]
["dictator","dictator",7242]
["perimeter","perimeter",7243]
["lorry","lorry",7244]
["therapeutic","therapeutic",7245]
["reflective","reflective",7246]
["optimal","optimal",7247]
["signify","signify",7248]
["discrepancy","discrepancy",7249]
["elevation","elevation",7250]
["hindu","hindu",7251]
["Saga","saga",7252]
["authoritarian","authoritarian",7253]
["hands-on","hands-on",7254]
["embark","embark",7255]
["dating","dating",7256]
["cascade","cascade",7257]
["firing","firing",7258]
["Wade","wade",7259]
["grease","grease",7260]
["Plum","plum",7261]
["outreach","outreach",7262]
["allergy","allergy",7263]
["dedicated","dedicated",7264]
["lucrative","lucrative",7265]
["nonfiction","nonfiction",7266]
["reopen","reopen",7267]
["environmentally","environmentally",7268]
["Prose","prose",7269]
["performing","performing",7270]
["territorial","territorial",7271]
["evacuate","evacuate",7272]
["definitive","definitive",7273]
["lunar","lunar",7274]
["sleek","sleek",7275]
["Mister","mister",7276]
["fingerprint","fingerprint",7277]
["folder","folder",7278]
["landfill","landfill",7279]
["documentation","documentation",7280]
["oppression","oppression",7281]
["spinach","spinach",7282]
["Hamlet","hamlet",7283]
["arguably","arguably",7284]
["accepted","accepted",7285]
["respected","respected",7286]
["transcend","transcend",7287]
["twilight","twilight",7288]
["Telling","telling",7289]
["bluff","bluff",7290]
["forgiveness","forgiveness",7291]
["trajectory","trajectory",7292]
["fund-raiser","fund-raiser",7293]
["Tack","tack",7294]
["Amend","amend",7295]
["pact","pact",7296]
["resistant","resistant",7297]
["symbolize","symbolize",7298]
["illegally","illegally",7299]
["withhold","withhold",7300]
["inhale","inhale",7301]
["backwards","backwards",7302]
["societal","societal",7303]
["atmospheric","atmospheric",7304]
["prestige","prestige",7305]
["sticker","sticker",7306]
["Wrench","wrench",7307]
["tangle","tangle",7308]
["Savannah","savannah",7309]
["propel","propel",7310]
["investigative","investigative",7311]
["Stolen","stolen",7312]
["homosexuality","homosexuality",7313]
["stitch","stitch",7314]
["lightweight","lightweight",7315]
["Packer","packer",7316]
["downhill","downhill",7317]
["Idol","idol",7318]
["patio","patio",7319]
["prevailing","prevailing",7320]
["captive","captive",7321]
["intern","intern",7322]
["prohibition","prohibition",7323]
["cockpit","cockpit",7324]
["Mince","mince",7325]
["flex","flex",7326]
["heterosexual","heterosexual",7327]
["animated","animated",7328]
["planetary","planetary",7329]
["enduring","enduring",7330]
["instability","instability",7331]
["cohort","cohort",7332]
["suspected","suspected",7333]
["bearing","bearing",7334]
["paradox","paradox",7335]
["sensibility","sensibility",7336]
["unpredictable","unpredictable",7337]
["damned","damned",7338]
["snort","snort",7339]
["maternal","maternal",7340]
["pervasive","pervasive",7341]
["reformer","reformer",7342]
["entitlement","entitlement",7343]
["Daisy","daisy",7344]
["backdrop","backdrop",7345]
["whiskey","whiskey",7346]
["shriek","shriek",7347]
["distort","distort",7348]
["genetically","genetically",7349]
["grit","grit",7350]
["overview","overview",7351]
["discriminate","discriminate",7352]
["genome","genome",7353]
["shuffle","shuffle",7354]
["Willow","willow",7355]
["allocation","allocation",7356]
["Guinea","guinea",7357]
["submarine","submarine",7358]
["crap","crap",7359]
["vaguely","vaguely",7360]
["disgust","disgust",7361]
["yogurt","yogurt",7362]
["accompanying","accompanying",7363]
["Haze","haze",7364]
["badge","badge",7365]
["ambiguity","ambiguity",7366]
["attic","attic",7367]
["commuter","commuter",7368]
["Salvage","salvage",7369]
["imminent","imminent",7370]
["inquire","inquire",7371]
["bracket","bracket",7372]
["sperm","sperm",7373]
["sprawl","sprawl",7374]
["exploitation","exploitation",7375]
["intimidate","intimidate",7376]
["intrinsic","intrinsic",7377]
["canopy","canopy",7378]
["charitable","charitable",7379]
["fastest","fastest",7380]
["Bleak","bleak",7381]
["oblige","oblige",7382]
["promptly","promptly",7383]
["operative","operative",7384]
["cease-fire","cease-fire",7385]
["commute","commute",7386]
["hawaiian","hawaiian",7387]
["reliance","reliance",7388]
["windshield","windshield",7389]
["saute","saute",7390]
["unison","unison",7391]
["Kitty","kitty",7392]
["examiner","examiner",7393]
["clearing","clearing",7394]
["Highland","highland",7395]
["conquer","conquer",7396]
["preheat","preheat",7397]
["battered","battered",7398]
["modified","modified",7399]
["Bash","bash",7400]
["deposition","deposition",7401]
["trademark","trademark",7402]
["indulge","indulge",7403]
["gunman","gunman",7404]
["Fuse","fuse",7405]
["beta","beta",7406]
["flutter","flutter",7407]
["fungus","fungus",7408]
["one-time","one-time",7409]
["traumatic","traumatic",7410]
["apartheid","apartheid",7411]
["Peg","peg",7412]
["athletics","athletics",7413]
["wail","wail",7414]
["siege","siege",7415]
["gosh","gosh",7416]
["precinct","precinct",7417]
["severity","severity",7418]
["remainder","remainder",7419]
["stink","stink",7420]
["halftime","halftime",7421]
["nucleus","nucleus",7422]
["relish","relish",7423]
["kidnap","kidnap",7424]
["pottery","pottery",7425]
["flawed","flawed",7426]
["Churn","churn",7427]
["forthcoming","forthcoming",7428]
["hunch","hunch",7429]
["wholly","wholly",7430]
["whirl","whirl",7431]
["membrane","membrane",7432]
["incoming","incoming",7433]
["mumble","mumble",7434]
["sewage","sewage",7435]
["Helm","helm",7436]
["filing","filing",7437]
["repeal","repeal",7438]
["Brew","brew",7439]
["ammunition","ammunition",7440]
["Crate","crate",7441]
["nervously","nervously",7442]
["cozy","cozy",7443]
["frustrated","frustrated",7444]
["solitary","solitary",7445]
["greed","greed",7446]
["nebula","nebula",7447]
["nude","nude",7448]
["Pike","pike",7449]
["mistress","mistress",7450]
["viewing","viewing",7451]
["extinction","extinction",7452]
["subsidiary","subsidiary",7453]
["Flatten","flatten",7454]
["displace","displace",7455]
["superstar","superstar",7456]
["onset","onset",7457]
["Ye","ye",7458]
["responsive","responsive",7459]
["informant","informant",7460]
["Railing","railing",7461]
["hmm","hmm",7462]
["Rover","rover",7463]
["corresponding","corresponding",7464]
["prevalent","prevalent",7465]
["Stoop","stoop",7466]
["buying","buying",7467]
["contingent","contingent",7468]
["filling","filling",7469]
["Conquest","conquest",7470]
["immunity","immunity",7471]
["napkin","napkin",7472]
["Alto","alto",7473]
["fascination","fascination",7474]
["leftover","leftover",7475]
["skepticism","skepticism",7476]
["Broccoli","broccoli",7477]
["projected","projected",7478]
["disposition","disposition",7479]
["infinite","infinite",7480]
["lever","lever",7481]
["muscular","muscular",7482]
["wrestling","wrestling",7483]
["exemption","exemption",7484]
["Furnish","furnish",7485]
["arsenal","arsenal",7486]
["coherent","coherent",7487]
["staircase","staircase",7488]
["cylinder","cylinder",7489]
["Providence","providence",7490]
["nudge","nudge",7491]
["Braid","braid",7492]
["negatively","negatively",7493]
["canned","canned",7494]
["conform","conform",7495]
["comprehend","comprehend",7496]
["quantitative","quantitative",7497]
["high-profile","high-profile",7498]
["grown-up","grown-up",7499]
["overwhelmingly","overwhelmingly",7500]
["enzyme","enzyme",7501]
["gratitude","gratitude",7502]
["moonlight","moonlight",7503]
["pretest","pretest",7504]
["shipping","shipping",7505]
["certified","certified",7506]
["infantry","infantry",7507]
["pastoral","pastoral",7508]
["relocate","relocate",7509]
["insufficient","insufficient",7510]
["negotiator","negotiator",7511]
["bracelet","bracelet",7512]
["Hoop","hoop",7513]
["preside","preside",7514]
["hinge","hinge",7515]
["day-to-day","day-to-day",7516]
["loosely","loosely",7517]
["substantive","substantive",7518]
["surpass","surpass",7519]
["compatible","compatible",7520]
["retiree","retiree",7521]
["freezer","freezer",7522]
["impair","impair",7523]
["all-time","all-time",7524]
["takeover","takeover",7525]
["activism","activism",7526]
["realism","realism",7527]
["demise","demise",7528]
["apparatus","apparatus",7529]
["battalion","battalion",7530]
["inconsistent","inconsistent",7531]
["vault","vault",7532]
["deduction","deduction",7533]
["dispose","dispose",7534]
["Foe","foe",7535]
["milky","milky",7536]
["rugged","rugged",7537]
["certify","certify",7538]
["elusive","elusive",7539]
["high-speed","high-speed",7540]
["probation","probation",7541]
["Gill","gill",7542]
["susceptible","susceptible",7543]
["definite","definite",7544]
["laborer","laborer",7545]
["dune","dune",7546]
["Tart","tart",7547]
["infrared","infrared",7548]
["crusade","crusade",7549]
["extensively","extensively",7550]
["excel","excel",7551]
["fellowship","fellowship",7552]
["finished","finished",7553]
["thinly","thinly",7554]
["depot","depot",7555]
["fixture","fixture",7556]
["stud","stud",7557]
["bureaucrat","bureaucrat",7558]
["Plank","plank",7559]
["dental","dental",7560]
["premature","premature",7561]
["palette","palette",7562]
["scarcely","scarcely",7563]
["simplicity","simplicity",7564]
["Sterling","sterling",7565]
["subcommittee","subcommittee",7566]
["sliced","sliced",7567]
["beetle","beetle",7568]
["hip-hop","hip-hop",7569]
["caucus","caucus",7570]
["sneakers","sneakers",7571]
["restrain","restrain",7572]
["plausible","plausible",7573]
["auditor","auditor",7574]
["cloak","cloak",7575]
["declining","declining",7576]
["Bellow","bellow",7577]
["answering","answering",7578]
["Champ","champ",7579]
["catcher","catcher",7580]
["respiratory","respiratory",7581]
["infectious","infectious",7582]
["whoa","whoa",7583]
["cruiser","cruiser",7584]
["unstable","unstable",7585]
["plaque","plaque",7586]
["Wince","wince",7587]
["binding","binding",7588]
["nasal","nasal",7589]
["withstand","withstand",7590]
["Reap","reap",7591]
["felony","felony",7592]
["cooked","cooked",7593]
["pornography","pornography",7594]
["Dent","dent",7595]
["protagonist","protagonist",7596]
["dedication","dedication",7597]
["reluctantly","reluctantly",7598]
["benign","benign",7599]
["astronomical","astronomical",7600]
["chatter","chatter",7601]
["Farewell","farewell",7602]
["hog","hog",7603]
["takeoff","takeoff",7604]
["ethic","ethic",7605]
["formulation","formulation",7606]
["tribunal","tribunal",7607]
["persistence","persistence",7608]
["exacerbate","exacerbate",7609]
["intercept","intercept",7610]
["analytical","analytical",7611]
["pollutant","pollutant",7612]
["wholesale","wholesale",7613]
["detainee","detainee",7614]
["Moose","moose",7615]
["exempt","exempt",7616]
["masculine","masculine",7617]
["Query","query",7618]
["serbian","serbian",7619]
["destine","destine",7620]
["diaper","diaper",7621]
["Islamist","islamist",7622]
["Buddhist","buddhist",7623]
["governing","governing",7624]
["salsa","salsa",7625]
["sediment","sediment",7626]
["merchandise","merchandise",7627]
["arthritis","arthritis",7628]
["creamy","creamy",7629]
["aerial","aerial",7630]
["overthrow","overthrow",7631]
["adversary","adversary",7632]
["bulge","bulge",7633]
["renovation","renovation",7634]
["thermal","thermal",7635]
["Sandal","sandal",7636]
["abusive","abusive",7637]
["constellation","constellation",7638]
["lipstick","lipstick",7639]
["Baton","baton",7640]
["refrain","refrain",7641]
["madame","madame",7642]
["shrub","shrub",7643]
["relentless","relentless",7644]
["expel","expel",7645]
["explosives","explosives",7646]
["someplace","someplace",7647]
["appealing","appealing",7648]
["prostate","prostate",7649]
["rhetorical","rhetorical",7650]
["shipment","shipment",7651]
["brigade","brigade",7652]
["Auburn","auburn",7653]
["bum","bum",7654]
["info","info",7655]
["sweetheart","sweetheart",7656]
["exposed","exposed",7657]
["voucher","voucher",7658]
["airborne","airborne",7659]
["pounding","pounding",7660]
["Rust","rust",7661]
["inning","inning",7662]
["foliage","foliage",7663]
["Brook","brook",7664]
["dire","dire",7665]
["swiftly","swiftly",7666]
["multinational","multinational",7667]
["puzzled","puzzled",7668]
["trumpet","trumpet",7669]
["heated","heated",7670]
["marvelous","marvelous",7671]
["printed","printed",7672]
["built-in","built-in",7673]
["Brink","brink",7674]
["confederate","confederate",7675]
["forensic","forensic",7676]
["outraged","outraged",7677]
["myriad","myriad",7678]
["mural","mural",7679]
["periodically","periodically",7680]
["reluctance","reluctance",7681]
["deepest","deepest",7682]
["intensely","intensely",7683]
["multimedia","multimedia",7684]
["orphan","orphan",7685]
["ornament","ornament",7686]
["doctoral","doctoral",7687]
["invariably","invariably",7688]
["torso","torso",7689]
["underway","underway",7690]
["reservoir","reservoir",7691]
["antenna","antenna",7692]
["Psyche","psyche",7693]
["mesh","mesh",7694]
["subscriber","subscriber",7695]
["carnival","carnival",7696]
["feat","feat",7697]
["genocide","genocide",7698]
["published","published",7699]
["hurl","hurl",7700]
["unified","unified",7701]
["surviving","surviving",7702]
["piss","piss",7703]
["printing","printing",7704]
["audition","audition",7705]
["lurk","lurk",7706]
["pressing","pressing",7707]
["Pueblo","pueblo",7708]
["designated","designated",7709]
["reinforcement","reinforcement",7710]
["roasted","roasted",7711]
["kuwaiti","kuwaiti",7712]
["crave","crave",7713]
["populate","populate",7714]
["sparkle","sparkle",7715]
["dismantle","dismantle",7716]
["endowment","endowment",7717]
["harass","harass",7718]
["overhaul","overhaul",7719]
["goggle","goggle",7720]
["disregard","disregard",7721]
["provocative","provocative",7722]
["intercourse","intercourse",7723]
["trot","trot",7724]
["inferior","inferior",7725]
["algorithm","algorithm",7726]
["focal","focal",7727]
["tactical","tactical",7728]
["tangible","tangible",7729]
["fusion","fusion",7730]
["raft","raft",7731]
["yacht","yacht",7732]
["alumnus","alumnus",7733]
["elimination","elimination",7734]
["puppet","puppet",7735]
["flop","flop",7736]
["reversal","reversal",7737]
["kurdish","kurdish",7738]
["Valentine","valentine",7739]
["subsidize","subsidize",7740]
["judiciary","judiciary",7741]
["consolidate","consolidate",7742]
["anonymity","anonymity",7743]
["Danish","danish",7744]
["applicable","applicable",7745]
["appraisal","appraisal",7746]
["lizard","lizard",7747]
["validate","validate",7748]
["affluent","affluent",7749]
["incorrect","incorrect",7750]
["would-be","would-be",7751]
["dominican","dominican",7752]
["Tally","tally",7753]
["segregation","segregation",7754]
["urine","urine",7755]
["cynical","cynical",7756]
["disappointing","disappointing",7757]
["graceful","graceful",7758]
["openness","openness",7759]
["lingering","lingering",7760]
["precaution","precaution",7761]
["right-wing","right-wing",7762]
["domination","domination",7763]
["sunrise","sunrise",7764]
["Fallen","fallen",7765]
["renowned","renowned",7766]
["residual","residual",7767]
["forearm","forearm",7768]
["directive","directive",7769]
["layout","layout",7770]
["theatrical","theatrical",7771]
["bargaining","bargaining",7772]
["mastery","mastery",7773]
["counterterrorism","counterterrorism",7774]
["high-quality","high-quality",7775]
["paralyze","paralyze",7776]
["vigorously","vigorously",7777]
["Perk","perk",7778]
["mortal","mortal",7779]
["undercover","undercover",7780]
["secrecy","secrecy",7781]
["sled","sled",7782]
["unload","unload",7783]
["Mesa","mesa",7784]
["controlled","controlled",7785]
["floating","floating",7786]
["nutritional","nutritional",7787]
["Trinity","trinity",7788]
["restructuring","restructuring",7789]
["underlie","underlie",7790]
["camping","camping",7791]
["constructive","constructive",7792]
["loft","loft",7793]
["glowing","glowing",7794]
["eventual","eventual",7795]
["liner","liner",7796]
["setback","setback",7797]
["uranium","uranium",7798]
["visibility","visibility",7799]
["playing","playing",7800]
["token","token",7801]
["scheduled","scheduled",7802]
["Lavender","lavender",7803]
["tread","tread",7804]
["vibration","vibration",7805]
["pragmatic","pragmatic",7806]
["civilized","civilized",7807]
["enhanced","enhanced",7808]
["dime","dime",7809]
["progression","progression",7810]
["rubble","rubble",7811]
["climbing","climbing",7812]
["loading","loading",7813]
["Muster","muster",7814]
["preventive","preventive",7815]
["three-year","three-year",7816]
["Schooling","schooling",7817]
["terminate","terminate",7818]
["signing","signing",7819]
["allegiance","allegiance",7820]
["briefcase","briefcase",7821]
["Midway","midway",7822]
["spicy","spicy",7823]
["charcoal","charcoal",7824]
["Akin","akin",7825]
["interception","interception",7826]
["tariff","tariff",7827]
["handicap","handicap",7828]
["collectively","collectively",7829]
["feminism","feminism",7830]
["dwell","dwell",7831]
["lunge","lunge",7832]
["fuzzy","fuzzy",7833]
["intricate","intricate",7834]
["sewer","sewer",7835]
["reconstruct","reconstruct",7836]
["unleash","unleash",7837]
["planting","planting",7838]
["gi","gi",7839]
["Cadet","cadet",7840]
["bra","bra",7841]
["twitch","twitch",7842]
["constrain","constrain",7843]
["imitation","imitation",7844]
["payoff","payoff",7845]
["frantic","frantic",7846]
["opener","opener",7847]
["runoff","runoff",7848]
["inhibit","inhibit",7849]
["insistence","insistence",7850]
["Chancellor","chancellor",7851]
["raised","raised",7852]
["systematically","systematically",7853]
["seizure","seizure",7854]
["animation","animation",7855]
["automaker","automaker",7856]
["cavity","cavity",7857]
["betrayal","betrayal",7858]
["chord","chord",7859]
["daunting","daunting",7860]
["peripheral","peripheral",7861]
["archaeology","archaeology",7862]
["Dickens","dickens",7863]
["year-round","year-round",7864]
["culinary","culinary",7865]
["bumper","bumper",7866]
["prolonged","prolonged",7867]
["binoculars","binoculars",7868]
["kidnapping","kidnapping",7869]
["Colon","colon",7870]
["distortion","distortion",7871]
["best-selling","best-selling",7872]
["pecan","pecan",7873]
["savvy","savvy",7874]
["airway","airway",7875]
["detain","detain",7876]
["linkage","linkage",7877]
["seminary","seminary",7878]
["slab","slab",7879]
["Dresser","dresser",7880]
["aquatic","aquatic",7881]
["comrade","comrade",7882]
["flirt","flirt",7883]
["rancher","rancher",7884]
["cookbook","cookbook",7885]
["graze","graze",7886]
["worrying","worrying",7887]
["frenzy","frenzy",7888]
["nineteenth-century","nineteenth-century",7889]
["thump","thump",7890]
["composting","composting",7891]
["cracker","cracker",7892]
["admiral","admiral",7893]
["genetics","genetics",7894]
["catastrophic","catastrophic",7895]
["estrogen","estrogen",7896]
["recess","recess",7897]
["sprawling","sprawling",7898]
["extraordinarily","extraordinarily",7899]
["informed","informed",7900]
["bartender","bartender",7901]
["buffer","buffer",7902]
["polished","polished",7903]
["calling","calling",7904]
["expectancy","expectancy",7905]
["fidelity","fidelity",7906]
["northeastern","northeastern",7907]
["distributor","distributor",7908]
["sling","sling",7909]
["voluntarily","voluntarily",7910]
["ignite","ignite",7911]
["bankrupt","bankrupt",7912]
["Hamper","hamper",7913]
["sag","sag",7914]
["awhile","awhile",7915]
["psychic","psychic",7916]
["gateway","gateway",7917]
["Rash","rash",7918]
["temperament","temperament",7919]
["feasible","feasible",7920]
["layoff","layoff",7921]
["low-fat","low-fat",7922]
["boiling","boiling",7923]
["discretion","discretion",7924]
["hiring","hiring",7925]
["nightly","nightly",7926]
["Nickel","nickel",7927]
["Notch","notch",7928]
["parliamentary","parliamentary",7929]
["breakup","breakup",7930]
["presently","presently",7931]
["jelly","jelly",7932]
["disperse","disperse",7933]
["Ambush","ambush",7934]
["parkway","parkway",7935]
["uprising","uprising",7936]
["chaotic","chaotic",7937]
["Swan","swan",7938]
["comedian","comedian",7939]
["dependency","dependency",7940]
["plight","plight",7941]
["convicted","convicted",7942]
["reclaim","reclaim",7943]
["novice","novice",7944]
["youthful","youthful",7945]
["asylum","asylum",7946]
["polling","polling",7947]
["inheritance","inheritance",7948]
["repression","repression",7949]
["Brewer","brewer",7950]
["playwright","playwright",7951]
["Harden","harden",7952]
["watershed","watershed",7953]
["residue","residue",7954]
["elevated","elevated",7955]
["heave","heave",7956]
["contaminate","contaminate",7957]
["ordinance","ordinance",7958]
["pod","pod",7959]
["pinpoint","pinpoint",7960]
["sitting","sitting",7961]
["prosperous","prosperous",7962]
["tortilla","tortilla",7963]
["ignorant","ignorant",7964]
["real-life","real-life",7965]
["cellar","cellar",7966]
["paycheck","paycheck",7967]
["quarterly","quarterly",7968]
["desperation","desperation",7969]
["alleviate","alleviate",7970]
["fertile","fertile",7971]
["Mantle","mantle",7972]
["rove","rove",7973]
["degradation","degradation",7974]
["half-hour","half-hour",7975]
["Cooler","cooler",7976]
["flooding","flooding",7977]
["Putt","putt",7978]
["Dolly","dolly",7979]
["perpetuate","perpetuate",7980]
["revolve","revolve",7981]
["thyme","thyme",7982]
["clump","clump",7983]
["dropout","dropout",7984]
["escalate","escalate",7985]
["Shear","shear",7986]
["skim","skim",7987]
["bribe","bribe",7988]
["dictatorship","dictatorship",7989]
["recruiting","recruiting",7990]
["hype","hype",7991]
["accordance","accordance",7992]
["diversion","diversion",7993]
["redefine","redefine",7994]
["liberate","liberate",7995]
["vomit","vomit",7996]
["pharmacy","pharmacy",7997]
["packaging","packaging",7998]
["persona","persona",7999]
["duplicate","duplicate",8000]
["exemplify","exemplify",8001]
["gleam","gleam",8002]
["Cosmos","cosmos",8003]
["inherently","inherently",8004]
["auditorium","auditorium",8005]
["wield","wield",8006]
["Terra","terra",8007]
["topple","topple",8008]
["Bunk","bunk",8009]
["agony","agony",8010]
["Fines","fines",8011]
["enormously","enormously",8012]
["knit","knit",8013]
["unrelated","unrelated",8014]
["accidental","accidental",8015]
["systemic","systemic",8016]
["black-and-white","black-and-white",8017]
["baked","baked",8018]
["maverick","maverick",8019]
["Banish","banish",8020]
["modernity","modernity",8021]
["blueprint","blueprint",8022]
["node","node",8023]
["wicked","wicked",8024]
["depiction","depiction",8025]
["communion","communion",8026]
["kurd","kurd",8027]
["specification","specification",8028]
["gator","gator",8029]
["mortar","mortar",8030]
["repertoire","repertoire",8031]
["lurch","lurch",8032]
["vastly","vastly",8033]
["iq","iq",8034]
["rethink","rethink",8035]
["reminiscent","reminiscent",8036]
["drainage","drainage",8037]
["startling","startling",8038]
["categorize","categorize",8039]
["Martian","martian",8040]
["gem","gem",8041]
["Plump","plump",8042]
["postmodern","postmodern",8043]
["Beaver","beaver",8044]
["softball","softball",8045]
["Guild","guild",8046]
["computing","computing",8047]
["lesion","lesion",8048]
["Lighter","lighter",8049]
["mormon","mormon",8050]
["troubling","troubling",8051]
["endurance","endurance",8052]
["cardiovascular","cardiovascular",8053]
["ceramic","ceramic",8054]
["liberalism","liberalism",8055]
["snapshot","snapshot",8056]
["discern","discern",8057]
["celery","celery",8058]
["reflexion","reflexion",8059]
["Pry","pry",8060]
["reprint","reprint",8061]
["culminate","culminate",8062]
["peril","peril",8063]
["initiation","initiation",8064]
["president-elect","president-elect",8065]
["literal","literal",8066]
["onstage","onstage",8067]
["tribune","tribune",8068]
["episcopal","episcopal",8069]
["penis","penis",8070]
["rightly","rightly",8071]
["Pew","pew",8072]
["adulthood","adulthood",8073]
["regimen","regimen",8074]
["sitcom","sitcom",8075]
["Cypress","cypress",8076]
["sniper","sniper",8077]
["perpetrator","perpetrator",8078]
["sic","sic",8079]
["fume","fume",8080]
["notwithstanding","notwithstanding",8081]
["insurgency","insurgency",8082]
["wartime","wartime",8083]
["periodic","periodic",8084]
["jolt","jolt",8085]
["knob","knob",8086]
["stimulation","stimulation",8087]
["compression","compression",8088]
["refined","refined",8089]
["revised","revised",8090]
["enhancement","enhancement",8091]
["autopsy","autopsy",8092]
["gland","gland",8093]
["scottish","scottish",8094]
["superiority","superiority",8095]
["cardiac","cardiac",8096]
["wardrobe","wardrobe",8097]
["deteriorate","deteriorate",8098]
["poultry","poultry",8099]
["chic","chic",8100]
["unsuccessful","unsuccessful",8101]
["slippery","slippery",8102]
["avert","avert",8103]
["pronounced","pronounced",8104]
["ceramics","ceramics",8105]
["Barge","barge",8106]
["abound","abound",8107]
["ineffective","ineffective",8108]
["recede","recede",8109]
["trained","trained",8110]
["backlash","backlash",8111]
["cache","cache",8112]
["long-distance","long-distance",8113]
["physiological","physiological",8114]
["twenty-four","twenty-four",8115]
["collide","collide",8116]
["overflow","overflow",8117]
["resemblance","resemblance",8118]
["brightness","brightness",8119]
["fin","fin",8120]
["lessen","lessen",8121]
["Baseman","baseman",8122]
["headnote","headnote",8123]
["plummet","plummet",8124]
["proven","proven",8125]
["dismay","dismay",8126]
["buzz","buzz",8127]
["downturn","downturn",8128]
["subpoena","subpoena",8129]
["Stash","stash",8130]
["gigantic","gigantic",8131]
["intentionally","intentionally",8132]
["professionally","professionally",8133]
["sociology","sociology",8134]
["durable","durable",8135]
["infamous","infamous",8136]
["autism","autism",8137]
["procession","procession",8138]
["inland","inland",8139]
["patriotic","patriotic",8140]
["amongst","amongst",8141]
["facade","facade",8142]
["revisit","revisit",8143]
["Chestnut","chestnut",8144]
["arrogant","arrogant",8145]
["resonate","resonate",8146]
["legion","legion",8147]
["cilantro","cilantro",8148]
["deceased","deceased",8149]
["grouping","grouping",8150]
["chemotherapy","chemotherapy",8151]
["gig","gig",8152]
["proceeds","proceeds",8153]
["hound","hound",8154]
["implicate","implicate",8155]
["clasp","clasp",8156]
["variability","variability",8157]
["dubious","dubious",8158]
["solitude","solitude",8159]
["ethanol","ethanol",8160]
["brand-new","brand-new",8161]
["synthesis","synthesis",8162]
["comforting","comforting",8163]
["conjure","conjure",8164]
["Woo","woo",8165]
["mutually","mutually",8166]
["portuguese","portuguese",8167]
["solicit","solicit",8168]
["seasoned","seasoned",8169]
["vocational","vocational",8170]
["transparency","transparency",8171]
["stellar","stellar",8172]
["bloc","bloc",8173]
["ideally","ideally",8174]
["paid","paid",8175]
["muffin","muffin",8176]
["skid","skid",8177]
["stint","stint",8178]
["Burner","burner",8179]
["scattered","scattered",8180]
["alignment","alignment",8181]
["guru","guru",8182]
["vanity","vanity",8183]
["contour","contour",8184]
["benchmark","benchmark",8185]
["alarming","alarming",8186]
["lavish","lavish",8187]
["boutique","boutique",8188]
["resonance","resonance",8189]
["simulate","simulate",8190]
["yep","yep",8191]
["competitiveness","competitiveness",8192]
["landowner","landowner",8193]
["coarse","coarse",8194]
["pony","pony",8195]
["dissident","dissident",8196]
["revolt","revolt",8197]
["turnout","turnout",8198]
["imported","imported",8199]
["reconsider","reconsider",8200]
["conversely","conversely",8201]
["headlight","headlight",8202]
["rogue","rogue",8203]
["aspire","aspire",8204]
["fiery","fiery",8205]
["Rave","rave",8206]
["tavern","tavern",8207]
["adaptive","adaptive",8208]
["hustle","hustle",8209]
["slower","slower",8210]
["acceleration","acceleration",8211]
["plasma","plasma",8212]
["navigation","navigation",8213]
["Bourgeois","bourgeois",8214]
["eh","eh",8215]
["Hallmark","hallmark",8216]
["porcelain","porcelain",8217]
["drizzle","drizzle",8218]
["refrigerate","refrigerate",8219]
["seam","seam",8220]
["snag","snag",8221]
["monastery","monastery",8222]
["poker","poker",8223]
["evacuation","evacuation",8224]
["gourmet","gourmet",8225]
["industrialized","industrialized",8226]
["Mixer","mixer",8227]
["conserve","conserve",8228]
["convene","convene",8229]
["Flora","flora",8230]
["disciplinary","disciplinary",8231]
["Mingle","mingle",8232]
["ordeal","ordeal",8233]
["heroine","heroine",8234]
["tame","tame",8235]
["affective","affective",8236]
["struggling","struggling",8237]
["mustache","mustache",8238]
["incapable","incapable",8239]
["hypothetical","hypothetical",8240]
["honeymoon","honeymoon",8241]
["mediation","mediation",8242]
["compassionate","compassionate",8243]
["anthrax","anthrax",8244]
["casting","casting",8245]
["Racer","racer",8246]
["evaporate","evaporate",8247]
["inaugural","inaugural",8248]
["lobbying","lobbying",8249]
["brag","brag",8250]
["jesuit","jesuit",8251]
["lapse","lapse",8252]
["rbi","rbi",8253]
["Drone","drone",8254]
["gleaming","gleaming",8255]
["prostitution","prostitution",8256]
["ragged","ragged",8257]
["fragrance","fragrance",8258]
["humiliation","humiliation",8259]
["martial","martial",8260]
["grenade","grenade",8261]
["helping","helping",8262]
["pricing","pricing",8263]
["cavalry","cavalry",8264]
["Going","going",8265]
["dealings","dealings",8266]
["erotic","erotic",8267]
["col","col",8268]
["enlightenment","enlightenment",8269]
["stunt","stunt",8270]
["pathetic","pathetic",8271]
["Prosper","prosper",8272]
["runaway","runaway",8273]
["Comp","comp",8274]
["spinal","spinal",8275]
["Hush","hush",8276]
["wavelength","wavelength",8277]
["democratization","democratization",8278]
["catalyst","catalyst",8279]
["empowerment","empowerment",8280]
["submission","submission",8281]
["Blender","blender",8282]
["repay","repay",8283]
["scalp","scalp",8284]
["aspirin","aspirin",8285]
["demonstrator","demonstrator",8286]
["Hefty","hefty",8287]
["working-class","working-class",8288]
["expressive","expressive",8289]
["woe","woe",8290]
["Hitch","hitch",8291]
["autograph","autograph",8292]
["contingency","contingency",8293]
["subdivision","subdivision",8294]
["outset","outset",8295]
["co-founder","co-founder",8296]
["heartbeat","heartbeat",8297]
["apprentice","apprentice",8298]
["groove","groove",8299]
["lateral","lateral",8300]
["ledge","ledge",8301]
["grumble","grumble",8302]
["twisted","twisted",8303]
["villain","villain",8304]
["Tier","tier",8305]
["clubhouse","clubhouse",8306]
["glitter","glitter",8307]
["inclusive","inclusive",8308]
["preclude","preclude",8309]
["theoretically","theoretically",8310]
["Clutter","clutter",8311]
["disciple","disciple",8312]
["grizzly","grizzly",8313]
["ape","ape",8314]
["advent","advent",8315]
["cucumber","cucumber",8316]
["coping","coping",8317]
["tar","tar",8318]
["alpine","alpine",8319]
["scrutinize","scrutinize",8320]
["portrayal","portrayal",8321]
["Corpus","corpus",8322]
["acknowledgment","acknowledgment",8323]
["celebrated","celebrated",8324]
["Nipple","nipple",8325]
["striped","striped",8326]
["aggregate","aggregate",8327]
["gag","gag",8328]
["stigma","stigma",8329]
["Pore","pore",8330]
["face-to-face","face-to-face",8331]
["neon","neon",8332]
["scam","scam",8333]
["novelty","novelty",8334]
["presbyterian","presbyterian",8335]
["punk","punk",8336]
["abstraction","abstraction",8337]
["outskirt","outskirt",8338]
["co-op","co-op",8339]
["racing","racing",8340]
["successive","successive",8341]
["adorn","adorn",8342]
["famed","famed",8343]
["familiarity","familiarity",8344]
["Blazer","blazer",8345]
["unseen","unseen",8346]
["succumb","succumb",8347]
["cycling","cycling",8348]
["vodka","vodka",8349]
["Thaw","thaw",8350]
["gel","gel",8351]
["Rocker","rocker",8352]
["close-up","close-up",8353]
["structured","structured",8354]
["subscription","subscription",8355]
["authenticity","authenticity",8356]
["cranberry","cranberry",8357]
["resurrection","resurrection",8358]
["confide","confide",8359]
["Drummer","drummer",8360]
["irresponsible","irresponsible",8361]
["pivotal","pivotal",8362]
["deliberation","deliberation",8363]
["Barren","barren",8364]
["equate","equate",8365]
["stomp","stomp",8366]
["modernization","modernization",8367]
["rehearse","rehearse",8368]
["disconnect","disconnect",8369]
["capitalize","capitalize",8370]
["Brandy","brandy",8371]
["normative","normative",8372]
["podium","podium",8373]
["Crook","crook",8374]
["glamorous","glamorous",8375]
["attempted","attempted",8376]
["Brim","brim",8377]
["fetus","fetus",8378]
["self-efficacy","self-efficacy",8379]
["shaky","shaky",8380]
["dorm","dorm",8381]
["slug","slug",8382]
["stature","stature",8383]
["sustainability","sustainability",8384]
["Traverse","traverse",8385]
["broadcaster","broadcaster",8386]
["drunken","drunken",8387]
["Fern","fern",8388]
["fatty","fatty",8389]
["medium-high","medium-high",8390]
["latitude","latitude",8391]
["consortium","consortium",8392]
["sift","sift",8393]
["trooper","trooper",8394]
["feeding","feeding",8395]
["reviewer","reviewer",8396]
["Shutter","shutter",8397]
["infected","infected",8398]
["Beacon","beacon",8399]
["norwegian","norwegian",8400]
["scanner","scanner",8401]
["turnaround","turnaround",8402]
["Raspberry","raspberry",8403]
["latch","latch",8404]
["incur","incur",8405]
["regiment","regiment",8406]
["savor","savor",8407]
["seep","seep",8408]
["Peck","peck",8409]
["singular","singular",8410]
["blessed","blessed",8411]
["foreclosure","foreclosure",8412]
["chilling","chilling",8413]
["same-sex","same-sex",8414]
["indifference","indifference",8415]
["imbalance","imbalance",8416]
["recollection","recollection",8417]
["scenic","scenic",8418]
["jeopardize","jeopardize",8419]
["ubiquitous","ubiquitous",8420]
["atrocity","atrocity",8421]
["booster","booster",8422]
["hinder","hinder",8423]
["fiddle","fiddle",8424]
["characterization","characterization",8425]
["redemption","redemption",8426]
["Birch","birch",8427]
["Anguish","anguish",8428]
["sensory","sensory",8429]
["unify","unify",8430]
["jealousy","jealousy",8431]
["exquisite","exquisite",8432]
["thug","thug",8433]
["acoustic","acoustic",8434]
["Tickle","tickle",8435]
["lousy","lousy",8436]
["designation","designation",8437]
["Garrison","garrison",8438]
["cumulative","cumulative",8439]
["anatomy","anatomy",8440]
["longing","longing",8441]
["automated","automated",8442]
["carving","carving",8443]
["jihad","jihad",8444]
["packed","packed",8445]
["amnesty","amnesty",8446]
["Nanny","nanny",8447]
["yearn","yearn",8448]
["reinvent","reinvent",8449]
["irregular","irregular",8450]
["bunny","bunny",8451]
["grapple","grapple",8452]
["avalanche","avalanche",8453]
["remake","remake",8454]
["eligibility","eligibility",8455]
["Alas","alas",8456]
["aroma","aroma",8457]
["tsunami","tsunami",8458]
["disruptive","disruptive",8459]
["heighten","heighten",8460]
["pathogen","pathogen",8461]
["divorced","divorced",8462]
["annoying","annoying",8463]
["zoning","zoning",8464]
["consciously","consciously",8465]
["exhaustion","exhaustion",8466]
["rooftop","rooftop",8467]
["Heater","heater",8468]
["vapor","vapor",8469]
["paperback","paperback",8470]
["partition","partition",8471]
["eccentric","eccentric",8472]
["Monarch","monarch",8473]
["synagogue","synagogue",8474]
["uneven","uneven",8475]
["heed","heed",8476]
["liaison","liaison",8477]
["Mango","mango",8478]
["alienate","alienate",8479]
["bodyguard","bodyguard",8480]
["knuckle","knuckle",8481]
["carved","carved",8482]
["citation","citation",8483]
["Pickle","pickle",8484]
["faded","faded",8485]
["ridicule","ridicule",8486]
["expanse","expanse",8487]
["foreground","foreground",8488]
["meteor","meteor",8489]
["floral","floral",8490]
["cleric","cleric",8491]
["Bun","bun",8492]
["clench","clench",8493]
["covenant","covenant",8494]
["patriotism","patriotism",8495]
["moderately","moderately",8496]
["dwelling","dwelling",8497]
["evergreen","evergreen",8498]
["nonproliferation","nonproliferation",8499]
["antioxidant","antioxidant",8500]
["occupant","occupant",8501]
["computerized","computerized",8502]
["township","township",8503]
["Mogul","mogul",8504]
["insecurity","insecurity",8505]
["visionary","visionary",8506]
["Covert","covert",8507]
["pristine","pristine",8508]
["darken","darken",8509]
["distinctly","distinctly",8510]
["Hone","hone",8511]
["all-purpose","all-purpose",8512]
["coating","coating",8513]
["Billing","billing",8514]
["excavation","excavation",8515]
["gulp","gulp",8516]
["immerse","immerse",8517]
["accumulation","accumulation",8518]
["restructure","restructure",8519]
["crooked","crooked",8520]
["url","url",8521]
["thicken","thicken",8522]
["Decker","decker",8523]
["armored","armored",8524]
["continuum","continuum",8525]
["whore","whore",8526]
["cripple","cripple",8527]
["eternity","eternity",8528]
["longitudinal","longitudinal",8529]
["Ark","ark",8530]
["narrowly","narrowly",8531]
["commonwealth","commonwealth",8532]
["crushed","crushed",8533]
["hypothesize","hypothesize",8534]
["superpower","superpower",8535]
["eerie","eerie",8536]
["metallic","metallic",8537]
["farmhouse","farmhouse",8538]
["hierarchical","hierarchical",8539]
["ooh","ooh",8540]
["convoy","convoy",8541]
["backing","backing",8542]
["creditor","creditor",8543]
["semifinal","semifinal",8544]
["supernatural","supernatural",8545]
["Troll","troll",8546]
["famine","famine",8547]
["nostalgia","nostalgia",8548]
["aura","aura",8549]
["rouge","rouge",8550]
["sculptor","sculptor",8551]
["divided","divided",8552]
["pilgrimage","pilgrimage",8553]
["grimace","grimace",8554]
["handcuff","handcuff",8555]
["hoist","hoist",8556]
["downside","downside",8557]
["Burrow","burrow",8558]
["insulation","insulation",8559]
["Nestle","nestle",8560]
["slit","slit",8561]
["cricket","cricket",8562]
["curved","curved",8563]
["nuisance","nuisance",8564]
["deception","deception",8565]
["grammy","grammy",8566]
["nightclub","nightclub",8567]
["mosaic","mosaic",8568]
["demographics","demographics",8569]
["glossy","glossy",8570]
["asphalt","asphalt",8571]
["drastic","drastic",8572]
["stifle","stifle",8573]
["courageous","courageous",8574]
["hospitality","hospitality",8575]
["lending","lending",8576]
["narcotic","narcotic",8577]
["causal","causal",8578]
["Rook","rook",8579]
["momentarily","momentarily",8580]
["superficial","superficial",8581]
["complementary","complementary",8582]
["convertible","convertible",8583]
["generalization","generalization",8584]
["chimney","chimney",8585]
["clout","clout",8586]
["cod","cod",8587]
["recommended","recommended",8588]
["Petal","petal",8589]
["nylon","nylon",8590]
["Mole","mole",8591]
["jockey","jockey",8592]
["centerpiece","centerpiece",8593]
["decidedly","decidedly",8594]
["nostril","nostril",8595]
["sentencing","sentencing",8596]
["traveling","traveling",8597]
["unconstitutional","unconstitutional",8598]
["whereby","whereby",8599]
["ceremonial","ceremonial",8600]
["cosmetic","cosmetic",8601]
["replay","replay",8602]
["socialize","socialize",8603]
["chilly","chilly",8604]
["contraction","contraction",8605]
["irrational","irrational",8606]
["trivial","trivial",8607]
["bailout","bailout",8608]
["inward","inward",8609]
["relic","relic",8610]
["transitional","transitional",8611]
["censor","censor",8612]
["bacterial","bacterial",8613]
["heightened","heightened",8614]
["Cramp","cramp",8615]
["attacker","attacker",8616]
["humanities","humanities",8617]
["martyr","martyr",8618]
["illicit","illicit",8619]
["Furnace","furnace",8620]
["collaborator","collaborator",8621]
["jeopardy","jeopardy",8622]
["best-seller","best-seller",8623]
["modernist","modernist",8624]
["rotten","rotten",8625]
["pudding","pudding",8626]
["unpopular","unpopular",8627]
["oblivious","oblivious",8628]
["funnel","funnel",8629]
["fluctuation","fluctuation",8630]
["plateau","plateau",8631]
["boarding","boarding",8632]
["converge","converge",8633]
["awfully","awfully",8634]
["Indonesian","indonesian",8635]
["recognizable","recognizable",8636]
["Asbestos","asbestos",8637]
["ghetto","ghetto",8638]
["sponge","sponge",8639]
["scowl","scowl",8640]
["monumental","monumental",8641]
["excursion","excursion",8642]
["Defiance","defiance",8643]
["freight","freight",8644]
["municipality","municipality",8645]
["thou","thou",8646]
["Redwood","redwood",8647]
["Scurry","scurry",8648]
["humidity","humidity",8649]
["Cherish","cherish",8650]
["liberalization","liberalization",8651]
["inclination","inclination",8652]
["sentimental","sentimental",8653]
["classified","classified",8654]
["parasite","parasite",8655]
["playful","playful",8656]
["mystical","mystical",8657]
["aquarium","aquarium",8658]
["reckon","reckon",8659]
["Defer","defer",8660]
["seating","seating",8661]
["hogan","hogan",8662]
["phony","phony",8663]
["pavilion","pavilion",8664]
["liable","liable",8665]
["Derby","derby",8666]
["annoyed","annoyed",8667]
["eyelid","eyelid",8668]
["Portal","portal",8669]
["indefinitely","indefinitely",8670]
["kinship","kinship",8671]
["low-cost","low-cost",8672]
["commonplace","commonplace",8673]
["degrade","degrade",8674]
["digit","digit",8675]
["Boo","boo",8676]
["herbal","herbal",8677]
["absorption","absorption",8678]
["enthusiast","enthusiast",8679]
["lutheran","lutheran",8680]
["restrictive","restrictive",8681]
["electorate","electorate",8682]
["high-end","high-end",8683]
["impending","impending",8684]
["stylish","stylish",8685]
["donkey","donkey",8686]
["downstream","downstream",8687]
["Mariner","mariner",8688]
["boredom","boredom",8689]
["mixing","mixing",8690]
["pulp","pulp",8691]
["damaging","damaging",8692]
["impoverished","impoverished",8693]
["promoter","promoter",8694]
["toxin","toxin",8695]
["consolidation","consolidation",8696]
["indifferent","indifferent",8697]
["denomination","denomination",8698]
["thwart","thwart",8699]
["Polo","polo",8700]
["pup","pup",8701]
["Camper","camper",8702]
["seasoning","seasoning",8703]
["trade-off","trade-off",8704]
["uphill","uphill",8705]
["hectare","hectare",8706]
["prominence","prominence",8707]
["thickness","thickness",8708]
["handgun","handgun",8709]
["screech","screech",8710]
["vie","vie",8711]
["binary","binary",8712]
["chosen","chosen",8713]
["moth","moth",8714]
["Monte","monte",8715]
["overhear","overhear",8716]
["volcanic","volcanic",8717]
["arrogance","arrogance",8718]
["slipper","slipper",8719]
["versatile","versatile",8720]
["attribution","attribution",8721]
["duct","duct",8722]
["acrylic","acrylic",8723]
["mildly","mildly",8724]
["phantom","phantom",8725]
["Gale","gale",8726]
["approximate","approximate",8727]
["irritate","irritate",8728]
["redesign","redesign",8729]
["devour","devour",8730]
["asparagus","asparagus",8731]
["Gala","gala",8732]
["eruption","eruption",8733]
["groundwater","groundwater",8734]
["retaliation","retaliation",8735]
["flea","flea",8736]
["earmark","earmark",8737]
["guided","guided",8738]
["seriousness","seriousness",8739]
["brokerage","brokerage",8740]
["antiquity","antiquity",8741]
["disdain","disdain",8742]
["intuition","intuition",8743]
["Thorn","thorn",8744]
["motivational","motivational",8745]
["ominous","ominous",8746]
["renovate","renovate",8747]
["winery","winery",8748]
["multitude","multitude",8749]
["Nova","nova",8750]
["prod","prod",8751]
["bog","bog",8752]
["Hungarian","hungarian",8753]
["obstruction","obstruction",8754]
["wig","wig",8755]
["materialize","materialize",8756]
["passer-by","passer-by",8757]
["Gust","gust",8758]
["reckless","reckless",8759]
["insulin","insulin",8760]
["bristle","bristle",8761]
["intentional","intentional",8762]
["retrospect","retrospect",8763]
["spokesperson","spokesperson",8764]
["imprint","imprint",8765]
["crib","crib",8766]
["dispense","dispense",8767]
["high-level","high-level",8768]
["Plume","plume",8769]
["parmesan","parmesan",8770]
["tenet","tenet",8771]
["uniquely","uniquely",8772]
["radiate","radiate",8773]
["verb","verb",8774]
["interdisciplinary","interdisciplinary",8775]
["simultaneous","simultaneous",8776]
["assassin","assassin",8777]
["entree","entree",8778]
["raisin","raisin",8779]
["entrepreneurial","entrepreneurial",8780]
["archbishop","archbishop",8781]
["lighten","lighten",8782]
["mutation","mutation",8783]
["Eddy","eddy",8784]
["heavyweight","heavyweight",8785]
["pebble","pebble",8786]
["retrospective","retrospective",8787]
["furnishings","furnishings",8788]
["customary","customary",8789]
["hand-held","hand-held",8790]
["marxist","marxist",8791]
["damaged","damaged",8792]
["filthy","filthy",8793]
["charismatic","charismatic",8794]
["Lad","lad",8795]
["in-depth","in-depth",8796]
["chime","chime",8797]
["Chaplain","chaplain",8798]
["high-risk","high-risk",8799]
["nonstop","nonstop",8800]
["abide","abide",8801]
["dazzling","dazzling",8802]
["Caress","caress",8803]
["introductory","introductory",8804]
["outskirts","outskirts",8805]
["booming","booming",8806]
["censorship","censorship",8807]
["eyewitness","eyewitness",8808]
["duo","duo",8809]
["gunshot","gunshot",8810]
["juicy","juicy",8811]
["entertainer","entertainer",8812]
["fulfillment","fulfillment",8813]
["contestant","contestant",8814]
["Freshwater","freshwater",8815]
["disarm","disarm",8816]
["procedural","procedural",8817]
["rapper","rapper",8818]
["Pee","pee",8819]
["suicidal","suicidal",8820]
["amenities","amenities",8821]
["diving","diving",8822]
["soothing","soothing",8823]
["Pouch","pouch",8824]
["euro","euro",8825]
["variant","variant",8826]
["Carton","carton",8827]
["frantically","frantically",8828]
["doctorate","doctorate",8829]
["lava","lava",8830]
["menace","menace",8831]
["commanding","commanding",8832]
["humane","humane",8833]
["deceive","deceive",8834]
["Sherry","sherry",8835]
["avoidance","avoidance",8836]
["puddle","puddle",8837]
["Hem","hem",8838]
["collegiate","collegiate",8839]
["participating","participating",8840]
["vitality","vitality",8841]
["Ion","ion",8842]
["Spruce","spruce",8843]
["clam","clam",8844]
["elf","elf",8845]
["Mare","mare",8846]
["gadget","gadget",8847]
["demeanor","demeanor",8848]
["flyer","flyer",8849]
["diffuse","diffuse",8850]
["Oiler","oiler",8851]
["unchastity","unchastity",8852]
["charger","charger",8853]
["pneumonia","pneumonia",8854]
["catfish","catfish",8855]
["avid","avid",8856]
["crackle","crackle",8857]
["textual","textual",8858]
["allude","allude",8859]
["storytelling","storytelling",8860]
["diversify","diversify",8861]
["confidentiality","confidentiality",8862]
["attest","attest",8863]
["antibody","antibody",8864]
["Warden","warden",8865]
["tempting","tempting",8866]
["Carver","carver",8867]
["terrifying","terrifying",8868]
["pesto","pesto",8869]
["Holler","holler",8870]
["coax","coax",8871]
["Para","para",8872]
["recycled","recycled",8873]
["spacious","spacious",8874]
["stuffed","stuffed",8875]
["semiconductor","semiconductor",8876]
["taboo","taboo",8877]
["ballpark","ballpark",8878]
["drastically","drastically",8879]
["dissertation","dissertation",8880]
["sizable","sizable",8881]
["makeshift","makeshift",8882]
["Frail","frail",8883]
["gracious","gracious",8884]
["influx","influx",8885]
["one-year","one-year",8886]
["veer","veer",8887]
["losing","losing",8888]
["cartel","cartel",8889]
["mitigate","mitigate",8890]
["Skinner","skinner",8891]
["commercially","commercially",8892]
["grievance","grievance",8893]
["clog","clog",8894]
["geological","geological",8895]
["refreshing","refreshing",8896]
["candidacy","candidacy",8897]
["mar","mar",8898]
["cartridge","cartridge",8899]
["swoop","swoop",8900]
["Parody","parody",8901]
["first-time","first-time",8902]
["arbitration","arbitration",8903]
["derivative","derivative",8904]
["misconduct","misconduct",8905]
["pajamas","pajamas",8906]
["thirty-five","thirty-five",8907]
["Buff","buff",8908]
["graffiti","graffiti",8909]
["milestone","milestone",8910]
["Gaming","gaming",8911]
["pluralism","pluralism",8912]
["tuberculosis","tuberculosis",8913]
["Gloss","gloss",8914]
["vengeance","vengeance",8915]
["Cove","cove",8916]
["lineman","lineman",8917]
["stunned","stunned",8918]
["brutality","brutality",8919]
["gunfire","gunfire",8920]
["automotive","automotive",8921]
["mythology","mythology",8922]
["bedside","bedside",8923]
["Bouquet","bouquet",8924]
["differing","differing",8925]
["manure","manure",8926]
["Maiden","maiden",8927]
["sinus","sinus",8928]
["backstage","backstage",8929]
["impede","impede",8930]
["midsummer","midsummer",8931]
["Aye","aye",8932]
["caucasian","caucasian",8933]
["stakeholder","stakeholder",8934]
["aerobic","aerobic",8935]
["celestial","celestial",8936]
["citrus","citrus",8937]
["seduce","seduce",8938]
["skeptic","skeptic",8939]
["infuse","infuse",8940]
["persuasive","persuasive",8941]
["visualize","visualize",8942]
["ailment","ailment",8943]
["networking","networking",8944]
["starving","starving",8945]
["inscription","inscription",8946]
["wastewater","wastewater",8947]
["reiterate","reiterate",8948]
["displacement","displacement",8949]
["emanate","emanate",8950]
["shoreline","shoreline",8951]
["mammoth","mammoth",8952]
["famously","famously",8953]
["nonexistent","nonexistent",8954]
["censored","censored",8955]
["Thrift","thrift",8956]
["paranoid","paranoid",8957]
["beckon","beckon",8958]
["vapour","vapour",8959]
["unrealistic","unrealistic",8960]
["purity","purity",8961]
["persecution","persecution",8962]
["exceptionally","exceptionally",8963]
["outweigh","outweigh",8964]
["Scotch","scotch",8965]
["facet","facet",8966]
["rhythmic","rhythmic",8967]
["inaccurate","inaccurate",8968]
["intently","intently",8969]
["scroll","scroll",8970]
["asshole","asshole",8971]
["larva","larva",8972]
["populist","populist",8973]
["anomaly","anomaly",8974]
["hired","hired",8975]
["Bliss","bliss",8976]
["containment","containment",8977]
["preceding","preceding",8978]
["itch","itch",8979]
["colombian","colombian",8980]
["deregulation","deregulation",8981]
["Satin","satin",8982]
["fugitive","fugitive",8983]
["sweaty","sweaty",8984]
["internally","internally",8985]
["sequel","sequel",8986]
["postseason","postseason",8987]
["apparel","apparel",8988]
["gin","gin",8989]
["kosher","kosher",8990]
["plywood","plywood",8991]
["Sever","sever",8992]
["smuggle","smuggle",8993]
["wrongdoing","wrongdoing",8994]
["wreckage","wreckage",8995]
["open-ended","open-ended",8996]
["three-quarters","three-quarters",8997]
["improvise","improvise",8998]
["recorded","recorded",8999]
["styling","styling",9000]
["contentious","contentious",9001]
["gorge","gorge",9002]
["torment","torment",9003]
["commemorate","commemorate",9004]
["intrusion","intrusion",9005]
["Fray","fray",9006]
["anticipated","anticipated",9007]
["shootout","shootout",9008]
["socialization","socialization",9009]
["Berth","berth",9010]
["factual","factual",9011]
["incidentally","incidentally",9012]
["invasive","invasive",9013]
["jaguar","jaguar",9014]
["malaria","malaria",9015]
["solving","solving",9016]
["austrian","austrian",9017]
["Barefoot","barefoot",9018]
["handler","handler",9019]
["preoccupation","preoccupation",9020]
["rampant","rampant",9021]
["appetizer","appetizer",9022]
["negotiating","negotiating",9023]
["punitive","punitive",9024]
["whack","whack",9025]
["flute","flute",9026]
["three-dimensional","three-dimensional",9027]
["jab","jab",9028]
["override","override",9029]
["sesame","sesame",9030]
["recoil","recoil",9031]
["aboriginal","aboriginal",9032]
["Poppy","poppy",9033]
["affected","affected",9034]
["blueberry","blueberry",9035]
["endlessly","endlessly",9036]
["horrific","horrific",9037]
["pigment","pigment",9038]
["birdie","birdie",9039]
["blockbuster","blockbuster",9040]
["disadvantaged","disadvantaged",9041]
["perpetual","perpetual",9042]
["shampoo","shampoo",9043]
["rum","rum",9044]
["lineage","lineage",9045]
["unravel","unravel",9046]
["zest","zest",9047]
["inflammation","inflammation",9048]
["arbor","arbor",9049]
["continuation","continuation",9050]
["Brisk","brisk",9051]
["genesis","genesis",9052]
["borrower","borrower",9053]
["checklist","checklist",9054]
["magician","magician",9055]
["sparkling","sparkling",9056]
["al-qaeda","al-qaeda",9057]
["crimson","crimson",9058]
["inspired","inspired",9059]
["Gal","gal",9060]
["mediator","mediator",9061]
["subside","subside",9062]
["momma","momma",9063]
["restricted","restricted",9064]
["parachute","parachute",9065]
["Said","said",9066]
["pe","pe",9067]
["Backer","backer",9068]
["dysfunction","dysfunction",9069]
["intellect","intellect",9070]
["cross-country","cross-country",9071]
["flinch","flinch",9072]
["assortment","assortment",9073]
["leftist","leftist",9074]
["limo","limo",9075]
["Cantor","cantor",9076]
["assimilation","assimilation",9077]
["fallout","fallout",9078]
["intellectually","intellectually",9079]
["banquet","banquet",9080]
["placebo","placebo",9081]
["barracks","barracks",9082]
["dj","dj",9083]
["kayak","kayak",9084]
["self-determination","self-determination",9085]
["devastation","devastation",9086]
["ethiopian","ethiopian",9087]
["Drake","drake",9088]
["alteration","alteration",9089]
["anova","anova",9090]
["Riverside","riverside",9091]
["lest","lest",9092]
["longevity","longevity",9093]
["Mourning","mourning",9094]
["ancestral","ancestral",9095]
["congestion","congestion",9096]
["Garland","garland",9097]
["aerospace","aerospace",9098]
["culprit","culprit",9099]
["authoritative","authoritative",9100]
["equilibrium","equilibrium",9101]
["psychiatry","psychiatry",9102]
["tasting","tasting",9103]
["intuitive","intuitive",9104]
["jointly","jointly",9105]
["soothe","soothe",9106]
["upscale","upscale",9107]
["watcher","watcher",9108]
["mundane","mundane",9109]
["symposium","symposium",9110]
["wiggle","wiggle",9111]
["experimentation","experimentation",9112]
["Hoof","hoof",9113]
["hiker","hiker",9114]
["stressor","stressor",9115]
["dismissal","dismissal",9116]
["greatness","greatness",9117]
["Shun","shun",9118]
["on-site","on-site",9119]
["universally","universally",9120]
["ballroom","ballroom",9121]
["bladder","bladder",9122]
["gravy","gravy",9123]
["intended","intended",9124]
["camouflage","camouflage",9125]
["cellphone","cellphone",9126]
["quiver","quiver",9127]
["assassinate","assassinate",9128]
["sophistication","sophistication",9129]
["rodeo","rodeo",9130]
["tremendously","tremendously",9131]
["browser","browser",9132]
["checkpoint","checkpoint",9133]
["half-dozen","half-dozen",9134]
["unanimous","unanimous",9135]
["disparate","disparate",9136]
["ecstasy","ecstasy",9137]
["outpost","outpost",9138]
["plumbing","plumbing",9139]
["etch","etch",9140]
["inner-city","inner-city",9141]
["richness","richness",9142]
["spin-off","spin-off",9143]
["forefront","forefront",9144]
["intruder","intruder",9145]
["Cooling","cooling",9146]
["jordanian","jordanian",9147]
["salient","salient",9148]
["hard-working","hard-working",9149]
["indispensable","indispensable",9150]
["obsolete","obsolete",9151]
["taking","taking",9152]
["encyclopedia","encyclopedia",9153]
["inflate","inflate",9154]
["sighting","sighting",9155]
["squeal","squeal",9156]
["Splinter","splinter",9157]
["washing","washing",9158]
["deprivation","deprivation",9159]
["hardwood","hardwood",9160]
["ballad","ballad",9161]
["germ","germ",9162]
["admittedly","admittedly",9163]
["Hacker","hacker",9164]
["multilateral","multilateral",9165]
["nigerian","nigerian",9166]
["prudent","prudent",9167]
["interruption","interruption",9168]
["throttle","throttle",9169]
["fortress","fortress",9170]
["gravitational","gravitational",9171]
["soybean","soybean",9172]
["glint","glint",9173]
["pamphlet","pamphlet",9174]
["Rout","rout",9175]
["levee","levee",9176]
["forage","forage",9177]
["transnational","transnational",9178]
["rehab","rehab",9179]
["scribble","scribble",9180]
["crescent","crescent",9181]
["deterioration","deterioration",9182]
["Khan","khan",9183]
["folding","folding",9184]
["artisan","artisan",9185]
["curly","curly",9186]
["uninsured","uninsured",9187]
["luxurious","luxurious",9188]
["motherhood","motherhood",9189]
["posit","posit",9190]
["crackdown","crackdown",9191]
["oriental","oriental",9192]
["preoccupied","preoccupied",9193]
["tidal","tidal",9194]
["Rut","rut",9195]
["fluorescent","fluorescent",9196]
["locus","locus",9197]
["symbolism","symbolism",9198]
["Commons","commons",9199]
["spaghetti","spaghetti",9200]
["nausea","nausea",9201]
["terminology","terminology",9202]
["proxy","proxy",9203]
["sod","sod",9204]
["clearance","clearance",9205]
["irritation","irritation",9206]
["arousal","arousal",9207]
["bounty","bounty",9208]
["Canary","canary",9209]
["irresistible","irresistible",9210]
["Quarry","quarry",9211]
["adherence","adherence",9212]
["stepfather","stepfather",9213]
["Tinker","tinker",9214]
["fairway","fairway",9215]
["worthless","worthless",9216]
["dangerously","dangerously",9217]
["insignificant","insignificant",9218]
["orchid","orchid",9219]
["Deacon","deacon",9220]
["pointed","pointed",9221]
["Rusty","rusty",9222]
["by-product","by-product",9223]
["aesthetics","aesthetics",9224]
["energize","energize",9225]
["Bourbon","bourbon",9226]
["inference","inference",9227]
["Daring","daring",9228]
["orphanage","orphanage",9229]
["ethnographic","ethnographic",9230]
["late-night","late-night",9231]
["orchestrate","orchestrate",9232]
["Falter","falter",9233]
["storyteller","storyteller",9234]
["Flint","flint",9235]
["curtail","curtail",9236]
["surrogate","surrogate",9237]
["award-winning","award-winning",9238]
["quartet","quartet",9239]
["counting","counting",9240]
["perjury","perjury",9241]
["livelihood","livelihood",9242]
["loot","loot",9243]
["Flier","flier",9244]
["bullshit","bullshit",9245]
["realist","realist",9246]
["residency","residency",9247]
["waterfront","waterfront",9248]
["last-minute","last-minute",9249]
["refinery","refinery",9250]
["minced","minced",9251]
["oriole","oriole",9252]
["alright","alright",9253]
["pollster","pollster",9254]
["Mower","mower",9255]
["billionaire","billionaire",9256]
["cloning","cloning",9257]
["doughnut","doughnut",9258]
["padre","padre",9259]
["psychosocial","psychosocial",9260]
["guaranteed","guaranteed",9261]
["reappear","reappear",9262]
["Roe","roe",9263]
["accomplished","accomplished",9264]
["long-range","long-range",9265]
["memorandum","memorandum",9266]
["motionless","motionless",9267]
["discredit","discredit",9268]
["belgian","belgian",9269]
["quart","quart",9270]
["Shady","shady",9271]
["clinician","clinician",9272]
["craftsman","craftsman",9273]
["compress","compress",9274]
["augment","augment",9275]
["despise","despise",9276]
["Filipino","filipino",9277]
["Somali","somali",9278]
["jumper","jumper",9279]
["cliche","cliche",9280]
["Cam","cam",9281]
["conservatism","conservatism",9282]
["supernova","supernova",9283]
["misconception","misconception",9284]
["ex-wife","ex-wife",9285]
["fend","fend",9286]
["hassle","hassle",9287]
["instinctively","instinctively",9288]
["logging","logging",9289]
["ratify","ratify",9290]
["beet","beet",9291]
["climax","climax",9292]
["emulate","emulate",9293]
["mute","mute",9294]
["gorilla","gorilla",9295]
["maritime","maritime",9296]
["engender","engender",9297]
["syllable","syllable",9298]
["metabolism","metabolism",9299]
["Dryer","dryer",9300]
["tanker","tanker",9301]
["alcoholism","alcoholism",9302]
["wane","wane",9303]
["state-of-the-art","state-of-the-art",9304]
["concur","concur",9305]
["Pollen","pollen",9306]
["reflex","reflex",9307]
["deity","deity",9308]
["optics","optics",9309]
["panelist","panelist",9310]
["californian","californian",9311]
["dilute","dilute",9312]
["expansive","expansive",9313]
["screenplay","screenplay",9314]
["cracked","cracked",9315]
["Sane","sane",9316]
["ration","ration",9317]
["solemn","solemn",9318]
["snore","snore",9319]
["terrestrial","terrestrial",9320]
["phenomenal","phenomenal",9321]
["scant","scant",9322]
["tweak","tweak",9323]
["murky","murky",9324]
["sabotage","sabotage",9325]
["taunt","taunt",9326]
["vector","vector",9327]
["all-american","all-american",9328]
["cramped","cramped",9329]
["reaffirm","reaffirm",9330]
["upheaval","upheaval",9331]
["guitarist","guitarist",9332]
["peacefully","peacefully",9333]
["spreading","spreading",9334]
["cultivation","cultivation",9335]
["enclave","enclave",9336]
["co-star","co-star",9337]
["til","til",9338]
["worldview","worldview",9339]
["dummy","dummy",9340]
["Kitten","kitten",9341]
["feud","feud",9342]
["overt","overt",9343]
["unsafe","unsafe",9344]
["waiver","waiver",9345]
["gangster","gangster",9346]
["jumping","jumping",9347]
["limestone","limestone",9348]
["lifting","lifting",9349]
["sliding","sliding",9350]
["cactus","cactus",9351]
["Riding","riding",9352]
["denote","denote",9353]
["Blizzard","blizzard",9354]
["womb","womb",9355]
["world-class","world-class",9356]
["discrete","discrete",9357]
["caffeine","caffeine",9358]
["platoon","platoon",9359]
["trafficking","trafficking",9360]
["incarnation","incarnation",9361]
["affinity","affinity",9362]
["bowel","bowel",9363]
["cornerback","cornerback",9364]
["hastily","hastily",9365]
["midwestern","midwestern",9366]
["Flurry","flurry",9367]
["utilization","utilization",9368]
["Gypsy","gypsy",9369]
["vantage","vantage",9370]
["swivel","swivel",9371]
["umpire","umpire",9372]
["imposing","imposing",9373]
["stringent","stringent",9374]
["Martini","martini",9375]
["colonist","colonist",9376]
["depressing","depressing",9377]
["dreadful","dreadful",9378]
["hysterical","hysterical",9379]
["federally","federally",9380]
["fraternity","fraternity",9381]
["hymn","hymn",9382]
["observed","observed",9383]
["strangle","strangle",9384]
["ostensibly","ostensibly",9385]
["Sly","sly",9386]
["liken","liken",9387]
["gloom","gloom",9388]
["coma","coma",9389]
["titan","titan",9390]
["bony","bony",9391]
["inscribe","inscribe",9392]
["napa","napa",9393]
["touching","touching",9394]
["squeak","squeak",9395]
["sweetness","sweetness",9396]
["coaster","coaster",9397]
["eradicate","eradicate",9398]
["nuance","nuance",9399]
["psychologically","psychologically",9400]
["demanding","demanding",9401]
["outnumber","outnumber",9402]
["resilience","resilience",9403]
["accused","accused",9404]
["mustang","mustang",9405]
["elegance","elegance",9406]
["belongings","belongings",9407]
["Sheen","sheen",9408]
["pageant","pageant",9409]
["snarl","snarl",9410]
["preferably","preferably",9411]
["subgroup","subgroup",9412]
["algae","algae",9413]
["Lander","lander",9414]
["Argentine","argentine",9415]
["chlorine","chlorine",9416]
["foyer","foyer",9417]
["halve","halve",9418]
["twenty-two","twenty-two",9419]
["Prom","prom",9420]
["assimilate","assimilate",9421]
["behold","behold",9422]
["healer","healer",9423]
["accreditation","accreditation",9424]
["purge","purge",9425]
["emptiness","emptiness",9426]
["Failing","failing",9427]
["enrichment","enrichment",9428]
["malpractice","malpractice",9429]
["Mayo","mayo",9430]
["orbital","orbital",9431]
["self-confidence","self-confidence",9432]
["licensed","licensed",9433]
["motorist","motorist",9434]
["unilateral","unilateral",9435]
["waver","waver",9436]
["covered","covered",9437]
["statutory","statutory",9438]
["extinct","extinct",9439]
["forty-five","forty-five",9440]
["undercut","undercut",9441]
["inadvertently","inadvertently",9442]
["voltage","voltage",9443]
["proficiency","proficiency",9444]
["rewarding","rewarding",9445]
["warranty","warranty",9446]
["sponsorship","sponsorship",9447]
["bilingual","bilingual",9448]
["muted","muted",9449]
["Huff","huff",9450]
["jagged","jagged",9451]
["advancing","advancing",9452]
["inconsistency","inconsistency",9453]
["Emerald","emerald",9454]
["opaque","opaque",9455]
["problem-solving","problem-solving",9456]
["redeem","redeem",9457]
["noteworthy","noteworthy",9458]
["subtitle","subtitle",9459]
["tofu","tofu",9460]
["hypocrisy","hypocrisy",9461]
["implicitly","implicitly",9462]
["sloppy","sloppy",9463]
["browse","browse",9464]
["punctuate","punctuate",9465]
["Speedy","speedy",9466]
["twig","twig",9467]
["breadth","breadth",9468]
["breaking","breaking",9469]
["faintly","faintly",9470]
["Mecca","mecca",9471]
["ascertain","ascertain",9472]
["connected","connected",9473]
["paramount","paramount",9474]
["clockwise","clockwise",9475]
["suffice","suffice",9476]
["hippie","hippie",9477]
["upbeat","upbeat",9478]
["finite","finite",9479]
["framed","framed",9480]
["Concord","concord",9481]
["radius","radius",9482]
["strut","strut",9483]
["yeast","yeast",9484]
["coercion","coercion",9485]
["inauguration","inauguration",9486]
["light-year","light-year",9487]
["raising","raising",9488]
["dealership","dealership",9489]
["nope","nope",9490]
["shroud","shroud",9491]
["firsthand","firsthand",9492]
["impaired","impaired",9493]
["registry","registry",9494]
["impetus","impetus",9495]
["limiting","limiting",9496]
["Topping","topping",9497]
["quantify","quantify",9498]
["editing","editing",9499]
["revealing","revealing",9500]
["twenty-one","twenty-one",9501]
["wallpaper","wallpaper",9502]
["melancholy","melancholy",9503]
["terrified","terrified",9504]
["alienation","alienation",9505]
["rename","rename",9506]
["transcribe","transcribe",9507]
["trendy","trendy",9508]
["victimization","victimization",9509]
["burgeoning","burgeoning",9510]
["improvisation","improvisation",9511]
["reserved","reserved",9512]
["tangled","tangled",9513]
["Gamma","gamma",9514]
["barricade","barricade",9515]
["Hooker","hooker",9516]
["electrode","electrode",9517]
["fret","fret",9518]
["scorer","scorer",9519]
["creme","creme",9520]
["scour","scour",9521]
["flux","flux",9522]
["unofficial","unofficial",9523]
["acculturation","acculturation",9524]
["lining","lining",9525]
["sap","sap",9526]
["slum","slum",9527]
["lagoon","lagoon",9528]
["tyranny","tyranny",9529]
["template","template",9530]
["interpretive","interpretive",9531]
["thermometer","thermometer",9532]
["replica","replica",9533]
["Riches","riches",9534]
["sulfur","sulfur",9535]
["folly","folly",9536]
["lighthouse","lighthouse",9537]
["managerial","managerial",9538]
["Lookout","lookout",9539]
["one-half","one-half",9540]
["stiffen","stiffen",9541]
["caretaker","caretaker",9542]
["humility","humility",9543]
["occupied","occupied",9544]
["prophecy","prophecy",9545]
["anthem","anthem",9546]
["Mow","mow",9547]
["caste","caste",9548]
["obese","obese",9549]
["reshape","reshape",9550]
["heavenly","heavenly",9551]
["majesty","majesty",9552]
["treadmill","treadmill",9553]
["amish","amish",9554]
["monarchy","monarchy",9555]
["racially","racially",9556]
["savior","savior",9557]
["Punt","punt",9558]
["shredded","shredded",9559]
["cut-off","cut-off",9560]
["one-on-one","one-on-one",9561]
["ashore","ashore",9562]
["serum","serum",9563]
["Marrow","marrow",9564]
["downright","downright",9565]
["Yen","yen",9566]
["futile","futile",9567]
["one-way","one-way",9568]
["junction","junction",9569]
["precursor","precursor",9570]
["cider","cider",9571]
["dementia","dementia",9572]
["predictive","predictive",9573]
["scarcity","scarcity",9574]
["humiliate","humiliate",9575]
["osteoporosis","osteoporosis",9576]
["sunscreen","sunscreen",9577]
["intimidating","intimidating",9578]
["minivan","minivan",9579]
["powerless","powerless",9580]
["tenor","tenor",9581]
["diocese","diocese",9582]
["footing","footing",9583]
["Pagan","pagan",9584]
["miraculous","miraculous",9585]
["skater","skater",9586]
["skyline","skyline",9587]
["candid","candid",9588]
["humanist","humanist",9589]
["modernism","modernism",9590]
["upstate","upstate",9591]
["waterway","waterway",9592]
["avocado","avocado",9593]
["undertaking","undertaking",9594]
["elude","elude",9595]
["greasy","greasy",9596]
["man-made","man-made",9597]
["nontraditional","nontraditional",9598]
["carcass","carcass",9599]
["Patsy","patsy",9600]
["mulch","mulch",9601]
["Converse","converse",9602]
["beep","beep",9603]
["chromosome","chromosome",9604]
["Grad","grad",9605]
["crease","crease",9606]
["eldest","eldest",9607]
["finale","finale",9608]
["Derrick","derrick",9609]
["sprig","sprig",9610]
["taco","taco",9611]
["warhead","warhead",9612]
["counterinsurgency","counterinsurgency",9613]
["halo","halo",9614]
["pediatrician","pediatrician",9615]
["receptor","receptor",9616]
["biotechnology","biotechnology",9617]
["dope","dope",9618]
["proactive","proactive",9619]
["Meager","meager",9620]
["twenty-first","twenty-first",9621]
["refund","refund",9622]
["stylist","stylist",9623]
["televised","televised",9624]
["vanguard","vanguard",9625]
["attainment","attainment",9626]
["ensue","ensue",9627]
["tote","tote",9628]
["blockade","blockade",9629]
["Gush","gush",9630]
["swelling","swelling",9631]
["Canton","canton",9632]
["bestow","bestow",9633]
["bulky","bulky",9634]
["conspicuous","conspicuous",9635]
["curricular","curricular",9636]
["generating","generating",9637]
["poisoning","poisoning",9638]
["rectangular","rectangular",9639]
["neuron","neuron",9640]
["Rigor","rigor",9641]
["ultraviolet","ultraviolet",9642]
["holistic","holistic",9643]
["lithuanian","lithuanian",9644]
["called","called",9645]
["centralized","centralized",9646]
["jug","jug",9647]
["unmarried","unmarried",9648]
["contaminant","contaminant",9649]
["gait","gait",9650]
["swollen","swollen",9651]
["vinyl","vinyl",9652]
["oust","oust",9653]
["scorn","scorn",9654]
["biomass","biomass",9655]
["predicament","predicament",9656]
["Jasmine","jasmine",9657]
["proprietary","proprietary",9658]
["squirm","squirm",9659]
["swat","swat",9660]
["Grieve","grieve",9661]
["ruthless","ruthless",9662]
["unthinkable","unthinkable",9663]
["furiously","furiously",9664]
["gothic","gothic",9665]
["luminous","luminous",9666]
["sterile","sterile",9667]
["pediatric","pediatric",9668]
["pundit","pundit",9669]
["taxation","taxation",9670]
["attire","attire",9671]
["preseason","preseason",9672]
["enclosure","enclosure",9673]
["sucker","sucker",9674]
["defining","defining",9675]
["Creed","creed",9676]
["blackness","blackness",9677]
["creak","creak",9678]
["rustic","rustic",9679]
["hegemony","hegemony",9680]
["two-way","two-way",9681]
["casket","casket",9682]
["traction","traction",9683]
["hesitant","hesitant",9684]
["Fielder","fielder",9685]
["amplify","amplify",9686]
["mahogany","mahogany",9687]
["vocation","vocation",9688]
["ascend","ascend",9689]
["divinity","divinity",9690]
["remotely","remotely",9691]
["sectarian","sectarian",9692]
["commence","commence",9693]
["alligator","alligator",9694]
["attentive","attentive",9695]
["brotherhood","brotherhood",9696]
["combustion","combustion",9697]
["Revel","revel",9698]
["rearrange","rearrange",9699]
["Winding","winding",9700]
["frying","frying",9701]
["hasten","hasten",9702]
["Bowman","bowman",9703]
["prolong","prolong",9704]
["statistic","statistic",9705]
["chopper","chopper",9706]
["prescribed","prescribed",9707]
["three-day","three-day",9708]
["hairy","hairy",9709]
["Dunk","dunk",9710]
["perish","perish",9711]
["smirk","smirk",9712]
["clatter","clatter",9713]
["dab","dab",9714]
["disposable","disposable",9715]
["juggle","juggle",9716]
["nibble","nibble",9717]
["startled","startled",9718]
["mobilization","mobilization",9719]
["chandelier","chandelier",9720]
["Mash","mash",9721]
["relinquish","relinquish",9722]
["soundtrack","soundtrack",9723]
["discontent","discontent",9724]
["loophole","loophole",9725]
["Flatter","flatter",9726]
["photon","photon",9727]
["stained","stained",9728]
["amass","amass",9729]
["bearded","bearded",9730]
["dismal","dismal",9731]
["Devoid","devoid",9732]
["inlet","inlet",9733]
["mileage","mileage",9734]
["best-known","best-known",9735]
["first-round","first-round",9736]
["managed","managed",9737]
["marketer","marketer",9738]
["overshadow","overshadow",9739]
["Wilt","wilt",9740]
["platinum","platinum",9741]
["veggie","veggie",9742]
["vibrate","vibrate",9743]
["vicinity","vicinity",9744]
["eclectic","eclectic",9745]
["oxide","oxide",9746]
["misguided","misguided",9747]
["apprehension","apprehension",9748]
["coupon","coupon",9749]
["excavate","excavate",9750]
["usefulness","usefulness",9751]
["congratulations","congratulations",9752]
["incense","incense",9753]
["lotion","lotion",9754]
["motivated","motivated",9755]
["Ho","ho",9756]
["dodger","dodger",9757]
["havoc","havoc",9758]
["smoky","smoky",9759]
["magnify","magnify",9760]
["walkway","walkway",9761]
["geologist","geologist",9762]
["upstream","upstream",9763]
["outburst","outburst",9764]
["powdered","powdered",9765]
["protector","protector",9766]
["rapist","rapist",9767]
["steroid","steroid",9768]
["staggering","staggering",9769]
["analog","analog",9770]
["envoy","envoy",9771]
["subtly","subtly",9772]
["wreath","wreath",9773]
["Gallop","gallop",9774]
["authorization","authorization",9775]
["inefficient","inefficient",9776]
["pitching","pitching",9777]
["finalist","finalist",9778]
["indicative","indicative",9779]
["ordinarily","ordinarily",9780]
["bullying","bullying",9781]
["convergence","convergence",9782]
["limousine","limousine",9783]
["darkened","darkened",9784]
["kinda","kinda",9785]
["reimbursement","reimbursement",9786]
["ringing","ringing",9787]
["anglo","anglo",9788]
["apiece","apiece",9789]
["blister","blister",9790]
["cleansing","cleansing",9791]
["engulf","engulf",9792]
["Hazel","hazel",9793]
["wont","wont",9794]
["decor","decor",9795]
["radiant","radiant",9796]
["admirer","admirer",9797]
["dysfunctional","dysfunctional",9798]
["soaring","soaring",9799]
["Coward","coward",9800]
["speculative","speculative",9801]
["thud","thud",9802]
["Axe","axe",9803]
["grope","grope",9804]
["microscopic","microscopic",9805]
["plainly","plainly",9806]
["sanitation","sanitation",9807]
["horrify","horrify",9808]
["insofar","insofar",9809]
["unsettle","unsettle",9810]
["chilean","chilean",9811]
["prerequisite","prerequisite",9812]
["shimmering","shimmering",9813]
["notation","notation",9814]
["pictorial","pictorial",9815]
["Wrath","wrath",9816]
["somber","somber",9817]
["lofty","lofty",9818]
["Buoy","buoy",9819]
["rodent","rodent",9820]
["thy","thy",9821]
["affirmation","affirmation",9822]
["Hearty","hearty",9823]
["bikini","bikini",9824]
["bonding","bonding",9825]
["disseminate","disseminate",9826]
["evade","evade",9827]
["Starling","starling",9828]
["mailing","mailing",9829]
["mapping","mapping",9830]
["mashed","mashed",9831]
["plentiful","plentiful",9832]
["stockpile","stockpile",9833]
["piston","piston",9834]
["polenta","polenta",9835]
["torn","torn",9836]
["Balk","balk",9837]
["dazzle","dazzle",9838]
["Hoot","hoot",9839]
["nicotine","nicotine",9840]
["ulcer","ulcer",9841]
["adept","adept",9842]
["anti-semitism","anti-semitism",9843]
["Bale","bale",9844]
["good-looking","good-looking",9845]
["abdomen","abdomen",9846]
["checkout","checkout",9847]
["intimately","intimately",9848]
["ipod","ipod",9849]
["backcountry","backcountry",9850]
["deterrent","deterrent",9851]
["shadowy","shadowy",9852]
["sinister","sinister",9853]
["licensing","licensing",9854]
["nighttime","nighttime",9855]
["Herring","herring",9856]
["rupture","rupture",9857]
["unification","unification",9858]
["numerical","numerical",9859]
["vigor","vigor",9860]
["wiring","wiring",9861]
["incompetent","incompetent",9862]
["permeate","permeate",9863]
["prominently","prominently",9864]
["rebate","rebate",9865]
["mantra","mantra",9866]
["locale","locale",9867]
["neutron","neutron",9868]
["newfound","newfound",9869]
["racket","racket",9870]
["luncheon","luncheon",9871]
["croatian","croatian",9872]
["clamor","clamor",9873]
["Manor","manor",9874]
["globally","globally",9875]
["robotic","robotic",9876]
["wasp","wasp",9877]
["acquaint","acquaint",9878]
["ensuing","ensuing",9879]
["sinology","sinology",9880]
["impart","impart",9881]
["Isle","isle",9882]
["uniformed","uniformed",9883]
["errand","errand",9884]
["metric","metric",9885]
["watchdog","watchdog",9886]
["periphery","periphery",9887]
["oppressive","oppressive",9888]
["tibetan","tibetan",9889]
["pioneering","pioneering",9890]
["sci-fi","sci-fi",9891]
["inviting","inviting",9892]
["ooze","ooze",9893]
["condemnation","condemnation",9894]
["intimidation","intimidation",9895]
["stale","stale",9896]
["defiant","defiant",9897]
["fatality","fatality",9898]
["warm-up","warm-up",9899]
["assorted","assorted",9900]
["exploratory","exploratory",9901]
["devaluate","devaluate",9902]
["Bland","bland",9903]
["pertinent","pertinent",9904]
["deflect","deflect",9905]
["finishing","finishing",9906]
["entice","entice",9907]
["Wee","wee",9908]
["poignant","poignant",9909]
["ufo","ufo",9910]
["ventilation","ventilation",9911]
["equitable","equitable",9912]
["hypertension","hypertension",9913]
["zucchini","zucchini",9914]
["adjustable","adjustable",9915]
["engaging","engaging",9916]
["recruiter","recruiter",9917]
["estimation","estimation",9918]
["molest","molest",9919]
["abandonment","abandonment",9920]
["demolish","demolish",9921]
["liturgy","liturgy",9922]
["disgrace","disgrace",9923]
["fir","fir",9924]
["torque","torque",9925]
["Lull","lull",9926]
["unto","unto",9927]
["backbone","backbone",9928]
["heading","heading",9929]
["afflict","afflict",9930]
["parishioner","parishioner",9931]
["denim","denim",9932]
["insanity","insanity",9933]
["loaded","loaded",9934]
["self-conscious","self-conscious",9935]
["twinkle","twinkle",9936]
["yugoslav","yugoslav",9937]
["condominium","condominium",9938]
["geometric","geometric",9939]
["Marking","marking",9940]
["sacrament","sacrament",9941]
["showdown","showdown",9942]
["mummy","mummy",9943]
["relegate","relegate",9944]
["bidding","bidding",9945]
["cohesion","cohesion",9946]
["Serene","serene",9947]
["coronary","coronary",9948]
["receptive","receptive",9949]
["visibly","visibly",9950]
["re-elect","re-elect",9951]
["caricature","caricature",9952]
["injunction","injunction",9953]
["orgasm","orgasm",9954]
["Brittle","brittle",9955]
["termination","termination",9956]
["flowering","flowering",9957]
["zinc","zinc",9958]
["buyout","buyout",9959]
["cosmetics","cosmetics",9960]
["analogous","analogous",9961]
["Atlas","atlas",9962]
["diabetic","diabetic",9963]
["engaged","engaged",9964]
["ambivalence","ambivalence",9965]
["blurt","blurt",9966]
["dissipate","dissipate",9967]
["elastic","elastic",9968]
["logistics","logistics",9969]
["obscene","obscene",9970]
["at-risk","at-risk",9971]
["remedial","remedial",9972]
["undecided","undecided",9973]
["Mellow","mellow",9974]
["fledgling","fledgling",9975]
["graveyard","graveyard",9976]
["presumption","presumption",9977]
["translucent","translucent",9978]
["twenty-three","twenty-three",9979]
["invader","invader",9980]
["pathology","pathology",9981]
["twirl","twirl",9982]
["exaggerated","exaggerated",9983]
["broadband","broadband",9984]
["microbe","microbe",9985]
["cornerstone","cornerstone",9986]
["festive","festive",9987]
["fro","fro",9988]
["immoral","immoral",9989]
["rounded","rounded",9990]
["slant","slant",9991]
["syringe","syringe",9992]
["delinquent","delinquent",9993]
["recurring","recurring",9994]
["testosterone","testosterone",9995]
["deserted","deserted",9996]
["fluffy","fluffy",9997]
["imprisonment","imprisonment",9998]
["patronage","patronage",9999]
["avant-garde","avant-garde",10000]
["gloomy","gloomy",10001]
["internship","internship",10002]
["sharing","sharing",10003]
["shortstop","shortstop",10004]
["barrage","barrage",10005]
["conspire","conspire",10006]
["divisive","divisive",10007]
["rustle","rustle",10008]
["amidst","amidst",10009]
["beware","beware",10010]
["darn","darn",10011]
["markedly","markedly",10012]
["pixel","pixel",10013]
["contraceptive","contraceptive",10014]
["cost-effective","cost-effective",10015]
["Gobble","gobble",10016]
["forgotten","forgotten",10017]
["straddle","straddle",10018]
["Ax","ax",10019]
["suppression","suppression",10020]
["cynicism","cynicism",10021]
["differentiation","differentiation",10022]
["Weld","weld",10023]
["porn","porn",10024]
["Fang","fang",10025]
["seductive","seductive",10026]
["obedience","obedience",10027]
["Barker","barker",10028]
["spotted","spotted",10029]
["adrenaline","adrenaline",10030]
["nation-state","nation-state",10031]
["nongovernmental","nongovernmental",10032]
["unmistakable","unmistakable",10033]
["espouse","espouse",10034]
["ballistic","ballistic",10035]
["Hardy","hardy",10036]
["hospice","hospice",10037]
["squadron","squadron",10038]
["publicize","publicize",10039]
["pessimistic","pessimistic",10040]
["annex","annex",10041]
["Chute","chute",10042]
["coordinated","coordinated",10043]
["fetal","fetal",10044]
["moratorium","moratorium",10045]
["Czar","czar",10046]
["precipitate","precipitate",10047]
["swipe","swipe",10048]
["telegraph","telegraph",10049]
["Vigil","vigil",10050]
["endow","endow",10051]
["self-interest","self-interest",10052]
["imagined","imagined",10053]
["polymer","polymer",10054]
["downplay","downplay",10055]
["handmade","handmade",10056]
["imperfect","imperfect",10057]
["witty","witty",10058]
["blare","blare",10059]
["Thee","thee",10060]
["coexist","coexist",10061]
["orthodoxy","orthodoxy",10062]
["transient","transient",10063]
["auditory","auditory",10064]
["casserole","casserole",10065]
["decoy","decoy",10066]
["Pi","pi",10067]
["margarine","margarine",10068]
["annoyance","annoyance",10069]
["sludge","sludge",10070]
["strew","strew",10071]
["stairway","stairway",10072]
["continual","continual",10073]
["infusion","infusion",10074]
["sect","sect",10075]
["squarely","squarely",10076]
["Columbine","columbine",10077]
["unconventional","unconventional",10078]
["altered","altered",10079]
["overrun","overrun",10080]
["comparatively","comparatively",10081]
["driven","driven",10082]
["sublime","sublime",10083]
["unavailable","unavailable",10084]
["Wares","wares",10085]
["fanatic","fanatic",10086]
["smoked","smoked",10087]
["fillet","fillet",10088]
["incompatible","incompatible",10089]
["necessitate","necessitate",10090]
["pantry","pantry",10091]
["sliver","sliver",10092]
["Fanny","fanny",10093]
["subsistence","subsistence",10094]
["anthropological","anthropological",10095]
["iceberg","iceberg",10096]
["Husky","husky",10097]
["inspiring","inspiring",10098]
["snail","snail",10099]
["abstinence","abstinence",10100]
["acquit","acquit",10101]
["glimmer","glimmer",10102]
["Manila","manila",10103]
["promised","promised",10104]
["sensational","sensational",10105]
["viral","viral",10106]
["cosmopolitan","cosmopolitan",10107]
["edible","edible",10108]
["homage","homage",10109]
["offstage","offstage",10110]
["validation","validation",10111]
["Fennel","fennel",10112]
["coexistence","coexistence",10113]
["flowing","flowing",10114]
["purchasing","purchasing",10115]
["seventeenth","seventeenth",10116]
["paralysis","paralysis",10117]
["suspended","suspended",10118]
["affidavit","affidavit",10119]
["aggravate","aggravate",10120]
["Beau","beau",10121]
["Morrow","morrow",10122]
["methodological","methodological",10123]
["short-lived","short-lived",10124]
["crocodile","crocodile",10125]
["drinker","drinker",10126]
["symmetry","symmetry",10127]
["exodus","exodus",10128]
["pulpit","pulpit",10129]
["tempo","tempo",10130]
["angular","angular",10131]
["Speck","speck",10132]
["censure","censure",10133]
["cognition","cognition",10134]
["Funk","funk",10135]
["colonization","colonization",10136]
["makeover","makeover",10137]
["shrinking","shrinking",10138]
["libertarian","libertarian",10139]
["small-town","small-town",10140]
["grieving","grieving",10141]
["thoughtfully","thoughtfully",10142]
["complexion","complexion",10143]
["displaced","displaced",10144]
["fed","fed",10145]
["pharmacist","pharmacist",10146]
["skewer","skewer",10147]
["stabilization","stabilization",10148]
["two-hour","two-hour",10149]
["glisten","glisten",10150]
["Ebony","ebony",10151]
["sailing","sailing",10152]
["palpable","palpable",10153]
["shortfall","shortfall",10154]
["accessibility","accessibility",10155]
["broke","broke",10156]
["homestead","homestead",10157]
["patriarchal","patriarchal",10158]
["recurrence","recurrence",10159]
["showing","showing",10160]
["taint","taint",10161]
["thyroid","thyroid",10162]
["biopsy","biopsy",10163]
["forestry","forestry",10164]
["locked","locked",10165]
["mitigation","mitigation",10166]
["Wren","wren",10167]
["nigger","nigger",10168]
["thriving","thriving",10169]
["traitor","traitor",10170]
["turbulent","turbulent",10171]
["nonviolent","nonviolent",10172]
["self-defense","self-defense",10173]
["narration","narration",10174]
["puree","puree",10175]
["recapture","recapture",10176]
["shattered","shattered",10177]
["lug","lug",10178]
["unintended","unintended",10179]
["approved","approved",10180]
["Ale","ale",10181]
["exemplary","exemplary",10182]
["plaid","plaid",10183]
["ramification","ramification",10184]
["Queer","queer",10185]
["self-help","self-help",10186]
["teacher-librarian","teacher-librarian",10187]
["unanswered","unanswered",10188]
["anthology","anthology",10189]
["coastline","coastline",10190]
["contaminated","contaminated",10191]
["cumin","cumin",10192]
["incremental","incremental",10193]
["disproportionate","disproportionate",10194]
["shallot","shallot",10195]
["grassy","grassy",10196]
["Mystic","mystic",10197]
["grazing","grazing",10198]
["in-house","in-house",10199]
["journalistic","journalistic",10200]
["menopause","menopause",10201]
["projector","projector",10202]
["relational","relational",10203]
["throng","throng",10204]
["hygiene","hygiene",10205]
["dribble","dribble",10206]
["wooded","wooded",10207]
["combatant","combatant",10208]
["misdemeanor","misdemeanor",10209]
["spew","spew",10210]
["getaway","getaway",10211]
["lefty","lefty",10212]
["colonialism","colonialism",10213]
["Rink","rink",10214]
["extraction","extraction",10215]
["handicapped","handicapped",10216]
["inception","inception",10217]
["sensual","sensual",10218]
["Hare","hare",10219]
["taut","taut",10220]
["unfairly","unfairly",10221]
["proportional","proportional",10222]
["unpaid","unpaid",10223]
["digging","digging",10224]
["Ukrainian","ukrainian",10225]
["Duel","duel",10226]
["ascent","ascent",10227]
["clipping","clipping",10228]
["earthly","earthly",10229]
["prick","prick",10230]
["scarlet","scarlet",10231]
["abuser","abuser",10232]
["closeness","closeness",10233]
["clot","clot",10234]
["forceful","forceful",10235]
["self-report","self-report",10236]
["trudge","trudge",10237]
["two-story","two-story",10238]
["addictive","addictive",10239]
["clad","clad",10240]
["Booze","booze",10241]
["appointee","appointee",10242]
["femme","femme",10243]
["hospitalize","hospitalize",10244]
["Welsh","welsh",10245]
["invaluable","invaluable",10246]
["cheerleader","cheerleader",10247]
["stimulating","stimulating",10248]
["Misty","misty",10249]
["adjective","adjective",10250]
["brutally","brutally",10251]
["generalize","generalize",10252]
["biker","biker",10253]
["repetitive","repetitive",10254]
["stationary","stationary",10255]
["vaccination","vaccination",10256]
["yahoo","yahoo",10257]
["concentrated","concentrated",10258]
["delusion","delusion",10259]
["inconvenience","inconvenience",10260]
["seedling","seedling",10261]
["triumphant","triumphant",10262]
["Thrash","thrash",10263]
["caravan","caravan",10264]
["emblem","emblem",10265]
["folded","folded",10266]
["tendon","tendon",10267]
["oasis","oasis",10268]
["defeated","defeated",10269]
["foray","foray",10270]
["sixteenth","sixteenth",10271]
["Pollock","pollock",10272]
["sluggish","sluggish",10273]
["gambler","gambler",10274]
["armenian","armenian",10275]
["Waffle","waffle",10276]
["favored","favored",10277]
["rebuilding","rebuilding",10278]
["re-establish","re-establish",10279]
["undocumented","undocumented",10280]
["varsity","varsity",10281]
["vinaigrette","vinaigrette",10282]
["fragmented","fragmented",10283]
["mitt","mitt",10284]
["profanity","profanity",10285]
["roundtable","roundtable",10286]
["coroner","coroner",10287]
["whim","whim",10288]
["adoptive","adoptive",10289]
["Leopard","leopard",10290]
["embryonic","embryonic",10291]
["ponytail","ponytail",10292]
["venerable","venerable",10293]
["breast-feeding","breast-feeding",10294]
["dagger","dagger",10295]
["determinant","determinant",10296]
["Beige","beige",10297]
["obsessive","obsessive",10298]
["alternatively","alternatively",10299]
["awkwardly","awkwardly",10300]
["homelessness","homelessness",10301]
["innate","innate",10302]
["rosy","rosy",10303]
["sneer","sneer",10304]
["odyssey","odyssey",10305]
["toasted","toasted",10306]
["additive","additive",10307]
["revert","revert",10308]
["delineate","delineate",10309]
["metaphysical","metaphysical",10310]
["overload","overload",10311]
["exposition","exposition",10312]
["favorably","favorably",10313]
["infiltrate","infiltrate",10314]
["supplemental","supplemental",10315]
["cot","cot",10316]
["inflammatory","inflammatory",10317]
["intolerance","intolerance",10318]
["packing","packing",10319]
["enthusiastically","enthusiastically",10320]
["newsroom","newsroom",10321]
["apricot","apricot",10322]
["deplete","deplete",10323]
["Parchment","parchment",10324]
["meltdown","meltdown",10325]
["immensely","immensely",10326]
["strategically","strategically",10327]
["present-day","present-day",10328]
["slowdown","slowdown",10329]
["choral","choral",10330]
["consolation","consolation",10331]
["deductible","deductible",10332]
["mating","mating",10333]
["immortal","immortal",10334]
["matchup","matchup",10335]
["rec","rec",10336]
["audible","audible",10337]
["caterpillar","caterpillar",10338]
["crumbling","crumbling",10339]
["objectivity","objectivity",10340]
["centimeter","centimeter",10341]
["esteem","esteem",10342]
["outdated","outdated",10343]
["anecdotal","anecdotal",10344]
["Pointer","pointer",10345]
["reciprocal","reciprocal",10346]
["anti-war","anti-war",10347]
["cerebral","cerebral",10348]
["stylistic","stylistic",10349]
["subtract","subtract",10350]
["Rafter","rafter",10351]
["unresolved","unresolved",10352]
["Harp","harp",10353]
["jig","jig",10354]
["outpatient","outpatient",10355]
["paramedic","paramedic",10356]
["precarious","precarious",10357]
["retarded","retarded",10358]
["cougar","cougar",10359]
["specificity","specificity",10360]
["nourish","nourish",10361]
["bio","bio",10362]
["conceptualize","conceptualize",10363]
["deli","deli",10364]
["electronically","electronically",10365]
["likeness","likeness",10366]
["splendor","splendor",10367]
["outfielder","outfielder",10368]
["eyepiece","eyepiece",10369]
["monstrous","monstrous",10370]
["neural","neural",10371]
["pullout","pullout",10372]
["scooter","scooter",10373]
["scouting","scouting",10374]
["Pane","pane",10375]
["contextual","contextual",10376]
["neurological","neurological",10377]
["prehistoric","prehistoric",10378]
["batting","batting",10379]
["quaint","quaint",10380]
["hydraulic","hydraulic",10381]
["leash","leash",10382]
["notoriously","notoriously",10383]
["waive","waive",10384]
["Wicker","wicker",10385]
["tattered","tattered",10386]
["bisexual","bisexual",10387]
["hilarious","hilarious",10388]
["storefront","storefront",10389]
["wad","wad",10390]
["fabricate","fabricate",10391]
["installment","installment",10392]
["pleasantly","pleasantly",10393]
["rejoin","rejoin",10394]
["trainee","trainee",10395]
["honorary","honorary",10396]
["tiptoe","tiptoe",10397]
["bleach","bleach",10398]
["foothill","foothill",10399]
["depressive","depressive",10400]
["collateral","collateral",10401]
["Tulip","tulip",10402]
["individualism","individualism",10403]
["stronghold","stronghold",10404]
["parenthood","parenthood",10405]
["passionately","passionately",10406]
["cutback","cutback",10407]
["diarrhea","diarrhea",10408]
["Madden","madden",10409]
["gripe","gripe",10410]
["captivity","captivity",10411]
["hamstring","hamstring",10412]
["perverse","perverse",10413]
["sputter","sputter",10414]
["Graft","graft",10415]
["commandment","commandment",10416]
["conglomerate","conglomerate",10417]
["insulate","insulate",10418]
["intrude","intrude",10419]
["Pelt","pelt",10420]
["stirring","stirring",10421]
["Dues","dues",10422]
["acclaim","acclaim",10423]
["brother-in-law","brother-in-law",10424]
["confound","confound",10425]
["decency","decency",10426]
["pedagogical","pedagogical",10427]
["resurgence","resurgence",10428]
["swath","swath",10429]
["trusted","trusted",10430]
["abdominal","abdominal",10431]
["disapproval","disapproval",10432]
["Spore","spore",10433]
["predatory","predatory",10434]
["Cork","cork",10435]
["undesirable","undesirable",10436]
["warp","warp",10437]
["cubicle","cubicle",10438]
["nominal","nominal",10439]
["patriarch","patriarch",10440]
["substitution","substitution",10441]
["year-old","year-old",10442]
["community-based","community-based",10443]
["corporal","corporal",10444]
["festivity","festivity",10445]
["magistrate","magistrate",10446]
["narrate","narrate",10447]
["Primer","primer",10448]
["resilient","resilient",10449]
["standoff","standoff",10450]
["decipher","decipher",10451]
["shard","shard",10452]
["smuggler","smuggler",10453]
["zeal","zeal",10454]
["electromagnetic","electromagnetic",10455]
["feta","feta",10456]
["modern-day","modern-day",10457]
["picket","picket",10458]
["Vial","vial",10459]
["sweetie","sweetie",10460]
["tapestry","tapestry",10461]
["completed","completed",10462]
["jut","jut",10463]
["Kohl","kohl",10464]
["kaiser","kaiser",10465]
["Sleeper","sleeper",10466]
["Clinch","clinch",10467]
["hepatitis","hepatitis",10468]
["wellness","wellness",10469]
["diffusion","diffusion",10470]
["reorganization","reorganization",10471]
["twentieth-century","twentieth-century",10472]
["principally","principally",10473]
["reverence","reverence",10474]
["wrapper","wrapper",10475]
["mafia","mafia",10476]
["syndicate","syndicate",10477]
["upbringing","upbringing",10478]
["lifespan","lifespan",10479]
["lovemaking","lovemaking",10480]
["diaspora","diaspora",10481]
["nitrate","nitrate",10482]
["Din","din",10483]
["skyrocket","skyrocket",10484]
["hard-core","hard-core",10485]
["modernize","modernize",10486]
["attributable","attributable",10487]
["beaten","beaten",10488]
["detach","detach",10489]
["rift","rift",10490]
["Mead","mead",10491]
["relocation","relocation",10492]
["Amen","amen",10493]
["saloon","saloon",10494]
["brilliance","brilliance",10495]
["crusader","crusader",10496]
["prosthesis","prosthesis",10497]
["syndicated","syndicated",10498]
["visitation","visitation",10499]
["bipolar","bipolar",10500]
["transmitter","transmitter",10501]
["antisocial","antisocial",10502]
["fieldwork","fieldwork",10503]
["funky","funky",10504]
["grotesque","grotesque",10505]
["tandem","tandem",10506]
["anew","anew",10507]
["gracefully","gracefully",10508]
["wrinkled","wrinkled",10509]
["time-consuming","time-consuming",10510]
["burglary","burglary",10511]
["Pang","pang",10512]
["faucet","faucet",10513]
["gritty","gritty",10514]
["hysteria","hysteria",10515]
["masquerade","masquerade",10516]
["sewing","sewing",10517]
["unequal","unequal",10518]
["front-runner","front-runner",10519]
["identifiable","identifiable",10520]
["taiwanese","taiwanese",10521]
["unpublished","unpublished",10522]
["paradoxically","paradoxically",10523]
["Rummage","rummage",10524]
["ex-husband","ex-husband",10525]
["measured","measured",10526]
["surreal","surreal",10527]
["unused","unused",10528]
["blocking","blocking",10529]
["induction","induction",10530]
["interrogate","interrogate",10531]
["Plush","plush",10532]
["viability","viability",10533]
["binge","binge",10534]
["courtship","courtship",10535]
["deport","deport",10536]
["heartland","heartland",10537]
["refinement","refinement",10538]
["disproportionately","disproportionately",10539]
["enlightened","enlightened",10540]
["alaskan","alaskan",10541]
["Barb","barb",10542]
["cover-up","cover-up",10543]
["internalize","internalize",10544]
["neutrino","neutrino",10545]
["Rouse","rouse",10546]
["remorse","remorse",10547]
["Sultan","sultan",10548]
["wring","wring",10549]
["emeritus","emeritus",10550]
["Berg","berg",10551]
["updated","updated",10552]
["watery","watery",10553]
["boiler","boiler",10554]
["cringe","cringe",10555]
["dearly","dearly",10556]
["progressively","progressively",10557]
["sealed","sealed",10558]
["brilliantly","brilliantly",10559]
["doze","doze",10560]
["monologue","monologue",10561]
["baby-sitter","baby-sitter",10562]
["mediocre","mediocre",10563]
["Chow","chow",10564]
["newt","newt",10565]
["pedestal","pedestal",10566]
["atm","atm",10567]
["remodel","remodel",10568]
["abduction","abduction",10569]
["Guise","guise",10570]
["articulation","articulation",10571]
["biographer","biographer",10572]
["islander","islander",10573]
["thrilling","thrilling",10574]
["Specter","specter",10575]
["ornate","ornate",10576]
["Shingle","shingle",10577]
["unanimously","unanimously",10578]
["derail","derail",10579]
["frontal","frontal",10580]
["mayonnaise","mayonnaise",10581]
["sioux","sioux",10582]
["switching","switching",10583]
["bison","bison",10584]
["Lore","lore",10585]
["cadre","cadre",10586]
["propensity","propensity",10587]
["freestyle","freestyle",10588]
["noncompliance","noncompliance",10589]
["Java","java",10590]
["omission","omission",10591]
["shimmer","shimmer",10592]
["stairwell","stairwell",10593]
["curfew","curfew",10594]
["sparse","sparse",10595]
["tutoring","tutoring",10596]
["backseat","backseat",10597]
["leukemia","leukemia",10598]
["mussels","mussels",10599]
["theorize","theorize",10600]
["Roach","roach",10601]
["veterinarian","veterinarian",10602]
["headset","headset",10603]
["Elm","elm",10604]
["bewildered","bewildered",10605]
["familial","familial",10606]
["eloquent","eloquent",10607]
["obstruct","obstruct",10608]
["Soprano","soprano",10609]
["reptile","reptile",10610]
["buttocks","buttocks",10611]
["clientele","clientele",10612]
["delicately","delicately",10613]
["individuality","individuality",10614]
["peacekeeping","peacekeeping",10615]
["physiology","physiology",10616]
["preferable","preferable",10617]
["pro-life","pro-life",10618]
["stand-up","stand-up",10619]
["Drilling","drilling",10620]
["ancestry","ancestry",10621]
["Revere","revere",10622]
["cavern","cavern",10623]
["centennial","centennial",10624]
["downsize","downsize",10625]
["envelop","envelop",10626]
["fleeting","fleeting",10627]
["fragmentation","fragmentation",10628]
["generalized","generalized",10629]
["hearth","hearth",10630]
["issuer","issuer",10631]
["Fella","fella",10632]
["mathematician","mathematician",10633]
["satire","satire",10634]
["plop","plop",10635]
["powerhouse","powerhouse",10636]
["rationality","rationality",10637]
["Galley","galley",10638]
["delinquency","delinquency",10639]
["disco","disco",10640]
["for-profit","for-profit",10641]
["gutter","gutter",10642]
["majestic","majestic",10643]
["metabolic","metabolic",10644]
["verification","verification",10645]
["adopted","adopted",10646]
["beforehand","beforehand",10647]
["Sinner","sinner",10648]
["focused","focused",10649]
["neutralize","neutralize",10650]
["turquoise","turquoise",10651]
["caliber","caliber",10652]
["detrimental","detrimental",10653]
["Gentry","gentry",10654]
["disgusted","disgusted",10655]
["flashback","flashback",10656]
["masculinity","masculinity",10657]
["proclamation","proclamation",10658]
["profess","profess",10659]
["wobble","wobble",10660]
["breeder","breeder",10661]
["generously","generously",10662]
["smother","smother",10663]
["valuation","valuation",10664]
["airy","airy",10665]
["blah","blah",10666]
["Piazza","piazza",10667]
["coarsely","coarsely",10668]
["marginalize","marginalize",10669]
["provisional","provisional",10670]
["paramilitary","paramilitary",10671]
["stated","stated",10672]
["outstretched","outstretched",10673]
["contributing","contributing",10674]
["disintegrate","disintegrate",10675]
["iconic","iconic",10676]
["genus","genus",10677]
["rendition","rendition",10678]
["extravagant","extravagant",10679]
["melting","melting",10680]
["impediment","impediment",10681]
["sociological","sociological",10682]
["manageable","manageable",10683]
["preschooler","preschooler",10684]
["midtown","midtown",10685]
["naturalist","naturalist",10686]
["conceivable","conceivable",10687]
["cyberspace","cyberspace",10688]
["exporter","exporter",10689]
["nostalgic","nostalgic",10690]
["schoolteacher","schoolteacher",10691]
["shaman","shaman",10692]
["hookup","hookup",10693]
["incorporation","incorporation",10694]
["legalize","legalize",10695]
["multiculturalism","multiculturalism",10696]
["Fiesta","fiesta",10697]
["backfire","backfire",10698]
["boldly","boldly",10699]
["dignified","dignified",10700]
["investing","investing",10701]
["unjust","unjust",10702]
["Arabian","arabian",10703]
["mother-in-law","mother-in-law",10704]
["revitalize","revitalize",10705]
["self-concept","self-concept",10706]
["trafficker","trafficker",10707]
["coding","coding",10708]
["encircle","encircle",10709]
["funded","funded",10710]
["filibuster","filibuster",10711]
["memorabilia","memorabilia",10712]
["positioning","positioning",10713]
["specified","specified",10714]
["cleanse","cleanse",10715]
["jamaican","jamaican",10716]
["locality","locality",10717]
["Apostle","apostle",10718]
["sweatshirt","sweatshirt",10719]
["welcoming","welcoming",10720]
["entrust","entrust",10721]
["quad","quad",10722]
["squid","squid",10723]
["biased","biased",10724]
["booklet","booklet",10725]
["oversized","oversized",10726]
["graphite","graphite",10727]
["handshake","handshake",10728]
["peruvian","peruvian",10729]
["staffing","staffing",10730]
["dumbbell","dumbbell",10731]
["infidelity","infidelity",10732]
["paranoia","paranoia",10733]
["brownie","brownie",10734]
["Shaker","shaker",10735]
["ecstatic","ecstatic",10736]
["gridlock","gridlock",10737]
["relentlessly","relentlessly",10738]
["tarp","tarp",10739]
["arid","arid",10740]
["bye-bye","bye-bye",10741]
["humid","humid",10742]
["Troupe","troupe",10743]
["learned","learned",10744]
["quirky","quirky",10745]
["suggestive","suggestive",10746]
["tentatively","tentatively",10747]
["commend","commend",10748]
["cross-cultural","cross-cultural",10749]
["pricey","pricey",10750]
["renounce","renounce",10751]
["shortcut","shortcut",10752]
["eyeball","eyeball",10753]
["obliterate","obliterate",10754]
["roadway","roadway",10755]
["unearth","unearth",10756]
["plutonium","plutonium",10757]
["wildflower","wildflower",10758]
["ambivalent","ambivalent",10759]
["ascribe","ascribe",10760]
["brood","brood",10761]
["insecure","insecure",10762]
["oatmeal","oatmeal",10763]
["postoperative","postoperative",10764]
["unspoken","unspoken",10765]
["Petite","petite",10766]
["atheist","atheist",10767]
["confinement","confinement",10768]
["demolition","demolition",10769]
["dialect","dialect",10770]
["erratic","erratic",10771]
["expend","expend",10772]
["whereabouts","whereabouts",10773]
["determining","determining",10774]
["micro","micro",10775]
["oregano","oregano",10776]
["confiscate","confiscate",10777]
["disciplined","disciplined",10778]
["homogeneous","homogeneous",10779]
["spook","spook",10780]
["pronouncement","pronouncement",10781]
["reassurance","reassurance",10782]
["requisite","requisite",10783]
["Teeter","teeter",10784]
["synthesize","synthesize",10785]
["forcefully","forcefully",10786]
["peacekeeper","peacekeeper",10787]
["propulsion","propulsion",10788]
["treasurer","treasurer",10789]
["aspiring","aspiring",10790]
["forgiving","forgiving",10791]
["professionalism","professionalism",10792]
["tedious","tedious",10793]
["audiotape","audiotape",10794]
["baltic","baltic",10795]
["Beech","beech",10796]
["Garner","garner",10797]
["daycare","daycare",10798]
["dugout","dugout",10799]
["pertaining","pertaining",10800]
["sushi","sushi",10801]
["imperialism","imperialism",10802]
["Furrow","furrow",10803]
["latent","latent",10804]
["mindful","mindful",10805]
["turbulence","turbulence",10806]
["blue-collar","blue-collar",10807]
["Bro","bro",10808]
["intrusive","intrusive",10809]
["Bullock","bullock",10810]
["multivariate","multivariate",10811]
["subversive","subversive",10812]
["slew","slew",10813]
["overdose","overdose",10814]
["Corral","corral",10815]
["resurrect","resurrect",10816]
["deterrence","deterrence",10817]
["trimming","trimming",10818]
["unauthorized","unauthorized",10819]
["yolk","yolk",10820]
["construe","construe",10821]
["westerner","westerner",10822]
["after-school","after-school",10823]
["bottled","bottled",10824]
["ecologist","ecologist",10825]
["dweller","dweller",10826]
["Ledger","ledger",10827]
["giftedness","giftedness",10828]
["methane","methane",10829]
["overstate","overstate",10830]
["concussion","concussion",10831]
["revolver","revolver",10832]
["glean","glean",10833]
["leafy","leafy",10834]
["windrow","windrow",10835]
["divergent","divergent",10836]
["inexperienced","inexperienced",10837]
["mover","mover",10838]
["semantic","semantic",10839]
["Abbey","abbey",10840]
["canister","canister",10841]
["convent","convent",10842]
["accelerated","accelerated",10843]
["refill","refill",10844]
["stillness","stillness",10845]
["chechen","chechen",10846]
["Budge","budge",10847]
["embodiment","embodiment",10848]
["worldly","worldly",10849]
["Macho","macho",10850]
["life-threatening","life-threatening",10851]
["spree","spree",10852]
["swerve","swerve",10853]
["conducive","conducive",10854]
["imposition","imposition",10855]
["improbable","improbable",10856]
["scoff","scoff",10857]
["subjectivity","subjectivity",10858]
["reinstate","reinstate",10859]
["disapprove","disapprove",10860]
["recurrent","recurrent",10861]
["surfer","surfer",10862]
["burnout","burnout",10863]
["incline","incline",10864]
["thematic","thematic",10865]
["baffle","baffle",10866]
["bulldog","bulldog",10867]
["geopolitical","geopolitical",10868]
["hideous","hideous",10869]
["proprietor","proprietor",10870]
["detachment","detachment",10871]
["feeder","feeder",10872]
["influenza","influenza",10873]
["marinade","marinade",10874]
["sandinista","sandinista",10875]
["victimize","victimize",10876]
["beak","beak",10877]
["debacle","debacle",10878]
["Georgian","georgian",10879]
["songwriter","songwriter",10880]
["suggested","suggested",10881]
["ebb","ebb",10882]
["militarily","militarily",10883]
["synonymous","synonymous",10884]
["aft","aft",10885]
["emigrate","emigrate",10886]
["overboard","overboard",10887]
["padded","padded",10888]
["second-hand","second-hand",10889]
["Hopper","hopper",10890]
["vibe","vibe",10891]
["clerical","clerical",10892]
["mammogram","mammogram",10893]
["far-reaching","far-reaching",10894]
["flashy","flashy",10895]
["ignition","ignition",10896]
["overlapping","overlapping",10897]
["ruffle","ruffle",10898]
["ecumenical","ecumenical",10899]
["muzzle","muzzle",10900]
["penetration","penetration",10901]
["Finch","finch",10902]
["unreliable","unreliable",10903]
["accentuate","accentuate",10904]
["cutout","cutout",10905]
["rendering","rendering",10906]
["simplistic","simplistic",10907]
["repercussion","repercussion",10908]
["unsalted","unsalted",10909]
["bayou","bayou",10910]
["solidify","solidify",10911]
["fascist","fascist",10912]
["rejoice","rejoice",10913]
["steaming","steaming",10914]
["Amo","amo",10915]
["blackout","blackout",10916]
["Flair","flair",10917]
["hourly","hourly",10918]
["junkie","junkie",10919]
["spiritually","spiritually",10920]
["titanium","titanium",10921]
["stealth","stealth",10922]
["Courier","courier",10923]
["third-party","third-party",10924]
["dispel","dispel",10925]
["Fore","fore",10926]
["strife","strife",10927]
["baggy","baggy",10928]
["institutionalize","institutionalize",10929]
["intersect","intersect",10930]
["smallpox","smallpox",10931]
["targeted","targeted",10932]
["creepy","creepy",10933]
["dwindle","dwindle",10934]
["exceedingly","exceedingly",10935]
["remembrance","remembrance",10936]
["sanity","sanity",10937]
["cameraman","cameraman",10938]
["prenatal","prenatal",10939]
["strained","strained",10940]
["adultery","adultery",10941]
["eave","eave",10942]
["customize","customize",10943]
["frivolous","frivolous",10944]
["hive","hive",10945]
["espionage","espionage",10946]
["illumination","illumination",10947]
["optimum","optimum",10948]
["tint","tint",10949]
["treacherous","treacherous",10950]
["academia","academia",10951]
["pimp","pimp",10952]
["perceptual","perceptual",10953]
["Liter","liter",10954]
["steelhead","steelhead",10955]
["dated","dated",10956]
["elective","elective",10957]
["emphatically","emphatically",10958]
["nutmeg","nutmeg",10959]
["reactive","reactive",10960]
["alternately","alternately",10961]
["felon","felon",10962]
["Washer","washer",10963]
["powerfully","powerfully",10964]
["screaming","screaming",10965]
["tenderness","tenderness",10966]
["ailing","ailing",10967]
["appalling","appalling",10968]
["ardent","ardent",10969]
["coherence","coherence",10970]
["edgy","edgy",10971]
["infancy","infancy",10972]
["thicket","thicket",10973]
["zombie","zombie",10974]
["bandit","bandit",10975]
["relive","relive",10976]
["disable","disable",10977]
["flipping","flipping",10978]
["gaping","gaping",10979]
["horde","horde",10980]
["toil","toil",10981]
["devout","devout",10982]
["Diva","diva",10983]
["righteous","righteous",10984]
["Heady","heady",10985]
["risk-taking","risk-taking",10986]
["whimper","whimper",10987]
["borrowing","borrowing",10988]
["crumple","crumple",10989]
["distorted","distorted",10990]
["headphone","headphone",10991]
["hospitalization","hospitalization",10992]
["blunder","blunder",10993]
["moderation","moderation",10994]
["Sitter","sitter",10995]
["reorganize","reorganize",10996]
["situational","situational",10997]
["infinity","infinity",10998]
["real-world","real-world",10999]
["Barley","barley",11000]
["utopian","utopian",11001]
["wake-up","wake-up",11002]
["Lobe","lobe",11003]
["optimize","optimize",11004]
["spec","spec",11005]
["chiefly","chiefly",11006]
["overdue","overdue",11007]
["precipitation","precipitation",11008]
["prolific","prolific",11009]
["receiving","receiving",11010]
["blatant","blatant",11011]
["polity","polity",11012]
["remarry","remarry",11013]
["stiffness","stiffness",11014]
["Domino","domino",11015]
["stricken","stricken",11016]
["stroller","stroller",11017]
["infinitely","infinitely",11018]
["publicist","publicist",11019]
["waft","waft",11020]
["workload","workload",11021]
["ethos","ethos",11022]
["humiliating","humiliating",11023]
["involuntary","involuntary",11024]
["showroom","showroom",11025]
["stipulate","stipulate",11026]
["upwards","upwards",11027]
["Otter","otter",11028]
["dichotomy","dichotomy",11029]
["glucose","glucose",11030]
["pitfall","pitfall",11031]
["shutdown","shutdown",11032]
["reprimand","reprimand",11033]
["silky","silky",11034]
["aw","aw",11035]
["childbirth","childbirth",11036]
["fiat","fiat",11037]
["gladly","gladly",11038]
["idealism","idealism",11039]
["solvent","solvent",11040]
["spearhead","spearhead",11041]
["byzantine","byzantine",11042]
["fervor","fervor",11043]
["Tango","tango",11044]
["oracle","oracle",11045]
["repository","repository",11046]
["artichoke","artichoke",11047]
["collage","collage",11048]
["disarmament","disarmament",11049]
["escalating","escalating",11050]
["superman","superman",11051]
["astonishment","astonishment",11052]
["eject","eject",11053]
["eminent","eminent",11054]
["solace","solace",11055]
["Mallard","mallard",11056]
["zionist","zionist",11057]
["timeline","timeline",11058]
["Rushing","rushing",11059]
["clarification","clarification",11060]
["contemplation","contemplation",11061]
["existential","existential",11062]
["frigid","frigid",11063]
["Ransom","ransom",11064]
["on-screen","on-screen",11065]
["seismic","seismic",11066]
["Blitz","blitz",11067]
["folklore","folklore",11068]
["rescuer","rescuer",11069]
["topical","topical",11070]
["abduct","abduct",11071]
["overlay","overlay",11072]
["timer","timer",11073]
["dominion","dominion",11074]
["first-hand","first-hand",11075]
["hanger","hanger",11076]
["kickoff","kickoff",11077]
["Moody","moody",11078]
["fad","fad",11079]
["mythical","mythical",11080]
["pawn","pawn",11081]
["Rue","rue",11082]
["unprepared","unprepared",11083]
["attendee","attendee",11084]
["buddha","buddha",11085]
["fastball","fastball",11086]
["hump","hump",11087]
["noted","noted",11088]
["Alloy","alloy",11089]
["privatize","privatize",11090]
["usable","usable",11091]
["allusion","allusion",11092]
["first-class","first-class",11093]
["relieved","relieved",11094]
["secretary-general","secretary-general",11095]
["bloated","bloated",11096]
["discreet","discreet",11097]
["exaggeration","exaggeration",11098]
["simulated","simulated",11099]
["uncanny","uncanny",11100]
["wrestler","wrestler",11101]
["baptism","baptism",11102]
["labyrinth","labyrinth",11103]
["dampen","dampen",11104]
["dwindling","dwindling",11105]
["iced","iced",11106]
["Oats","oats",11107]
["macro","macro",11108]
["Sissy","sissy",11109]
["rearview","rearview",11110]
["revolutionize","revolutionize",11111]
["sincerity","sincerity",11112]
["tort","tort",11113]
["ludicrous","ludicrous",11114]
["Jack","jack",11115]
["oily","oily",11116]
["stewardship","stewardship",11117]
["vogue","vogue",11118]
["ghostly","ghostly",11119]
["tinnitus","tinnitus",11120]
["flatly","flatly",11121]
["prowess","prowess",11122]
["cheekbone","cheekbone",11123]
["policy-making","policy-making",11124]
["sellout","sellout",11125]
["decorated","decorated",11126]
["discriminatory","discriminatory",11127]
["undress","undress",11128]
["fraudulent","fraudulent",11129]
["preface","preface",11130]
["Bustle","bustle",11131]
["anterior","anterior",11132]
["Pansy","pansy",11133]
["civility","civility",11134]
["bagel","bagel",11135]
["spontaneously","spontaneously",11136]
["Breaker","breaker",11137]
["reassuring","reassuring",11138]
["schoolchild","schoolchild",11139]
["stench","stench",11140]
["subset","subset",11141]
["trough","trough",11142]
["giddy","giddy",11143]
["organizing","organizing",11144]
["animate","animate",11145]
["Cayenne","cayenne",11146]
["bulldozer","bulldozer",11147]
["Dredge","dredge",11148]
["fearless","fearless",11149]
["Ping","ping",11150]
["meteorite","meteorite",11151]
["meticulous","meticulous",11152]
["richly","richly",11153]
["Bogus","bogus",11154]
["torpedo","torpedo",11155]
["unnamed","unnamed",11156]
["Gall","gall",11157]
["waterproof","waterproof",11158]
["medalist","medalist",11159]
["tripod","tripod",11160]
["exemplar","exemplar",11161]
["ravine","ravine",11162]
["Slay","slay",11163]
["separatist","separatist",11164]
["telecom","telecom",11165]
["cad","cad",11166]
["primate","primate",11167]
["trappings","trappings",11168]
["tunic","tunic",11169]
["connotation","connotation",11170]
["refute","refute",11171]
["seminal","seminal",11172]
["deduct","deduct",11173]
["truce","truce",11174]
["exhale","exhale",11175]
["defective","defective",11176]
["flagship","flagship",11177]
["microorganism","microorganism",11178]
["reunification","reunification",11179]
["unpack","unpack",11180]
["destabilize","destabilize",11181]
["postsecondary","postsecondary",11182]
["submerge","submerge",11183]
["Magnolia","magnolia",11184]
["adversity","adversity",11185]
["keyword","keyword",11186]
["repressive","repressive",11187]
["Kip","kip",11188]
["restored","restored",11189]
["Quirk","quirk",11190]
["sufferer","sufferer",11191]
["skew","skew",11192]
["temp","temp",11193]
["tenuous","tenuous",11194]
["changed","changed",11195]
["Shah","shah",11196]
["residuals","residuals",11197]
["literate","literate",11198]
["neglected","neglected",11199]
["nugget","nugget",11200]
["subtlety","subtlety",11201]
["twain","twain",11202]
["Demo","demo",11203]
["cob","cob",11204]
["Leek","leek",11205]
["landslide","landslide",11206]
["Shawl","shawl",11207]
["whiff","whiff",11208]
["concurrent","concurrent",11209]
["tablecloth","tablecloth",11210]
["treatise","treatise",11211]
["uniformly","uniformly",11212]
["conformity","conformity",11213]
["incorrectly","incorrectly",11214]
["strikingly","strikingly",11215]
["tinge","tinge",11216]
["itinerary","itinerary",11217]
["purport","purport",11218]
["concerted","concerted",11219]
["fabrication","fabrication",11220]
["Mast","mast",11221]
["insistent","insistent",11222]
["stuffing","stuffing",11223]
["abnormality","abnormality",11224]
["falling","falling",11225]
["Hind","hind",11226]
["touring","touring",11227]
["briskly","briskly",11228]
["bustling","bustling",11229]
["calculator","calculator",11230]
["hobble","hobble",11231]
["Boon","boon",11232]
["sub-saharan","sub-saharan",11233]
["grinding","grinding",11234]
["honk","honk",11235]
["Koran","koran",11236]
["measurable","measurable",11237]
["profitability","profitability",11238]
["safari","safari",11239]
["marching","marching",11240]
["sympathize","sympathize",11241]
["assertive","assertive",11242]
["bullpen","bullpen",11243]
["deference","deference",11244]
["economical","economical",11245]
["encode","encode",11246]
["realistically","realistically",11247]
["shrewd","shrewd",11248]
["afloat","afloat",11249]
["romanian","romanian",11250]
["dreamer","dreamer",11251]
["Quail","quail",11252]
["kernel","kernel",11253]
["quicker","quicker",11254]
["Tingle","tingle",11255]
["termite","termite",11256]
["attrition","attrition",11257]
["pedagogy","pedagogy",11258]
["procurement","procurement",11259]
["redirect","redirect",11260]
["saturate","saturate",11261]
["bidder","bidder",11262]
["deportation","deportation",11263]
["detour","detour",11264]
["groin","groin",11265]
["campground","campground",11266]
["commando","commando",11267]
["delve","delve",11268]
["geology","geology",11269]
["expulsion","expulsion",11270]
["freckle","freckle",11271]
["hindsight","hindsight",11272]
["morph","morph",11273]
["readout","readout",11274]
["accompaniment","accompaniment",11275]
["glittering","glittering",11276]
["two-day","two-day",11277]
["commotion","commotion",11278]
["improperly","improperly",11279]
["milieu","milieu",11280]
["quicken","quicken",11281]
["re-examine","re-examine",11282]
["rundown","rundown",11283]
["yarn","yarn",11284]
["amino","amino",11285]
["analytic","analytic",11286]
["diagonal","diagonal",11287]
["janitor","janitor",11288]
["Peacock","peacock",11289]
["onslaught","onslaught",11290]
["Ta","ta",11291]
["rehabilitate","rehabilitate",11292]
["superstition","superstition",11293]
["legitimize","legitimize",11294]
["murderous","murderous",11295]
["quip","quip",11296]
["repel","repel",11297]
["brewing","brewing",11298]
["charging","charging",11299]
["Bombard","bombard",11300]
["condone","condone",11301]
["discretionary","discretionary",11302]
["high-rise","high-rise",11303]
["manpower","manpower",11304]
["Collier","collier",11305]
["coerce","coerce",11306]
["durability","durability",11307]
["first-year","first-year",11308]
["maternity","maternity",11309]
["palate","palate",11310]
["Sill","sill",11311]
["raging","raging",11312]
["mistrust","mistrust",11313]
["relativity","relativity",11314]
["stretcher","stretcher",11315]
["dogma","dogma",11316]
["skeletal","skeletal",11317]
["correctness","correctness",11318]
["ferocious","ferocious",11319]
["hugely","hugely",11320]
["saliva","saliva",11321]
["logically","logically",11322]
["Rind","rind",11323]
["prognosis","prognosis",11324]
["reset","reset",11325]
["restroom","restroom",11326]
["retribution","retribution",11327]
["six-month","six-month",11328]
["turbo","turbo",11329]
["airtight","airtight",11330]
["entourage","entourage",11331]
["full-scale","full-scale",11332]
["proton","proton",11333]
["Charisma","charisma",11334]
["slur","slur",11335]
["uptown","uptown",11336]
["anglican","anglican",11337]
["prune","prune",11338]
["pulmonary","pulmonary",11339]
["delicacy","delicacy",11340]
["knowingly","knowingly",11341]
["clinically","clinically",11342]
["corroborate","corroborate",11343]
["Tuft","tuft",11344]
["etiquette","etiquette",11345]
["humankind","humankind",11346]
["sequential","sequential",11347]
["threatening","threatening",11348]
["anarchy","anarchy",11349]
["auxiliary","auxiliary",11350]
["avail","avail",11351]
["tether","tether",11352]
["volatility","volatility",11353]
["facilitator","facilitator",11354]
["geographically","geographically",11355]
["magnesium","magnesium",11356]
["Jock","jock",11357]
["medic","medic",11358]
["retort","retort",11359]
["specialization","specialization",11360]
["timid","timid",11361]
["totalitarian","totalitarian",11362]
["vascular","vascular",11363]
["acclaimed","acclaimed",11364]
["adjunct","adjunct",11365]
["coupling","coupling",11366]
["deserving","deserving",11367]
["medically","medically",11368]
["patterned","patterned",11369]
["midwife","midwife",11370]
["Booker","booker",11371]
["toad","toad",11372]
["totality","totality",11373]
["barbed","barbed",11374]
["big-time","big-time",11375]
["caveat","caveat",11376]
["contrasting","contrasting",11377]
["depletion","depletion",11378]
["Cavalier","cavalier",11379]
["pellet","pellet",11380]
["corrective","corrective",11381]
["counterproductive","counterproductive",11382]
["disputed","disputed",11383]
["imaginable","imaginable",11384]
["Regal","regal",11385]
["accelerator","accelerator",11386]
["adamant","adamant",11387]
["pointless","pointless",11388]
["quaker","quaker",11389]
["balancing","balancing",11390]
["dynamite","dynamite",11391]
["fungal","fungal",11392]
["sinking","sinking",11393]
["gruesome","gruesome",11394]
["penalize","penalize",11395]
["rebellious","rebellious",11396]
["recourse","recourse",11397]
["antelope","antelope",11398]
["disrespect","disrespect",11399]
["formative","formative",11400]
["obligate","obligate",11401]
["picturesque","picturesque",11402]
["ruined","ruined",11403]
["self-control","self-control",11404]
["separated","separated",11405]
["subvert","subvert",11406]
["horrifying","horrifying",11407]
["adobe","adobe",11408]
["Fresco","fresco",11409]
["disturbed","disturbed",11410]
["interplay","interplay",11411]
["postulate","postulate",11412]
["smudge","smudge",11413]
["subdued","subdued",11414]
["utopia","utopia",11415]
["budding","budding",11416]
["ketchup","ketchup",11417]
["Puck","puck",11418]
["predominant","predominant",11419]
["puffy","puffy",11420]
["staging","staging",11421]
["low-key","low-key",11422]
["small-scale","small-scale",11423]
["supremacy","supremacy",11424]
["sync","sync",11425]
["Heath","heath",11426]
["awakening","awakening",11427]
["feasibility","feasibility",11428]
["seventy-five","seventy-five",11429]
["truthful","truthful",11430]
["Chap","chap",11431]
["schema","schema",11432]
["wreak","wreak",11433]
["ligament","ligament",11434]
["muffled","muffled",11435]
["stony","stony",11436]
["unsuccessfully","unsuccessfully",11437]
["antler","antler",11438]
["Jolly","jolly",11439]
["incarceration","incarceration",11440]
["Margarita","margarita",11441]
["trample","trample",11442]
["dashboard","dashboard",11443]
["eucalyptus","eucalyptus",11444]
["reliably","reliably",11445]
["terrorize","terrorize",11446]
["creole","creole",11447]
["debilitating","debilitating",11448]
["Cheddar","cheddar",11449]
["incite","incite",11450]
["loyalist","loyalist",11451]
["noticeably","noticeably",11452]
["planter","planter",11453]
["tremor","tremor",11454]
["battleground","battleground",11455]
["dimly","dimly",11456]
["hazy","hazy",11457]
["postcolonial","postcolonial",11458]
["rented","rented",11459]
["hijacker","hijacker",11460]
["intermediary","intermediary",11461]
["Sham","sham",11462]
["menacing","menacing",11463]
["Viola","viola",11464]
["vertically","vertically",11465]
["chilled","chilled",11466]
["Mantel","mantel",11467]
["dishwasher","dishwasher",11468]
["galactic","galactic",11469]
["midterm","midterm",11470]
["nonstick","nonstick",11471]
["silvery","silvery",11472]
["transcendent","transcendent",11473]
["waking","waking",11474]
["exec","exec",11475]
["knack","knack",11476]
["occupancy","occupancy",11477]
["victorious","victorious",11478]
["vulgar","vulgar",11479]
["ambient","ambient",11480]
["bazaar","bazaar",11481]
["Billow","billow",11482]
["flawless","flawless",11483]
["negligence","negligence",11484]
["seated","seated",11485]
["starch","starch",11486]
["penchant","penchant",11487]
["inadequacy","inadequacy",11488]
["Councilman","councilman",11489]
["owing","owing",11490]
["threatened","threatened",11491]
["hijack","hijack",11492]
["ingenious","ingenious",11493]
["scholastic","scholastic",11494]
["Moor","moor",11495]
["two-time","two-time",11496]
["secretive","secretive",11497]
["mounting","mounting",11498]
["Sportsman","sportsman",11499]
["shaped","shaped",11500]
["vigilant","vigilant",11501]
["bloodshed","bloodshed",11502]
["roadblock","roadblock",11503]
["spurt","spurt",11504]
["acutely","acutely",11505]
["correctional","correctional",11506]
["fruitful","fruitful",11507]
["prowl","prowl",11508]
["serpent","serpent",11509]
["sporadic","sporadic",11510]
["warlord","warlord",11511]
["borough","borough",11512]
["chrome","chrome",11513]
["gingerly","gingerly",11514]
["inspirational","inspirational",11515]
["tuxedo","tuxedo",11516]
["contagious","contagious",11517]
["crossover","crossover",11518]
["flannel","flannel",11519]
["pretense","pretense",11520]
["prodigy","prodigy",11521]
["Gull","gull",11522]
["psychotherapy","psychotherapy",11523]
["childish","childish",11524]
["finnish","finnish",11525]
["interracial","interracial",11526]
["posterior","posterior",11527]
["two-week","two-week",11528]
["arcade","arcade",11529]
["baroque","baroque",11530]
["benevolent","benevolent",11531]
["destroyer","destroyer",11532]
["dormant","dormant",11533]
["piercing","piercing",11534]
["rebirth","rebirth",11535]
["weeping","weeping",11536]
["Butte","butte",11537]
["combo","combo",11538]
["crisscross","crisscross",11539]
["impartial","impartial",11540]
["parochial","parochial",11541]
["anesthesia","anesthesia",11542]
["interstellar","interstellar",11543]
["obscenity","obscenity",11544]
["silicone","silicone",11545]
["spectral","spectral",11546]
["artificially","artificially",11547]
["ingenuity","ingenuity",11548]
["interdependence","interdependence",11549]
["left-wing","left-wing",11550]
["notification","notification",11551]
["animosity","animosity",11552]
["carnage","carnage",11553]
["pivot","pivot",11554]
["Piety","piety",11555]
["stately","stately",11556]
["yoruba","yoruba",11557]
["cervical","cervical",11558]
["egalitarian","egalitarian",11559]
["incomprehensible","incomprehensible",11560]
["intertwine","intertwine",11561]
["uniqueness","uniqueness",11562]
["fiance","fiance",11563]
["snug","snug",11564]
["degenerate","degenerate",11565]
["modestly","modestly",11566]
["stub","stub",11567]
["airwaves","airwaves",11568]
["assemblage","assemblage",11569]
["Heron","heron",11570]
["foreseeable","foreseeable",11571]
["appellate","appellate",11572]
["candlelight","candlelight",11573]
["digestive","digestive",11574]
["hard-line","hard-line",11575]
["hotline","hotline",11576]
["manufactured","manufactured",11577]
["negotiated","negotiated",11578]
["schizophrenia","schizophrenia",11579]
["streamline","streamline",11580]
["warship","warship",11581]
["antidote","antidote",11582]
["helium","helium",11583]
["leisurely","leisurely",11584]
["lengthwise","lengthwise",11585]
["pinnacle","pinnacle",11586]
["thirds","thirds",11587]
["twenty-six","twenty-six",11588]
["wildfire","wildfire",11589]
["autobiographical","autobiographical",11590]
["forensics","forensics",11591]
["lengthen","lengthen",11592]
["low-level","low-level",11593]
["panties","panties",11594]
["shuffling","shuffling",11595]
["tributary","tributary",11596]
["Hoard","hoard",11597]
["unheard","unheard",11598]
["fundamentalism","fundamentalism",11599]
["juncture","juncture",11600]
["Whistler","whistler",11601]
["preferential","preferential",11602]
["puncture","puncture",11603]
["papal","papal",11604]
["posttest","posttest",11605]
["rendezvous","rendezvous",11606]
["ashtray","ashtray",11607]
["deteriorating","deteriorating",11608]
["bruised","bruised",11609]
["lax","lax",11610]
["spreadsheet","spreadsheet",11611]
["Tweed","tweed",11612]
["decry","decry",11613]
["frenchman","frenchman",11614]
["medicinal","medicinal",11615]
["cosmology","cosmology",11616]
["Lacrosse","lacrosse",11617]
["unmarked","unmarked",11618]
["utmost","utmost",11619]
["Peddle","peddle",11620]
["blinding","blinding",11621]
["crutch","crutch",11622]
["opium","opium",11623]
["absentee","absentee",11624]
["biceps","biceps",11625]
["conscientious","conscientious",11626]
["insomnia","insomnia",11627]
["mirage","mirage",11628]
["primal","primal",11629]
["protrude","protrude",11630]
["unprotected","unprotected",11631]
["abyss","abyss",11632]
["bask","bask",11633]
["Mire","mire",11634]
["fastest-growing","fastest-growing",11635]
["ploy","ploy",11636]
["proficient","proficient",11637]
["yelp","yelp",11638]
["processed","processed",11639]
["shrill","shrill",11640]
["deceptive","deceptive",11641]
["easel","easel",11642]
["enamel","enamel",11643]
["figurative","figurative",11644]
["instrumentation","instrumentation",11645]
["algerian","algerian",11646]
["moroccan","moroccan",11647]
["torrent","torrent",11648]
["Canine","canine",11649]
["vice-president","vice-president",11650]
["dissolution","dissolution",11651]
["Munch","munch",11652]
["drained","drained",11653]
["guidebook","guidebook",11654]
["outcry","outcry",11655]
["populace","populace",11656]
["vignette","vignette",11657]
["forbidden","forbidden",11658]
["infertility","infertility",11659]
["intestine","intestine",11660]
["languish","languish",11661]
["oppressed","oppressed",11662]
["airliner","airliner",11663]
["generational","generational",11664]
["grimly","grimly",11665]
["industrialization","industrialization",11666]
["staunch","staunch",11667]
["allure","allure",11668]
["arsenic","arsenic",11669]
["enlighten","enlighten",11670]
["mischief","mischief",11671]
["nip","nip",11672]
["chirp","chirp",11673]
["endemic","endemic",11674]
["predictably","predictably",11675]
["protracted","protracted",11676]
["spasm","spasm",11677]
["Skipper","skipper",11678]
["mesmerize","mesmerize",11679]
["squander","squander",11680]
["taker","taker",11681]
["bathing","bathing",11682]
["discontinue","discontinue",11683]
["impeach","impeach",11684]
["reimburse","reimburse",11685]
["Stow","stow",11686]
["scoot","scoot",11687]
["bittersweet","bittersweet",11688]
["conservationist","conservationist",11689]
["mri","mri",11690]
["vernacular","vernacular",11691]
["aristocratic","aristocratic",11692]
["dot-com","dot-com",11693]
["groundwork","groundwork",11694]
["woven","woven",11695]
["aforementioned","aforementioned",11696]
["crushing","crushing",11697]
["emigration","emigration",11698]
["grapefruit","grapefruit",11699]
["stratum","stratum",11700]
["decreased","decreased",11701]
["propagate","propagate",11702]
["real-time","real-time",11703]
["worrisome","worrisome",11704]
["heirloom","heirloom",11705]
["raccoon","raccoon",11706]
["tyrant","tyrant",11707]
["aptly","aptly",11708]
["Horseman","horseman",11709]
["brute","brute",11710]
["fencing","fencing",11711]
["illiterate","illiterate",11712]
["Parisian","parisian",11713]
["sizzle","sizzle",11714]
["Piedmont","piedmont",11715]
["southerner","southerner",11716]
["wanted","wanted",11717]
["amputation","amputation",11718]
["densely","densely",11719]
["peep","peep",11720]
["trellis","trellis",11721]
["Jade","jade",11722]
["grandeur","grandeur",11723]
["heroism","heroism",11724]
["lifeless","lifeless",11725]
["malignant","malignant",11726]
["pandemic","pandemic",11727]
["apprehend","apprehend",11728]
["dermatologist","dermatologist",11729]
["locomotive","locomotive",11730]
["parity","parity",11731]
["segregated","segregated",11732]
["wretched","wretched",11733]
["yearning","yearning",11734]
["bluntly","bluntly",11735]
["plumber","plumber",11736]
["taxonomy","taxonomy",11737]
["coercive","coercive",11738]
["miraculously","miraculously",11739]
["pertain","pertain",11740]
["fraught","fraught",11741]
["insensitive","insensitive",11742]
["Rivet","rivet",11743]
["resin","resin",11744]
["self-portrait","self-portrait",11745]
["verbally","verbally",11746]
["versatility","versatility",11747]
["wherein","wherein",11748]
["migraine","migraine",11749]
["predicted","predicted",11750]
["reconnaissance","reconnaissance",11751]
["Wand","wand",11752]
["homecoming","homecoming",11753]
["modesty","modesty",11754]
["overrule","overrule",11755]
["prosthetic","prosthetic",11756]
["Rye","rye",11757]
["relaxing","relaxing",11758]
["Savory","savory",11759]
["up-to-date","up-to-date",11760]
["biotech","biotech",11761]
["Fender","fender",11762]
["clear-cut","clear-cut",11763]
["contracting","contracting",11764]
["fourteenth","fourteenth",11765]
["free-market","free-market",11766]
["logistical","logistical",11767]
["playboy","playboy",11768]
["scheduling","scheduling",11769]
["sexism","sexism",11770]
["fantasize","fantasize",11771]
["Metropolis","metropolis",11772]
["serviceman","serviceman",11773]
["upside","upside",11774]
["aha","aha",11775]
["Proctor","proctor",11776]
["bystander","bystander",11777]
["craving","craving",11778]
["Muck","muck",11779]
["solidly","solidly",11780]
["connecting","connecting",11781]
["Prudence","prudence",11782]
["explanatory","explanatory",11783]
["looming","looming",11784]
["manhood","manhood",11785]
["spout","spout",11786]
["blot","blot",11787]
["conceptualization","conceptualization",11788]
["Imam","imam",11789]
["inset","inset",11790]
["twenty-eight","twenty-eight",11791]
["venetian","venetian",11792]
["harshly","harshly",11793]
["navigator","navigator",11794]
["recital","recital",11795]
["runner-up","runner-up",11796]
["utterance","utterance",11797]
["eschew","eschew",11798]
["flail","flail",11799]
["incidental","incidental",11800]
["liberating","liberating",11801]
["roasting","roasting",11802]
["squirt","squirt",11803]
["suspiciously","suspiciously",11804]
["wither","wither",11805]
["adorable","adorable",11806]
["flounder","flounder",11807]
["mm","mm",11808]
["psychoanalysis","psychoanalysis",11809]
["realtor","realtor",11810]
["Wager","wager",11811]
["scallop","scallop",11812]
["taper","taper",11813]
["ethnically","ethnically",11814]
["onward","onward",11815]
["rotor","rotor",11816]
["aerobics","aerobics",11817]
["cancellation","cancellation",11818]
["Duet","duet",11819]
["biomedical","biomedical",11820]
["citizenry","citizenry",11821]
["enclosed","enclosed",11822]
["exude","exude",11823]
["prematurely","prematurely",11824]
["unruly","unruly",11825]
["aztec","aztec",11826]
["conduit","conduit",11827]
["engraving","engraving",11828]
["Evangelist","evangelist",11829]
["espresso","espresso",11830]
["geographer","geographer",11831]
["distraught","distraught",11832]
["federalist","federalist",11833]
["modality","modality",11834]
["pathologist","pathologist",11835]
["Bravo","bravo",11836]
["trolley","trolley",11837]
["Cologne","cologne",11838]
["mite","mite",11839]
["potassium","potassium",11840]
["tentacle","tentacle",11841]
["consummate","consummate",11842]
["hangar","hangar",11843]
["negligible","negligible",11844]
["pairing","pairing",11845]
["clandestine","clandestine",11846]
["Tad","tad",11847]
["dispatcher","dispatcher",11848]
["paraphrase","paraphrase",11849]
["Bearer","bearer",11850]
["cornmeal","cornmeal",11851]
["moderator","moderator",11852]
["Ply","ply",11853]
["momentary","momentary",11854]
["pre-service","pre-service",11855]
["qualifying","qualifying",11856]
["snicker","snicker",11857]
["Gouge","gouge",11858]
["cartilage","cartilage",11859]
["ultrasound","ultrasound",11860]
["burnt","burnt",11861]
["Rapport","rapport",11862]
["haunted","haunted",11863]
["illustrator","illustrator",11864]
["meticulously","meticulously",11865]
["coo","coo",11866]
["gilded","gilded",11867]
["neutrality","neutrality",11868]
["predicate","predicate",11869]
["Chamberlain","chamberlain",11870]
["tubing","tubing",11871]
["agrarian","agrarian",11872]
["devotee","devotee",11873]
["glee","glee",11874]
["ninja","ninja",11875]
["second-largest","second-largest",11876]
["sunflower","sunflower",11877]
["teasing","teasing",11878]
["accrue","accrue",11879]
["contraception","contraception",11880]
["meander","meander",11881]
["weaponry","weaponry",11882]
["whiteness","whiteness",11883]
["Maxim","maxim",11884]
["extinguish","extinguish",11885]
["nobility","nobility",11886]
["prelude","prelude",11887]
["stinging","stinging",11888]
["Mater","mater",11889]
["whoop","whoop",11890]
["front-page","front-page",11891]
["Anchorage","anchorage",11892]
["horsepower","horsepower",11893]
["impossibly","impossibly",11894]
["microbial","microbial",11895]
["empirically","empirically",11896]
["handout","handout",11897]
["immature","immature",11898]
["propeller","propeller",11899]
["solemnly","solemnly",11900]
["incompetence","incompetence",11901]
["inequity","inequity",11902]
["optimist","optimist",11903]
["snowflake","snowflake",11904]
["desolate","desolate",11905]
["feeble","feeble",11906]
["state-owned","state-owned",11907]
["widening","widening",11908]
["illegitimate","illegitimate",11909]
["masked","masked",11910]
["regent","regent",11911]
["summertime","summertime",11912]
["tamper","tamper",11913]
["traditionalist","traditionalist",11914]
["Lama","lama",11915]
["anti-depressant","anti-depressant",11916]
["crotch","crotch",11917]
["psi","psi",11918]
["casing","casing",11919]
["estranged","estranged",11920]
["handlebar","handlebar",11921]
["jumble","jumble",11922]
["rationalize","rationalize",11923]
["scapegoat","scapegoat",11924]
["Heft","heft",11925]
["unimaginable","unimaginable",11926]
["workstation","workstation",11927]
["countertop","countertop",11928]
["passageway","passageway",11929]
["pervade","pervade",11930]
["religiously","religiously",11931]
["stutter","stutter",11932]
["connector","connector",11933]
["idealistic","idealistic",11934]
["immersion","immersion",11935]
["knowing","knowing",11936]
["preemption","preemption",11937]
["sexist","sexist",11938]
["Peter","peter",11939]
["perpetrate","perpetrate",11940]
["toughness","toughness",11941]
["anti-american","anti-american",11942]
["re-enter","re-enter",11943]
["sculpt","sculpt",11944]
["Snare","snare",11945]
["individualized","individualized",11946]
["Blight","blight",11947]
["polio","polio",11948]
["self-reported","self-reported",11949]
["tonic","tonic",11950]
["windfall","windfall",11951]
["disintegration","disintegration",11952]
["Kicker","kicker",11953]
["lunatic","lunatic",11954]
["missed","missed",11955]
["morgue","morgue",11956]
["horrendous","horrendous",11957]
["mysteriously","mysteriously",11958]
["spam","spam",11959]
["anti-abortion","anti-abortion",11960]
["buttermilk","buttermilk",11961]
["prophetic","prophetic",11962]
["rarity","rarity",11963]
["replenish","replenish",11964]
["Shank","shank",11965]
["untrue","untrue",11966]
["impersonal","impersonal",11967]
["Couture","couture",11968]
["utilitarian","utilitarian",11969]
["captor","captor",11970]
["centrist","centrist",11971]
["compulsive","compulsive",11972]
["inaugurate","inaugurate",11973]
["Chateau","chateau",11974]
["lapel","lapel",11975]
["melted","melted",11976]
["midsection","midsection",11977]
["montage","montage",11978]
["newscast","newscast",11979]
["prized","prized",11980]
["probing","probing",11981]
["pumping","pumping",11982]
["Fleck","fleck",11983]
["serenity","serenity",11984]
["stepmother","stepmother",11985]
["taped","taped",11986]
["biosolids","biosolids",11987]
["seamless","seamless",11988]
["reliever","reliever",11989]
["soaked","soaked",11990]
["sunken","sunken",11991]
["almighty","almighty",11992]
["daze","daze",11993]

{"sheet":"Sheet2","index":3,"n_rows":33,"n_cols":3,"rows_kept":33,"cut":false,"hidden":false,"merged":[]}
[]
["Japan","地名","日本"]
["Pacific","地名","太平洋"]
["Canadian","人名/地名","加拿大人/加拿大"]
["Asian","人名/地名","亚洲人/亚洲"]
["Scotland","地名","苏格兰"]
["Egypt","地名","埃及"]
["Greece","地名","希腊"]
["Nobel","诺贝尔","只有大写没有小写"]
["Russia","地名","俄罗斯"]
["Thailand","地名","泰国"]
["Finland","地名","芬兰"]
["Ireland","地名","爱尔兰"]
["Wales","地名","威尔士"]
["Switzerland","地名","瑞士"]
["Amazon","地名","亚马逊"]
["Midwest","地名","美国中西部"]
["Israel","地名","以色列"]
["African-American","专有名词","只有大写没有小写"]
["Belgium","地名","比利时"]
["Cuba","地名","古巴"]
["Pence","人名","彭斯"]
["Englishman","专有名词","只有大写没有小写"]
["Maya","人名或地名","玛雅"]
["Israeli","人名或地名","以色列人"]
["Phoenix","地名","菲尼克斯"]
["nazi","Nazi","n大写代表纳粹党或纳粹分子"]
["Bosnian","人名或地名","波斯尼亚的"]
["Lebanese","地名","黎巴嫩的或黎巴嫩人"]
["Albanian","地名","阿尔巴尼亚"]
["Apache","人名","阿帕奇"]
["Yang","人名","杨"]
["Zulu","人名或地名","祖鲁"]